{"text_format":"1","workbook":"xlsx","n_sheets":3,"sheets":["data","territoire","o"],"not_rendered":{"charts":0,"images":2,"macros":1,"external_links":0,"defined_names":1,"comments":0,"pivot_tables":0},"unopened":[],"bounds":{"document_bytes":16777216,"sheet_cells":100000,"rows_first":2000,"rows_last":500,"rows_between":2000,"halvings":0,"cell_chars":16384,"cell_head_chars":4096},"cells_cut":0,"cells_raw":0,"read":"whole","date_system":"1900"}

{"sheet":"data","index":0,"n_rows":21316,"n_cols":10,"rows_kept":4500,"cut":true,"hidden":true,"merged":[],"bounds":{"rows_first":2000,"rows_last":500,"rows_between":2000,"halvings":0}}
["code","territoire","ROME","LIBELLE","nb","nb_durable",null,"volume arrondi",null,"% durable"]
[{"$f":"B2&\"-\"&G2","v":"01-1"},"01","N1103","MAGASINAGE ET PRÉPARATION DE COMMANDES",1140,637,{"$f":"IF(C2=\"\",\"\",COUNTIF($B$2:B2,\"=\"&B2))","v":1},{"$f":"ROUND(E2,-1)","v":1140},{"$f":"E2/SUMIF(B:B,B2,E:E)","v":3.8508309687880014E-2},{"$f":"IF(OR(F2=\"\",F2=\".\"),0,F2/E2)","v":0.55877192982456136}]
[{"$f":"B3&\"-\"&G3","v":"01-2"},"01","K1304","SERVICES DOMESTIQUES",967,610,{"$f":"IF(C3=\"\",\"\",COUNTIF($B$2:B3,\"=\"&B3))","v":2},970,3.2664504796649105E-2,0.63081695966907958]
["01-3","01","D1214","VENTE EN HABILLEMENT ET ACCESSOIRES DE LA PERSONNE",788,723,{"$f":"IF(C4=\"\",\"\",COUNTIF($B$2:B4,\"=\"&B4))","v":3},790,2.6618024591271449E-2,0.9175126903553299]
["01-4","01","K2204","NETTOYAGE DE LOCAUX",750,291,{"$f":"IF(C5=\"\",\"\",COUNTIF($B$2:B5,\"=\"&B5))","v":4},750,2.5334414268342115E-2,0.38800000000000001]
["01-5","01","G1602","PERSONNEL DE CUISINE",645,375,{"$f":"IF(C6=\"\",\"\",COUNTIF($B$2:B6,\"=\"&B6))","v":5},650,2.1787596270774218E-2,0.58139534883720934]
["01-6","01","D1403","RELATION COMMERCIALE AUPRÈS DE PARTICULIERS",584,578,{"$f":"IF(C7=\"\",\"\",COUNTIF($B$2:B7,\"=\"&B7))","v":6},580,1.9727063910282394E-2,0.98972602739726023]
["01-7","01","K1302","ASSISTANCE AUPRÈS D'ADULTES",539,447,{"$f":"IF(C8=\"\",\"\",COUNTIF($B$2:B8,\"=\"&B8))","v":7},540,1.8206999054181869E-2,0.82931354359925791]
["01-8","01","J1501","SOINS D'HYGIÈNE, DE CONFORT DU PATIENT",534,312,{"$f":"IF(C9=\"\",\"\",COUNTIF($B$2:B9,\"=\"&B9))","v":8},530,1.8038102959059586E-2,0.5842696629213483]
["01-9","01","D1507","MISE EN RAYON LIBRE-SERVICE",521,393,{"$f":"IF(C10=\"\",\"\",COUNTIF($B$2:B10,\"=\"&B10))","v":9},520,1.7598973111741658E-2,0.75431861804222644]
["01-10","01","I1604","MÉCANIQUE AUTOMOBILE ET ENTRETIEN DE VÉHICULES",518,454,{"$f":"IF(C11=\"\",\"\",COUNTIF($B$2:B11,\"=\"&B11))","v":10},520,1.7497635454668287E-2,0.87644787644787647]
["01-11","01","N4101","CONDUITE DE TRANSPORT DE MARCHANDISES SUR LONGUE DISTANCE",476,312,{"$f":"IF(C12=\"\",\"\",COUNTIF($B$2:B12,\"=\"&B12))","v":11},480,1.6078908255641129E-2,0.65546218487394958]
["01-12","01","D1401","ASSISTANAT COMMERCIAL",455,316,{"$f":"IF(C13=\"\",\"\",COUNTIF($B$2:B13,\"=\"&B13))","v":12},460,1.536954465612755E-2,0.69450549450549448]
["01-13","01","G1603","PERSONNEL POLYVALENT EN RESTAURATION",450,329,{"$f":"IF(C14=\"\",\"\",COUNTIF($B$2:B14,\"=\"&B14))","v":13},450,1.5200648561005269E-2,0.73111111111111116]
["01-14","01","M1203","COMPTABILITÉ",436,319,{"$f":"IF(C15=\"\",\"\",COUNTIF($B$2:B15,\"=\"&B15))","v":14},440,1.4727739494662884E-2,0.73165137614678899]
["01-15","01","N1105","MANUTENTION MANUELLE DE CHARGES",417,245,{"$f":"IF(C16=\"\",\"\",COUNTIF($B$2:B16,\"=\"&B16))","v":15},420,1.4085934333198217E-2,0.58752997601918466]
["01-16","01","I1304","INSTALLATION ET MAINTENANCE D'ÉQUIPEMENTS INDUSTRIELS ET D'EXPLOITATION",398,349,{"$f":"IF(C17=\"\",\"\",COUNTIF($B$2:B17,\"=\"&B17))","v":16},400,1.344412917173355E-2,0.87688442211055273]
["01-17","01","K1207","INTERVENTION SOCIOÉDUCATIVE",397,246,{"$f":"IF(C18=\"\",\"\",COUNTIF($B$2:B18,\"=\"&B18))","v":17},400,1.3410349952709094E-2,0.61964735516372793]
["01-18","01","K2107","ENSEIGNEMENT GÉNÉRAL DU SECOND DEGRÉ",390,201,{"$f":"IF(C19=\"\",\"\",COUNTIF($B$2:B19,\"=\"&B19))","v":18},390,1.3173895419537901E-2,0.51538461538461533]
["01-19","01","M1607","SECRÉTARIAT",389,239,{"$f":"IF(C20=\"\",\"\",COUNTIF($B$2:B20,\"=\"&B20))","v":19},390,1.3140116200513445E-2,0.61439588688946012]
["01-20","01","G1803","SERVICE EN RESTAURATION",381,230,{"$f":"IF(C21=\"\",\"\",COUNTIF($B$2:B21,\"=\"&B21))","v":20},380,1.2869882448317795E-2,0.60367454068241466]
["01-21","01","J1506","SOINS INFIRMIERS GÉNÉRALISTES",366,227,{"$f":"IF(C22=\"\",\"\",COUNTIF($B$2:B22,\"=\"&B22))","v":21},370,1.2363194162950952E-2,0.6202185792349727]
["01-22","01","G1203","ANIMATION DE LOISIRS AUPRÈS D'ENFANTS OU D'ADOLESCENTS",357,221,{"$f":"IF(C23=\"\",\"\",COUNTIF($B$2:B23,\"=\"&B23))","v":22},360,1.2059181191730847E-2,0.61904761904761907]
["01-23","01","D1106","VENTE EN ALIMENTATION",333,256,{"$f":"IF(C24=\"\",\"\",COUNTIF($B$2:B24,\"=\"&B24))","v":23},330,1.12484799351439E-2,0.76876876876876876]
["01-24","01","N1101","CONDUITE D'ENGINS DE DÉPLACEMENT DES CHARGES",321,153,{"$f":"IF(C25=\"\",\"\",COUNTIF($B$2:B25,\"=\"&B25))","v":24},320,1.0843129306850425E-2,0.47663551401869159]
["01-25","01","H2909","MONTAGE-ASSEMBLAGE MÉCANIQUE",297,135,{"$f":"IF(C26=\"\",\"\",COUNTIF($B$2:B26,\"=\"&B26))","v":25},300,1.0032428050263479E-2,0.45454545454545453]
["01-26","01","F1703","MAÇONNERIE",286,166,{"$f":"IF(C27=\"\",\"\",COUNTIF($B$2:B27,\"=\"&B27))","v":26},290,9.6608566409944596E-3,0.58041958041958042]
["01-27","01","N4105","CONDUITE ET LIVRAISON PAR TOURNÉES SUR COURTE DISTANCE",275,179,{"$f":"IF(C28=\"\",\"\",COUNTIF($B$2:B28,\"=\"&B28))","v":27},280,9.2892852317254422E-3,0.65090909090909088]
["01-28","01","I1203","MAINTENANCE DES BÂTIMENTS ET DES LOCAUX",267,186,{"$f":"IF(C29=\"\",\"\",COUNTIF($B$2:B29,\"=\"&B29))","v":28},270,9.0190514795297928E-3,0.6966292134831461]
["01-29","01","J1301","PERSONNEL POLYVALENT DES SERVICES HOSPITALIERS",261,68,{"$f":"IF(C30=\"\",\"\",COUNTIF($B$2:B30,\"=\"&B30))","v":29},260,8.816376165383057E-3,0.26053639846743293]
["01-30","01","A1203","AMÉNAGEMENT ET ENTRETIEN DES ESPACES VERTS",239,136,{"$f":"IF(C31=\"\",\"\",COUNTIF($B$2:B31,\"=\"&B31))","v":30},240,8.0732333468450206E-3,0.56903765690376573]
["01-31","01","H3302","OPÉRATIONS MANUELLES D'ASSEMBLAGE, TRI OU EMBALLAGE",235,134,{"$f":"IF(C32=\"\",\"\",COUNTIF($B$2:B32,\"=\"&B32))","v":31},240,7.9381164707471967E-3,0.57021276595744685]
["01-32","01","F1603","INSTALLATION D'ÉQUIPEMENTS SANITAIRES ET THERMIQUES",231,171,{"$f":"IF(C33=\"\",\"\",COUNTIF($B$2:B33,\"=\"&B33))","v":32},230,7.802999594649372E-3,0.74025974025974028]
["01-33","01","K2503","SÉCURITÉ ET SURVEILLANCE PRIVÉES",228,66,{"$f":"IF(C34=\"\",\"\",COUNTIF($B$2:B34,\"=\"&B34))","v":33},230,7.7016619375760032E-3,0.28947368421052633]
["01-34","01","H3201","CONDUITE D'ÉQUIPEMENT DE FORMAGE DES PLASTIQUES ET CAOUTCHOUCS",227,134,{"$f":"IF(C35=\"\",\"\",COUNTIF($B$2:B35,\"=\"&B35))","v":34},230,7.6678827185515473E-3,0.5903083700440529]
["01-35","01","H2102","CONDUITE D'ÉQUIPEMENT DE PRODUCTION ALIMENTAIRE",222,119,{"$f":"IF(C36=\"\",\"\",COUNTIF($B$2:B36,\"=\"&B36))","v":35},220,7.4989866234292666E-3,0.536036036036036]
["01-36","01","K1201","ACTION SOCIALE",221,151,{"$f":"IF(C37=\"\",\"\",COUNTIF($B$2:B37,\"=\"&B37))","v":36},220,7.4652074044048097E-3,0.68325791855203621]
["01-37","01","F1704","PRÉPARATION DU GROS OEUVRE ET DES TRAVAUX PUBLICS",200,81,{"$f":"IF(C38=\"\",\"\",COUNTIF($B$2:B38,\"=\"&B38))","v":37},200,6.755843804891231E-3,0.40500000000000003]
["01-38","01","D1202","COIFFURE",197,167,{"$f":"IF(C39=\"\",\"\",COUNTIF($B$2:B39,\"=\"&B39))","v":38},200,6.6545061478178623E-3,0.84771573604060912]
["01-39","01","K1301","ACCOMPAGNEMENT MÉDICOSOCIAL",194,113,{"$f":"IF(C40=\"\",\"\",COUNTIF($B$2:B40,\"=\"&B40))","v":39},190,6.5531684907444944E-3,0.58247422680412375]
["01-40","01","F1602","ÉLECTRICITÉ BÂTIMENT",191,124,{"$f":"IF(C41=\"\",\"\",COUNTIF($B$2:B41,\"=\"&B41))","v":40},190,6.4518308336711256E-3,0.64921465968586389]
["01-41","01","K1303","ASSISTANCE AUPRÈS D'ENFANTS",189,138,{"$f":"IF(C42=\"\",\"\",COUNTIF($B$2:B42,\"=\"&B42))","v":41},190,6.3842723956222128E-3,0.73015873015873012]
["01-42","01","M1601","ACCUEIL ET RENSEIGNEMENTS",187,74,{"$f":"IF(C43=\"\",\"\",COUNTIF($B$2:B43,\"=\"&B43))","v":42},190,6.3167139575733009E-3,0.39572192513368987]
["01-43","01","H2602","CÂBLAGE ÉLECTRIQUE ET ÉLECTROMÉCANIQUE",184,90,{"$f":"IF(C44=\"\",\"\",COUNTIF($B$2:B44,\"=\"&B44))","v":43},180,6.2153763004999321E-3,0.4891304347826087]
["01-44","01","H2903","CONDUITE D'ÉQUIPEMENT D'USINAGE",183,121,{"$f":"IF(C45=\"\",\"\",COUNTIF($B$2:B45,\"=\"&B45))","v":44},180,6.1815970814754762E-3,0.66120218579234968]
["01-45","01","F1302","CONDUITE D'ENGINS DE TERRASSEMENT ET DE CARRIÈRE",183,126,{"$f":"IF(C46=\"\",\"\",COUNTIF($B$2:B46,\"=\"&B46))","v":45},180,6.1815970814754762E-3,0.68852459016393441]
["01-46","01","H3301","CONDUITE D'ÉQUIPEMENT DE CONDITIONNEMENT",180,113,{"$f":"IF(C47=\"\",\"\",COUNTIF($B$2:B47,\"=\"&B47))","v":46},180,6.0802594244021074E-3,0.62777777777777777]
["01-47","01","D1505","PERSONNEL DE CAISSE",179,97,{"$f":"IF(C48=\"\",\"\",COUNTIF($B$2:B48,\"=\"&B48))","v":47},180,6.0464802053776514E-3,0.54189944134078216]
["01-48","01","D1212","VENTE EN DÉCORATION ET ÉQUIPEMENT DU FOYER",178,120,{"$f":"IF(C49=\"\",\"\",COUNTIF($B$2:B49,\"=\"&B49))","v":48},180,6.0127009863531955E-3,0.6741573033707865]
["01-49","01","N1303","INTERVENTION TECHNIQUE D'EXPLOITATION LOGISTIQUE",176,126,{"$f":"IF(C50=\"\",\"\",COUNTIF($B$2:B50,\"=\"&B50))","v":49},180,5.9451425483042835E-3,0.71590909090909094]
["01-50","01","I1606","RÉPARATION DE CARROSSERIE",173,160,{"$f":"IF(C51=\"\",\"\",COUNTIF($B$2:B51,\"=\"&B51))","v":50},170,5.8438048912309148E-3,0.92485549132947975]
["01-51","01","K2104","ÉDUCATION ET SURVEILLANCE AU SEIN D'ÉTABLISSEMENTS D'ENSEIGNEMENT",166,134,{"$f":"IF(C52=\"\",\"\",COUNTIF($B$2:B52,\"=\"&B52))","v":51},170,5.6073503580597213E-3,0.80722891566265065]
["01-52","01","H2913","SOUDAGE MANUEL",154,81,{"$f":"IF(C53=\"\",\"\",COUNTIF($B$2:B53,\"=\"&B53))","v":52},150,5.201999729766248E-3,0.52597402597402598]
["01-53","01","G1204","ÉDUCATION EN ACTIVITÉS SPORTIVES",142,105,{"$f":"IF(C54=\"\",\"\",COUNTIF($B$2:B54,\"=\"&B54))","v":53},140,4.7966491014727738E-3,0.73943661971830987]
["01-54","01","F1604","MONTAGE D'AGENCEMENTS",140,80,{"$f":"IF(C55=\"\",\"\",COUNTIF($B$2:B55,\"=\"&B55))","v":54},140,4.7290906634238619E-3,0.5714285714285714]
["01-55","01","D1407","RELATION TECHNICO-COMMERCIALE",140,132,{"$f":"IF(C56=\"\",\"\",COUNTIF($B$2:B56,\"=\"&B56))","v":55},140,4.7290906634238619E-3,0.94285714285714284]
["01-56","01","J1304","AIDE EN PUÉRICULTURE",139,108,{"$f":"IF(C57=\"\",\"\",COUNTIF($B$2:B57,\"=\"&B57))","v":56},140,4.6953114443994059E-3,0.7769784172661871]
["01-57","01","G1605","PLONGE EN RESTAURATION",135,62,{"$f":"IF(C58=\"\",\"\",COUNTIF($B$2:B58,\"=\"&B58))","v":57},140,4.5601945683015812E-3,0.45925925925925926]
["01-58","01","H2206","RÉALISATION DE MENUISERIE BOIS ET TONNELLERIE",133,71,{"$f":"IF(C59=\"\",\"\",COUNTIF($B$2:B59,\"=\"&B59))","v":58},130,4.4926361302526684E-3,0.53383458646616544]
["01-59","01","F1605","MONTAGE DE RÉSEAUX ÉLECTRIQUES ET TÉLÉCOMS",132,107,{"$f":"IF(C60=\"\",\"\",COUNTIF($B$2:B60,\"=\"&B60))","v":59},130,4.4588569112282124E-3,0.81060606060606055]
["01-60","01","F1607","POSE DE FERMETURES MENUISÉES",131,90,{"$f":"IF(C61=\"\",\"\",COUNTIF($B$2:B61,\"=\"&B61))","v":60},130,4.4250776922037565E-3,0.68702290076335881]
["01-61","01","D1404","RELATION COMMERCIALE EN VENTE DE VÉHICULES",131,124,{"$f":"IF(C62=\"\",\"\",COUNTIF($B$2:B62,\"=\"&B62))","v":61},130,4.4250776922037565E-3,0.94656488549618323]
["01-62","01","K2111","FORMATION PROFESSIONNELLE",129,76,{"$f":"IF(C63=\"\",\"\",COUNTIF($B$2:B63,\"=\"&B63))","v":62},130,4.3575192541548437E-3,0.58914728682170547]
["01-63","01","H3202","RÉGLAGE D'ÉQUIPEMENT DE FORMAGE DES PLASTIQUES ET CAOUTCHOUCS",128,100,{"$f":"IF(C64=\"\",\"\",COUNTIF($B$2:B64,\"=\"&B64))","v":63},130,4.3237400351303877E-3,0.78125]
["01-64","01","F1202","DIRECTION DE CHANTIER DU BTP",124,113,{"$f":"IF(C65=\"\",\"\",COUNTIF($B$2:B65,\"=\"&B65))","v":64},{"$f":"ROUND(E65,-1)","v":120},4.188623159032563E-3,{"$f":"IF(OR(F65=\"\",F65=\".\"),0,F65/E65)","v":0.91129032258064513}]
["01-65","01","D1102","BOULANGERIE - VIENNOISERIE",122,105,{"$f":"IF(C66=\"\",\"\",COUNTIF($B$2:B66,\"=\"&B66))","v":65},120,{"$f":"E66/SUMIF(B:B,B66,E:E)","v":4.1210647209836511E-3},0.86065573770491799]
[{"$f":"B67&\"-\"&G67","v":"01-66"},"01","M1501","ASSISTANAT EN RESSOURCES HUMAINES",116,71,{"$f":"IF(C67=\"\",\"\",COUNTIF($B$2:B67,\"=\"&B67))","v":66},120,3.9183894068369135E-3,0.61206896551724133]
["01-67","01","K1104","PSYCHOLOGIE",113,69,{"$f":"IF(C68=\"\",\"\",COUNTIF($B$2:B68,\"=\"&B68))","v":67},110,3.8170517497635456E-3,0.61061946902654862]
["01-68","01","H1404","INTERVENTION TECHNIQUE EN MÉTHODES ET INDUSTRIALISATION",107,76,{"$f":"IF(C69=\"\",\"\",COUNTIF($B$2:B69,\"=\"&B69))","v":68},110,3.6143764356168086E-3,0.71028037383177567]
["01-69","01","D1208","SOINS ESTHÉTIQUES ET CORPORELS",104,76,{"$f":"IF(C70=\"\",\"\",COUNTIF($B$2:B70,\"=\"&B70))","v":69},100,3.5130387785434402E-3,0.73076923076923073]
["01-70","01","N4103","CONDUITE DE TRANSPORT EN COMMUN SUR ROUTE",103,93,{"$f":"IF(C71=\"\",\"\",COUNTIF($B$2:B71,\"=\"&B71))","v":70},100,3.4792595595189838E-3,0.90291262135922334]
["01-71","01","H2902","CHAUDRONNERIE - TÔLERIE",102,60,{"$f":"IF(C72=\"\",\"\",COUNTIF($B$2:B72,\"=\"&B72))","v":71},100,3.4454803404945279E-3,0.58823529411764708]
["01-72","01","K2303","NETTOYAGE DES ESPACES URBAINS",99,80,{"$f":"IF(C73=\"\",\"\",COUNTIF($B$2:B73,\"=\"&B73))","v":72},100,3.3441426834211591E-3,0.80808080808080807]
["01-73","01","J1502","COORDINATION DE SERVICES MÉDICAUX OU PARAMÉDICAUX",99,69,{"$f":"IF(C74=\"\",\"\",COUNTIF($B$2:B74,\"=\"&B74))","v":73},100,3.3441426834211591E-3,0.69696969696969702]
["01-74","01","K1801","CONSEIL EN EMPLOI ET INSERTION SOCIOPROFESSIONNELLE",98,46,{"$f":"IF(C75=\"\",\"\",COUNTIF($B$2:B75,\"=\"&B75))","v":74},100,3.3103634643967031E-3,0.46938775510204084]
["01-75","01","D1408","TÉLÉCONSEIL ET TÉLÉVENTE",97,55,{"$f":"IF(C76=\"\",\"\",COUNTIF($B$2:B76,\"=\"&B76))","v":75},100,3.2765842453722472E-3,0.5670103092783505]
["01-76","01","M1609","SECRÉTARIAT ET ASSISTANAT MÉDICAL OU MÉDICO-SOCIAL",94,54,{"$f":"IF(C77=\"\",\"\",COUNTIF($B$2:B77,\"=\"&B77))","v":76},90,3.1752465882988784E-3,0.57446808510638303]
["01-77","01","D1402","RELATION COMMERCIALE GRANDS COMPTES ET ENTREPRISES",94,84,{"$f":"IF(C78=\"\",\"\",COUNTIF($B$2:B78,\"=\"&B78))","v":77},90,3.1752465882988784E-3,0.8936170212765957]
["01-78","01","H2905","CONDUITE D'ÉQUIPEMENT DE FORMAGE ET DÉCOUPAGE DES MATÉRIAUX",93,52,{"$f":"IF(C79=\"\",\"\",COUNTIF($B$2:B79,\"=\"&B79))","v":78},90,3.1414673692744225E-3,0.55913978494623651]
["01-79","01","M1605","ASSISTANAT TECHNIQUE ET ADMINISTRATIF",92,70,{"$f":"IF(C80=\"\",\"\",COUNTIF($B$2:B80,\"=\"&B80))","v":79},90,3.1076881502499661E-3,0.76086956521739135]
["01-80","01","D1101","BOUCHERIE",92,76,{"$f":"IF(C81=\"\",\"\",COUNTIF($B$2:B81,\"=\"&B81))","v":80},90,3.1076881502499661E-3,0.82608695652173914]
["01-81","01","H3404","PEINTURE INDUSTRIELLE",89,37,{"$f":"IF(C82=\"\",\"\",COUNTIF($B$2:B82,\"=\"&B82))","v":81},90,3.0063504931765977E-3,0.4157303370786517]
["01-82","01","M1602","OPÉRATIONS ADMINISTRATIVES",88,46,{"$f":"IF(C83=\"\",\"\",COUNTIF($B$2:B83,\"=\"&B83))","v":82},90,2.9725712741521418E-3,0.52272727272727271]
["01-83","01","D1104","PÂTISSERIE, CONFISERIE, CHOCOLATERIE ET GLACERIE",86,82,{"$f":"IF(C84=\"\",\"\",COUNTIF($B$2:B84,\"=\"&B84))","v":83},90,2.9050128361032294E-3,0.95348837209302328]
["01-84","01","F1201","CONDUITE DE TRAVAUX DU BTP ET DE TRAVAUX PAYSAGERS",85,76,{"$f":"IF(C85=\"\",\"\",COUNTIF($B$2:B85,\"=\"&B85))","v":84},90,2.871233617078773E-3,0.89411764705882357]
["01-85","01","F1107","MESURES TOPOGRAPHIQUES",85,82,{"$f":"IF(C86=\"\",\"\",COUNTIF($B$2:B86,\"=\"&B86))","v":85},90,2.871233617078773E-3,0.96470588235294119]
["01-86","01","G1202","ANIMATION D'ACTIVITÉS CULTURELLES OU LUDIQUES",84,66,{"$f":"IF(C87=\"\",\"\",COUNTIF($B$2:B87,\"=\"&B87))","v":86},80,2.837454398054317E-3,0.7857142857142857]
["01-87","01","A1416","POLYCULTURE, ÉLEVAGE",84,58,{"$f":"IF(C88=\"\",\"\",COUNTIF($B$2:B88,\"=\"&B88))","v":87},80,2.837454398054317E-3,0.69047619047619047]
["01-88","01","D1211","VENTE EN ARTICLES DE SPORT ET LOISIRS",82,40,{"$f":"IF(C89=\"\",\"\",COUNTIF($B$2:B89,\"=\"&B89))","v":88},80,2.7698959600054047E-3,0.48780487804878048]
["01-89","01","G1501","PERSONNEL D'ÉTAGE",81,36,{"$f":"IF(C90=\"\",\"\",COUNTIF($B$2:B90,\"=\"&B90))","v":89},80,2.7361167409809487E-3,0.44444444444444442]
["01-90","01","H1502","MANAGEMENT ET INGÉNIERIE QUALITÉ INDUSTRIELLE",79,62,{"$f":"IF(C91=\"\",\"\",COUNTIF($B$2:B91,\"=\"&B91))","v":90},80,2.6685583029320364E-3,0.78481012658227844]
["01-91","01","K2110","FORMATION EN CONDUITE DE VÉHICULES",78,74,{"$f":"IF(C92=\"\",\"\",COUNTIF($B$2:B92,\"=\"&B92))","v":91},80,2.63477908390758E-3,0.94871794871794868]
["01-92","01","J1305","CONDUITE DE VÉHICULES SANITAIRES",76,74,{"$f":"IF(C93=\"\",\"\",COUNTIF($B$2:B93,\"=\"&B93))","v":92},80,2.5672206458586676E-3,0.97368421052631582]
["01-93","01","D1209","VENTE DE VÉGÉTAUX",76,49,{"$f":"IF(C94=\"\",\"\",COUNTIF($B$2:B94,\"=\"&B94))","v":93},80,2.5672206458586676E-3,0.64473684210526316]
["01-94","01","D1107","VENTE EN GROS DE PRODUITS FRAIS",76,76,{"$f":"IF(C95=\"\",\"\",COUNTIF($B$2:B95,\"=\"&B95))","v":94},80,2.5672206458586676E-3,1]
["01-95","01","F1606","PEINTURE EN BÂTIMENT",75,34,{"$f":"IF(C96=\"\",\"\",COUNTIF($B$2:B96,\"=\"&B96))","v":95},80,2.5334414268342116E-3,0.45333333333333331]
["01-96","01","I1309","MAINTENANCE ÉLECTRIQUE",75,52,{"$f":"IF(C97=\"\",\"\",COUNTIF($B$2:B97,\"=\"&B97))","v":96},80,2.5334414268342116E-3,0.69333333333333336]
["01-97","01","F1610","POSE ET RESTAURATION DE COUVERTURES",74,55,{"$f":"IF(C98=\"\",\"\",COUNTIF($B$2:B98,\"=\"&B98))","v":97},70,2.4996622078097552E-3,0.7432432432432432]
["01-98","01","F1608","POSE DE REVÊTEMENTS RIGIDES",74,44,{"$f":"IF(C99=\"\",\"\",COUNTIF($B$2:B99,\"=\"&B99))","v":98},70,2.4996622078097552E-3,0.59459459459459463]
["01-99","01","M1603","DISTRIBUTION DE DOCUMENTS",72,34,{"$f":"IF(C100=\"\",\"\",COUNTIF($B$2:B100,\"=\"&B100))","v":99},70,2.4321037697608433E-3,0.47222222222222221]
["01-100","01","J1404","KINÉSITHÉRAPIE",72,55,{"$f":"IF(C101=\"\",\"\",COUNTIF($B$2:B101,\"=\"&B101))","v":100},70,2.4321037697608433E-3,0.76388888888888884]
["01-101","01","I1308","MAINTENANCE D'INSTALLATION DE CHAUFFAGE",70,64,{"$f":"IF(C102=\"\",\"\",COUNTIF($B$2:B102,\"=\"&B102))","v":101},70,2.3645453317119309E-3,0.91428571428571426]
["01-102","01","F1104","DESSIN BTP ET PAYSAGE",70,66,{"$f":"IF(C103=\"\",\"\",COUNTIF($B$2:B103,\"=\"&B103))","v":102},70,2.3645453317119309E-3,0.94285714285714284]
["01-103","01","C1502","GESTION LOCATIVE IMMOBILIÈRE",70,53,{"$f":"IF(C104=\"\",\"\",COUNTIF($B$2:B104,\"=\"&B104))","v":103},70,2.3645453317119309E-3,0.75714285714285712]
["01-104","01","G1601","MANAGEMENT DU PERSONNEL DE CUISINE",69,55,{"$f":"IF(C105=\"\",\"\",COUNTIF($B$2:B105,\"=\"&B105))","v":104},70,2.3307661126874745E-3,0.79710144927536231]
["01-105","01","H2901","AJUSTEMENT ET MONTAGE DE FABRICATION",69,43,{"$f":"IF(C106=\"\",\"\",COUNTIF($B$2:B106,\"=\"&B106))","v":105},70,2.3307661126874745E-3,0.62318840579710144]
["01-106","01","H1403","INTERVENTION TECHNIQUE EN GESTION INDUSTRIELLE ET LOGISTIQUE",66,44,{"$f":"IF(C107=\"\",\"\",COUNTIF($B$2:B107,\"=\"&B107))","v":106},70,2.2294284556141062E-3,0.66666666666666663]
["01-107","01","F1503","RÉALISATION - INSTALLATION D'OSSATURES BOIS",65,43,{"$f":"IF(C108=\"\",\"\",COUNTIF($B$2:B108,\"=\"&B108))","v":107},70,2.1956492365896503E-3,0.66153846153846152]
["01-108","01","J1307","PRÉPARATION EN PHARMACIE",65,50,{"$f":"IF(C109=\"\",\"\",COUNTIF($B$2:B109,\"=\"&B109))","v":108},70,2.1956492365896503E-3,0.76923076923076927]
["01-109","01","F1106","INGÉNIERIE ET ÉTUDES DU BTP",65,64,{"$f":"IF(C110=\"\",\"\",COUNTIF($B$2:B110,\"=\"&B110))","v":109},70,2.1956492365896503E-3,0.98461538461538467]
["01-110","01","K2301","DISTRIBUTION ET ASSAINISSEMENT D'EAU",65,55,{"$f":"IF(C111=\"\",\"\",COUNTIF($B$2:B111,\"=\"&B111))","v":110},70,2.1956492365896503E-3,0.84615384615384615]
["01-111","01","F1702","CONSTRUCTION DE ROUTES ET VOIES",64,26,{"$f":"IF(C112=\"\",\"\",COUNTIF($B$2:B112,\"=\"&B112))","v":111},60,2.1618700175651939E-3,0.40625]
["01-112","01","K1202","ÉDUCATION DE JEUNES ENFANTS",63,50,{"$f":"IF(C113=\"\",\"\",COUNTIF($B$2:B113,\"=\"&B113))","v":112},60,2.1280907985407379E-3,0.79365079365079361]
["01-113","01","M1604","ASSISTANAT DE DIRECTION",63,41,{"$f":"IF(C114=\"\",\"\",COUNTIF($B$2:B114,\"=\"&B114))","v":113},60,2.1280907985407379E-3,0.65079365079365081]
["01-114","01","J1505","SOINS INFIRMIERS SPÉCIALISÉS EN PRÉVENTION",61,26,{"$f":"IF(C115=\"\",\"\",COUNTIF($B$2:B115,\"=\"&B115))","v":114},60,2.0605323604918255E-3,0.42622950819672129]
["01-115","01","I1307","INSTALLATION ET MAINTENANCE TÉLÉCOMS ET COURANTS FAIBLES",61,51,{"$f":"IF(C116=\"\",\"\",COUNTIF($B$2:B116,\"=\"&B116))","v":115},60,2.0605323604918255E-3,0.83606557377049184]
["01-116","01","H2604","MONTAGE DE PRODUITS ÉLECTRIQUES ET ÉLECTRONIQUES",60,21,{"$f":"IF(C117=\"\",\"\",COUNTIF($B$2:B117,\"=\"&B117))","v":116},60,2.0267531414673691E-3,0.35]
["01-117","01","M1502","DÉVELOPPEMENT DES RESSOURCES HUMAINES",60,45,{"$f":"IF(C118=\"\",\"\",COUNTIF($B$2:B118,\"=\"&B118))","v":117},60,2.0267531414673691E-3,0.75]
["01-118","01","G1801","CAFÉ, BAR BRASSERIE",59,37,{"$f":"IF(C119=\"\",\"\",COUNTIF($B$2:B119,\"=\"&B119))","v":118},60,1.9929739224429132E-3,0.6271186440677966]
["01-119","01","K1206","INTERVENTION SOCIOCULTURELLE",59,43,{"$f":"IF(C120=\"\",\"\",COUNTIF($B$2:B120,\"=\"&B120))","v":119},60,1.9929739224429132E-3,0.72881355932203384]
["01-120","01","K1403","MANAGEMENT DE STRUCTURE DE SANTÉ, SOCIALE OU PÉNITENTIAIRE",58,42,{"$f":"IF(C121=\"\",\"\",COUNTIF($B$2:B121,\"=\"&B121))","v":120},60,1.9591947034184568E-3,0.72413793103448276]
["01-121","01","M1805","ÉTUDES ET DÉVELOPPEMENT INFORMATIQUE",57,47,{"$f":"IF(C122=\"\",\"\",COUNTIF($B$2:B122,\"=\"&B122))","v":121},60,1.9254154843940008E-3,0.82456140350877194]
["01-122","01","A1414","HORTICULTURE ET MARAÎCHAGE",57,12,{"$f":"IF(C123=\"\",\"\",COUNTIF($B$2:B123,\"=\"&B123))","v":122},60,1.9254154843940008E-3,0.21052631578947367]
["01-123","01","I1306","INSTALLATION ET MAINTENANCE EN FROID, CONDITIONNEMENT D'AIR",57,53,{"$f":"IF(C124=\"\",\"\",COUNTIF($B$2:B124,\"=\"&B124))","v":123},60,1.9254154843940008E-3,0.92982456140350878]
["01-124","01","E1304","FAÇONNAGE ET ROUTAGE",57,4,{"$f":"IF(C125=\"\",\"\",COUNTIF($B$2:B125,\"=\"&B125))","v":124},60,1.9254154843940008E-3,7.0175438596491224E-2]
["01-125","01","D1301","MANAGEMENT DE MAGASIN DE DÉTAIL",55,53,{"$f":"IF(C126=\"\",\"\",COUNTIF($B$2:B126,\"=\"&B126))","v":125},60,1.8578570463450884E-3,0.96363636363636362]
["01-126","01","M1101","ACHATS",55,42,{"$f":"IF(C127=\"\",\"\",COUNTIF($B$2:B127,\"=\"&B127))","v":126},60,1.8578570463450884E-3,0.76363636363636367]
["01-127","01","C1501","GÉRANCE IMMOBILIÈRE",55,52,{"$f":"IF(C128=\"\",\"\",COUNTIF($B$2:B128,\"=\"&B128))","v":127},60,1.8578570463450884E-3,0.94545454545454544]
["01-128","01","H2504","ENCADREMENT D'ÉQUIPE EN INDUSTRIE DE TRANSFORMATION",55,47,{"$f":"IF(C129=\"\",\"\",COUNTIF($B$2:B129,\"=\"&B129))","v":128},{"$f":"ROUND(E129,-1)","v":60},1.8578570463450884E-3,{"$f":"IF(OR(F129=\"\",F129=\".\"),0,F129/E129)","v":0.8545454545454545}]
["01-129","01","I1603","MAINTENANCE D'ENGINS DE CHANTIER, LEVAGE, MANUTENTION ET DE MACHINES AGRICOLES",54,44,{"$f":"IF(C130=\"\",\"\",COUNTIF($B$2:B130,\"=\"&B130))","v":129},50,{"$f":"E130/SUMIF(B:B,B130,E:E)","v":1.8240778273206323E-3},0.81481481481481477]
[{"$f":"B131&\"-\"&G131","v":"01-130"},"01","H2907","CONDUITE D'INSTALLATION DE PRODUCTION DES MÉTAUX",54,15,{"$f":"IF(C131=\"\",\"\",COUNTIF($B$2:B131,\"=\"&B131))","v":130},50,1.8240778273206323E-3,0.27777777777777779]
["01-131","01","K1203","ENCADREMENT TECHNIQUE EN INSERTION PROFESSIONNELLE",53,39,{"$f":"IF(C132=\"\",\"\",COUNTIF($B$2:B132,\"=\"&B132))","v":131},50,1.7902986082961763E-3,0.73584905660377353]
["01-132","01","H2502","MANAGEMENT ET INGÉNIERIE DE PRODUCTION",52,46,{"$f":"IF(C133=\"\",\"\",COUNTIF($B$2:B133,\"=\"&B133))","v":132},50,1.7565193892717201E-3,0.88461538461538458]
["01-133","01","M1608","SECRÉTARIAT COMPTABLE",51,32,{"$f":"IF(C134=\"\",\"\",COUNTIF($B$2:B134,\"=\"&B134))","v":133},50,1.7227401702472639E-3,0.62745098039215685]
["01-134","01","J1303","ASSISTANCE MÉDICO-TECHNIQUE",51,45,{"$f":"IF(C135=\"\",\"\",COUNTIF($B$2:B135,\"=\"&B135))","v":134},50,1.7227401702472639E-3,0.88235294117647056]
["01-135","01","G1703","RÉCEPTION EN HÔTELLERIE",51,38,{"$f":"IF(C136=\"\",\"\",COUNTIF($B$2:B136,\"=\"&B136))","v":135},50,1.7227401702472639E-3,0.74509803921568629]
["01-136","01","I1302","INSTALLATION ET MAINTENANCE D'AUTOMATISMES",50,48,{"$f":"IF(C137=\"\",\"\",COUNTIF($B$2:B137,\"=\"&B137))","v":136},50,1.6889609512228078E-3,0.96]
["01-137","01","H2912","RÉGLAGE D'ÉQUIPEMENT DE PRODUCTION INDUSTRIELLE",50,31,{"$f":"IF(C138=\"\",\"\",COUNTIF($B$2:B138,\"=\"&B138))","v":137},50,1.6889609512228078E-3,0.62]
["01-138","01","J1101","MÉDECINE DE PRÉVENTION",48,44,{"$f":"IF(C139=\"\",\"\",COUNTIF($B$2:B139,\"=\"&B139))","v":138},50,1.6214025131738954E-3,0.91666666666666663]
["01-139","01","H2906","CONDUITE D'INSTALLATION AUTOMATISÉE OU ROBOTISÉE DE FABRICATION MÉCANIQUE",47,31,{"$f":"IF(C140=\"\",\"\",COUNTIF($B$2:B140,\"=\"&B140))","v":139},50,1.5876232941494392E-3,0.65957446808510634]
["01-140","01","H1203","CONCEPTION ET DESSIN PRODUITS MÉCANIQUES",47,41,{"$f":"IF(C141=\"\",\"\",COUNTIF($B$2:B141,\"=\"&B141))","v":140},50,1.5876232941494392E-3,0.87234042553191493]
["01-141","01","N4203","INTERVENTION TECHNIQUE D'EXPLOITATION DES TRANSPORTS ROUTIERS DE MARCHANDISES",47,43,{"$f":"IF(C142=\"\",\"\",COUNTIF($B$2:B142,\"=\"&B142))","v":141},50,1.5876232941494392E-3,0.91489361702127658]
["01-142","01","H2101","ABATTAGE ET DÉCOUPE DES VIANDES",46,27,{"$f":"IF(C143=\"\",\"\",COUNTIF($B$2:B143,\"=\"&B143))","v":142},50,1.553844075124983E-3,0.58695652173913049]
["01-143","01","K1802","DÉVELOPPEMENT LOCAL",46,43,{"$f":"IF(C144=\"\",\"\",COUNTIF($B$2:B144,\"=\"&B144))","v":143},50,1.553844075124983E-3,0.93478260869565222]
["01-144","01","J1202","PHARMACIE",43,39,{"$f":"IF(C145=\"\",\"\",COUNTIF($B$2:B145,\"=\"&B145))","v":144},40,1.4525064180516147E-3,0.90697674418604646]
["01-145","01","E1301","CONDUITE DE MACHINES D'IMPRESSION",43,35,{"$f":"IF(C146=\"\",\"\",COUNTIF($B$2:B146,\"=\"&B146))","v":145},40,1.4525064180516147E-3,0.81395348837209303]
["01-146","01","H3303","PRÉPARATION DE MATIÈRES ET PRODUITS INDUSTRIELS (BROYAGE, MÉLANGE, ...)",42,14,{"$f":"IF(C147=\"\",\"\",COUNTIF($B$2:B147,\"=\"&B147))","v":146},40,1.4187271990271585E-3,0.33333333333333331]
["01-147","01","E1103","COMMUNICATION",42,33,{"$f":"IF(C148=\"\",\"\",COUNTIF($B$2:B148,\"=\"&B148))","v":147},40,1.4187271990271585E-3,0.7857142857142857]
["01-148","01","H2401","ASSEMBLAGE - MONTAGE D'ARTICLES EN CUIRS, PEAUX",41,35,{"$f":"IF(C149=\"\",\"\",COUNTIF($B$2:B149,\"=\"&B149))","v":148},40,1.3849479800027023E-3,0.85365853658536583]
["01-149","01","K1305","INTERVENTION SOCIALE ET FAMILIALE",41,28,{"$f":"IF(C150=\"\",\"\",COUNTIF($B$2:B150,\"=\"&B150))","v":149},40,1.3849479800027023E-3,0.68292682926829273]
["01-150","01","H2301","CONDUITE D'ÉQUIPEMENT DE PRODUCTION CHIMIQUE OU PHARMACEUTIQUE",41,35,{"$f":"IF(C151=\"\",\"\",COUNTIF($B$2:B151,\"=\"&B151))","v":150},40,1.3849479800027023E-3,0.85365853658536583]
["01-151","01","K2501","GARDIENNAGE DE LOCAUX",40,35,{"$f":"IF(C152=\"\",\"\",COUNTIF($B$2:B152,\"=\"&B152))","v":151},40,1.3511687609782462E-3,0.875]
["01-152","01","G1401","ASSISTANCE DE DIRECTION D'HÔTEL-RESTAURANT",40,37,{"$f":"IF(C153=\"\",\"\",COUNTIF($B$2:B153,\"=\"&B153))","v":152},40,1.3511687609782462E-3,0.92500000000000004]
["01-153","01","H1303","INTERVENTION TECHNIQUE EN HYGIÈNE SÉCURITÉ ENVIRONNEMENT -HSE- INDUSTRIEL",40,19,{"$f":"IF(C154=\"\",\"\",COUNTIF($B$2:B154,\"=\"&B154))","v":153},40,1.3511687609782462E-3,0.47499999999999998]
["01-154","01","J1406","ORTHOPHONIE",40,29,{"$f":"IF(C155=\"\",\"\",COUNTIF($B$2:B155,\"=\"&B155))","v":154},40,1.3511687609782462E-3,0.72499999999999998]
["01-155","01","H1504","INTERVENTION TECHNIQUE EN CONTRÔLE ESSAI QUALITÉ EN ÉLECTRICITÉ ET ÉLECTRONIQUE",39,32,{"$f":"IF(C156=\"\",\"\",COUNTIF($B$2:B156,\"=\"&B156))","v":155},40,1.31738954195379E-3,0.82051282051282048]
["01-156","01","G1604","FABRICATION DE CRÊPES OU PIZZAS",39,23,{"$f":"IF(C157=\"\",\"\",COUNTIF($B$2:B157,\"=\"&B157))","v":156},40,1.31738954195379E-3,0.58974358974358976]
["01-157","01","M1810","PRODUCTION ET EXPLOITATION DE SYSTÈMES D'INFORMATION",38,31,{"$f":"IF(C158=\"\",\"\",COUNTIF($B$2:B158,\"=\"&B158))","v":157},40,1.2836103229293338E-3,0.81578947368421051]
["01-158","01","H1506","INTERVENTION TECHNIQUE QUALITÉ EN MÉCANIQUE ET TRAVAIL DES MÉTAUX",36,24,{"$f":"IF(C159=\"\",\"\",COUNTIF($B$2:B159,\"=\"&B159))","v":158},40,1.2160518848804217E-3,0.66666666666666663]
["01-159","01","H1206","MANAGEMENT ET INGÉNIERIE ÉTUDES, RECHERCHE ET DÉVELOPPEMENT INDUSTRIEL",36,32,{"$f":"IF(C160=\"\",\"\",COUNTIF($B$2:B160,\"=\"&B160))","v":159},40,1.2160518848804217E-3,0.88888888888888884]
["01-160","01","F1705","POSE DE CANALISATIONS",36,19,{"$f":"IF(C161=\"\",\"\",COUNTIF($B$2:B161,\"=\"&B161))","v":160},40,1.2160518848804217E-3,0.52777777777777779]
["01-161","01","G1502","PERSONNEL POLYVALENT D'HÔTELLERIE",36,19,{"$f":"IF(C162=\"\",\"\",COUNTIF($B$2:B162,\"=\"&B162))","v":161},40,1.2160518848804217E-3,0.52777777777777779]
["01-162","01","F1611","RÉALISATION ET RESTAURATION DE FAÇADES",36,30,{"$f":"IF(C163=\"\",\"\",COUNTIF($B$2:B163,\"=\"&B163))","v":162},40,1.2160518848804217E-3,0.83333333333333337]
["01-163","01","K2106","ENSEIGNEMENT DES ÉCOLES",36,17,{"$f":"IF(C164=\"\",\"\",COUNTIF($B$2:B164,\"=\"&B164))","v":163},40,1.2160518848804217E-3,0.47222222222222221]
["01-164","01","K1903","DÉFENSE ET CONSEIL JURIDIQUE",36,33,{"$f":"IF(C165=\"\",\"\",COUNTIF($B$2:B165,\"=\"&B165))","v":164},40,1.2160518848804217E-3,0.91666666666666663]
["01-165","01","I1310","MAINTENANCE MÉCANIQUE INDUSTRIELLE",35,22,{"$f":"IF(C166=\"\",\"\",COUNTIF($B$2:B166,\"=\"&B166))","v":165},40,1.1822726658559655E-3,0.62857142857142856]
["01-166","01","M1705","MARKETING",35,28,{"$f":"IF(C167=\"\",\"\",COUNTIF($B$2:B167,\"=\"&B167))","v":166},40,1.1822726658559655E-3,0.8]
["01-167","01","H2605","MONTAGE ET CÂBLAGE ÉLECTRONIQUE",35,15,{"$f":"IF(C168=\"\",\"\",COUNTIF($B$2:B168,\"=\"&B168))","v":167},40,1.1822726658559655E-3,0.42857142857142855]
["01-168","01","F1613","TRAVAUX D'ÉTANCHÉITÉ ET D'ISOLATION",33,20,{"$f":"IF(C169=\"\",\"\",COUNTIF($B$2:B169,\"=\"&B169))","v":168},30,1.1147142278070531E-3,0.60606060606060608]
["01-169","01","F1502","MONTAGE DE STRUCTURES MÉTALLIQUES",33,19,{"$f":"IF(C170=\"\",\"\",COUNTIF($B$2:B170,\"=\"&B170))","v":169},30,1.1147142278070531E-3,0.5757575757575758]
["01-170","01","H2201","ASSEMBLAGE D'OUVRAGES EN BOIS",32,24,{"$f":"IF(C171=\"\",\"\",COUNTIF($B$2:B171,\"=\"&B171))","v":170},30,1.0809350087825969E-3,0.75]
["01-171","01","C1504","TRANSACTION IMMOBILIÈRE",32,24,{"$f":"IF(C172=\"\",\"\",COUNTIF($B$2:B172,\"=\"&B172))","v":171},30,1.0809350087825969E-3,0.75]
["01-172","01","N1301","CONCEPTION ET ORGANISATION DE LA CHAÎNE LOGISTIQUE",32,26,{"$f":"IF(C173=\"\",\"\",COUNTIF($B$2:B173,\"=\"&B173))","v":172},30,1.0809350087825969E-3,0.8125]
["01-173","01","G1101","ACCUEIL TOURISTIQUE",31,22,{"$f":"IF(C174=\"\",\"\",COUNTIF($B$2:B174,\"=\"&B174))","v":173},30,1.0471557897581407E-3,0.70967741935483875]
["01-174","01","C1102","CONSEIL CLIENTÈLE EN ASSURANCES",31,28,{"$f":"IF(C175=\"\",\"\",COUNTIF($B$2:B175,\"=\"&B175))","v":174},30,1.0471557897581407E-3,0.90322580645161288]
["01-175","01","H1208","INTERVENTION TECHNIQUE EN ÉTUDES ET CONCEPTION EN AUTOMATISME",31,28,{"$f":"IF(C176=\"\",\"\",COUNTIF($B$2:B176,\"=\"&B176))","v":175},30,1.0471557897581407E-3,0.90322580645161288]
["01-176","01","K1701","PERSONNEL DE LA DÉFENSE",31,31,{"$f":"IF(C177=\"\",\"\",COUNTIF($B$2:B177,\"=\"&B177))","v":176},30,1.0471557897581407E-3,1]
["01-177","01","J1412","RÉÉDUCATION EN PSYCHOMOTRICITÉ",31,19,{"$f":"IF(C178=\"\",\"\",COUNTIF($B$2:B178,\"=\"&B178))","v":177},30,1.0471557897581407E-3,0.61290322580645162]
["01-178","01","A1407","ÉLEVAGE BOVIN OU ÉQUIN",31,25,{"$f":"IF(C179=\"\",\"\",COUNTIF($B$2:B179,\"=\"&B179))","v":178},30,1.0471557897581407E-3,0.80645161290322576]
["01-179","01","N4102","CONDUITE DE TRANSPORT DE PARTICULIERS",30,23,{"$f":"IF(C180=\"\",\"\",COUNTIF($B$2:B180,\"=\"&B180))","v":179},30,1.0133765707336846E-3,0.76666666666666672]
["01-180","01","K2201","BLANCHISSERIE INDUSTRIELLE",30,10,{"$f":"IF(C181=\"\",\"\",COUNTIF($B$2:B181,\"=\"&B181))","v":180},30,1.0133765707336846E-3,0.33333333333333331]
["01-181","01","H2205","PREMIÈRE TRANSFORMATION DE BOIS D'OEUVRE",29,22,{"$f":"IF(C182=\"\",\"\",COUNTIF($B$2:B182,\"=\"&B182))","v":181},30,9.7959735170922838E-4,0.75862068965517238]
["01-182","01","H2202","CONDUITE D'ÉQUIPEMENT DE FABRICATION DE L'AMEUBLEMENT ET DU BOIS",28,20,{"$f":"IF(C183=\"\",\"\",COUNTIF($B$2:B183,\"=\"&B183))","v":182},30,9.4581813268477231E-4,0.7142857142857143]
["01-183","01","D1502","MANAGEMENT/GESTION DE RAYON PRODUITS ALIMENTAIRES",28,27,{"$f":"IF(C184=\"\",\"\",COUNTIF($B$2:B184,\"=\"&B184))","v":183},30,9.4581813268477231E-4,0.9642857142857143]
["01-184","01","J1403","ERGOTHÉRAPIE",28,14,{"$f":"IF(C185=\"\",\"\",COUNTIF($B$2:B185,\"=\"&B185))","v":184},30,9.4581813268477231E-4,0.5]
["01-185","01","G1404","MANAGEMENT D'ÉTABLISSEMENT DE RESTAURATION COLLECTIVE",27,24,{"$f":"IF(C186=\"\",\"\",COUNTIF($B$2:B186,\"=\"&B186))","v":185},30,9.1203891366031613E-4,0.88888888888888884]
["01-186","01","I1305","INSTALLATION ET MAINTENANCE ÉLECTRONIQUE",27,23,{"$f":"IF(C187=\"\",\"\",COUNTIF($B$2:B187,\"=\"&B187))","v":186},30,9.1203891366031613E-4,0.85185185185185186]
["01-187","01","H2904","CONDUITE D'ÉQUIPEMENT DE DÉFORMATION DES MÉTAUX",27,12,{"$f":"IF(C188=\"\",\"\",COUNTIF($B$2:B188,\"=\"&B188))","v":187},30,9.1203891366031613E-4,0.44444444444444442]
["01-188","01","H2402","ASSEMBLAGE - MONTAGE DE VÊTEMENTS ET PRODUITS TEXTILES",26,6,{"$f":"IF(C189=\"\",\"\",COUNTIF($B$2:B189,\"=\"&B189))","v":188},30,8.7825969463586006E-4,0.23076923076923078]
["01-189","01","K2306","SUPERVISION D'EXPLOITATION ÉCO-INDUSTRIELLE",26,22,{"$f":"IF(C190=\"\",\"\",COUNTIF($B$2:B190,\"=\"&B190))","v":189},30,8.7825969463586006E-4,0.84615384615384615]
["01-190","01","E1302","CONDUITE DE MACHINES DE FAÇONNAGE ROUTAGE",25,20,{"$f":"IF(C191=\"\",\"\",COUNTIF($B$2:B191,\"=\"&B191))","v":190},30,8.4448047561140388E-4,0.8]
["01-191","01","M1202","AUDIT ET CONTRÔLE COMPTABLES ET FINANCIERS",25,25,{"$f":"IF(C192=\"\",\"\",COUNTIF($B$2:B192,\"=\"&B192))","v":191},30,8.4448047561140388E-4,1]
["01-192","01","I1101","DIRECTION ET INGÉNIERIE EN ENTRETIEN INFRASTRUCTURE ET BÂTI",25,24,{"$f":"IF(C193=\"\",\"\",COUNTIF($B$2:B193,\"=\"&B193))","v":192},{"$f":"ROUND(E193,-1)","v":30},8.4448047561140388E-4,{"$f":"IF(OR(F193=\"\",F193=\".\"),0,F193/E193)","v":0.96}]
["01-193","01","N4301","CONDUITE SUR RAILS",25,25,{"$f":"IF(C194=\"\",\"\",COUNTIF($B$2:B194,\"=\"&B194))","v":193},30,{"$f":"E194/SUMIF(B:B,B194,E:E)","v":8.4448047561140388E-4},1]
[{"$f":"B195&\"-\"&G195","v":"01-194"},"01","M1204","CONTRÔLE DE GESTION",25,19,{"$f":"IF(C195=\"\",\"\",COUNTIF($B$2:B195,\"=\"&B195))","v":194},30,8.4448047561140388E-4,0.76]
["01-195","01","M1503","MANAGEMENT DES RESSOURCES HUMAINES",25,24,{"$f":"IF(C196=\"\",\"\",COUNTIF($B$2:B196,\"=\"&B196))","v":195},30,8.4448047561140388E-4,0.96]
["01-196","01","H2911","RÉALISATION DE STRUCTURES MÉTALLIQUES",25,17,{"$f":"IF(C197=\"\",\"\",COUNTIF($B$2:B197,\"=\"&B197))","v":196},30,8.4448047561140388E-4,0.68]
["01-197","01","H1503","INTERVENTION TECHNIQUE EN LABORATOIRE D'ANALYSE INDUSTRIELLE",24,18,{"$f":"IF(C198=\"\",\"\",COUNTIF($B$2:B198,\"=\"&B198))","v":197},20,8.107012565869477E-4,0.75]
["01-198","01","H1401","MANAGEMENT ET INGÉNIERIE GESTION INDUSTRIELLE ET LOGISTIQUE",24,21,{"$f":"IF(C199=\"\",\"\",COUNTIF($B$2:B199,\"=\"&B199))","v":198},20,8.107012565869477E-4,0.875]
["01-199","01","F1701","CONSTRUCTION EN BÉTON",24,12,{"$f":"IF(C200=\"\",\"\",COUNTIF($B$2:B200,\"=\"&B200))","v":199},20,8.107012565869477E-4,0.5]
["01-200","01","M1205","DIRECTION ADMINISTRATIVE ET FINANCIÈRE",24,21,{"$f":"IF(C201=\"\",\"\",COUNTIF($B$2:B201,\"=\"&B201))","v":200},20,8.107012565869477E-4,0.875]
["01-201","01","E1205","RÉALISATION DE CONTENUS MULTIMÉDIAS",24,19,{"$f":"IF(C202=\"\",\"\",COUNTIF($B$2:B202,\"=\"&B202))","v":201},20,8.107012565869477E-4,0.79166666666666663]
["01-202","01","D1213","VENTE EN GROS DE MATÉRIEL ET ÉQUIPEMENT",24,14,{"$f":"IF(C203=\"\",\"\",COUNTIF($B$2:B203,\"=\"&B203))","v":202},20,8.107012565869477E-4,0.58333333333333337]
["01-203","01","C1503","MANAGEMENT DE PROJET IMMOBILIER",24,22,{"$f":"IF(C204=\"\",\"\",COUNTIF($B$2:B204,\"=\"&B204))","v":203},20,8.107012565869477E-4,0.91666666666666663]
["01-204","01","I1607","RÉPARATION DE CYCLES, MOTOCYCLES ET MOTOCULTEURS DE LOISIRS",24,17,{"$f":"IF(C205=\"\",\"\",COUNTIF($B$2:B205,\"=\"&B205))","v":204},20,8.107012565869477E-4,0.70833333333333337]
["01-205","01","H3401","CONDUITE DE TRAITEMENT D'ABRASION DE SURFACE",24,13,{"$f":"IF(C206=\"\",\"\",COUNTIF($B$2:B206,\"=\"&B206))","v":205},20,8.107012565869477E-4,0.54166666666666663]
["01-206","01","F1301","CONDUITE DE GRUE",23,9,{"$f":"IF(C207=\"\",\"\",COUNTIF($B$2:B207,\"=\"&B207))","v":206},20,7.7692203756249151E-4,0.39130434782608697]
["01-207","01","N1202","GESTION DES OPÉRATIONS DE CIRCULATION INTERNATIONALE DES MARCHANDISES",23,15,{"$f":"IF(C208=\"\",\"\",COUNTIF($B$2:B208,\"=\"&B208))","v":207},20,7.7692203756249151E-4,0.65217391304347827]
["01-208","01","D1205","NETTOYAGE D'ARTICLES TEXTILES OU CUIRS",22,10,{"$f":"IF(C209=\"\",\"\",COUNTIF($B$2:B209,\"=\"&B209))","v":208},20,7.4314281853803544E-4,0.45454545454545453]
["01-209","01","K1601","GESTION DE L'INFORMATION ET DE LA DOCUMENTATION",21,14,{"$f":"IF(C210=\"\",\"\",COUNTIF($B$2:B210,\"=\"&B210))","v":209},20,7.0936359951357926E-4,0.66666666666666663]
["01-210","01","N1201","AFFRÈTEMENT TRANSPORT",21,17,{"$f":"IF(C211=\"\",\"\",COUNTIF($B$2:B211,\"=\"&B211))","v":210},20,7.0936359951357926E-4,0.80952380952380953]
["01-211","01","M1801","ADMINISTRATION DE SYSTÈMES D'INFORMATION",21,21,{"$f":"IF(C212=\"\",\"\",COUNTIF($B$2:B212,\"=\"&B212))","v":211},20,7.0936359951357926E-4,1]
["01-212","01","I1202","ENTRETIEN ET SURVEILLANCE DU TRACÉ ROUTIER",21,10,{"$f":"IF(C213=\"\",\"\",COUNTIF($B$2:B213,\"=\"&B213))","v":212},20,7.0936359951357926E-4,0.47619047619047616]
["01-213","01","A1401","AIDE AGRICOLE DE PRODUCTION FRUITIÈRE OU VITICOLE",21,".",{"$f":"IF(C214=\"\",\"\",COUNTIF($B$2:B214,\"=\"&B214))","v":213},20,7.0936359951357926E-4,0]
["01-214","01","H1101","ASSISTANCE ET SUPPORT TECHNIQUE CLIENT",20,20,{"$f":"IF(C215=\"\",\"\",COUNTIF($B$2:B215,\"=\"&B215))","v":214},20,6.7558438048912308E-4,1]
["01-215","01","A1302","CONTRÔLE ET DIAGNOSTIC TECHNIQUE EN AGRICULTURE",20,8,{"$f":"IF(C216=\"\",\"\",COUNTIF($B$2:B216,\"=\"&B216))","v":215},20,6.7558438048912308E-4,0.4]
["01-216","01","H1202","CONCEPTION ET DESSIN DE PRODUITS ÉLECTRIQUES ET ÉLECTRONIQUES",20,17,{"$f":"IF(C217=\"\",\"\",COUNTIF($B$2:B217,\"=\"&B217))","v":216},20,6.7558438048912308E-4,0.85]
["01-217","01","H1102","MANAGEMENT ET INGÉNIERIE D'AFFAIRES",20,19,{"$f":"IF(C218=\"\",\"\",COUNTIF($B$2:B218,\"=\"&B218))","v":217},20,6.7558438048912308E-4,0.95]
["01-218","01","D1504","DIRECTION DE MAGASIN DE GRANDE DISTRIBUTION",20,20,{"$f":"IF(C219=\"\",\"\",COUNTIF($B$2:B219,\"=\"&B219))","v":218},20,6.7558438048912308E-4,1]
["01-219","01","K2105","ENSEIGNEMENT ARTISTIQUE",20,19,{"$f":"IF(C220=\"\",\"\",COUNTIF($B$2:B220,\"=\"&B220))","v":219},20,6.7558438048912308E-4,0.95]
["01-220","01","C1401","GESTION EN BANQUE ET ASSURANCE",20,".",{"$f":"IF(C221=\"\",\"\",COUNTIF($B$2:B221,\"=\"&B221))","v":220},20,6.7558438048912308E-4,0]
["01-221","01","A1301","CONSEIL ET ASSISTANCE TECHNIQUE EN AGRICULTURE ET ENVIRONNEMENT NATUREL",20,19,{"$f":"IF(C222=\"\",\"\",COUNTIF($B$2:B222,\"=\"&B222))","v":221},20,6.7558438048912308E-4,0.95]
["01-222","01","G1802","MANAGEMENT DU SERVICE EN RESTAURATION",19,14,{"$f":"IF(C223=\"\",\"\",COUNTIF($B$2:B223,\"=\"&B223))","v":222},20,6.418051614646669E-4,0.73684210526315785]
["01-223","01","I1401","MAINTENANCE INFORMATIQUE ET BUREAUTIQUE",19,17,{"$f":"IF(C224=\"\",\"\",COUNTIF($B$2:B224,\"=\"&B224))","v":223},20,6.418051614646669E-4,0.89473684210526316]
["01-224","01","J1102","MÉDECINE GÉNÉRALISTE ET SPÉCIALISÉE",19,16,{"$f":"IF(C225=\"\",\"\",COUNTIF($B$2:B225,\"=\"&B225))","v":224},20,6.418051614646669E-4,0.84210526315789469]
["01-225","01","H2503","PILOTAGE D'UNITÉ ÉLÉMENTAIRE DE PRODUCTION MÉCANIQUE OU DE TRAVAIL DES MÉTAUX",19,19,{"$f":"IF(C226=\"\",\"\",COUNTIF($B$2:B226,\"=\"&B226))","v":225},20,6.418051614646669E-4,1]
["01-226","01","C1109","RÉDACTION ET GESTION EN ASSURANCES",19,10,{"$f":"IF(C227=\"\",\"\",COUNTIF($B$2:B227,\"=\"&B227))","v":226},20,6.418051614646669E-4,0.52631578947368418]
["01-227","01","B1803","RÉALISATION DE VÊTEMENTS SUR MESURE OU EN PETITE SÉRIE",19,9,{"$f":"IF(C228=\"\",\"\",COUNTIF($B$2:B228,\"=\"&B228))","v":227},20,6.418051614646669E-4,0.47368421052631576]
["01-228","01","K1404","MISE EN OEUVRE ET PILOTAGE DE LA POLITIQUE DES POUVOIRS PUBLICS",19,11,{"$f":"IF(C229=\"\",\"\",COUNTIF($B$2:B229,\"=\"&B229))","v":228},20,6.418051614646669E-4,0.57894736842105265]
["01-229","01","K2202","LAVAGE DE VITRES",19,9,{"$f":"IF(C230=\"\",\"\",COUNTIF($B$2:B230,\"=\"&B230))","v":229},20,6.418051614646669E-4,0.47368421052631576]
["01-230","01","J1405","OPTIQUE - LUNETTERIE",19,19,{"$f":"IF(C231=\"\",\"\",COUNTIF($B$2:B231,\"=\"&B231))","v":230},20,6.418051614646669E-4,1]
["01-231","01","H2209","INTERVENTION TECHNIQUE EN AMEUBLEMENT ET BOIS",18,15,{"$f":"IF(C232=\"\",\"\",COUNTIF($B$2:B232,\"=\"&B232))","v":231},20,6.0802594244021083E-4,0.83333333333333337]
["01-232","01","E1101","ANIMATION DE SITE MULTIMÉDIA",18,14,{"$f":"IF(C233=\"\",\"\",COUNTIF($B$2:B233,\"=\"&B233))","v":232},20,6.0802594244021083E-4,0.77777777777777779]
["01-233","01","M1704","MANAGEMENT RELATION CLIENTÈLE",18,14,{"$f":"IF(C234=\"\",\"\",COUNTIF($B$2:B234,\"=\"&B234))","v":233},20,6.0802594244021083E-4,0.77777777777777779]
["01-234","01","D1406","MANAGEMENT EN FORCE DE VENTE",18,18,{"$f":"IF(C235=\"\",\"\",COUNTIF($B$2:B235,\"=\"&B235))","v":234},20,6.0802594244021083E-4,1]
["01-235","01","K2112","ORIENTATION SCOLAIRE ET PROFESSIONNELLE",18,10,{"$f":"IF(C236=\"\",\"\",COUNTIF($B$2:B236,\"=\"&B236))","v":235},20,6.0802594244021083E-4,0.55555555555555558]
["01-236","01","J1507","SOINS INFIRMIERS SPÉCIALISÉS EN PUÉRICULTURE",18,15,{"$f":"IF(C237=\"\",\"\",COUNTIF($B$2:B237,\"=\"&B237))","v":236},20,6.0802594244021083E-4,0.83333333333333337]
["01-237","01","H2404","CONDUITE DE MACHINE DE PRODUCTION ET TRANSFORMATION DES FILS",17,14,{"$f":"IF(C238=\"\",\"\",COUNTIF($B$2:B238,\"=\"&B238))","v":237},20,5.7424672341575464E-4,0.82352941176470584]
["01-238","01","M1808","INFORMATION GÉOGRAPHIQUE",17,16,{"$f":"IF(C239=\"\",\"\",COUNTIF($B$2:B239,\"=\"&B239))","v":238},20,5.7424672341575464E-4,0.94117647058823528]
["01-239","01","B1802","RÉALISATION D'ARTICLES EN CUIR ET MATÉRIAUX SOUPLES (HORS VÊTEMENT)",17,15,{"$f":"IF(C240=\"\",\"\",COUNTIF($B$2:B240,\"=\"&B240))","v":239},20,5.7424672341575464E-4,0.88235294117647056]
["01-240","01","G1402","MANAGEMENT D'HÔTEL-RESTAURANT",16,12,{"$f":"IF(C241=\"\",\"\",COUNTIF($B$2:B241,\"=\"&B241))","v":240},20,5.4046750439129846E-4,0.75]
["01-241","01","M1402","CONSEIL EN ORGANISATION ET MANAGEMENT D'ENTREPRISE",16,12,{"$f":"IF(C242=\"\",\"\",COUNTIF($B$2:B242,\"=\"&B242))","v":241},20,5.4046750439129846E-4,0.75]
["01-242","01","H1209","INTERVENTION TECHNIQUE EN ÉTUDES ET DÉVELOPPEMENT ÉLECTRONIQUE",16,9,{"$f":"IF(C243=\"\",\"\",COUNTIF($B$2:B243,\"=\"&B243))","v":242},20,5.4046750439129846E-4,0.5625]
["01-243","01","M1707","STRATÉGIE COMMERCIALE",16,16,{"$f":"IF(C244=\"\",\"\",COUNTIF($B$2:B244,\"=\"&B244))","v":243},20,5.4046750439129846E-4,1]
["01-244","01","N1302","DIRECTION DE SITE LOGISTIQUE",16,12,{"$f":"IF(C245=\"\",\"\",COUNTIF($B$2:B245,\"=\"&B245))","v":244},20,5.4046750439129846E-4,0.75]
["01-245","01","A1409","ÉLEVAGE DE LAPINS ET VOLAILLES",16,13,{"$f":"IF(C246=\"\",\"\",COUNTIF($B$2:B246,\"=\"&B246))","v":245},20,5.4046750439129846E-4,0.8125]
["01-246","01","N4104","COURSES ET LIVRAISONS EXPRESS",15,4,{"$f":"IF(C247=\"\",\"\",COUNTIF($B$2:B247,\"=\"&B247))","v":246},20,5.0668828536684228E-4,0.26666666666666666]
["01-247","01","D1501","ANIMATION DE VENTE",15,7,{"$f":"IF(C248=\"\",\"\",COUNTIF($B$2:B248,\"=\"&B248))","v":247},20,5.0668828536684228E-4,0.46666666666666667]
["01-248","01","K1204","MÉDIATION SOCIALE ET FACILITATION DE LA VIE EN SOCIÉTÉ",15,13,{"$f":"IF(C249=\"\",\"\",COUNTIF($B$2:B249,\"=\"&B249))","v":248},20,5.0668828536684228E-4,0.8666666666666667]
["01-249","01","C1206","GESTION DE CLIENTÈLE BANCAIRE",15,10,{"$f":"IF(C250=\"\",\"\",COUNTIF($B$2:B250,\"=\"&B250))","v":249},20,5.0668828536684228E-4,0.66666666666666663]
["01-250","01","K1902","COLLABORATION JURIDIQUE",15,8,{"$f":"IF(C251=\"\",\"\",COUNTIF($B$2:B251,\"=\"&B251))","v":250},20,5.0668828536684228E-4,0.53333333333333333]
["01-251","01","K2109","ENSEIGNEMENT TECHNIQUE ET PROFESSIONNEL",15,11,{"$f":"IF(C252=\"\",\"\",COUNTIF($B$2:B252,\"=\"&B252))","v":251},20,5.0668828536684228E-4,0.73333333333333328]
["01-252","01","A1405","ARBORICULTURE ET VITICULTURE",15,7,{"$f":"IF(C253=\"\",\"\",COUNTIF($B$2:B253,\"=\"&B253))","v":252},20,5.0668828536684228E-4,0.46666666666666667]
["01-253","01","H2914","RÉALISATION ET MONTAGE EN TUYAUTERIE",14,8,{"$f":"IF(C254=\"\",\"\",COUNTIF($B$2:B254,\"=\"&B254))","v":253},10,4.7290906634238616E-4,0.5714285714285714]
["01-254","01","I1301","INSTALLATION ET MAINTENANCE D'ASCENSEURS",14,8,{"$f":"IF(C255=\"\",\"\",COUNTIF($B$2:B255,\"=\"&B255))","v":254},10,4.7290906634238616E-4,0.5714285714285714]
["01-255","01","D1503","MANAGEMENT/GESTION DE RAYON PRODUITS NON ALIMENTAIRES",14,14,{"$f":"IF(C256=\"\",\"\",COUNTIF($B$2:B256,\"=\"&B256))","v":255},10,4.7290906634238616E-4,1]
["01-256","01","K1205","INFORMATION SOCIALE",14,6,{"$f":"IF(C257=\"\",\"\",COUNTIF($B$2:B257,\"=\"&B257))","v":256},{"$f":"ROUND(E257,-1)","v":10},4.7290906634238616E-4,{"$f":"IF(OR(F257=\"\",F257=\".\"),0,F257/E257)","v":0.42857142857142855}]
["01-257","01","J1302","ANALYSES MÉDICALES",14,3,{"$f":"IF(C258=\"\",\"\",COUNTIF($B$2:B258,\"=\"&B258))","v":257},10,{"$f":"E258/SUMIF(B:B,B258,E:E)","v":4.7290906634238616E-4},0.21428571428571427]
[{"$f":"B259&\"-\"&G259","v":"01-258"},"01","H1302","MANAGEMENT ET INGÉNIERIE HYGIÈNE SÉCURITÉ ENVIRONNEMENT -HSE- INDUSTRIELS",13,11,{"$f":"IF(C259=\"\",\"\",COUNTIF($B$2:B259,\"=\"&B259))","v":258},10,4.3912984731793003E-4,0.84615384615384615]
["01-259","01","H1402","MANAGEMENT ET INGÉNIERIE MÉTHODES ET INDUSTRIALISATION",13,10,{"$f":"IF(C260=\"\",\"\",COUNTIF($B$2:B260,\"=\"&B260))","v":259},10,4.3912984731793003E-4,0.76923076923076927]
["01-260","01","G1303","VENTE DE VOYAGES",13,11,{"$f":"IF(C261=\"\",\"\",COUNTIF($B$2:B261,\"=\"&B261))","v":260},10,4.3912984731793003E-4,0.84615384615384615]
["01-261","01","A1101","CONDUITE D'ENGINS AGRICOLES ET FORESTIERS",13,11,{"$f":"IF(C262=\"\",\"\",COUNTIF($B$2:B262,\"=\"&B262))","v":261},10,4.3912984731793003E-4,0.84615384615384615]
["01-262","01","F1108","MÉTRÉ DE LA CONSTRUCTION",13,12,{"$f":"IF(C263=\"\",\"\",COUNTIF($B$2:B263,\"=\"&B263))","v":262},10,4.3912984731793003E-4,0.92307692307692313]
["01-263","01","J1410","PROTHÈSES DENTAIRES",12,10,{"$f":"IF(C264=\"\",\"\",COUNTIF($B$2:B264,\"=\"&B264))","v":263},10,4.0535062829347385E-4,0.83333333333333337]
["01-264","01","G1205","PERSONNEL D'ATTRACTIONS OU DE STRUCTURES DE LOISIRS",12,8,{"$f":"IF(C265=\"\",\"\",COUNTIF($B$2:B265,\"=\"&B265))","v":264},10,4.0535062829347385E-4,0.66666666666666663]
["01-265","01","F1501","MONTAGE DE STRUCTURES ET DE CHARPENTES BOIS",12,10,{"$f":"IF(C266=\"\",\"\",COUNTIF($B$2:B266,\"=\"&B266))","v":265},10,4.0535062829347385E-4,0.83333333333333337]
["01-266","01","F1103","CONTRÔLE ET DIAGNOSTIC TECHNIQUE DU BÂTIMENT",12,9,{"$f":"IF(C267=\"\",\"\",COUNTIF($B$2:B267,\"=\"&B267))","v":266},10,4.0535062829347385E-4,0.75]
["01-267","01","I1103","SUPERVISION D'ENTRETIEN ET GESTION DE VÉHICULES",12,12,{"$f":"IF(C268=\"\",\"\",COUNTIF($B$2:B268,\"=\"&B268))","v":267},10,4.0535062829347385E-4,1]
["01-268","01","M1206","MANAGEMENT DE GROUPE OU DE SERVICE COMPTABLE",12,12,{"$f":"IF(C269=\"\",\"\",COUNTIF($B$2:B269,\"=\"&B269))","v":268},10,4.0535062829347385E-4,1]
["01-269","01","K1707","SURVEILLANCE MUNICIPALE",12,8,{"$f":"IF(C270=\"\",\"\",COUNTIF($B$2:B270,\"=\"&B270))","v":269},10,4.0535062829347385E-4,0.66666666666666663]
["01-270","01","M1803","DIRECTION DES SYSTÈMES D'INFORMATION",12,11,{"$f":"IF(C271=\"\",\"\",COUNTIF($B$2:B271,\"=\"&B271))","v":270},10,4.0535062829347385E-4,0.91666666666666663]
["01-271","01","A1408","ÉLEVAGE D'ANIMAUX SAUVAGES OU DE COMPAGNIE",12,3,{"$f":"IF(C272=\"\",\"\",COUNTIF($B$2:B272,\"=\"&B272))","v":271},10,4.0535062829347385E-4,0.25]
["01-272","01","F1401","EXTRACTION LIQUIDE ET GAZEUSE",12,2,{"$f":"IF(C273=\"\",\"\",COUNTIF($B$2:B273,\"=\"&B273))","v":272},10,4.0535062829347385E-4,0.16666666666666666]
["01-273","01","H3101","CONDUITE D'ÉQUIPEMENT DE FABRICATION DE PAPIER OU DE CARTON",12,11,{"$f":"IF(C274=\"\",\"\",COUNTIF($B$2:B274,\"=\"&B274))","v":273},10,4.0535062829347385E-4,0.91666666666666663]
["01-274","01","K1102","AIDE AUX BÉNÉFICIAIRES D'UNE MESURE DE PROTECTION JURIDIQUE",12,6,{"$f":"IF(C275=\"\",\"\",COUNTIF($B$2:B275,\"=\"&B275))","v":274},10,4.0535062829347385E-4,0.5]
["01-275","01","B1806","TAPISSERIE - DÉCORATION EN AMEUBLEMENT",11,11,{"$f":"IF(C276=\"\",\"\",COUNTIF($B$2:B276,\"=\"&B276))","v":275},10,3.7157140926901772E-4,1]
["01-276","01","D1509","MANAGEMENT DE DÉPARTEMENT EN GRANDE DISTRIBUTION",11,10,{"$f":"IF(C277=\"\",\"\",COUNTIF($B$2:B277,\"=\"&B277))","v":276},10,3.7157140926901772E-4,0.90909090909090906]
["01-277","01","D1508","ENCADREMENT DU PERSONNEL DE CAISSES",11,9,{"$f":"IF(C278=\"\",\"\",COUNTIF($B$2:B278,\"=\"&B278))","v":277},10,3.7157140926901772E-4,0.81818181818181823]
["01-278","01","E1306","PRÉPRESSE",11,6,{"$f":"IF(C279=\"\",\"\",COUNTIF($B$2:B279,\"=\"&B279))","v":278},10,3.7157140926901772E-4,0.54545454545454541]
["01-279","01","M1606","SAISIE DE DONNÉES",11,2,{"$f":"IF(C280=\"\",\"\",COUNTIF($B$2:B280,\"=\"&B280))","v":279},10,3.7157140926901772E-4,0.18181818181818182]
["01-280","01","K2601","CONDUITE D'OPÉRATIONS FUNÉRAIRES",11,11,{"$f":"IF(C281=\"\",\"\",COUNTIF($B$2:B281,\"=\"&B281))","v":280},10,3.7157140926901772E-4,1]
["01-281","01","K1501","APPLICATION DES RÈGLES FINANCIÈRES PUBLIQUES",11,8,{"$f":"IF(C282=\"\",\"\",COUNTIF($B$2:B282,\"=\"&B282))","v":281},10,3.7157140926901772E-4,0.72727272727272729]
["01-282","01","M1701","ADMINISTRATION DES VENTES",11,8,{"$f":"IF(C283=\"\",\"\",COUNTIF($B$2:B283,\"=\"&B283))","v":282},10,3.7157140926901772E-4,0.72727272727272729]
["01-283","01","N1102","DÉMÉNAGEMENT",11,9,{"$f":"IF(C284=\"\",\"\",COUNTIF($B$2:B284,\"=\"&B284))","v":283},10,3.7157140926901772E-4,0.81818181818181823]
["01-284","01","I1102","MANAGEMENT ET INGÉNIERIE DE MAINTENANCE INDUSTRIELLE",11,10,{"$f":"IF(C285=\"\",\"\",COUNTIF($B$2:B285,\"=\"&B285))","v":284},10,3.7157140926901772E-4,0.90909090909090906]
["01-285","01","I1503","INTERVENTION EN MILIEUX ET PRODUITS NOCIFS",10,9,{"$f":"IF(C286=\"\",\"\",COUNTIF($B$2:B286,\"=\"&B286))","v":285},10,3.3779219024456154E-4,0.9]
["01-286","01","A1501","AIDE AUX SOINS ANIMAUX",10,7,{"$f":"IF(C287=\"\",\"\",COUNTIF($B$2:B287,\"=\"&B287))","v":286},10,3.3779219024456154E-4,0.7]
["01-287","01","H2603","CONDUITE D'INSTALLATION AUTOMATISÉE DE PRODUCTION ÉLECTRIQUE, ÉLECTRONIQUE ET MICROÉLECTRONIQUE",10,7,{"$f":"IF(C288=\"\",\"\",COUNTIF($B$2:B288,\"=\"&B288))","v":287},10,3.3779219024456154E-4,0.7]
["01-288","01","H1210","INTERVENTION TECHNIQUE EN ÉTUDES, RECHERCHE ET DÉVELOPPEMENT",10,10,{"$f":"IF(C289=\"\",\"\",COUNTIF($B$2:B289,\"=\"&B289))","v":288},10,3.3779219024456154E-4,1]
["01-289","01","H2408","CONDUITE DE MACHINE D'IMPRESSION TEXTILE",10,10,{"$f":"IF(C290=\"\",\"\",COUNTIF($B$2:B290,\"=\"&B290))","v":289},10,3.3779219024456154E-4,1]
["01-290","01","J1104","SUIVI DE LA GROSSESSE ET DE L'ACCOUCHEMENT",10,1,{"$f":"IF(C291=\"\",\"\",COUNTIF($B$2:B291,\"=\"&B291))","v":290},10,3.3779219024456154E-4,0.1]
["01-291","01","F1706","PRÉFABRICATION EN BÉTON INDUSTRIEL",10,3,{"$f":"IF(C292=\"\",\"\",COUNTIF($B$2:B292,\"=\"&B292))","v":291},10,3.3779219024456154E-4,0.3]
["01-292","01","L1204","ARTS DU CIRQUE ET ARTS VISUELS",10,".",{"$f":"IF(C293=\"\",\"\",COUNTIF($B$2:B293,\"=\"&B293))","v":292},10,3.3779219024456154E-4,0]
["01-293","01","A1202","ENTRETIEN DES ESPACES NATURELS",10,4,{"$f":"IF(C294=\"\",\"\",COUNTIF($B$2:B294,\"=\"&B294))","v":293},10,3.3779219024456154E-4,0.4]
["01-294","01","A1412","FABRICATION ET AFFINAGE DE FROMAGES",10,8,{"$f":"IF(C295=\"\",\"\",COUNTIF($B$2:B295,\"=\"&B295))","v":294},10,3.3779219024456154E-4,0.8]
["01-295","01","F1101","ARCHITECTURE DU BTP ET DU PAYSAGE",10,9,{"$f":"IF(C296=\"\",\"\",COUNTIF($B$2:B296,\"=\"&B296))","v":295},10,3.3779219024456154E-4,0.9]
["01-296","01","H2802","CONDUITE D'INSTALLATION DE PRODUCTION DE MATÉRIAUX DE CONSTRUCTION",9,5,{"$f":"IF(C297=\"\",\"\",COUNTIF($B$2:B297,\"=\"&B297))","v":296},10,3.0401297122010541E-4,0.55555555555555558]
["01-297","01","A1402","AIDE AGRICOLE DE PRODUCTION LÉGUMIÈRE OU VÉGÉTALE",9,".",{"$f":"IF(C298=\"\",\"\",COUNTIF($B$2:B298,\"=\"&B298))","v":297},10,3.0401297122010541E-4,0]
["01-298","01","A1303","INGÉNIERIE EN AGRICULTURE ET ENVIRONNEMENT NATUREL",9,9,{"$f":"IF(C299=\"\",\"\",COUNTIF($B$2:B299,\"=\"&B299))","v":298},10,3.0401297122010541E-4,1]
["01-299","01","K2304","REVALORISATION DE PRODUITS INDUSTRIELS",9,5,{"$f":"IF(C300=\"\",\"\",COUNTIF($B$2:B300,\"=\"&B300))","v":299},10,3.0401297122010541E-4,0.55555555555555558]
["01-300","01","D1105","POISSONNERIE",9,7,{"$f":"IF(C301=\"\",\"\",COUNTIF($B$2:B301,\"=\"&B301))","v":300},10,3.0401297122010541E-4,0.77777777777777779]
["01-301","01","K2102","COORDINATION PÉDAGOGIQUE",9,7,{"$f":"IF(C302=\"\",\"\",COUNTIF($B$2:B302,\"=\"&B302))","v":301},10,3.0401297122010541E-4,0.77777777777777779]
["01-302","01","A1411","ÉLEVAGE PORCIN",9,9,{"$f":"IF(C303=\"\",\"\",COUNTIF($B$2:B303,\"=\"&B303))","v":302},10,3.0401297122010541E-4,1]
["01-303","01","F1204","QUALITÉ SÉCURITÉ ENVIRONNEMENT ET PROTECTION SANTÉ DU BTP",8,6,{"$f":"IF(C304=\"\",\"\",COUNTIF($B$2:B304,\"=\"&B304))","v":303},10,2.7023375219564923E-4,0.75]
["01-304","01","C1205","CONSEIL EN GESTION DE PATRIMOINE FINANCIER",8,6,{"$f":"IF(C305=\"\",\"\",COUNTIF($B$2:B305,\"=\"&B305))","v":304},10,2.7023375219564923E-4,0.75]
["01-305","01","F1612","TAILLE ET DÉCORATION DE PIERRES",8,8,{"$f":"IF(C306=\"\",\"\",COUNTIF($B$2:B306,\"=\"&B306))","v":305},10,2.7023375219564923E-4,1]
["01-306","01","M1102","DIRECTION DES ACHATS",8,8,{"$f":"IF(C307=\"\",\"\",COUNTIF($B$2:B307,\"=\"&B307))","v":306},10,2.7023375219564923E-4,1]
["01-307","01","K2203","MANAGEMENT ET INSPECTION EN PROPRETÉ DE LOCAUX",8,5,{"$f":"IF(C308=\"\",\"\",COUNTIF($B$2:B308,\"=\"&B308))","v":307},10,2.7023375219564923E-4,0.625]
["01-308","01","A1201","BÛCHERONNAGE ET ÉLAGAGE",8,8,{"$f":"IF(C309=\"\",\"\",COUNTIF($B$2:B309,\"=\"&B309))","v":308},10,2.7023375219564923E-4,1]
["01-309","01","H3203","FABRICATION DE PIÈCES EN MATÉRIAUX COMPOSITES",8,".",{"$f":"IF(C310=\"\",\"\",COUNTIF($B$2:B310,\"=\"&B310))","v":309},10,2.7023375219564923E-4,0]
["01-310","01","H2804","PILOTAGE DE CENTRALE À BÉTON PRÊT À L'EMPLOI, CIMENT, ENROBÉS ET GRANULATS",7,6,{"$f":"IF(C311=\"\",\"\",COUNTIF($B$2:B311,\"=\"&B311))","v":310},10,2.3645453317119308E-4,0.8571428571428571]
["01-311","01","F1601","APPLICATION ET DÉCORATION EN PLÂTRE, STUC ET STAFF",7,1,{"$f":"IF(C312=\"\",\"\",COUNTIF($B$2:B312,\"=\"&B312))","v":311},10,2.3645453317119308E-4,0.14285714285714285]
["01-312","01","H2803","FAÇONNAGE ET ÉMAILLAGE EN INDUSTRIE CÉRAMIQUE",7,1,{"$f":"IF(C313=\"\",\"\",COUNTIF($B$2:B313,\"=\"&B313))","v":312},10,2.3645453317119308E-4,0.14285714285714285]
["01-313","01","A1410","ÉLEVAGE OVIN OU CAPRIN",7,6,{"$f":"IF(C314=\"\",\"\",COUNTIF($B$2:B314,\"=\"&B314))","v":313},10,2.3645453317119308E-4,0.8571428571428571]
["01-314","01","D1103","CHARCUTERIE - TRAITEUR",7,7,{"$f":"IF(C315=\"\",\"\",COUNTIF($B$2:B315,\"=\"&B315))","v":314},10,2.3645453317119308E-4,1]
["01-315","01","A1403","AIDE D'ÉLEVAGE AGRICOLE ET AQUACOLE",7,4,{"$f":"IF(C316=\"\",\"\",COUNTIF($B$2:B316,\"=\"&B316))","v":315},10,2.3645453317119308E-4,0.5714285714285714]
["01-316","01","L1302","PRODUCTION ET ADMINISTRATION SPECTACLE, CINÉMA ET AUDIOVISUEL",7,6,{"$f":"IF(C317=\"\",\"\",COUNTIF($B$2:B317,\"=\"&B317))","v":316},10,2.3645453317119308E-4,0.8571428571428571]
["01-317","01","L1401","SPORTIF PROFESSIONNEL",7,6,{"$f":"IF(C318=\"\",\"\",COUNTIF($B$2:B318,\"=\"&B318))","v":317},10,2.3645453317119308E-4,0.8571428571428571]
["01-318","01","A1404","AQUACULTURE",7,".",{"$f":"IF(C319=\"\",\"\",COUNTIF($B$2:B319,\"=\"&B319))","v":318},10,2.3645453317119308E-4,0]
["01-319","01","M1302","DIRECTION DE PETITE OU MOYENNE ENTREPRISE",7,5,{"$f":"IF(C320=\"\",\"\",COUNTIF($B$2:B320,\"=\"&B320))","v":319},10,2.3645453317119308E-4,0.7142857142857143]
["01-320","01","I1303","INSTALLATION ET MAINTENANCE DE DISTRIBUTEURS AUTOMATIQUES",6,3,{"$f":"IF(C321=\"\",\"\",COUNTIF($B$2:B321,\"=\"&B321))","v":320},{"$f":"ROUND(E321,-1)","v":10},2.0267531414673692E-4,{"$f":"IF(OR(F321=\"\",F321=\".\"),0,F321/E321)","v":0.5}]
["01-321","01","H3403","CONDUITE DE TRAITEMENT THERMIQUE",6,5,{"$f":"IF(C322=\"\",\"\",COUNTIF($B$2:B322,\"=\"&B322))","v":321},10,{"$f":"E322/SUMIF(B:B,B322,E:E)","v":2.0267531414673692E-4},0.83333333333333337]
[{"$f":"B323&\"-\"&G323","v":"01-322"},"01","H2409","COUPE CUIR, TEXTILE ET MATÉRIAUX SOUPLES",6,3,{"$f":"IF(C323=\"\",\"\",COUNTIF($B$2:B323,\"=\"&B323))","v":322},10,2.0267531414673692E-4,0.5]
["01-323","01","M1806","CONSEIL ET MAÎTRISE D'OUVRAGE EN SYSTÈMES D'INFORMATION",6,6,{"$f":"IF(C324=\"\",\"\",COUNTIF($B$2:B324,\"=\"&B324))","v":323},10,2.0267531414673692E-4,1]
["01-324","01","G1403","GESTION DE STRUCTURE DE LOISIRS OU D'HÉBERGEMENT TOURISTIQUE",6,4,{"$f":"IF(C325=\"\",\"\",COUNTIF($B$2:B325,\"=\"&B325))","v":324},10,2.0267531414673692E-4,0.66666666666666663]
["01-325","01","E1107","ORGANISATION D'ÉVÈNEMENTIEL",6,4,{"$f":"IF(C326=\"\",\"\",COUNTIF($B$2:B326,\"=\"&B326))","v":325},10,2.0267531414673692E-4,0.66666666666666663]
["01-326","01","M1403","ÉTUDES ET PROSPECTIVES SOCIO-ÉCONOMIQUES",6,6,{"$f":"IF(C327=\"\",\"\",COUNTIF($B$2:B327,\"=\"&B327))","v":326},10,2.0267531414673692E-4,1]
["01-327","01","K2302","MANAGEMENT ET INSPECTION EN ENVIRONNEMENT URBAIN",6,6,{"$f":"IF(C328=\"\",\"\",COUNTIF($B$2:B328,\"=\"&B328))","v":327},10,2.0267531414673692E-4,1]
["01-328","01","K1705","SÉCURITÉ CIVILE ET SECOURS",6,".",{"$f":"IF(C329=\"\",\"\",COUNTIF($B$2:B329,\"=\"&B329))","v":328},10,2.0267531414673692E-4,0]
["01-329","01","B1603","RÉALISATION D'OUVRAGES EN BIJOUTERIE, JOAILLERIE ET ORFÈVRERIE",6,2,{"$f":"IF(C330=\"\",\"\",COUNTIF($B$2:B330,\"=\"&B330))","v":329},10,2.0267531414673692E-4,0.33333333333333331]
["01-330","01","D1210","VENTE EN ANIMALERIE",6,4,{"$f":"IF(C331=\"\",\"\",COUNTIF($B$2:B331,\"=\"&B331))","v":330},10,2.0267531414673692E-4,0.66666666666666663]
["01-331","01","J1402","DIÉTÉTIQUE",6,4,{"$f":"IF(C332=\"\",\"\",COUNTIF($B$2:B332,\"=\"&B332))","v":331},10,2.0267531414673692E-4,0.66666666666666663]
["01-332","01","K1706","SÉCURITÉ PUBLIQUE",6,6,{"$f":"IF(C333=\"\",\"\",COUNTIF($B$2:B333,\"=\"&B333))","v":332},10,2.0267531414673692E-4,1]
["01-333","01","N1104","MANOEUVRE ET CONDUITE D'ENGINS LOURDS DE MANUTENTION",6,1,{"$f":"IF(C334=\"\",\"\",COUNTIF($B$2:B334,\"=\"&B334))","v":333},10,2.0267531414673692E-4,0.16666666666666666]
["01-334","01","D1203","HYDROTHÉRAPIE",6,6,{"$f":"IF(C335=\"\",\"\",COUNTIF($B$2:B335,\"=\"&B335))","v":334},10,2.0267531414673692E-4,1]
["01-335","01","H2207","RÉALISATION DE MEUBLES EN BOIS",5,5,{"$f":"IF(C336=\"\",\"\",COUNTIF($B$2:B336,\"=\"&B336))","v":335},10,1.6889609512228077E-4,1]
["01-336","01","H2801","CONDUITE D'ÉQUIPEMENT DE TRANSFORMATION DU VERRE",5,1,{"$f":"IF(C337=\"\",\"\",COUNTIF($B$2:B337,\"=\"&B337))","v":336},10,1.6889609512228077E-4,0.2]
["01-337","01","F1102","CONCEPTION - AMÉNAGEMENT D'ESPACES INTÉRIEURS",5,3,{"$f":"IF(C338=\"\",\"\",COUNTIF($B$2:B338,\"=\"&B338))","v":337},10,1.6889609512228077E-4,0.6]
["01-338","01","H1301","INSPECTION DE CONFORMITÉ",5,3,{"$f":"IF(C339=\"\",\"\",COUNTIF($B$2:B339,\"=\"&B339))","v":338},10,1.6889609512228077E-4,0.6]
["01-339","01","H2701","PILOTAGE D'INSTALLATION ÉNERGÉTIQUE ET PÉTROCHIMIQUE",5,4,{"$f":"IF(C340=\"\",\"\",COUNTIF($B$2:B340,\"=\"&B340))","v":339},10,1.6889609512228077E-4,0.8]
["01-340","01","N4402","EXPLOITATION ET MANOEUVRE DES REMONTÉES MÉCANIQUES",5,".",{"$f":"IF(C341=\"\",\"\",COUNTIF($B$2:B341,\"=\"&B341))","v":340},10,1.6889609512228077E-4,0]
["01-341","01","M1703","MANAGEMENT ET GESTION DE PRODUIT",5,5,{"$f":"IF(C342=\"\",\"\",COUNTIF($B$2:B342,\"=\"&B342))","v":341},10,1.6889609512228077E-4,1]
["01-342","01","M1401","CONDUITE D'ENQUÊTES",5,".",{"$f":"IF(C343=\"\",\"\",COUNTIF($B$2:B343,\"=\"&B343))","v":342},10,1.6889609512228077E-4,0]
["01-343","01","D1204","LOCATION DE VÉHICULES OU DE MATÉRIEL DE LOISIRS",5,5,{"$f":"IF(C344=\"\",\"\",COUNTIF($B$2:B344,\"=\"&B344))","v":343},10,1.6889609512228077E-4,1]
["01-344","01","J1504","SOINS INFIRMIERS SPÉCIALISÉS EN BLOC OPÉRATOIRE",5,5,{"$f":"IF(C345=\"\",\"\",COUNTIF($B$2:B345,\"=\"&B345))","v":344},10,1.6889609512228077E-4,1]
["01-345","01","M1301","DIRECTION DE GRANDE ENTREPRISE OU D'ÉTABLISSEMENT PUBLIC",5,4,{"$f":"IF(C346=\"\",\"\",COUNTIF($B$2:B346,\"=\"&B346))","v":345},10,1.6889609512228077E-4,0.8]
["01-346","01","I1201","ENTRETIEN D'AFFICHAGE ET MOBILIER URBAIN",5,4,{"$f":"IF(C347=\"\",\"\",COUNTIF($B$2:B347,\"=\"&B347))","v":346},10,1.6889609512228077E-4,0.8]
["01-347","01","H2403","CONDUITE DE MACHINE DE FABRICATION DE PRODUITS TEXTILES",5,5,{"$f":"IF(C348=\"\",\"\",COUNTIF($B$2:B348,\"=\"&B348))","v":347},10,1.6889609512228077E-4,1]
["01-348","01","H2501","ENCADREMENT DE PRODUCTION DE MATÉRIEL ÉLECTRIQUE ET ÉLECTRONIQUE",4,4,{"$f":"IF(C349=\"\",\"\",COUNTIF($B$2:B349,\"=\"&B349))","v":348},0,1.3511687609782462E-4,1]
["01-349","01","H2415","CONTRÔLE EN INDUSTRIE DU CUIR ET DU TEXTILE",4,4,{"$f":"IF(C350=\"\",\"\",COUNTIF($B$2:B350,\"=\"&B350))","v":349},0,1.3511687609782462E-4,1]
["01-350","01","H1201","EXPERTISE TECHNIQUE COULEUR EN INDUSTRIE",4,3,{"$f":"IF(C351=\"\",\"\",COUNTIF($B$2:B351,\"=\"&B351))","v":350},0,1.3511687609782462E-4,0.75]
["01-351","01","H1204","DESIGN INDUSTRIEL",4,4,{"$f":"IF(C352=\"\",\"\",COUNTIF($B$2:B352,\"=\"&B352))","v":351},0,1.3511687609782462E-4,1]
["01-352","01","G1503","MANAGEMENT DU PERSONNEL D'ÉTAGE",4,4,{"$f":"IF(C353=\"\",\"\",COUNTIF($B$2:B353,\"=\"&B353))","v":352},0,1.3511687609782462E-4,1]
["01-353","01","N4401","CIRCULATION DU RÉSEAU FERRÉ",4,4,{"$f":"IF(C354=\"\",\"\",COUNTIF($B$2:B354,\"=\"&B354))","v":353},0,1.3511687609782462E-4,1]
["01-354","01","N4201","DIRECTION D'EXPLOITATION DES TRANSPORTS ROUTIERS DE MARCHANDISES",4,3,{"$f":"IF(C355=\"\",\"\",COUNTIF($B$2:B355,\"=\"&B355))","v":354},0,1.3511687609782462E-4,0.75]
["01-355","01","K2103","DIRECTION D'ÉTABLISSEMENT ET D'ENSEIGNEMENT",4,3,{"$f":"IF(C356=\"\",\"\",COUNTIF($B$2:B356,\"=\"&B356))","v":355},0,1.3511687609782462E-4,0.75]
["01-356","01","M1207","TRÉSORERIE ET FINANCEMENT",4,3,{"$f":"IF(C357=\"\",\"\",COUNTIF($B$2:B357,\"=\"&B357))","v":356},0,1.3511687609782462E-4,0.75]
["01-357","01","K1103","DÉVELOPPEMENT PERSONNEL ET BIEN-ÊTRE DE LA PERSONNE",4,4,{"$f":"IF(C358=\"\",\"\",COUNTIF($B$2:B358,\"=\"&B358))","v":357},0,1.3511687609782462E-4,1]
["01-358","01","F1203","DIRECTION ET INGÉNIERIE D'EXPLOITATION DE GISEMENTS ET DE CARRIÈRES",4,4,{"$f":"IF(C359=\"\",\"\",COUNTIF($B$2:B359,\"=\"&B359))","v":358},0,1.3511687609782462E-4,1]
["01-359","01","K1504","CONTRÔLE ET INSPECTION DU TRÉSOR PUBLIC",4,1,{"$f":"IF(C360=\"\",\"\",COUNTIF($B$2:B360,\"=\"&B360))","v":359},0,1.3511687609782462E-4,0.25]
["01-360","01","B1302","DÉCORATION D'OBJETS D'ART ET ARTISANAUX",4,4,{"$f":"IF(C361=\"\",\"\",COUNTIF($B$2:B361,\"=\"&B361))","v":360},0,1.3511687609782462E-4,1]
["01-361","01","E1104","CONCEPTION DE CONTENUS MULTIMÉDIAS",4,4,{"$f":"IF(C362=\"\",\"\",COUNTIF($B$2:B362,\"=\"&B362))","v":361},0,1.3511687609782462E-4,1]
["01-362","01","K2305","SALUBRITÉ ET TRAITEMENT DE NUISIBLES",4,4,{"$f":"IF(C363=\"\",\"\",COUNTIF($B$2:B363,\"=\"&B363))","v":362},0,1.3511687609782462E-4,1]
["01-363","01","L1101","ANIMATION MUSICALE ET SCÉNIQUE",4,".",{"$f":"IF(C364=\"\",\"\",COUNTIF($B$2:B364,\"=\"&B364))","v":363},0,1.3511687609782462E-4,0]
["01-364","01","I1402","RÉPARATION DE BIENS ÉLECTRODOMESTIQUES ET MULTIMÉDIA",4,4,{"$f":"IF(C365=\"\",\"\",COUNTIF($B$2:B365,\"=\"&B365))","v":364},0,1.3511687609782462E-4,1]
["01-365","01","I1602","MAINTENANCE D'AÉRONEFS",3,3,{"$f":"IF(C366=\"\",\"\",COUNTIF($B$2:B366,\"=\"&B366))","v":365},0,1.0133765707336846E-4,1]
["01-366","01","H2204","ENCADREMENT DES INDUSTRIES DE L'AMEUBLEMENT ET DU BOIS",3,3,{"$f":"IF(C367=\"\",\"\",COUNTIF($B$2:B367,\"=\"&B367))","v":366},0,1.0133765707336846E-4,1]
["01-367","01","H1207","RÉDACTION TECHNIQUE",3,3,{"$f":"IF(C368=\"\",\"\",COUNTIF($B$2:B368,\"=\"&B368))","v":367},0,1.0133765707336846E-4,1]
["01-368","01","F1105","ÉTUDES GÉOLOGIQUES",3,3,{"$f":"IF(C369=\"\",\"\",COUNTIF($B$2:B369,\"=\"&B369))","v":368},0,1.0133765707336846E-4,1]
["01-369","01","H2505","ENCADREMENT D'ÉQUIPE OU D'ATELIER EN MATÉRIAUX SOUPLES",3,3,{"$f":"IF(C370=\"\",\"\",COUNTIF($B$2:B370,\"=\"&B370))","v":369},0,1.0133765707336846E-4,1]
["01-370","01","J1411","PROTHÈSES ET ORTHÈSES",3,3,{"$f":"IF(C371=\"\",\"\",COUNTIF($B$2:B371,\"=\"&B371))","v":370},0,1.0133765707336846E-4,1]
["01-371","01","M1804","ÉTUDES ET DÉVELOPPEMENT DE RÉSEAUX DE TÉLÉCOMS",3,3,{"$f":"IF(C372=\"\",\"\",COUNTIF($B$2:B372,\"=\"&B372))","v":371},0,1.0133765707336846E-4,1]
["01-372","01","M1802","EXPERTISE ET SUPPORT EN SYSTÈMES D'INFORMATION",3,3,{"$f":"IF(C373=\"\",\"\",COUNTIF($B$2:B373,\"=\"&B373))","v":372},0,1.0133765707336846E-4,1]
["01-373","01","F1609","POSE DE REVÊTEMENTS SOUPLES",3,2,{"$f":"IF(C374=\"\",\"\",COUNTIF($B$2:B374,\"=\"&B374))","v":373},0,1.0133765707336846E-4,0.66666666666666663]
["01-374","01","H3102","CONDUITE D'INSTALLATION DE PÂTE À PAPIER",3,2,{"$f":"IF(C375=\"\",\"\",COUNTIF($B$2:B375,\"=\"&B375))","v":374},0,1.0133765707336846E-4,0.66666666666666663]
["01-375","01","H3402","CONDUITE DE TRAITEMENT PAR DÉPÔT DE SURFACE",3,2,{"$f":"IF(C376=\"\",\"\",COUNTIF($B$2:B376,\"=\"&B376))","v":375},0,1.0133765707336846E-4,0.66666666666666663]
["01-376","01","J1503","SOINS INFIRMIERS SPÉCIALISÉS EN ANESTHÉSIE",3,3,{"$f":"IF(C377=\"\",\"\",COUNTIF($B$2:B377,\"=\"&B377))","v":376},0,1.0133765707336846E-4,1]
["01-377","01","A1503","TOILETTAGE DES ANIMAUX",2,2,{"$f":"IF(C378=\"\",\"\",COUNTIF($B$2:B378,\"=\"&B378))","v":377},0,6.7558438048912308E-5,1]
["01-378","01","G1702","PERSONNEL DU HALL",2,".",{"$f":"IF(C379=\"\",\"\",COUNTIF($B$2:B379,\"=\"&B379))","v":378},0,6.7558438048912308E-5,0]
["01-379","01","H2203","CONDUITE D'INSTALLATION DE PRODUCTION DE PANNEAUX BOIS",2,".",{"$f":"IF(C380=\"\",\"\",COUNTIF($B$2:B380,\"=\"&B380))","v":379},0,6.7558438048912308E-5,0]
["01-380","01","G1804","SOMMELLERIE",2,2,{"$f":"IF(C381=\"\",\"\",COUNTIF($B$2:B381,\"=\"&B381))","v":380},0,6.7558438048912308E-5,1]
["01-381","01","N4204","INTERVENTION TECHNIQUE D'EXPLOITATION DES TRANSPORTS ROUTIERS DE PERSONNES",2,2,{"$f":"IF(C382=\"\",\"\",COUNTIF($B$2:B382,\"=\"&B382))","v":381},0,6.7558438048912308E-5,1]
["01-382","01","K1505","PROTECTION DES CONSOMMATEURS ET CONTRÔLE DES ÉCHANGES COMMERCIAUX",2,2,{"$f":"IF(C383=\"\",\"\",COUNTIF($B$2:B383,\"=\"&B383))","v":382},0,6.7558438048912308E-5,1]
["01-383","01","E1308","INTERVENTION TECHNIQUE EN INDUSTRIE GRAPHIQUE",2,2,{"$f":"IF(C384=\"\",\"\",COUNTIF($B$2:B384,\"=\"&B384))","v":383},0,6.7558438048912308E-5,1]
["01-384","01","F1402","EXTRACTION SOLIDE",2,2,{"$f":"IF(C385=\"\",\"\",COUNTIF($B$2:B385,\"=\"&B385))","v":384},{"$f":"ROUND(E385,-1)","v":0},6.7558438048912308E-5,{"$f":"IF(OR(F385=\"\",F385=\".\"),0,F385/E385)","v":1}]
["01-385","01","E1303","ENCADREMENT DES INDUSTRIES GRAPHIQUES",2,2,{"$f":"IF(C386=\"\",\"\",COUNTIF($B$2:B386,\"=\"&B386))","v":385},0,{"$f":"E386/SUMIF(B:B,B386,E:E)","v":6.7558438048912308E-5},1]
[{"$f":"B387&\"-\"&G387","v":"01-386"},"01","E1108","TRADUCTION, INTERPRÉTARIAT",2,2,{"$f":"IF(C387=\"\",\"\",COUNTIF($B$2:B387,\"=\"&B387))","v":386},0,6.7558438048912308E-5,1]
["01-387","01","K1402","CONSEIL EN SANTÉ PUBLIQUE",2,1,{"$f":"IF(C388=\"\",\"\",COUNTIF($B$2:B388,\"=\"&B388))","v":387},0,6.7558438048912308E-5,0.5]
["01-388","01","K2502","MANAGEMENT DE SÉCURITÉ PRIVÉE",2,2,{"$f":"IF(C389=\"\",\"\",COUNTIF($B$2:B389,\"=\"&B389))","v":388},0,6.7558438048912308E-5,1]
["01-389","01","E1401","DÉVELOPPEMENT ET PROMOTION PUBLICITAIRE",2,2,{"$f":"IF(C390=\"\",\"\",COUNTIF($B$2:B390,\"=\"&B390))","v":389},0,6.7558438048912308E-5,1]
["01-390","01","L1508","PRISE DE SON ET SONORISATION",2,1,{"$f":"IF(C391=\"\",\"\",COUNTIF($B$2:B391,\"=\"&B391))","v":390},0,6.7558438048912308E-5,0.5]
["01-391","01","E1204","PROJECTION CINÉMA",2,2,{"$f":"IF(C392=\"\",\"\",COUNTIF($B$2:B392,\"=\"&B392))","v":391},0,6.7558438048912308E-5,1]
["01-392","01","H2413","PRÉPARATION DE FILS, MONTAGE DE MÉTIERS TEXTILES",2,1,{"$f":"IF(C393=\"\",\"\",COUNTIF($B$2:B393,\"=\"&B393))","v":392},0,6.7558438048912308E-5,0.5]
["01-393","01","D1206","RÉPARATION D'ARTICLES EN CUIR ET MATÉRIAUX SOUPLES",2,2,{"$f":"IF(C394=\"\",\"\",COUNTIF($B$2:B394,\"=\"&B394))","v":393},0,6.7558438048912308E-5,1]
["01-394","01","K1401","CONCEPTION ET PILOTAGE DE LA POLITIQUE DES POUVOIRS PUBLICS",1,1,{"$f":"IF(C395=\"\",\"\",COUNTIF($B$2:B395,\"=\"&B395))","v":394},0,3.3779219024456154E-5,1]
["01-395","01","H1501","DIRECTION DE LABORATOIRE D'ANALYSE INDUSTRIELLE",1,".",{"$f":"IF(C396=\"\",\"\",COUNTIF($B$2:B396,\"=\"&B396))","v":395},0,3.3779219024456154E-5,0]
["01-396","01","A1205","SYLVICULTURE",1,1,{"$f":"IF(C397=\"\",\"\",COUNTIF($B$2:B397,\"=\"&B397))","v":396},0,3.3779219024456154E-5,1]
["01-397","01","H2406","CONDUITE DE MACHINE DE TRAITEMENT TEXTILE",1,1,{"$f":"IF(C398=\"\",\"\",COUNTIF($B$2:B398,\"=\"&B398))","v":397},0,3.3779219024456154E-5,1]
["01-398","01","H1505","INTERVENTION TECHNIQUE EN FORMULATION ET ANALYSE SENSORIELLE",1,1,{"$f":"IF(C399=\"\",\"\",COUNTIF($B$2:B399,\"=\"&B399))","v":398},0,3.3779219024456154E-5,1]
["01-399","01","G1102","PROMOTION DU TOURISME LOCAL",1,1,{"$f":"IF(C400=\"\",\"\",COUNTIF($B$2:B400,\"=\"&B400))","v":399},0,3.3779219024456154E-5,1]
["01-400","01","H1205","ÉTUDES - MODÈLES EN INDUSTRIE DES MATÉRIAUX SOUPLES",1,".",{"$f":"IF(C401=\"\",\"\",COUNTIF($B$2:B401,\"=\"&B401))","v":400},0,3.3779219024456154E-5,0]
["01-401","01","G1302","OPTIMISATION DE PRODUITS TOURISTIQUES",1,".",{"$f":"IF(C402=\"\",\"\",COUNTIF($B$2:B402,\"=\"&B402))","v":401},0,3.3779219024456154E-5,0]
["01-402","01","G1201","ACCOMPAGNEMENT DE VOYAGES, D'ACTIVITÉS CULTURELLES OU SPORTIVES",1,1,{"$f":"IF(C403=\"\",\"\",COUNTIF($B$2:B403,\"=\"&B403))","v":402},0,3.3779219024456154E-5,1]
["01-403","01","M1807","EXPLOITATION DE SYSTÈMES DE COMMUNICATION ET DE COMMANDEMENT",1,1,{"$f":"IF(C404=\"\",\"\",COUNTIF($B$2:B404,\"=\"&B404))","v":403},0,3.3779219024456154E-5,1]
["01-404","01","L1203","ART DRAMATIQUE",1,".",{"$f":"IF(C405=\"\",\"\",COUNTIF($B$2:B405,\"=\"&B405))","v":404},0,3.3779219024456154E-5,0]
["01-405","01","N2201","PERSONNEL D'ESCALE AÉROPORTUAIRE",1,1,{"$f":"IF(C406=\"\",\"\",COUNTIF($B$2:B406,\"=\"&B406))","v":405},0,3.3779219024456154E-5,1]
["01-406","01","N2203","EXPLOITATION DES PISTES AÉROPORTUAIRES",1,1,{"$f":"IF(C407=\"\",\"\",COUNTIF($B$2:B407,\"=\"&B407))","v":406},0,3.3779219024456154E-5,1]
["01-407","01","C1302","GESTION BACK ET MIDDLE-OFFICE MARCHÉS FINANCIERS",1,1,{"$f":"IF(C408=\"\",\"\",COUNTIF($B$2:B408,\"=\"&B408))","v":407},0,3.3779219024456154E-5,1]
["01-408","01","L1504","ÉCLAIRAGE SPECTACLE",1,1,{"$f":"IF(C409=\"\",\"\",COUNTIF($B$2:B409,\"=\"&B409))","v":408},0,3.3779219024456154E-5,1]
["01-409","01","K1901","AIDE ET MÉDIATION JUDICIAIRE",1,1,{"$f":"IF(C410=\"\",\"\",COUNTIF($B$2:B410,\"=\"&B410))","v":409},0,3.3779219024456154E-5,1]
["01-410","01","L1503","DÉCOR ET ACCESSOIRES SPECTACLE",1,".",{"$f":"IF(C411=\"\",\"\",COUNTIF($B$2:B411,\"=\"&B411))","v":410},0,3.3779219024456154E-5,0]
["01-411","01","N4202","DIRECTION D'EXPLOITATION DES TRANSPORTS ROUTIERS DE PERSONNES",1,1,{"$f":"IF(C412=\"\",\"\",COUNTIF($B$2:B412,\"=\"&B412))","v":411},0,3.3779219024456154E-5,1]
["01-412","01","L1202","MUSIQUE ET CHANT",1,1,{"$f":"IF(C413=\"\",\"\",COUNTIF($B$2:B413,\"=\"&B413))","v":412},0,3.3779219024456154E-5,1]
["01-413","01","D1201","ACHAT VENTE D'OBJETS D'ART, ANCIENS OU D'OCCASION",1,1,{"$f":"IF(C414=\"\",\"\",COUNTIF($B$2:B414,\"=\"&B414))","v":413},0,3.3779219024456154E-5,1]
["01-414","01","A1413","FERMENTATION DE BOISSONS ALCOOLISÉES",1,1,{"$f":"IF(C415=\"\",\"\",COUNTIF($B$2:B415,\"=\"&B415))","v":414},0,3.3779219024456154E-5,1]
["01-415","01","J1407","ORTHOPTIQUE",1,1,{"$f":"IF(C416=\"\",\"\",COUNTIF($B$2:B416,\"=\"&B416))","v":415},0,3.3779219024456154E-5,1]
["01-416","01","K2101","CONSEIL EN FORMATION",1,".",{"$f":"IF(C417=\"\",\"\",COUNTIF($B$2:B417,\"=\"&B417))","v":416},0,3.3779219024456154E-5,0]
["01-417","01","D1405","CONSEIL EN INFORMATION MÉDICALE",1,1,{"$f":"IF(C418=\"\",\"\",COUNTIF($B$2:B418,\"=\"&B418))","v":417},0,3.3779219024456154E-5,1]
["01-418","01","M1201","ANALYSE ET INGÉNIERIE FINANCIÈRE",1,1,{"$f":"IF(C419=\"\",\"\",COUNTIF($B$2:B419,\"=\"&B419))","v":418},0,3.3779219024456154E-5,1]
["01-419","01","K2402","RECHERCHE EN SCIENCES DE L'UNIVERS, DE LA MATIÈRE ET DU VIVANT",1,1,{"$f":"IF(C420=\"\",\"\",COUNTIF($B$2:B420,\"=\"&B420))","v":419},0,3.3779219024456154E-5,1]
["01-420","01","D1506","MARCHANDISAGE",1,".",{"$f":"IF(C421=\"\",\"\",COUNTIF($B$2:B421,\"=\"&B421))","v":420},0,3.3779219024456154E-5,0]
["01-421","01","D1207","RETOUCHES EN HABILLEMENT",1,1,{"$f":"IF(C422=\"\",\"\",COUNTIF($B$2:B422,\"=\"&B422))","v":421},0,3.3779219024456154E-5,1]
["01-422","01","C1104","DIRECTION D'EXPLOITATION EN ASSURANCES",1,1,{"$f":"IF(C423=\"\",\"\",COUNTIF($B$2:B423,\"=\"&B423))","v":422},0,3.3779219024456154E-5,1]
["01-423","01","L1303","PROMOTION D'ARTISTES ET DE SPECTACLES",1,1,{"$f":"IF(C424=\"\",\"\",COUNTIF($B$2:B424,\"=\"&B424))","v":423},0,3.3779219024456154E-5,1]
["01-424","01","C1201","ACCUEIL ET SERVICES BANCAIRES",1,".",{"$f":"IF(C425=\"\",\"\",COUNTIF($B$2:B425,\"=\"&B425))","v":424},0,3.3779219024456154E-5,0]
["01-425","01","B1601","MÉTALLERIE D'ART",1,1,{"$f":"IF(C426=\"\",\"\",COUNTIF($B$2:B426,\"=\"&B426))","v":425},0,3.3779219024456154E-5,1]
["01-426","01","K2602","CONSEIL EN SERVICES FUNÉRAIRES",1,1,{"$f":"IF(C427=\"\",\"\",COUNTIF($B$2:B427,\"=\"&B427))","v":426},0,3.3779219024456154E-5,1]
["01-427","01","K1704","MANAGEMENT DE LA SÉCURITÉ PUBLIQUE",1,".",{"$f":"IF(C428=\"\",\"\",COUNTIF($B$2:B428,\"=\"&B428))","v":427},0,3.3779219024456154E-5,0]
["01-428","01","K2401","RECHERCHE EN SCIENCES DE L'HOMME ET DE LA SOCIÉTÉ",1,1,{"$f":"IF(C429=\"\",\"\",COUNTIF($B$2:B429,\"=\"&B429))","v":428},0,3.3779219024456154E-5,1]
["01-429","01","G1206","PERSONNEL TECHNIQUE DES JEUX",1,1,{"$f":"IF(C430=\"\",\"\",COUNTIF($B$2:B430,\"=\"&B430))","v":429},0,3.3779219024456154E-5,1]
["03-1","03","F1704","PRÉPARATION DU GROS OEUVRE ET DES TRAVAUX PUBLICS",773,244,{"$f":"IF(C431=\"\",\"\",COUNTIF($B$2:B431,\"=\"&B431))","v":1},770,6.0751336057843448E-2,0.31565329883570503]
["03-2","03","K1302","ASSISTANCE AUPRÈS D'ADULTES",371,146,{"$f":"IF(C432=\"\",\"\",COUNTIF($B$2:B432,\"=\"&B432))","v":2},370,2.9157497642250865E-2,0.39353099730458219]
["03-3","03","G1602","PERSONNEL DE CUISINE",370,216,{"$f":"IF(C433=\"\",\"\",COUNTIF($B$2:B433,\"=\"&B433))","v":3},370,2.907890600440113E-2,0.58378378378378382]
["03-4","03","H2401","ASSEMBLAGE - MONTAGE D'ARTICLES EN CUIRS, PEAUX",342,150,{"$f":"IF(C434=\"\",\"\",COUNTIF($B$2:B434,\"=\"&B434))","v":4},340,2.6878340144608614E-2,0.43859649122807015]
["03-5","03","N4101","CONDUITE DE TRANSPORT DE MARCHANDISES SUR LONGUE DISTANCE",307,87,{"$f":"IF(C435=\"\",\"\",COUNTIF($B$2:B435,\"=\"&B435))","v":5},310,2.4127632819867965E-2,0.28338762214983715]
["03-6","03","K2204","NETTOYAGE DE LOCAUX",306,121,{"$f":"IF(C436=\"\",\"\",COUNTIF($B$2:B436,\"=\"&B436))","v":6},310,2.4049041182018234E-2,0.39542483660130717]
["03-7","03","G1603","PERSONNEL POLYVALENT EN RESTAURATION",300,221,{"$f":"IF(C437=\"\",\"\",COUNTIF($B$2:B437,\"=\"&B437))","v":7},300,2.3577491354919836E-2,0.73666666666666669]
["03-8","03","J1501","SOINS D'HYGIÈNE, DE CONFORT DU PATIENT",270,142,{"$f":"IF(C438=\"\",\"\",COUNTIF($B$2:B438,\"=\"&B438))","v":8},270,2.1219742219427854E-2,0.52592592592592591]
["03-9","03","G1803","SERVICE EN RESTAURATION",266,141,{"$f":"IF(C439=\"\",\"\",COUNTIF($B$2:B439,\"=\"&B439))","v":9},270,2.0905375668028921E-2,0.53007518796992481]
["03-10","03","K1304","SERVICES DOMESTIQUES",241,82,{"$f":"IF(C440=\"\",\"\",COUNTIF($B$2:B440,\"=\"&B440))","v":10},240,1.8940584721785603E-2,0.34024896265560167]
["03-11","03","N1103","MAGASINAGE ET PRÉPARATION DE COMMANDES",228,66,{"$f":"IF(C441=\"\",\"\",COUNTIF($B$2:B441,\"=\"&B441))","v":11},230,1.7918893429739076E-2,0.28947368421052633]
["03-12","03","D1106","VENTE EN ALIMENTATION",215,147,{"$f":"IF(C442=\"\",\"\",COUNTIF($B$2:B442,\"=\"&B442))","v":12},220,1.6897202137692548E-2,0.68372093023255809]
["03-13","03","D1507","MISE EN RAYON LIBRE-SERVICE",190,53,{"$f":"IF(C443=\"\",\"\",COUNTIF($B$2:B443,\"=\"&B443))","v":13},190,1.4932411191449229E-2,0.27894736842105261]
["03-14","03","M1203","COMPTABILITÉ",185,117,{"$f":"IF(C444=\"\",\"\",COUNTIF($B$2:B444,\"=\"&B444))","v":14},190,1.4539453002200565E-2,0.63243243243243241]
["03-15","03","J1506","SOINS INFIRMIERS GÉNÉRALISTES",162,85,{"$f":"IF(C445=\"\",\"\",COUNTIF($B$2:B445,\"=\"&B445))","v":15},160,1.2731845331656711E-2,0.52469135802469136]
["03-16","03","I1604","MÉCANIQUE AUTOMOBILE ET ENTRETIEN DE VÉHICULES",161,102,{"$f":"IF(C446=\"\",\"\",COUNTIF($B$2:B446,\"=\"&B446))","v":16},160,1.2653253693806979E-2,0.63354037267080743]
["03-17","03","F1603","INSTALLATION D'ÉQUIPEMENTS SANITAIRES ET THERMIQUES",158,66,{"$f":"IF(C447=\"\",\"\",COUNTIF($B$2:B447,\"=\"&B447))","v":17},160,1.2417478780257781E-2,0.41772151898734178]
["03-18","03","K1207","INTERVENTION SOCIOÉDUCATIVE",148,109,{"$f":"IF(C448=\"\",\"\",COUNTIF($B$2:B448,\"=\"&B448))","v":18},150,1.1631562401760453E-2,0.73648648648648651]
["03-19","03","F1703","MAÇONNERIE",145,33,{"$f":"IF(C449=\"\",\"\",COUNTIF($B$2:B449,\"=\"&B449))","v":19},{"$f":"ROUND(E449,-1)","v":150},1.1395787488211254E-2,{"$f":"IF(OR(F449=\"\",F449=\".\"),0,F449/E449)","v":0.22758620689655173}]
["03-20","03","K1201","ACTION SOCIALE",142,89,{"$f":"IF(C450=\"\",\"\",COUNTIF($B$2:B450,\"=\"&B450))","v":20},140,{"$f":"E450/SUMIF(B:B,B450,E:E)","v":1.1160012574662056E-2},0.62676056338028174]
[{"$f":"B451&\"-\"&G451","v":"03-21"},"03","M1607","SECRÉTARIAT",138,66,{"$f":"IF(C451=\"\",\"\",COUNTIF($B$2:B451,\"=\"&B451))","v":21},140,1.0845646023263125E-2,0.47826086956521741]
["03-22","03","D1202","COIFFURE",137,115,{"$f":"IF(C452=\"\",\"\",COUNTIF($B$2:B452,\"=\"&B452))","v":22},140,1.0767054385413392E-2,0.83941605839416056]
["03-23","03","J1301","PERSONNEL POLYVALENT DES SERVICES HOSPITALIERS",133,29,{"$f":"IF(C453=\"\",\"\",COUNTIF($B$2:B453,\"=\"&B453))","v":23},130,1.045268783401446E-2,0.21804511278195488]
["03-24","03","I1304","INSTALLATION ET MAINTENANCE D'ÉQUIPEMENTS INDUSTRIELS ET D'EXPLOITATION",133,80,{"$f":"IF(C454=\"\",\"\",COUNTIF($B$2:B454,\"=\"&B454))","v":24},130,1.045268783401446E-2,0.60150375939849621]
["03-25","03","D1401","ASSISTANAT COMMERCIAL",124,79,{"$f":"IF(C455=\"\",\"\",COUNTIF($B$2:B455,\"=\"&B455))","v":25},120,9.7453630933668663E-3,0.63709677419354838]
["03-26","03","H3302","OPÉRATIONS MANUELLES D'ASSEMBLAGE, TRI OU EMBALLAGE",118,12,{"$f":"IF(C456=\"\",\"\",COUNTIF($B$2:B456,\"=\"&B456))","v":26},120,9.2738132662684696E-3,0.10169491525423729]
["03-27","03","I1203","MAINTENANCE DES BÂTIMENTS ET DES LOCAUX",116,36,{"$f":"IF(C457=\"\",\"\",COUNTIF($B$2:B457,\"=\"&B457))","v":27},120,9.1166299905690029E-3,0.31034482758620691]
["03-28","03","H2909","MONTAGE-ASSEMBLAGE MÉCANIQUE",115,10,{"$f":"IF(C458=\"\",\"\",COUNTIF($B$2:B458,\"=\"&B458))","v":28},120,9.0380383527192704E-3,8.6956521739130432E-2]
["03-29","03","D1212","VENTE EN DÉCORATION ET ÉQUIPEMENT DU FOYER",113,79,{"$f":"IF(C459=\"\",\"\",COUNTIF($B$2:B459,\"=\"&B459))","v":29},110,8.8808550770198055E-3,0.69911504424778759]
["03-30","03","G1501","PERSONNEL D'ÉTAGE",111,23,{"$f":"IF(C460=\"\",\"\",COUNTIF($B$2:B460,\"=\"&B460))","v":30},110,8.7236718013203388E-3,0.2072072072072072]
["03-31","03","D1408","TÉLÉCONSEIL ET TÉLÉVENTE",111,22,{"$f":"IF(C461=\"\",\"\",COUNTIF($B$2:B461,\"=\"&B461))","v":31},110,8.7236718013203388E-3,0.1981981981981982]
["03-32","03","A1203","AMÉNAGEMENT ET ENTRETIEN DES ESPACES VERTS",107,41,{"$f":"IF(C462=\"\",\"\",COUNTIF($B$2:B462,\"=\"&B462))","v":32},110,8.4093052499214088E-3,0.38317757009345793]
["03-33","03","N1101","CONDUITE D'ENGINS DE DÉPLACEMENT DES CHARGES",106,19,{"$f":"IF(C463=\"\",\"\",COUNTIF($B$2:B463,\"=\"&B463))","v":33},110,8.3307136120716763E-3,0.17924528301886791]
["03-34","03","H2102","CONDUITE D'ÉQUIPEMENT DE PRODUCTION ALIMENTAIRE",105,26,{"$f":"IF(C464=\"\",\"\",COUNTIF($B$2:B464,\"=\"&B464))","v":34},110,8.2521219742219421E-3,0.24761904761904763]
["03-35","03","N4105","CONDUITE ET LIVRAISON PAR TOURNÉES SUR COURTE DISTANCE",100,19,{"$f":"IF(C465=\"\",\"\",COUNTIF($B$2:B465,\"=\"&B465))","v":35},100,7.8591637849732797E-3,0.19]
["03-36","03","B1802","RÉALISATION D'ARTICLES EN CUIR ET MATÉRIAUX SOUPLES (HORS VÊTEMENT)",96,54,{"$f":"IF(C466=\"\",\"\",COUNTIF($B$2:B466,\"=\"&B466))","v":36},100,7.544797233574348E-3,0.5625]
["03-37","03","N4103","CONDUITE DE TRANSPORT EN COMMUN SUR ROUTE",95,88,{"$f":"IF(C467=\"\",\"\",COUNTIF($B$2:B467,\"=\"&B467))","v":37},100,7.4662055957246147E-3,0.9263157894736842]
["03-38","03","F1602","ÉLECTRICITÉ BÂTIMENT",95,34,{"$f":"IF(C468=\"\",\"\",COUNTIF($B$2:B468,\"=\"&B468))","v":38},100,7.4662055957246147E-3,0.35789473684210527]
["03-39","03","G1203","ANIMATION DE LOISIRS AUPRÈS D'ENFANTS OU D'ADOLESCENTS",91,36,{"$f":"IF(C469=\"\",\"\",COUNTIF($B$2:B469,\"=\"&B469))","v":39},90,7.1518390443256839E-3,0.39560439560439559]
["03-40","03","G1703","RÉCEPTION EN HÔTELLERIE",85,58,{"$f":"IF(C470=\"\",\"\",COUNTIF($B$2:B470,\"=\"&B470))","v":40},90,6.6802892172272872E-3,0.68235294117647061]
["03-41","03","F1610","POSE ET RESTAURATION DE COUVERTURES",85,38,{"$f":"IF(C471=\"\",\"\",COUNTIF($B$2:B471,\"=\"&B471))","v":41},90,6.6802892172272872E-3,0.44705882352941179]
["03-42","03","D1214","VENTE EN HABILLEMENT ET ACCESSOIRES DE LA PERSONNE",85,33,{"$f":"IF(C472=\"\",\"\",COUNTIF($B$2:B472,\"=\"&B472))","v":42},90,6.6802892172272872E-3,0.38823529411764707]
["03-43","03","F1302","CONDUITE D'ENGINS DE TERRASSEMENT ET DE CARRIÈRE",83,37,{"$f":"IF(C473=\"\",\"\",COUNTIF($B$2:B473,\"=\"&B473))","v":43},80,6.5231059415278214E-3,0.44578313253012047]
["03-44","03","D1505","PERSONNEL DE CAISSE",82,34,{"$f":"IF(C474=\"\",\"\",COUNTIF($B$2:B474,\"=\"&B474))","v":44},80,6.4445143036780889E-3,0.41463414634146339]
["03-45","03","M1601","ACCUEIL ET RENSEIGNEMENTS",81,29,{"$f":"IF(C475=\"\",\"\",COUNTIF($B$2:B475,\"=\"&B475))","v":45},80,6.3659226658283555E-3,0.35802469135802467]
["03-46","03","N1105","MANUTENTION MANUELLE DE CHARGES",79,9,{"$f":"IF(C476=\"\",\"\",COUNTIF($B$2:B476,\"=\"&B476))","v":46},80,6.2087393901288906E-3,0.11392405063291139]
["03-47","03","H2903","CONDUITE D'ÉQUIPEMENT D'USINAGE",78,29,{"$f":"IF(C477=\"\",\"\",COUNTIF($B$2:B477,\"=\"&B477))","v":47},80,6.1301477522791572E-3,0.37179487179487181]
["03-48","03","K2503","SÉCURITÉ ET SURVEILLANCE PRIVÉES",76,26,{"$f":"IF(C478=\"\",\"\",COUNTIF($B$2:B478,\"=\"&B478))","v":48},80,5.9729644765796923E-3,0.34210526315789475]
["03-49","03","K2111","FORMATION PROFESSIONNELLE",70,39,{"$f":"IF(C479=\"\",\"\",COUNTIF($B$2:B479,\"=\"&B479))","v":49},70,5.5014146494812956E-3,0.55714285714285716]
["03-50","03","K1104","PSYCHOLOGIE",70,53,{"$f":"IF(C480=\"\",\"\",COUNTIF($B$2:B480,\"=\"&B480))","v":50},70,5.5014146494812956E-3,0.75714285714285712]
["03-51","03","F1604","MONTAGE D'AGENCEMENTS",70,12,{"$f":"IF(C481=\"\",\"\",COUNTIF($B$2:B481,\"=\"&B481))","v":51},70,5.5014146494812956E-3,0.17142857142857143]
["03-52","03","H2913","SOUDAGE MANUEL",70,15,{"$f":"IF(C482=\"\",\"\",COUNTIF($B$2:B482,\"=\"&B482))","v":52},70,5.5014146494812956E-3,0.21428571428571427]
["03-53","03","D1102","BOULANGERIE - VIENNOISERIE",69,57,{"$f":"IF(C483=\"\",\"\",COUNTIF($B$2:B483,\"=\"&B483))","v":53},70,5.4228230116315623E-3,0.82608695652173914]
["03-54","03","H2206","RÉALISATION DE MENUISERIE BOIS ET TONNELLERIE",66,21,{"$f":"IF(C484=\"\",\"\",COUNTIF($B$2:B484,\"=\"&B484))","v":54},70,5.1870480980823639E-3,0.31818181818181818]
["03-55","03","G1605","PLONGE EN RESTAURATION",65,25,{"$f":"IF(C485=\"\",\"\",COUNTIF($B$2:B485,\"=\"&B485))","v":55},70,5.1084564602326315E-3,0.38461538461538464]
["03-56","03","M1602","OPÉRATIONS ADMINISTRATIVES",65,27,{"$f":"IF(C486=\"\",\"\",COUNTIF($B$2:B486,\"=\"&B486))","v":56},70,5.1084564602326315E-3,0.41538461538461541]
["03-57","03","F1607","POSE DE FERMETURES MENUISÉES",63,22,{"$f":"IF(C487=\"\",\"\",COUNTIF($B$2:B487,\"=\"&B487))","v":57},60,4.9512731845331656E-3,0.34920634920634919]
["03-58","03","D1104","PÂTISSERIE, CONFISERIE, CHOCOLATERIE ET GLACERIE",63,50,{"$f":"IF(C488=\"\",\"\",COUNTIF($B$2:B488,\"=\"&B488))","v":58},60,4.9512731845331656E-3,0.79365079365079361]
["03-59","03","K1303","ASSISTANCE AUPRÈS D'ENFANTS",61,44,{"$f":"IF(C489=\"\",\"\",COUNTIF($B$2:B489,\"=\"&B489))","v":59},60,4.7940899088336998E-3,0.72131147540983609]
["03-60","03","G1801","CAFÉ, BAR BRASSERIE",57,33,{"$f":"IF(C490=\"\",\"\",COUNTIF($B$2:B490,\"=\"&B490))","v":60},60,4.479723357434769E-3,0.57894736842105265]
["03-61","03","H3301","CONDUITE D'ÉQUIPEMENT DE CONDITIONNEMENT",54,6,{"$f":"IF(C491=\"\",\"\",COUNTIF($B$2:B491,\"=\"&B491))","v":61},50,4.2439484438855707E-3,0.1111111111111111]
["03-62","03","M1502","DÉVELOPPEMENT DES RESSOURCES HUMAINES",54,44,{"$f":"IF(C492=\"\",\"\",COUNTIF($B$2:B492,\"=\"&B492))","v":62},50,4.2439484438855707E-3,0.81481481481481477]
["03-63","03","D1101","BOUCHERIE",52,30,{"$f":"IF(C493=\"\",\"\",COUNTIF($B$2:B493,\"=\"&B493))","v":63},50,4.0867651681861048E-3,0.57692307692307687]
["03-64","03","H3201","CONDUITE D'ÉQUIPEMENT DE FORMAGE DES PLASTIQUES ET CAOUTCHOUCS",52,1,{"$f":"IF(C494=\"\",\"\",COUNTIF($B$2:B494,\"=\"&B494))","v":64},50,4.0867651681861048E-3,1.9230769230769232E-2]
["03-65","03","K2104","ÉDUCATION ET SURVEILLANCE AU SEIN D'ÉTABLISSEMENTS D'ENSEIGNEMENT",51,41,{"$f":"IF(C495=\"\",\"\",COUNTIF($B$2:B495,\"=\"&B495))","v":65},50,4.0081735303363723E-3,0.80392156862745101]
["03-66","03","K1801","CONSEIL EN EMPLOI ET INSERTION SOCIOPROFESSIONNELLE",49,33,{"$f":"IF(C496=\"\",\"\",COUNTIF($B$2:B496,\"=\"&B496))","v":66},50,3.8509902546369065E-3,0.67346938775510201]
["03-67","03","M1501","ASSISTANAT EN RESSOURCES HUMAINES",49,28,{"$f":"IF(C497=\"\",\"\",COUNTIF($B$2:B497,\"=\"&B497))","v":67},50,3.8509902546369065E-3,0.5714285714285714]
["03-68","03","H2902","CHAUDRONNERIE - TÔLERIE",48,15,{"$f":"IF(C498=\"\",\"\",COUNTIF($B$2:B498,\"=\"&B498))","v":68},50,3.772398616787174E-3,0.3125]
["03-69","03","N1303","INTERVENTION TECHNIQUE D'EXPLOITATION LOGISTIQUE",47,24,{"$f":"IF(C499=\"\",\"\",COUNTIF($B$2:B499,\"=\"&B499))","v":69},50,3.6938069789374411E-3,0.51063829787234039]
["03-70","03","F1606","PEINTURE EN BÂTIMENT",47,12,{"$f":"IF(C500=\"\",\"\",COUNTIF($B$2:B500,\"=\"&B500))","v":70},50,3.6938069789374411E-3,0.25531914893617019]
["03-71","03","I1307","INSTALLATION ET MAINTENANCE TÉLÉCOMS ET COURANTS FAIBLES",46,35,{"$f":"IF(C501=\"\",\"\",COUNTIF($B$2:B501,\"=\"&B501))","v":71},50,3.6152153410877082E-3,0.76086956521739135]
["03-72","03","K1301","ACCOMPAGNEMENT MÉDICOSOCIAL",46,22,{"$f":"IF(C502=\"\",\"\",COUNTIF($B$2:B502,\"=\"&B502))","v":72},50,3.6152153410877082E-3,0.47826086956521741]
["03-73","03","D1407","RELATION TECHNICO-COMMERCIALE",45,42,{"$f":"IF(C503=\"\",\"\",COUNTIF($B$2:B503,\"=\"&B503))","v":73},50,3.5366237032379757E-3,0.93333333333333335]
["03-74","03","D1209","VENTE DE VÉGÉTAUX",44,32,{"$f":"IF(C504=\"\",\"\",COUNTIF($B$2:B504,\"=\"&B504))","v":74},40,3.4580320653882428E-3,0.72727272727272729]
["03-75","03","M1810","PRODUCTION ET EXPLOITATION DE SYSTÈMES D'INFORMATION",41,37,{"$f":"IF(C505=\"\",\"\",COUNTIF($B$2:B505,\"=\"&B505))","v":75},40,3.2222571518390444E-3,0.90243902439024393]
["03-76","03","M1609","SECRÉTARIAT ET ASSISTANAT MÉDICAL OU MÉDICO-SOCIAL",40,13,{"$f":"IF(C506=\"\",\"\",COUNTIF($B$2:B506,\"=\"&B506))","v":76},40,3.1436655139893115E-3,0.32500000000000001]
["03-77","03","G1204","ÉDUCATION EN ACTIVITÉS SPORTIVES",40,18,{"$f":"IF(C507=\"\",\"\",COUNTIF($B$2:B507,\"=\"&B507))","v":77},40,3.1436655139893115E-3,0.45]
["03-78","03","K1403","MANAGEMENT DE STRUCTURE DE SANTÉ, SOCIALE OU PÉNITENTIAIRE",39,28,{"$f":"IF(C508=\"\",\"\",COUNTIF($B$2:B508,\"=\"&B508))","v":78},40,3.0650738761395786E-3,0.71794871794871795]
["03-79","03","I1401","MAINTENANCE INFORMATIQUE ET BUREAUTIQUE",39,33,{"$f":"IF(C509=\"\",\"\",COUNTIF($B$2:B509,\"=\"&B509))","v":79},40,3.0650738761395786E-3,0.84615384615384615]
["03-80","03","D1208","SOINS ESTHÉTIQUES ET CORPORELS",39,18,{"$f":"IF(C510=\"\",\"\",COUNTIF($B$2:B510,\"=\"&B510))","v":80},40,3.0650738761395786E-3,0.46153846153846156]
["03-81","03","D1403","RELATION COMMERCIALE AUPRÈS DE PARTICULIERS",39,33,{"$f":"IF(C511=\"\",\"\",COUNTIF($B$2:B511,\"=\"&B511))","v":81},40,3.0650738761395786E-3,0.84615384615384615]
["03-82","03","F1106","INGÉNIERIE ET ÉTUDES DU BTP",37,25,{"$f":"IF(C512=\"\",\"\",COUNTIF($B$2:B512,\"=\"&B512))","v":82},40,2.9078906004401132E-3,0.67567567567567566]
["03-83","03","K1206","INTERVENTION SOCIOCULTURELLE",37,28,{"$f":"IF(C513=\"\",\"\",COUNTIF($B$2:B513,\"=\"&B513))","v":83},{"$f":"ROUND(E513,-1)","v":40},2.9078906004401132E-3,{"$f":"IF(OR(F513=\"\",F513=\".\"),0,F513/E513)","v":0.7567567567567568}]
["03-84","03","H1502","MANAGEMENT ET INGÉNIERIE QUALITÉ INDUSTRIELLE",35,17,{"$f":"IF(C514=\"\",\"\",COUNTIF($B$2:B514,\"=\"&B514))","v":84},40,{"$f":"E514/SUMIF(B:B,B514,E:E)","v":2.7507073247406478E-3},0.48571428571428571]
[{"$f":"B515&\"-\"&G515","v":"03-85"},"03","A1416","POLYCULTURE, ÉLEVAGE",33,13,{"$f":"IF(C515=\"\",\"\",COUNTIF($B$2:B515,\"=\"&B515))","v":85},30,2.593524049041182E-3,0.39393939393939392]
["03-86","03","I1302","INSTALLATION ET MAINTENANCE D'AUTOMATISMES",32,18,{"$f":"IF(C516=\"\",\"\",COUNTIF($B$2:B516,\"=\"&B516))","v":86},30,2.5149324111914491E-3,0.5625]
["03-87","03","K1203","ENCADREMENT TECHNIQUE EN INSERTION PROFESSIONNELLE",31,22,{"$f":"IF(C517=\"\",\"\",COUNTIF($B$2:B517,\"=\"&B517))","v":87},30,2.4363407733417166E-3,0.70967741935483875]
["03-88","03","I1202","ENTRETIEN ET SURVEILLANCE DU TRACÉ ROUTIER",30,25,{"$f":"IF(C518=\"\",\"\",COUNTIF($B$2:B518,\"=\"&B518))","v":88},30,2.3577491354919836E-3,0.83333333333333337]
["03-89","03","G1401","ASSISTANCE DE DIRECTION D'HÔTEL-RESTAURANT",30,27,{"$f":"IF(C519=\"\",\"\",COUNTIF($B$2:B519,\"=\"&B519))","v":89},30,2.3577491354919836E-3,0.9]
["03-90","03","D1211","VENTE EN ARTICLES DE SPORT ET LOISIRS",30,9,{"$f":"IF(C520=\"\",\"\",COUNTIF($B$2:B520,\"=\"&B520))","v":90},30,2.3577491354919836E-3,0.3]
["03-91","03","J1307","PRÉPARATION EN PHARMACIE",30,12,{"$f":"IF(C521=\"\",\"\",COUNTIF($B$2:B521,\"=\"&B521))","v":91},30,2.3577491354919836E-3,0.4]
["03-92","03","M1608","SECRÉTARIAT COMPTABLE",30,21,{"$f":"IF(C522=\"\",\"\",COUNTIF($B$2:B522,\"=\"&B522))","v":92},30,2.3577491354919836E-3,0.7]
["03-93","03","M1805","ÉTUDES ET DÉVELOPPEMENT INFORMATIQUE",29,26,{"$f":"IF(C523=\"\",\"\",COUNTIF($B$2:B523,\"=\"&B523))","v":93},30,2.2791574976422507E-3,0.89655172413793105]
["03-94","03","H2101","ABATTAGE ET DÉCOUPE DES VIANDES",29,5,{"$f":"IF(C524=\"\",\"\",COUNTIF($B$2:B524,\"=\"&B524))","v":94},30,2.2791574976422507E-3,0.17241379310344829]
["03-95","03","J1505","SOINS INFIRMIERS SPÉCIALISÉS EN PRÉVENTION",28,17,{"$f":"IF(C525=\"\",\"\",COUNTIF($B$2:B525,\"=\"&B525))","v":95},30,2.2005658597925182E-3,0.6071428571428571]
["03-96","03","H2906","CONDUITE D'INSTALLATION AUTOMATISÉE OU ROBOTISÉE DE FABRICATION MÉCANIQUE",27,11,{"$f":"IF(C526=\"\",\"\",COUNTIF($B$2:B526,\"=\"&B526))","v":96},30,2.1219742219427853E-3,0.40740740740740738]
["03-97","03","F1701","CONSTRUCTION EN BÉTON",27,10,{"$f":"IF(C527=\"\",\"\",COUNTIF($B$2:B527,\"=\"&B527))","v":97},30,2.1219742219427853E-3,0.37037037037037035]
["03-98","03","A1414","HORTICULTURE ET MARAÎCHAGE",27,4,{"$f":"IF(C528=\"\",\"\",COUNTIF($B$2:B528,\"=\"&B528))","v":98},30,2.1219742219427853E-3,0.14814814814814814]
["03-99","03","K1305","INTERVENTION SOCIALE ET FAMILIALE",27,16,{"$f":"IF(C529=\"\",\"\",COUNTIF($B$2:B529,\"=\"&B529))","v":99},30,2.1219742219427853E-3,0.59259259259259256]
["03-100","03","J1410","PROTHÈSES DENTAIRES",26,25,{"$f":"IF(C530=\"\",\"\",COUNTIF($B$2:B530,\"=\"&B530))","v":100},30,2.0433825840930524E-3,0.96153846153846156]
["03-101","03","J1202","PHARMACIE",25,23,{"$f":"IF(C531=\"\",\"\",COUNTIF($B$2:B531,\"=\"&B531))","v":101},30,1.9647909462433199E-3,0.92]
["03-102","03","H2502","MANAGEMENT ET INGÉNIERIE DE PRODUCTION",25,21,{"$f":"IF(C532=\"\",\"\",COUNTIF($B$2:B532,\"=\"&B532))","v":102},30,1.9647909462433199E-3,0.84]
["03-103","03","F1611","RÉALISATION ET RESTAURATION DE FAÇADES",25,7,{"$f":"IF(C533=\"\",\"\",COUNTIF($B$2:B533,\"=\"&B533))","v":103},30,1.9647909462433199E-3,0.28000000000000003]
["03-104","03","H2402","ASSEMBLAGE - MONTAGE DE VÊTEMENTS ET PRODUITS TEXTILES",24,14,{"$f":"IF(C534=\"\",\"\",COUNTIF($B$2:B534,\"=\"&B534))","v":104},20,1.886199308393587E-3,0.58333333333333337]
["03-105","03","F1702","CONSTRUCTION DE ROUTES ET VOIES",24,13,{"$f":"IF(C535=\"\",\"\",COUNTIF($B$2:B535,\"=\"&B535))","v":105},20,1.886199308393587E-3,0.54166666666666663]
["03-106","03","K2107","ENSEIGNEMENT GÉNÉRAL DU SECOND DEGRÉ",23,16,{"$f":"IF(C536=\"\",\"\",COUNTIF($B$2:B536,\"=\"&B536))","v":106},20,1.8076076705438541E-3,0.69565217391304346]
["03-107","03","I1309","MAINTENANCE ÉLECTRIQUE",23,4,{"$f":"IF(C537=\"\",\"\",COUNTIF($B$2:B537,\"=\"&B537))","v":107},20,1.8076076705438541E-3,0.17391304347826086]
["03-108","03","K2201","BLANCHISSERIE INDUSTRIELLE",23,6,{"$f":"IF(C538=\"\",\"\",COUNTIF($B$2:B538,\"=\"&B538))","v":108},20,1.8076076705438541E-3,0.2608695652173913]
["03-109","03","I1606","RÉPARATION DE CARROSSERIE",23,18,{"$f":"IF(C539=\"\",\"\",COUNTIF($B$2:B539,\"=\"&B539))","v":109},20,1.8076076705438541E-3,0.78260869565217395]
["03-110","03","H2602","CÂBLAGE ÉLECTRIQUE ET ÉLECTROMÉCANIQUE",23,4,{"$f":"IF(C540=\"\",\"\",COUNTIF($B$2:B540,\"=\"&B540))","v":110},20,1.8076076705438541E-3,0.17391304347826086]
["03-111","03","G1202","ANIMATION D'ACTIVITÉS CULTURELLES OU LUDIQUES",23,16,{"$f":"IF(C541=\"\",\"\",COUNTIF($B$2:B541,\"=\"&B541))","v":111},20,1.8076076705438541E-3,0.69565217391304346]
["03-112","03","J1304","AIDE EN PUÉRICULTURE",23,12,{"$f":"IF(C542=\"\",\"\",COUNTIF($B$2:B542,\"=\"&B542))","v":112},20,1.8076076705438541E-3,0.52173913043478259]
["03-113","03","M1603","DISTRIBUTION DE DOCUMENTS",23,".",{"$f":"IF(C543=\"\",\"\",COUNTIF($B$2:B543,\"=\"&B543))","v":113},20,1.8076076705438541E-3,0]
["03-114","03","M1604","ASSISTANAT DE DIRECTION",23,15,{"$f":"IF(C544=\"\",\"\",COUNTIF($B$2:B544,\"=\"&B544))","v":114},20,1.8076076705438541E-3,0.65217391304347827]
["03-115","03","I1306","INSTALLATION ET MAINTENANCE EN FROID, CONDITIONNEMENT D'AIR",22,13,{"$f":"IF(C545=\"\",\"\",COUNTIF($B$2:B545,\"=\"&B545))","v":115},20,1.7290160326941214E-3,0.59090909090909094]
["03-116","03","H2907","CONDUITE D'INSTALLATION DE PRODUCTION DES MÉTAUX",22,4,{"$f":"IF(C546=\"\",\"\",COUNTIF($B$2:B546,\"=\"&B546))","v":116},20,1.7290160326941214E-3,0.18181818181818182]
["03-117","03","H1506","INTERVENTION TECHNIQUE QUALITÉ EN MÉCANIQUE ET TRAVAIL DES MÉTAUX",22,6,{"$f":"IF(C547=\"\",\"\",COUNTIF($B$2:B547,\"=\"&B547))","v":117},20,1.7290160326941214E-3,0.27272727272727271]
["03-118","03","F1201","CONDUITE DE TRAVAUX DU BTP ET DE TRAVAUX PAYSAGERS",22,20,{"$f":"IF(C548=\"\",\"\",COUNTIF($B$2:B548,\"=\"&B548))","v":118},20,1.7290160326941214E-3,0.90909090909090906]
["03-119","03","H1404","INTERVENTION TECHNIQUE EN MÉTHODES ET INDUSTRIALISATION",21,12,{"$f":"IF(C549=\"\",\"\",COUNTIF($B$2:B549,\"=\"&B549))","v":119},20,1.6504243948443885E-3,0.5714285714285714]
["03-120","03","H1203","CONCEPTION ET DESSIN PRODUITS MÉCANIQUES",21,15,{"$f":"IF(C550=\"\",\"\",COUNTIF($B$2:B550,\"=\"&B550))","v":120},20,1.6504243948443885E-3,0.7142857142857143]
["03-121","03","A1302","CONTRÔLE ET DIAGNOSTIC TECHNIQUE EN AGRICULTURE",21,4,{"$f":"IF(C551=\"\",\"\",COUNTIF($B$2:B551,\"=\"&B551))","v":121},20,1.6504243948443885E-3,0.19047619047619047]
["03-122","03","A1402","AIDE AGRICOLE DE PRODUCTION LÉGUMIÈRE OU VÉGÉTALE",21,9,{"$f":"IF(C552=\"\",\"\",COUNTIF($B$2:B552,\"=\"&B552))","v":122},20,1.6504243948443885E-3,0.42857142857142855]
["03-123","03","G1601","MANAGEMENT DU PERSONNEL DE CUISINE",21,16,{"$f":"IF(C553=\"\",\"\",COUNTIF($B$2:B553,\"=\"&B553))","v":123},20,1.6504243948443885E-3,0.76190476190476186]
["03-124","03","J1305","CONDUITE DE VÉHICULES SANITAIRES",20,13,{"$f":"IF(C554=\"\",\"\",COUNTIF($B$2:B554,\"=\"&B554))","v":124},20,1.5718327569946558E-3,0.65]
["03-125","03","D1301","MANAGEMENT DE MAGASIN DE DÉTAIL",20,15,{"$f":"IF(C555=\"\",\"\",COUNTIF($B$2:B555,\"=\"&B555))","v":125},20,1.5718327569946558E-3,0.75]
["03-126","03","K1802","DÉVELOPPEMENT LOCAL",20,16,{"$f":"IF(C556=\"\",\"\",COUNTIF($B$2:B556,\"=\"&B556))","v":126},20,1.5718327569946558E-3,0.8]
["03-127","03","K2301","DISTRIBUTION ET ASSAINISSEMENT D'EAU",20,11,{"$f":"IF(C557=\"\",\"\",COUNTIF($B$2:B557,\"=\"&B557))","v":127},20,1.5718327569946558E-3,0.55000000000000004]
["03-128","03","K2110","FORMATION EN CONDUITE DE VÉHICULES",19,16,{"$f":"IF(C558=\"\",\"\",COUNTIF($B$2:B558,\"=\"&B558))","v":128},20,1.4932411191449231E-3,0.84210526315789469]
["03-129","03","N1104","MANOEUVRE ET CONDUITE D'ENGINS LOURDS DE MANUTENTION",19,4,{"$f":"IF(C559=\"\",\"\",COUNTIF($B$2:B559,\"=\"&B559))","v":129},20,1.4932411191449231E-3,0.21052631578947367]
["03-130","03","F1605","MONTAGE DE RÉSEAUX ÉLECTRIQUES ET TÉLÉCOMS",19,8,{"$f":"IF(C560=\"\",\"\",COUNTIF($B$2:B560,\"=\"&B560))","v":130},20,1.4932411191449231E-3,0.42105263157894735]
["03-131","03","D1203","HYDROTHÉRAPIE",19,".",{"$f":"IF(C561=\"\",\"\",COUNTIF($B$2:B561,\"=\"&B561))","v":131},20,1.4932411191449231E-3,0]
["03-132","03","H3404","PEINTURE INDUSTRIELLE",18,6,{"$f":"IF(C562=\"\",\"\",COUNTIF($B$2:B562,\"=\"&B562))","v":132},20,1.4146494812951901E-3,0.33333333333333331]
["03-133","03","H3303","PRÉPARATION DE MATIÈRES ET PRODUITS INDUSTRIELS (BROYAGE, MÉLANGE, ...)",18,16,{"$f":"IF(C563=\"\",\"\",COUNTIF($B$2:B563,\"=\"&B563))","v":133},20,1.4146494812951901E-3,0.88888888888888884]
["03-134","03","H3401","CONDUITE DE TRAITEMENT D'ABRASION DE SURFACE",18,2,{"$f":"IF(C564=\"\",\"\",COUNTIF($B$2:B564,\"=\"&B564))","v":134},20,1.4146494812951901E-3,0.1111111111111111]
["03-135","03","I1603","MAINTENANCE D'ENGINS DE CHANTIER, LEVAGE, MANUTENTION ET DE MACHINES AGRICOLES",18,10,{"$f":"IF(C565=\"\",\"\",COUNTIF($B$2:B565,\"=\"&B565))","v":135},20,1.4146494812951901E-3,0.55555555555555558]
["03-136","03","J1502","COORDINATION DE SERVICES MÉDICAUX OU PARAMÉDICAUX",18,11,{"$f":"IF(C566=\"\",\"\",COUNTIF($B$2:B566,\"=\"&B566))","v":136},20,1.4146494812951901E-3,0.61111111111111116]
["03-137","03","N4104","COURSES ET LIVRAISONS EXPRESS",18,5,{"$f":"IF(C567=\"\",\"\",COUNTIF($B$2:B567,\"=\"&B567))","v":137},20,1.4146494812951901E-3,0.27777777777777779]
["03-138","03","F1502","MONTAGE DE STRUCTURES MÉTALLIQUES",18,10,{"$f":"IF(C568=\"\",\"\",COUNTIF($B$2:B568,\"=\"&B568))","v":138},20,1.4146494812951901E-3,0.55555555555555558]
["03-139","03","E1103","COMMUNICATION",18,16,{"$f":"IF(C569=\"\",\"\",COUNTIF($B$2:B569,\"=\"&B569))","v":139},20,1.4146494812951901E-3,0.88888888888888884]
["03-140","03","H1210","INTERVENTION TECHNIQUE EN ÉTUDES, RECHERCHE ET DÉVELOPPEMENT",18,9,{"$f":"IF(C570=\"\",\"\",COUNTIF($B$2:B570,\"=\"&B570))","v":140},20,1.4146494812951901E-3,0.5]
["03-141","03","N4102","CONDUITE DE TRANSPORT DE PARTICULIERS",18,10,{"$f":"IF(C571=\"\",\"\",COUNTIF($B$2:B571,\"=\"&B571))","v":141},20,1.4146494812951901E-3,0.55555555555555558]
["03-142","03","H1503","INTERVENTION TECHNIQUE EN LABORATOIRE D'ANALYSE INDUSTRIELLE",17,6,{"$f":"IF(C572=\"\",\"\",COUNTIF($B$2:B572,\"=\"&B572))","v":142},20,1.3360578434454574E-3,0.35294117647058826]
["03-143","03","D1402","RELATION COMMERCIALE GRANDS COMPTES ET ENTREPRISES",17,12,{"$f":"IF(C573=\"\",\"\",COUNTIF($B$2:B573,\"=\"&B573))","v":143},20,1.3360578434454574E-3,0.70588235294117652]
["03-144","03","G1802","MANAGEMENT DU SERVICE EN RESTAURATION",17,12,{"$f":"IF(C574=\"\",\"\",COUNTIF($B$2:B574,\"=\"&B574))","v":144},20,1.3360578434454574E-3,0.70588235294117652]
["03-145","03","H3202","RÉGLAGE D'ÉQUIPEMENT DE FORMAGE DES PLASTIQUES ET CAOUTCHOUCS",17,13,{"$f":"IF(C575=\"\",\"\",COUNTIF($B$2:B575,\"=\"&B575))","v":145},20,1.3360578434454574E-3,0.76470588235294112]
["03-146","03","H2901","AJUSTEMENT ET MONTAGE DE FABRICATION",17,3,{"$f":"IF(C576=\"\",\"\",COUNTIF($B$2:B576,\"=\"&B576))","v":146},20,1.3360578434454574E-3,0.17647058823529413]
["03-147","03","K2304","REVALORISATION DE PRODUITS INDUSTRIELS",16,".",{"$f":"IF(C577=\"\",\"\",COUNTIF($B$2:B577,\"=\"&B577))","v":147},{"$f":"ROUND(E577,-1)","v":20},1.2574662055957245E-3,{"$f":"IF(OR(F577=\"\",F577=\".\"),0,F577/E577)","v":0}]
["03-148","03","I1607","RÉPARATION DE CYCLES, MOTOCYCLES ET MOTOCULTEURS DE LOISIRS",16,14,{"$f":"IF(C578=\"\",\"\",COUNTIF($B$2:B578,\"=\"&B578))","v":148},20,{"$f":"E578/SUMIF(B:B,B578,E:E)","v":1.2574662055957245E-3},0.875]
[{"$f":"B579&\"-\"&G579","v":"03-149"},"03","G1502","PERSONNEL POLYVALENT D'HÔTELLERIE",16,5,{"$f":"IF(C579=\"\",\"\",COUNTIF($B$2:B579,\"=\"&B579))","v":149},20,1.2574662055957245E-3,0.3125]
["03-150","03","K1205","INFORMATION SOCIALE",16,11,{"$f":"IF(C580=\"\",\"\",COUNTIF($B$2:B580,\"=\"&B580))","v":150},20,1.2574662055957245E-3,0.6875]
["03-151","03","C1502","GESTION LOCATIVE IMMOBILIÈRE",16,11,{"$f":"IF(C581=\"\",\"\",COUNTIF($B$2:B581,\"=\"&B581))","v":151},20,1.2574662055957245E-3,0.6875]
["03-152","03","I1310","MAINTENANCE MÉCANIQUE INDUSTRIELLE",16,".",{"$f":"IF(C582=\"\",\"\",COUNTIF($B$2:B582,\"=\"&B582))","v":152},20,1.2574662055957245E-3,0]
["03-153","03","M1205","DIRECTION ADMINISTRATIVE ET FINANCIÈRE",16,13,{"$f":"IF(C583=\"\",\"\",COUNTIF($B$2:B583,\"=\"&B583))","v":153},20,1.2574662055957245E-3,0.8125]
["03-154","03","M1605","ASSISTANAT TECHNIQUE ET ADMINISTRATIF",16,11,{"$f":"IF(C584=\"\",\"\",COUNTIF($B$2:B584,\"=\"&B584))","v":154},20,1.2574662055957245E-3,0.6875]
["03-155","03","K2501","GARDIENNAGE DE LOCAUX",16,11,{"$f":"IF(C585=\"\",\"\",COUNTIF($B$2:B585,\"=\"&B585))","v":155},20,1.2574662055957245E-3,0.6875]
["03-156","03","H2205","PREMIÈRE TRANSFORMATION DE BOIS D'OEUVRE",15,11,{"$f":"IF(C586=\"\",\"\",COUNTIF($B$2:B586,\"=\"&B586))","v":156},20,1.1788745677459918E-3,0.73333333333333328]
["03-157","03","A1407","ÉLEVAGE BOVIN OU ÉQUIN",15,12,{"$f":"IF(C587=\"\",\"\",COUNTIF($B$2:B587,\"=\"&B587))","v":157},20,1.1788745677459918E-3,0.8]
["03-158","03","K1202","ÉDUCATION DE JEUNES ENFANTS",15,15,{"$f":"IF(C588=\"\",\"\",COUNTIF($B$2:B588,\"=\"&B588))","v":158},20,1.1788745677459918E-3,1]
["03-159","03","B1803","RÉALISATION DE VÊTEMENTS SUR MESURE OU EN PETITE SÉRIE",15,11,{"$f":"IF(C589=\"\",\"\",COUNTIF($B$2:B589,\"=\"&B589))","v":159},20,1.1788745677459918E-3,0.73333333333333328]
["03-160","03","C1504","TRANSACTION IMMOBILIÈRE",15,13,{"$f":"IF(C590=\"\",\"\",COUNTIF($B$2:B590,\"=\"&B590))","v":160},20,1.1788745677459918E-3,0.8666666666666667]
["03-161","03","G1604","FABRICATION DE CRÊPES OU PIZZAS",15,8,{"$f":"IF(C591=\"\",\"\",COUNTIF($B$2:B591,\"=\"&B591))","v":161},20,1.1788745677459918E-3,0.53333333333333333]
["03-162","03","D1103","CHARCUTERIE - TRAITEUR",15,4,{"$f":"IF(C592=\"\",\"\",COUNTIF($B$2:B592,\"=\"&B592))","v":162},20,1.1788745677459918E-3,0.26666666666666666]
["03-163","03","H2905","CONDUITE D'ÉQUIPEMENT DE FORMAGE ET DÉCOUPAGE DES MATÉRIAUX",14,5,{"$f":"IF(C593=\"\",\"\",COUNTIF($B$2:B593,\"=\"&B593))","v":163},10,1.1002829298962591E-3,0.35714285714285715]
["03-164","03","H2911","RÉALISATION DE STRUCTURES MÉTALLIQUES",14,3,{"$f":"IF(C594=\"\",\"\",COUNTIF($B$2:B594,\"=\"&B594))","v":164},10,1.1002829298962591E-3,0.21428571428571427]
["03-165","03","K1102","AIDE AUX BÉNÉFICIAIRES D'UNE MESURE DE PROTECTION JURIDIQUE",14,6,{"$f":"IF(C595=\"\",\"\",COUNTIF($B$2:B595,\"=\"&B595))","v":165},10,1.1002829298962591E-3,0.42857142857142855]
["03-166","03","A1408","ÉLEVAGE D'ANIMAUX SAUVAGES OU DE COMPAGNIE",14,".",{"$f":"IF(C596=\"\",\"\",COUNTIF($B$2:B596,\"=\"&B596))","v":166},10,1.1002829298962591E-3,0]
["03-167","03","M1202","AUDIT ET CONTRÔLE COMPTABLES ET FINANCIERS",14,14,{"$f":"IF(C597=\"\",\"\",COUNTIF($B$2:B597,\"=\"&B597))","v":167},10,1.1002829298962591E-3,1]
["03-168","03","I1308","MAINTENANCE D'INSTALLATION DE CHAUFFAGE",13,9,{"$f":"IF(C598=\"\",\"\",COUNTIF($B$2:B598,\"=\"&B598))","v":168},10,1.0216912920465262E-3,0.69230769230769229]
["03-169","03","J1303","ASSISTANCE MÉDICO-TECHNIQUE",13,9,{"$f":"IF(C599=\"\",\"\",COUNTIF($B$2:B599,\"=\"&B599))","v":169},10,1.0216912920465262E-3,0.69230769230769229]
["03-170","03","F1103","CONTRÔLE ET DIAGNOSTIC TECHNIQUE DU BÂTIMENT",13,9,{"$f":"IF(C600=\"\",\"\",COUNTIF($B$2:B600,\"=\"&B600))","v":170},10,1.0216912920465262E-3,0.69230769230769229]
["03-171","03","D1213","VENTE EN GROS DE MATÉRIEL ET ÉQUIPEMENT",13,3,{"$f":"IF(C601=\"\",\"\",COUNTIF($B$2:B601,\"=\"&B601))","v":171},10,1.0216912920465262E-3,0.23076923076923078]
["03-172","03","M1803","DIRECTION DES SYSTÈMES D'INFORMATION",13,11,{"$f":"IF(C602=\"\",\"\",COUNTIF($B$2:B602,\"=\"&B602))","v":172},10,1.0216912920465262E-3,0.84615384615384615]
["03-173","03","M1707","STRATÉGIE COMMERCIALE",13,9,{"$f":"IF(C603=\"\",\"\",COUNTIF($B$2:B603,\"=\"&B603))","v":173},10,1.0216912920465262E-3,0.69230769230769229]
["03-174","03","I1305","INSTALLATION ET MAINTENANCE ÉLECTRONIQUE",12,7,{"$f":"IF(C604=\"\",\"\",COUNTIF($B$2:B604,\"=\"&B604))","v":174},10,9.430996541967935E-4,0.58333333333333337]
["03-175","03","F1608","POSE DE REVÊTEMENTS RIGIDES",12,3,{"$f":"IF(C605=\"\",\"\",COUNTIF($B$2:B605,\"=\"&B605))","v":175},10,9.430996541967935E-4,0.25]
["03-176","03","F1104","DESSIN BTP ET PAYSAGE",12,4,{"$f":"IF(C606=\"\",\"\",COUNTIF($B$2:B606,\"=\"&B606))","v":176},10,9.430996541967935E-4,0.33333333333333331]
["03-177","03","H1403","INTERVENTION TECHNIQUE EN GESTION INDUSTRIELLE ET LOGISTIQUE",12,5,{"$f":"IF(C607=\"\",\"\",COUNTIF($B$2:B607,\"=\"&B607))","v":177},10,9.430996541967935E-4,0.41666666666666669]
["03-178","03","F1202","DIRECTION DE CHANTIER DU BTP",12,8,{"$f":"IF(C608=\"\",\"\",COUNTIF($B$2:B608,\"=\"&B608))","v":178},10,9.430996541967935E-4,0.66666666666666663]
["03-179","03","I1103","SUPERVISION D'ENTRETIEN ET GESTION DE VÉHICULES",11,11,{"$f":"IF(C609=\"\",\"\",COUNTIF($B$2:B609,\"=\"&B609))","v":179},10,8.6450801634706069E-4,1]
["03-180","03","N4203","INTERVENTION TECHNIQUE D'EXPLOITATION DES TRANSPORTS ROUTIERS DE MARCHANDISES",11,11,{"$f":"IF(C610=\"\",\"\",COUNTIF($B$2:B610,\"=\"&B610))","v":180},10,8.6450801634706069E-4,1]
["03-181","03","J1306","IMAGERIE MÉDICALE",11,8,{"$f":"IF(C611=\"\",\"\",COUNTIF($B$2:B611,\"=\"&B611))","v":181},10,8.6450801634706069E-4,0.72727272727272729]
["03-182","03","H1206","MANAGEMENT ET INGÉNIERIE ÉTUDES, RECHERCHE ET DÉVELOPPEMENT INDUSTRIEL",11,9,{"$f":"IF(C612=\"\",\"\",COUNTIF($B$2:B612,\"=\"&B612))","v":182},10,8.6450801634706069E-4,0.81818181818181823]
["03-183","03","H1209","INTERVENTION TECHNIQUE EN ÉTUDES ET DÉVELOPPEMENT ÉLECTRONIQUE",11,8,{"$f":"IF(C613=\"\",\"\",COUNTIF($B$2:B613,\"=\"&B613))","v":183},10,8.6450801634706069E-4,0.72727272727272729]
["03-184","03","M1302","DIRECTION DE PETITE OU MOYENNE ENTREPRISE",11,9,{"$f":"IF(C614=\"\",\"\",COUNTIF($B$2:B614,\"=\"&B614))","v":184},10,8.6450801634706069E-4,0.81818181818181823]
["03-185","03","K1404","MISE EN OEUVRE ET PILOTAGE DE LA POLITIQUE DES POUVOIRS PUBLICS",11,8,{"$f":"IF(C615=\"\",\"\",COUNTIF($B$2:B615,\"=\"&B615))","v":185},10,8.6450801634706069E-4,0.72727272727272729]
["03-186","03","I1102","MANAGEMENT ET INGÉNIERIE DE MAINTENANCE INDUSTRIELLE",10,10,{"$f":"IF(C616=\"\",\"\",COUNTIF($B$2:B616,\"=\"&B616))","v":186},10,7.8591637849732788E-4,1]
["03-187","03","H2504","ENCADREMENT D'ÉQUIPE EN INDUSTRIE DE TRANSFORMATION",10,8,{"$f":"IF(C617=\"\",\"\",COUNTIF($B$2:B617,\"=\"&B617))","v":187},10,7.8591637849732788E-4,0.8]
["03-188","03","M1801","ADMINISTRATION DE SYSTÈMES D'INFORMATION",10,8,{"$f":"IF(C618=\"\",\"\",COUNTIF($B$2:B618,\"=\"&B618))","v":188},10,7.8591637849732788E-4,0.8]
["03-189","03","F1612","TAILLE ET DÉCORATION DE PIERRES",10,9,{"$f":"IF(C619=\"\",\"\",COUNTIF($B$2:B619,\"=\"&B619))","v":189},10,7.8591637849732788E-4,0.9]
["03-190","03","A1303","INGÉNIERIE EN AGRICULTURE ET ENVIRONNEMENT NATUREL",10,2,{"$f":"IF(C620=\"\",\"\",COUNTIF($B$2:B620,\"=\"&B620))","v":190},10,7.8591637849732788E-4,0.2]
["03-191","03","H2301","CONDUITE D'ÉQUIPEMENT DE PRODUCTION CHIMIQUE OU PHARMACEUTIQUE",10,7,{"$f":"IF(C621=\"\",\"\",COUNTIF($B$2:B621,\"=\"&B621))","v":191},10,7.8591637849732788E-4,0.7]
["03-192","03","E1301","CONDUITE DE MACHINES D'IMPRESSION",10,3,{"$f":"IF(C622=\"\",\"\",COUNTIF($B$2:B622,\"=\"&B622))","v":192},10,7.8591637849732788E-4,0.3]
["03-193","03","C1206","GESTION DE CLIENTÈLE BANCAIRE",10,1,{"$f":"IF(C623=\"\",\"\",COUNTIF($B$2:B623,\"=\"&B623))","v":193},10,7.8591637849732788E-4,0.1]
["03-194","03","C1102","CONSEIL CLIENTÈLE EN ASSURANCES",10,7,{"$f":"IF(C624=\"\",\"\",COUNTIF($B$2:B624,\"=\"&B624))","v":194},10,7.8591637849732788E-4,0.7]
["03-195","03","M1705","MARKETING",10,9,{"$f":"IF(C625=\"\",\"\",COUNTIF($B$2:B625,\"=\"&B625))","v":195},10,7.8591637849732788E-4,0.9]
["03-196","03","J1405","OPTIQUE - LUNETTERIE",9,7,{"$f":"IF(C626=\"\",\"\",COUNTIF($B$2:B626,\"=\"&B626))","v":196},10,7.0732474064759507E-4,0.77777777777777779]
["03-197","03","J1404","KINÉSITHÉRAPIE",9,9,{"$f":"IF(C627=\"\",\"\",COUNTIF($B$2:B627,\"=\"&B627))","v":197},10,7.0732474064759507E-4,1]
["03-198","03","K1903","DÉFENSE ET CONSEIL JURIDIQUE",9,5,{"$f":"IF(C628=\"\",\"\",COUNTIF($B$2:B628,\"=\"&B628))","v":198},10,7.0732474064759507E-4,0.55555555555555558]
["03-199","03","F1101","ARCHITECTURE DU BTP ET DU PAYSAGE",9,7,{"$f":"IF(C629=\"\",\"\",COUNTIF($B$2:B629,\"=\"&B629))","v":199},10,7.0732474064759507E-4,0.77777777777777779]
["03-200","03","F1108","MÉTRÉ DE LA CONSTRUCTION",9,8,{"$f":"IF(C630=\"\",\"\",COUNTIF($B$2:B630,\"=\"&B630))","v":200},10,7.0732474064759507E-4,0.88888888888888884]
["03-201","03","G1101","ACCUEIL TOURISTIQUE",9,".",{"$f":"IF(C631=\"\",\"\",COUNTIF($B$2:B631,\"=\"&B631))","v":201},10,7.0732474064759507E-4,0]
["03-202","03","F1107","MESURES TOPOGRAPHIQUES",9,3,{"$f":"IF(C632=\"\",\"\",COUNTIF($B$2:B632,\"=\"&B632))","v":202},10,7.0732474064759507E-4,0.33333333333333331]
["03-203","03","B1601","MÉTALLERIE D'ART",9,7,{"$f":"IF(C633=\"\",\"\",COUNTIF($B$2:B633,\"=\"&B633))","v":203},10,7.0732474064759507E-4,0.77777777777777779]
["03-204","03","K2306","SUPERVISION D'EXPLOITATION ÉCO-INDUSTRIELLE",9,7,{"$f":"IF(C634=\"\",\"\",COUNTIF($B$2:B634,\"=\"&B634))","v":204},10,7.0732474064759507E-4,0.77777777777777779]
["03-205","03","M1503","MANAGEMENT DES RESSOURCES HUMAINES",9,5,{"$f":"IF(C635=\"\",\"\",COUNTIF($B$2:B635,\"=\"&B635))","v":205},10,7.0732474064759507E-4,0.55555555555555558]
["03-206","03","K2303","NETTOYAGE DES ESPACES URBAINS",9,6,{"$f":"IF(C636=\"\",\"\",COUNTIF($B$2:B636,\"=\"&B636))","v":206},10,7.0732474064759507E-4,0.66666666666666663]
["03-207","03","K2601","CONDUITE D'OPÉRATIONS FUNÉRAIRES",9,1,{"$f":"IF(C637=\"\",\"\",COUNTIF($B$2:B637,\"=\"&B637))","v":207},10,7.0732474064759507E-4,0.1111111111111111]
["03-208","03","H2503","PILOTAGE D'UNITÉ ÉLÉMENTAIRE DE PRODUCTION MÉCANIQUE OU DE TRAVAIL DES MÉTAUX",8,7,{"$f":"IF(C638=\"\",\"\",COUNTIF($B$2:B638,\"=\"&B638))","v":208},10,6.2873310279786226E-4,0.875]
["03-209","03","M1102","DIRECTION DES ACHATS",8,8,{"$f":"IF(C639=\"\",\"\",COUNTIF($B$2:B639,\"=\"&B639))","v":209},10,6.2873310279786226E-4,1]
["03-210","03","H2914","RÉALISATION ET MONTAGE EN TUYAUTERIE",8,3,{"$f":"IF(C640=\"\",\"\",COUNTIF($B$2:B640,\"=\"&B640))","v":210},10,6.2873310279786226E-4,0.375]
["03-211","03","H1504","INTERVENTION TECHNIQUE EN CONTRÔLE ESSAI QUALITÉ EN ÉLECTRICITÉ ET ÉLECTRONIQUE",8,6,{"$f":"IF(C641=\"\",\"\",COUNTIF($B$2:B641,\"=\"&B641))","v":211},{"$f":"ROUND(E641,-1)","v":10},6.2873310279786226E-4,{"$f":"IF(OR(F641=\"\",F641=\".\"),0,F641/E641)","v":0.75}]
["03-212","03","I1402","RÉPARATION DE BIENS ÉLECTRODOMESTIQUES ET MULTIMÉDIA",8,5,{"$f":"IF(C642=\"\",\"\",COUNTIF($B$2:B642,\"=\"&B642))","v":212},10,{"$f":"E642/SUMIF(B:B,B642,E:E)","v":6.2873310279786226E-4},0.625]
[{"$f":"B643&\"-\"&G643","v":"03-213"},"03","H1303","INTERVENTION TECHNIQUE EN HYGIÈNE SÉCURITÉ ENVIRONNEMENT -HSE- INDUSTRIEL",8,6,{"$f":"IF(C643=\"\",\"\",COUNTIF($B$2:B643,\"=\"&B643))","v":213},10,6.2873310279786226E-4,0.75]
["03-214","03","F1705","POSE DE CANALISATIONS",8,3,{"$f":"IF(C644=\"\",\"\",COUNTIF($B$2:B644,\"=\"&B644))","v":214},10,6.2873310279786226E-4,0.375]
["03-215","03","M1101","ACHATS",8,6,{"$f":"IF(C645=\"\",\"\",COUNTIF($B$2:B645,\"=\"&B645))","v":215},10,6.2873310279786226E-4,0.75]
["03-216","03","K2106","ENSEIGNEMENT DES ÉCOLES",7,3,{"$f":"IF(C646=\"\",\"\",COUNTIF($B$2:B646,\"=\"&B646))","v":216},10,5.5014146494812956E-4,0.42857142857142855]
["03-217","03","K2112","ORIENTATION SCOLAIRE ET PROFESSIONNELLE",7,5,{"$f":"IF(C647=\"\",\"\",COUNTIF($B$2:B647,\"=\"&B647))","v":217},10,5.5014146494812956E-4,0.7142857142857143]
["03-218","03","N1301","CONCEPTION ET ORGANISATION DE LA CHAÎNE LOGISTIQUE",7,7,{"$f":"IF(C648=\"\",\"\",COUNTIF($B$2:B648,\"=\"&B648))","v":218},10,5.5014146494812956E-4,1]
["03-219","03","H2413","PRÉPARATION DE FILS, MONTAGE DE MÉTIERS TEXTILES",7,7,{"$f":"IF(C649=\"\",\"\",COUNTIF($B$2:B649,\"=\"&B649))","v":219},10,5.5014146494812956E-4,1]
["03-220","03","H1401","MANAGEMENT ET INGÉNIERIE GESTION INDUSTRIELLE ET LOGISTIQUE",7,7,{"$f":"IF(C650=\"\",\"\",COUNTIF($B$2:B650,\"=\"&B650))","v":220},10,5.5014146494812956E-4,1]
["03-221","03","D1503","MANAGEMENT/GESTION DE RAYON PRODUITS NON ALIMENTAIRES",7,6,{"$f":"IF(C651=\"\",\"\",COUNTIF($B$2:B651,\"=\"&B651))","v":221},10,5.5014146494812956E-4,0.8571428571428571]
["03-222","03","A1501","AIDE AUX SOINS ANIMAUX",7,5,{"$f":"IF(C652=\"\",\"\",COUNTIF($B$2:B652,\"=\"&B652))","v":222},10,5.5014146494812956E-4,0.7142857142857143]
["03-223","03","F1301","CONDUITE DE GRUE",7,".",{"$f":"IF(C653=\"\",\"\",COUNTIF($B$2:B653,\"=\"&B653))","v":223},10,5.5014146494812956E-4,0]
["03-224","03","D1404","RELATION COMMERCIALE EN VENTE DE VÉHICULES",7,4,{"$f":"IF(C654=\"\",\"\",COUNTIF($B$2:B654,\"=\"&B654))","v":224},10,5.5014146494812956E-4,0.5714285714285714]
["03-225","03","J1302","ANALYSES MÉDICALES",6,2,{"$f":"IF(C655=\"\",\"\",COUNTIF($B$2:B655,\"=\"&B655))","v":225},10,4.7154982709839675E-4,0.33333333333333331]
["03-226","03","H2605","MONTAGE ET CÂBLAGE ÉLECTRONIQUE",6,2,{"$f":"IF(C656=\"\",\"\",COUNTIF($B$2:B656,\"=\"&B656))","v":226},10,4.7154982709839675E-4,0.33333333333333331]
["03-227","03","H2904","CONDUITE D'ÉQUIPEMENT DE DÉFORMATION DES MÉTAUX",6,3,{"$f":"IF(C657=\"\",\"\",COUNTIF($B$2:B657,\"=\"&B657))","v":227},10,4.7154982709839675E-4,0.5]
["03-228","03","H1208","INTERVENTION TECHNIQUE EN ÉTUDES ET CONCEPTION EN AUTOMATISME",6,6,{"$f":"IF(C658=\"\",\"\",COUNTIF($B$2:B658,\"=\"&B658))","v":228},10,4.7154982709839675E-4,1]
["03-229","03","H1102","MANAGEMENT ET INGÉNIERIE D'AFFAIRES",6,6,{"$f":"IF(C659=\"\",\"\",COUNTIF($B$2:B659,\"=\"&B659))","v":229},10,4.7154982709839675E-4,1]
["03-230","03","H2202","CONDUITE D'ÉQUIPEMENT DE FABRICATION DE L'AMEUBLEMENT ET DU BOIS",6,2,{"$f":"IF(C660=\"\",\"\",COUNTIF($B$2:B660,\"=\"&B660))","v":230},10,4.7154982709839675E-4,0.33333333333333331]
["03-231","03","H2910","MOULAGE SABLE",6,".",{"$f":"IF(C661=\"\",\"\",COUNTIF($B$2:B661,\"=\"&B661))","v":231},10,4.7154982709839675E-4,0]
["03-232","03","D1205","NETTOYAGE D'ARTICLES TEXTILES OU CUIRS",6,".",{"$f":"IF(C662=\"\",\"\",COUNTIF($B$2:B662,\"=\"&B662))","v":232},10,4.7154982709839675E-4,0]
["03-233","03","C1109","RÉDACTION ET GESTION EN ASSURANCES",6,5,{"$f":"IF(C663=\"\",\"\",COUNTIF($B$2:B663,\"=\"&B663))","v":233},10,4.7154982709839675E-4,0.83333333333333337]
["03-234","03","A1301","CONSEIL ET ASSISTANCE TECHNIQUE EN AGRICULTURE ET ENVIRONNEMENT NATUREL",6,5,{"$f":"IF(C664=\"\",\"\",COUNTIF($B$2:B664,\"=\"&B664))","v":234},10,4.7154982709839675E-4,0.83333333333333337]
["03-235","03","E1101","ANIMATION DE SITE MULTIMÉDIA",6,6,{"$f":"IF(C665=\"\",\"\",COUNTIF($B$2:B665,\"=\"&B665))","v":235},10,4.7154982709839675E-4,1]
["03-236","03","C1501","GÉRANCE IMMOBILIÈRE",6,2,{"$f":"IF(C666=\"\",\"\",COUNTIF($B$2:B666,\"=\"&B666))","v":236},10,4.7154982709839675E-4,0.33333333333333331]
["03-237","03","M1403","ÉTUDES ET PROSPECTIVES SOCIO-ÉCONOMIQUES",6,3,{"$f":"IF(C667=\"\",\"\",COUNTIF($B$2:B667,\"=\"&B667))","v":237},10,4.7154982709839675E-4,0.5]
["03-238","03","M1704","MANAGEMENT RELATION CLIENTÈLE",5,5,{"$f":"IF(C668=\"\",\"\",COUNTIF($B$2:B668,\"=\"&B668))","v":238},10,3.9295818924866394E-4,1]
["03-239","03","K1902","COLLABORATION JURIDIQUE",5,3,{"$f":"IF(C669=\"\",\"\",COUNTIF($B$2:B669,\"=\"&B669))","v":239},10,3.9295818924866394E-4,0.6]
["03-240","03","N1102","DÉMÉNAGEMENT",5,4,{"$f":"IF(C670=\"\",\"\",COUNTIF($B$2:B670,\"=\"&B670))","v":240},10,3.9295818924866394E-4,0.8]
["03-241","03","H1402","MANAGEMENT ET INGÉNIERIE MÉTHODES ET INDUSTRIALISATION",5,4,{"$f":"IF(C671=\"\",\"\",COUNTIF($B$2:B671,\"=\"&B671))","v":241},10,3.9295818924866394E-4,0.8]
["03-242","03","K1204","MÉDIATION SOCIALE ET FACILITATION DE LA VIE EN SOCIÉTÉ",5,5,{"$f":"IF(C672=\"\",\"\",COUNTIF($B$2:B672,\"=\"&B672))","v":242},10,3.9295818924866394E-4,1]
["03-243","03","J1406","ORTHOPHONIE",5,4,{"$f":"IF(C673=\"\",\"\",COUNTIF($B$2:B673,\"=\"&B673))","v":243},10,3.9295818924866394E-4,0.8]
["03-244","03","I1101","DIRECTION ET INGÉNIERIE EN ENTRETIEN INFRASTRUCTURE ET BÂTI",5,3,{"$f":"IF(C674=\"\",\"\",COUNTIF($B$2:B674,\"=\"&B674))","v":244},10,3.9295818924866394E-4,0.6]
["03-245","03","H2912","RÉGLAGE D'ÉQUIPEMENT DE PRODUCTION INDUSTRIELLE",5,2,{"$f":"IF(C675=\"\",\"\",COUNTIF($B$2:B675,\"=\"&B675))","v":245},10,3.9295818924866394E-4,0.4]
["03-246","03","M1401","CONDUITE D'ENQUÊTES",5,".",{"$f":"IF(C676=\"\",\"\",COUNTIF($B$2:B676,\"=\"&B676))","v":246},10,3.9295818924866394E-4,0]
["03-247","03","H1302","MANAGEMENT ET INGÉNIERIE HYGIÈNE SÉCURITÉ ENVIRONNEMENT -HSE- INDUSTRIELS",5,5,{"$f":"IF(C677=\"\",\"\",COUNTIF($B$2:B677,\"=\"&B677))","v":247},10,3.9295818924866394E-4,1]
["03-248","03","F1503","RÉALISATION - INSTALLATION D'OSSATURES BOIS",5,4,{"$f":"IF(C678=\"\",\"\",COUNTIF($B$2:B678,\"=\"&B678))","v":248},10,3.9295818924866394E-4,0.8]
["03-249","03","H1202","CONCEPTION ET DESSIN DE PRODUITS ÉLECTRIQUES ET ÉLECTRONIQUES",5,3,{"$f":"IF(C679=\"\",\"\",COUNTIF($B$2:B679,\"=\"&B679))","v":249},10,3.9295818924866394E-4,0.6]
["03-250","03","A1411","ÉLEVAGE PORCIN",5,5,{"$f":"IF(C680=\"\",\"\",COUNTIF($B$2:B680,\"=\"&B680))","v":250},10,3.9295818924866394E-4,1]
["03-251","03","G1503","MANAGEMENT DU PERSONNEL D'ÉTAGE",5,4,{"$f":"IF(C681=\"\",\"\",COUNTIF($B$2:B681,\"=\"&B681))","v":251},10,3.9295818924866394E-4,0.8]
["03-252","03","D1508","ENCADREMENT DU PERSONNEL DE CAISSES",5,3,{"$f":"IF(C682=\"\",\"\",COUNTIF($B$2:B682,\"=\"&B682))","v":252},10,3.9295818924866394E-4,0.6]
["03-253","03","K2105","ENSEIGNEMENT ARTISTIQUE",5,4,{"$f":"IF(C683=\"\",\"\",COUNTIF($B$2:B683,\"=\"&B683))","v":253},10,3.9295818924866394E-4,0.8]
["03-254","03","N3101","ENCADREMENT DE LA NAVIGATION MARITIME",5,".",{"$f":"IF(C684=\"\",\"\",COUNTIF($B$2:B684,\"=\"&B684))","v":254},10,3.9295818924866394E-4,0]
["03-255","03","M1606","SAISIE DE DONNÉES",5,".",{"$f":"IF(C685=\"\",\"\",COUNTIF($B$2:B685,\"=\"&B685))","v":255},10,3.9295818924866394E-4,0]
["03-256","03","K2102","COORDINATION PÉDAGOGIQUE",4,4,{"$f":"IF(C686=\"\",\"\",COUNTIF($B$2:B686,\"=\"&B686))","v":256},0,3.1436655139893113E-4,1]
["03-257","03","K2203","MANAGEMENT ET INSPECTION EN PROPRETÉ DE LOCAUX",4,4,{"$f":"IF(C687=\"\",\"\",COUNTIF($B$2:B687,\"=\"&B687))","v":257},0,3.1436655139893113E-4,1]
["03-258","03","H2409","COUPE CUIR, TEXTILE ET MATÉRIAUX SOUPLES",4,".",{"$f":"IF(C688=\"\",\"\",COUNTIF($B$2:B688,\"=\"&B688))","v":258},0,3.1436655139893113E-4,0]
["03-259","03","K1103","DÉVELOPPEMENT PERSONNEL ET BIEN-ÊTRE DE LA PERSONNE",4,4,{"$f":"IF(C689=\"\",\"\",COUNTIF($B$2:B689,\"=\"&B689))","v":259},0,3.1436655139893113E-4,1]
["03-260","03","J1402","DIÉTÉTIQUE",4,3,{"$f":"IF(C690=\"\",\"\",COUNTIF($B$2:B690,\"=\"&B690))","v":260},0,3.1436655139893113E-4,0.75]
["03-261","03","I1602","MAINTENANCE D'AÉRONEFS",4,2,{"$f":"IF(C691=\"\",\"\",COUNTIF($B$2:B691,\"=\"&B691))","v":261},0,3.1436655139893113E-4,0.5]
["03-262","03","J1104","SUIVI DE LA GROSSESSE ET DE L'ACCOUCHEMENT",4,3,{"$f":"IF(C692=\"\",\"\",COUNTIF($B$2:B692,\"=\"&B692))","v":262},0,3.1436655139893113E-4,0.75]
["03-263","03","F1501","MONTAGE DE STRUCTURES ET DE CHARPENTES BOIS",4,1,{"$f":"IF(C693=\"\",\"\",COUNTIF($B$2:B693,\"=\"&B693))","v":263},0,3.1436655139893113E-4,0.25]
["03-264","03","H2701","PILOTAGE D'INSTALLATION ÉNERGÉTIQUE ET PÉTROCHIMIQUE",4,".",{"$f":"IF(C694=\"\",\"\",COUNTIF($B$2:B694,\"=\"&B694))","v":264},0,3.1436655139893113E-4,0]
["03-265","03","F1609","POSE DE REVÊTEMENTS SOUPLES",4,3,{"$f":"IF(C695=\"\",\"\",COUNTIF($B$2:B695,\"=\"&B695))","v":265},0,3.1436655139893113E-4,0.75]
["03-266","03","E1308","INTERVENTION TECHNIQUE EN INDUSTRIE GRAPHIQUE",4,4,{"$f":"IF(C696=\"\",\"\",COUNTIF($B$2:B696,\"=\"&B696))","v":266},0,3.1436655139893113E-4,1]
["03-267","03","G1402","MANAGEMENT D'HÔTEL-RESTAURANT",4,4,{"$f":"IF(C697=\"\",\"\",COUNTIF($B$2:B697,\"=\"&B697))","v":267},0,3.1436655139893113E-4,1]
["03-268","03","G1403","GESTION DE STRUCTURE DE LOISIRS OU D'HÉBERGEMENT TOURISTIQUE",4,4,{"$f":"IF(C698=\"\",\"\",COUNTIF($B$2:B698,\"=\"&B698))","v":268},0,3.1436655139893113E-4,1]
["03-269","03","H2209","INTERVENTION TECHNIQUE EN AMEUBLEMENT ET BOIS",4,3,{"$f":"IF(C699=\"\",\"\",COUNTIF($B$2:B699,\"=\"&B699))","v":269},0,3.1436655139893113E-4,0.75]
["03-270","03","A1412","FABRICATION ET AFFINAGE DE FROMAGES",4,3,{"$f":"IF(C700=\"\",\"\",COUNTIF($B$2:B700,\"=\"&B700))","v":270},0,3.1436655139893113E-4,0.75]
["03-271","03","D1201","ACHAT VENTE D'OBJETS D'ART, ANCIENS OU D'OCCASION",4,3,{"$f":"IF(C701=\"\",\"\",COUNTIF($B$2:B701,\"=\"&B701))","v":271},0,3.1436655139893113E-4,0.75]
["03-272","03","D1502","MANAGEMENT/GESTION DE RAYON PRODUITS ALIMENTAIRES",4,4,{"$f":"IF(C702=\"\",\"\",COUNTIF($B$2:B702,\"=\"&B702))","v":272},0,3.1436655139893113E-4,1]
["03-273","03","D1406","MANAGEMENT EN FORCE DE VENTE",4,4,{"$f":"IF(C703=\"\",\"\",COUNTIF($B$2:B703,\"=\"&B703))","v":273},0,3.1436655139893113E-4,1]
["03-274","03","M1806","CONSEIL ET MAÎTRISE D'OUVRAGE EN SYSTÈMES D'INFORMATION",4,1,{"$f":"IF(C704=\"\",\"\",COUNTIF($B$2:B704,\"=\"&B704))","v":274},0,3.1436655139893113E-4,0.25]
["03-275","03","L1203","ART DRAMATIQUE",4,4,{"$f":"IF(C705=\"\",\"\",COUNTIF($B$2:B705,\"=\"&B705))","v":275},{"$f":"ROUND(E705,-1)","v":0},3.1436655139893113E-4,{"$f":"IF(OR(F705=\"\",F705=\".\"),0,F705/E705)","v":1}]
["03-276","03","M1204","CONTRÔLE DE GESTION",4,2,{"$f":"IF(C706=\"\",\"\",COUNTIF($B$2:B706,\"=\"&B706))","v":276},0,{"$f":"E706/SUMIF(B:B,B706,E:E)","v":3.1436655139893113E-4},0.5]
[{"$f":"B707&\"-\"&G707","v":"03-277"},"03","J1412","RÉÉDUCATION EN PSYCHOMOTRICITÉ",4,4,{"$f":"IF(C707=\"\",\"\",COUNTIF($B$2:B707,\"=\"&B707))","v":277},0,3.1436655139893113E-4,1]
["03-278","03","K2202","LAVAGE DE VITRES",4,3,{"$f":"IF(C708=\"\",\"\",COUNTIF($B$2:B708,\"=\"&B708))","v":278},0,3.1436655139893113E-4,0.75]
["03-279","03","J1507","SOINS INFIRMIERS SPÉCIALISÉS EN PUÉRICULTURE",3,2,{"$f":"IF(C709=\"\",\"\",COUNTIF($B$2:B709,\"=\"&B709))","v":279},0,2.3577491354919838E-4,0.66666666666666663]
["03-280","03","K1601","GESTION DE L'INFORMATION ET DE LA DOCUMENTATION",3,2,{"$f":"IF(C710=\"\",\"\",COUNTIF($B$2:B710,\"=\"&B710))","v":280},0,2.3577491354919838E-4,0.66666666666666663]
["03-281","03","K2108","ENSEIGNEMENT SUPÉRIEUR",3,2,{"$f":"IF(C711=\"\",\"\",COUNTIF($B$2:B711,\"=\"&B711))","v":281},0,2.3577491354919838E-4,0.66666666666666663]
["03-282","03","K2109","ENSEIGNEMENT TECHNIQUE ET PROFESSIONNEL",3,1,{"$f":"IF(C712=\"\",\"\",COUNTIF($B$2:B712,\"=\"&B712))","v":282},0,2.3577491354919838E-4,0.33333333333333331]
["03-283","03","M1802","EXPERTISE ET SUPPORT EN SYSTÈMES D'INFORMATION",3,3,{"$f":"IF(C713=\"\",\"\",COUNTIF($B$2:B713,\"=\"&B713))","v":283},0,2.3577491354919838E-4,1]
["03-284","03","J1102","MÉDECINE GÉNÉRALISTE ET SPÉCIALISÉE",3,2,{"$f":"IF(C714=\"\",\"\",COUNTIF($B$2:B714,\"=\"&B714))","v":284},0,2.3577491354919838E-4,0.66666666666666663]
["03-285","03","L1505","IMAGE CINÉMATOGRAPHIQUE ET TÉLÉVISUELLE",3,2,{"$f":"IF(C715=\"\",\"\",COUNTIF($B$2:B715,\"=\"&B715))","v":285},0,2.3577491354919838E-4,0.66666666666666663]
["03-286","03","I1301","INSTALLATION ET MAINTENANCE D'ASCENSEURS",3,".",{"$f":"IF(C716=\"\",\"\",COUNTIF($B$2:B716,\"=\"&B716))","v":286},0,2.3577491354919838E-4,0]
["03-287","03","I1503","INTERVENTION EN MILIEUX ET PRODUITS NOCIFS",3,3,{"$f":"IF(C717=\"\",\"\",COUNTIF($B$2:B717,\"=\"&B717))","v":287},0,2.3577491354919838E-4,1]
["03-288","03","H2603","CONDUITE D'INSTALLATION AUTOMATISÉE DE PRODUCTION ÉLECTRIQUE, ÉLECTRONIQUE ET MICROÉLECTRONIQUE",3,1,{"$f":"IF(C718=\"\",\"\",COUNTIF($B$2:B718,\"=\"&B718))","v":288},0,2.3577491354919838E-4,0.33333333333333331]
["03-289","03","D1105","POISSONNERIE",3,3,{"$f":"IF(C719=\"\",\"\",COUNTIF($B$2:B719,\"=\"&B719))","v":289},0,2.3577491354919838E-4,1]
["03-290","03","A1403","AIDE D'ÉLEVAGE AGRICOLE ET AQUACOLE",3,2,{"$f":"IF(C720=\"\",\"\",COUNTIF($B$2:B720,\"=\"&B720))","v":290},0,2.3577491354919838E-4,0.66666666666666663]
["03-291","03","A1410","ÉLEVAGE OVIN OU CAPRIN",3,2,{"$f":"IF(C721=\"\",\"\",COUNTIF($B$2:B721,\"=\"&B721))","v":291},0,2.3577491354919838E-4,0.66666666666666663]
["03-292","03","A1201","BÛCHERONNAGE ET ÉLAGAGE",3,3,{"$f":"IF(C722=\"\",\"\",COUNTIF($B$2:B722,\"=\"&B722))","v":292},0,2.3577491354919838E-4,1]
["03-293","03","E1304","FAÇONNAGE ET ROUTAGE",3,2,{"$f":"IF(C723=\"\",\"\",COUNTIF($B$2:B723,\"=\"&B723))","v":293},0,2.3577491354919838E-4,0.66666666666666663]
["03-294","03","A1504","SANTÉ ANIMALE",3,2,{"$f":"IF(C724=\"\",\"\",COUNTIF($B$2:B724,\"=\"&B724))","v":294},0,2.3577491354919838E-4,0.66666666666666663]
["03-295","03","A1101","CONDUITE D'ENGINS AGRICOLES ET FORESTIERS",3,".",{"$f":"IF(C725=\"\",\"\",COUNTIF($B$2:B725,\"=\"&B725))","v":295},0,2.3577491354919838E-4,0]
["03-296","03","C1201","ACCUEIL ET SERVICES BANCAIRES",3,3,{"$f":"IF(C726=\"\",\"\",COUNTIF($B$2:B726,\"=\"&B726))","v":296},0,2.3577491354919838E-4,1]
["03-297","03","L1401","SPORTIF PROFESSIONNEL",3,3,{"$f":"IF(C727=\"\",\"\",COUNTIF($B$2:B727,\"=\"&B727))","v":297},0,2.3577491354919838E-4,1]
["03-298","03","K1101","ACCOMPAGNEMENT ET MÉDIATION FAMILIALE",3,".",{"$f":"IF(C728=\"\",\"\",COUNTIF($B$2:B728,\"=\"&B728))","v":298},0,2.3577491354919838E-4,0]
["03-299","03","N4201","DIRECTION D'EXPLOITATION DES TRANSPORTS ROUTIERS DE MARCHANDISES",2,".",{"$f":"IF(C729=\"\",\"\",COUNTIF($B$2:B729,\"=\"&B729))","v":299},0,1.5718327569946557E-4,0]
["03-300","03","M1402","CONSEIL EN ORGANISATION ET MANAGEMENT D'ENTREPRISE",2,2,{"$f":"IF(C730=\"\",\"\",COUNTIF($B$2:B730,\"=\"&B730))","v":300},0,1.5718327569946557E-4,1]
["03-301","03","K1707","SURVEILLANCE MUNICIPALE",2,2,{"$f":"IF(C731=\"\",\"\",COUNTIF($B$2:B731,\"=\"&B731))","v":301},0,1.5718327569946557E-4,1]
["03-302","03","D1405","CONSEIL EN INFORMATION MÉDICALE",2,2,{"$f":"IF(C732=\"\",\"\",COUNTIF($B$2:B732,\"=\"&B732))","v":302},0,1.5718327569946557E-4,1]
["03-303","03","N1302","DIRECTION DE SITE LOGISTIQUE",2,1,{"$f":"IF(C733=\"\",\"\",COUNTIF($B$2:B733,\"=\"&B733))","v":303},0,1.5718327569946557E-4,0.5]
["03-304","03","J1403","ERGOTHÉRAPIE",2,2,{"$f":"IF(C734=\"\",\"\",COUNTIF($B$2:B734,\"=\"&B734))","v":304},0,1.5718327569946557E-4,1]
["03-305","03","H2505","ENCADREMENT D'ÉQUIPE OU D'ATELIER EN MATÉRIAUX SOUPLES",2,2,{"$f":"IF(C735=\"\",\"\",COUNTIF($B$2:B735,\"=\"&B735))","v":305},0,1.5718327569946557E-4,1]
["03-306","03","K2302","MANAGEMENT ET INSPECTION EN ENVIRONNEMENT URBAIN",2,2,{"$f":"IF(C736=\"\",\"\",COUNTIF($B$2:B736,\"=\"&B736))","v":306},0,1.5718327569946557E-4,1]
["03-307","03","H1301","INSPECTION DE CONFORMITÉ",2,2,{"$f":"IF(C737=\"\",\"\",COUNTIF($B$2:B737,\"=\"&B737))","v":307},0,1.5718327569946557E-4,1]
["03-308","03","M1703","MANAGEMENT ET GESTION DE PRODUIT",2,2,{"$f":"IF(C738=\"\",\"\",COUNTIF($B$2:B738,\"=\"&B738))","v":308},0,1.5718327569946557E-4,1]
["03-309","03","G1302","OPTIMISATION DE PRODUITS TOURISTIQUES",2,2,{"$f":"IF(C739=\"\",\"\",COUNTIF($B$2:B739,\"=\"&B739))","v":309},0,1.5718327569946557E-4,1]
["03-310","03","H2207","RÉALISATION DE MEUBLES EN BOIS",2,1,{"$f":"IF(C740=\"\",\"\",COUNTIF($B$2:B740,\"=\"&B740))","v":310},0,1.5718327569946557E-4,0.5]
["03-311","03","G1205","PERSONNEL D'ATTRACTIONS OU DE STRUCTURES DE LOISIRS",2,1,{"$f":"IF(C741=\"\",\"\",COUNTIF($B$2:B741,\"=\"&B741))","v":311},0,1.5718327569946557E-4,0.5]
["03-312","03","G1206","PERSONNEL TECHNIQUE DES JEUX",2,".",{"$f":"IF(C742=\"\",\"\",COUNTIF($B$2:B742,\"=\"&B742))","v":312},0,1.5718327569946557E-4,0]
["03-313","03","E1306","PRÉPRESSE",2,1,{"$f":"IF(C743=\"\",\"\",COUNTIF($B$2:B743,\"=\"&B743))","v":313},0,1.5718327569946557E-4,0.5]
["03-314","03","E1205","RÉALISATION DE CONTENUS MULTIMÉDIAS",2,1,{"$f":"IF(C744=\"\",\"\",COUNTIF($B$2:B744,\"=\"&B744))","v":314},0,1.5718327569946557E-4,0.5]
["03-315","03","D1107","VENTE EN GROS DE PRODUITS FRAIS",2,1,{"$f":"IF(C745=\"\",\"\",COUNTIF($B$2:B745,\"=\"&B745))","v":315},0,1.5718327569946557E-4,0.5]
["03-316","03","D1210","VENTE EN ANIMALERIE",2,1,{"$f":"IF(C746=\"\",\"\",COUNTIF($B$2:B746,\"=\"&B746))","v":316},0,1.5718327569946557E-4,0.5]
["03-317","03","A1405","ARBORICULTURE ET VITICULTURE",2,2,{"$f":"IF(C747=\"\",\"\",COUNTIF($B$2:B747,\"=\"&B747))","v":317},0,1.5718327569946557E-4,1]
["03-318","03","D1204","LOCATION DE VÉHICULES OU DE MATÉRIEL DE LOISIRS",2,".",{"$f":"IF(C748=\"\",\"\",COUNTIF($B$2:B748,\"=\"&B748))","v":318},0,1.5718327569946557E-4,0]
["03-319","03","E1203","PRODUCTION EN LABORATOIRE PHOTOGRAPHIQUE",2,2,{"$f":"IF(C749=\"\",\"\",COUNTIF($B$2:B749,\"=\"&B749))","v":319},0,1.5718327569946557E-4,1]
["03-320","03","D1506","MARCHANDISAGE",2,2,{"$f":"IF(C750=\"\",\"\",COUNTIF($B$2:B750,\"=\"&B750))","v":320},0,1.5718327569946557E-4,1]
["03-321","03","E1204","PROJECTION CINÉMA",2,2,{"$f":"IF(C751=\"\",\"\",COUNTIF($B$2:B751,\"=\"&B751))","v":321},0,1.5718327569946557E-4,1]
["03-322","03","A1409","ÉLEVAGE DE LAPINS ET VOLAILLES",2,".",{"$f":"IF(C752=\"\",\"\",COUNTIF($B$2:B752,\"=\"&B752))","v":322},0,1.5718327569946557E-4,0]
["03-323","03","D1206","RÉPARATION D'ARTICLES EN CUIR ET MATÉRIAUX SOUPLES",2,".",{"$f":"IF(C753=\"\",\"\",COUNTIF($B$2:B753,\"=\"&B753))","v":323},0,1.5718327569946557E-4,0]
["03-324","03","C1503","MANAGEMENT DE PROJET IMMOBILIER",2,2,{"$f":"IF(C754=\"\",\"\",COUNTIF($B$2:B754,\"=\"&B754))","v":324},0,1.5718327569946557E-4,1]
["03-325","03","K1602","GESTION DE PATRIMOINE CULTUREL",2,1,{"$f":"IF(C755=\"\",\"\",COUNTIF($B$2:B755,\"=\"&B755))","v":325},0,1.5718327569946557E-4,0.5]
["03-326","03","N1201","AFFRÈTEMENT TRANSPORT",2,2,{"$f":"IF(C756=\"\",\"\",COUNTIF($B$2:B756,\"=\"&B756))","v":326},0,1.5718327569946557E-4,1]
["03-327","03","I1201","ENTRETIEN D'AFFICHAGE ET MOBILIER URBAIN",2,".",{"$f":"IF(C757=\"\",\"\",COUNTIF($B$2:B757,\"=\"&B757))","v":327},0,1.5718327569946557E-4,0]
["03-328","03","M1206","MANAGEMENT DE GROUPE OU DE SERVICE COMPTABLE",2,2,{"$f":"IF(C758=\"\",\"\",COUNTIF($B$2:B758,\"=\"&B758))","v":328},0,1.5718327569946557E-4,1]
["03-329","03","M1301","DIRECTION DE GRANDE ENTREPRISE OU D'ÉTABLISSEMENT PUBLIC",2,1,{"$f":"IF(C759=\"\",\"\",COUNTIF($B$2:B759,\"=\"&B759))","v":329},0,1.5718327569946557E-4,0.5]
["03-330","03","L1201","DANSE",2,2,{"$f":"IF(C760=\"\",\"\",COUNTIF($B$2:B760,\"=\"&B760))","v":330},0,1.5718327569946557E-4,1]
["03-331","03","H2601","BOBINAGE ÉLECTRIQUE",1,1,{"$f":"IF(C761=\"\",\"\",COUNTIF($B$2:B761,\"=\"&B761))","v":331},0,7.8591637849732783E-5,1]
["03-332","03","M1201","ANALYSE ET INGÉNIERIE FINANCIÈRE",1,1,{"$f":"IF(C762=\"\",\"\",COUNTIF($B$2:B762,\"=\"&B762))","v":332},0,7.8591637849732783E-5,1]
["03-333","03","L1302","PRODUCTION ET ADMINISTRATION SPECTACLE, CINÉMA ET AUDIOVISUEL",1,1,{"$f":"IF(C763=\"\",\"\",COUNTIF($B$2:B763,\"=\"&B763))","v":333},0,7.8591637849732783E-5,1]
["03-334","03","A1205","SYLVICULTURE",1,1,{"$f":"IF(C764=\"\",\"\",COUNTIF($B$2:B764,\"=\"&B764))","v":334},0,7.8591637849732783E-5,1]
["03-335","03","L1507","MONTAGE AUDIOVISUEL ET POST-PRODUCTION",1,".",{"$f":"IF(C765=\"\",\"\",COUNTIF($B$2:B765,\"=\"&B765))","v":335},0,7.8591637849732783E-5,0]
["03-336","03","J1407","ORTHOPTIQUE",1,".",{"$f":"IF(C766=\"\",\"\",COUNTIF($B$2:B766,\"=\"&B766))","v":336},0,7.8591637849732783E-5,0]
["03-337","03","B1603","RÉALISATION D'OUVRAGES EN BIJOUTERIE, JOAILLERIE ET ORFÈVRERIE",1,".",{"$f":"IF(C767=\"\",\"\",COUNTIF($B$2:B767,\"=\"&B767))","v":337},0,7.8591637849732783E-5,0]
["03-338","03","J1101","MÉDECINE DE PRÉVENTION",1,1,{"$f":"IF(C768=\"\",\"\",COUNTIF($B$2:B768,\"=\"&B768))","v":338},0,7.8591637849732783E-5,1]
["03-339","03","I1501","INTERVENTION EN GRANDE HAUTEUR",1,".",{"$f":"IF(C769=\"\",\"\",COUNTIF($B$2:B769,\"=\"&B769))","v":339},{"$f":"ROUND(E769,-1)","v":0},7.8591637849732783E-5,{"$f":"IF(OR(F769=\"\",F769=\".\"),0,F769/E769)","v":0}]
["03-340","03","H3101","CONDUITE D'ÉQUIPEMENT DE FABRICATION DE PAPIER OU DE CARTON",1,".",{"$f":"IF(C770=\"\",\"\",COUNTIF($B$2:B770,\"=\"&B770))","v":340},0,{"$f":"E770/SUMIF(B:B,B770,E:E)","v":7.8591637849732783E-5},0]
[{"$f":"B771&\"-\"&G771","v":"03-341"},"03","J1411","PROTHÈSES ET ORTHÈSES",1,".",{"$f":"IF(C771=\"\",\"\",COUNTIF($B$2:B771,\"=\"&B771))","v":341},0,7.8591637849732783E-5,0]
["03-342","03","K1704","MANAGEMENT DE LA SÉCURITÉ PUBLIQUE",1,1,{"$f":"IF(C772=\"\",\"\",COUNTIF($B$2:B772,\"=\"&B772))","v":342},0,7.8591637849732783E-5,1]
["03-343","03","H3403","CONDUITE DE TRAITEMENT THERMIQUE",1,".",{"$f":"IF(C773=\"\",\"\",COUNTIF($B$2:B773,\"=\"&B773))","v":343},0,7.8591637849732783E-5,0]
["03-344","03","H2802","CONDUITE D'INSTALLATION DE PRODUCTION DE MATÉRIAUX DE CONSTRUCTION",1,".",{"$f":"IF(C774=\"\",\"\",COUNTIF($B$2:B774,\"=\"&B774))","v":344},0,7.8591637849732783E-5,0]
["03-345","03","H2604","MONTAGE DE PRODUITS ÉLECTRIQUES ET ÉLECTRONIQUES",1,".",{"$f":"IF(C775=\"\",\"\",COUNTIF($B$2:B775,\"=\"&B775))","v":345},0,7.8591637849732783E-5,0]
["03-346","03","I1303","INSTALLATION ET MAINTENANCE DE DISTRIBUTEURS AUTOMATIQUES",1,".",{"$f":"IF(C776=\"\",\"\",COUNTIF($B$2:B776,\"=\"&B776))","v":346},0,7.8591637849732783E-5,0]
["03-347","03","H2414","PRÉPARATION ET FINITION D'ARTICLES EN CUIR ET MATÉRIAUX SOUPLES",1,1,{"$f":"IF(C777=\"\",\"\",COUNTIF($B$2:B777,\"=\"&B777))","v":347},0,7.8591637849732783E-5,1]
["03-348","03","G1201","ACCOMPAGNEMENT DE VOYAGES, D'ACTIVITÉS CULTURELLES OU SPORTIVES",1,".",{"$f":"IF(C778=\"\",\"\",COUNTIF($B$2:B778,\"=\"&B778))","v":348},0,7.8591637849732783E-5,0]
["03-349","03","H1205","ÉTUDES - MODÈLES EN INDUSTRIE DES MATÉRIAUX SOUPLES",1,".",{"$f":"IF(C779=\"\",\"\",COUNTIF($B$2:B779,\"=\"&B779))","v":349},0,7.8591637849732783E-5,0]
["03-350","03","F1401","EXTRACTION LIQUIDE ET GAZEUSE",1,1,{"$f":"IF(C780=\"\",\"\",COUNTIF($B$2:B780,\"=\"&B780))","v":350},0,7.8591637849732783E-5,1]
["03-351","03","F1613","TRAVAUX D'ÉTANCHÉITÉ ET D'ISOLATION",1,".",{"$f":"IF(C781=\"\",\"\",COUNTIF($B$2:B781,\"=\"&B781))","v":351},0,7.8591637849732783E-5,0]
["03-352","03","E1401","DÉVELOPPEMENT ET PROMOTION PUBLICITAIRE",1,".",{"$f":"IF(C782=\"\",\"\",COUNTIF($B$2:B782,\"=\"&B782))","v":352},0,7.8591637849732783E-5,0]
["03-353","03","F1204","QUALITÉ SÉCURITÉ ENVIRONNEMENT ET PROTECTION SANTÉ DU BTP",1,".",{"$f":"IF(C783=\"\",\"\",COUNTIF($B$2:B783,\"=\"&B783))","v":353},0,7.8591637849732783E-5,0]
["03-354","03","H1204","DESIGN INDUSTRIEL",1,".",{"$f":"IF(C784=\"\",\"\",COUNTIF($B$2:B784,\"=\"&B784))","v":354},0,7.8591637849732783E-5,0]
["03-355","03","H1101","ASSISTANCE ET SUPPORT TECHNIQUE CLIENT",1,".",{"$f":"IF(C785=\"\",\"\",COUNTIF($B$2:B785,\"=\"&B785))","v":355},0,7.8591637849732783E-5,0]
["03-356","03","H2201","ASSEMBLAGE D'OUVRAGES EN BOIS",1,".",{"$f":"IF(C786=\"\",\"\",COUNTIF($B$2:B786,\"=\"&B786))","v":356},0,7.8591637849732783E-5,0]
["03-357","03","K1705","SÉCURITÉ CIVILE ET SECOURS",1,".",{"$f":"IF(C787=\"\",\"\",COUNTIF($B$2:B787,\"=\"&B787))","v":357},0,7.8591637849732783E-5,0]
["03-358","03","F1105","ÉTUDES GÉOLOGIQUES",1,1,{"$f":"IF(C788=\"\",\"\",COUNTIF($B$2:B788,\"=\"&B788))","v":358},0,7.8591637849732783E-5,1]
["03-359","03","F1706","PRÉFABRICATION EN BÉTON INDUSTRIEL",1,".",{"$f":"IF(C789=\"\",\"\",COUNTIF($B$2:B789,\"=\"&B789))","v":359},0,7.8591637849732783E-5,0]
["03-360","03","D1509","MANAGEMENT DE DÉPARTEMENT EN GRANDE DISTRIBUTION",1,1,{"$f":"IF(C790=\"\",\"\",COUNTIF($B$2:B790,\"=\"&B790))","v":360},0,7.8591637849732783E-5,1]
["03-361","03","G1804","SOMMELLERIE",1,1,{"$f":"IF(C791=\"\",\"\",COUNTIF($B$2:B791,\"=\"&B791))","v":361},0,7.8591637849732783E-5,1]
["03-362","03","E1107","ORGANISATION D'ÉVÈNEMENTIEL",1,1,{"$f":"IF(C792=\"\",\"\",COUNTIF($B$2:B792,\"=\"&B792))","v":362},0,7.8591637849732783E-5,1]
["03-363","03","E1104","CONCEPTION DE CONTENUS MULTIMÉDIAS",1,1,{"$f":"IF(C793=\"\",\"\",COUNTIF($B$2:B793,\"=\"&B793))","v":363},0,7.8591637849732783E-5,1]
["03-364","03","B1302","DÉCORATION D'OBJETS D'ART ET ARTISANAUX",1,1,{"$f":"IF(C794=\"\",\"\",COUNTIF($B$2:B794,\"=\"&B794))","v":364},0,7.8591637849732783E-5,1]
["03-365","03","B1101","CRÉATION EN ARTS PLASTIQUES",1,1,{"$f":"IF(C795=\"\",\"\",COUNTIF($B$2:B795,\"=\"&B795))","v":365},0,7.8591637849732783E-5,1]
["03-366","03","A1202","ENTRETIEN DES ESPACES NATURELS",1,".",{"$f":"IF(C796=\"\",\"\",COUNTIF($B$2:B796,\"=\"&B796))","v":366},0,7.8591637849732783E-5,0]
["03-367","03","D1207","RETOUCHES EN HABILLEMENT",1,".",{"$f":"IF(C797=\"\",\"\",COUNTIF($B$2:B797,\"=\"&B797))","v":367},0,7.8591637849732783E-5,0]
["03-368","03","E1303","ENCADREMENT DES INDUSTRIES GRAPHIQUES",1,".",{"$f":"IF(C798=\"\",\"\",COUNTIF($B$2:B798,\"=\"&B798))","v":368},0,7.8591637849732783E-5,0]
["03-369","03","A1413","FERMENTATION DE BOISSONS ALCOOLISÉES",1,".",{"$f":"IF(C799=\"\",\"\",COUNTIF($B$2:B799,\"=\"&B799))","v":369},0,7.8591637849732783E-5,0]
["03-370","03","M1207","TRÉSORERIE ET FINANCEMENT",1,1,{"$f":"IF(C800=\"\",\"\",COUNTIF($B$2:B800,\"=\"&B800))","v":370},0,7.8591637849732783E-5,1]
["03-371","03","N1202","GESTION DES OPÉRATIONS DE CIRCULATION INTERNATIONALE DES MARCHANDISES",1,1,{"$f":"IF(C801=\"\",\"\",COUNTIF($B$2:B801,\"=\"&B801))","v":371},0,7.8591637849732783E-5,1]
["03-372","03","K2502","MANAGEMENT DE SÉCURITÉ PRIVÉE",1,".",{"$f":"IF(C802=\"\",\"\",COUNTIF($B$2:B802,\"=\"&B802))","v":372},0,7.8591637849732783E-5,0]
["03-373","03","L1508","PRISE DE SON ET SONORISATION",1,".",{"$f":"IF(C803=\"\",\"\",COUNTIF($B$2:B803,\"=\"&B803))","v":373},0,7.8591637849732783E-5,0]
["03-374","03","K2101","CONSEIL EN FORMATION",1,1,{"$f":"IF(C804=\"\",\"\",COUNTIF($B$2:B804,\"=\"&B804))","v":374},0,7.8591637849732783E-5,1]
["07-1","07","G1602","PERSONNEL DE CUISINE",525,169,{"$f":"IF(C805=\"\",\"\",COUNTIF($B$2:B805,\"=\"&B805))","v":1},530,3.6626203432398495E-2,0.32190476190476192]
["07-2","07","J1501","SOINS D'HYGIÈNE, DE CONFORT DU PATIENT",496,165,{"$f":"IF(C806=\"\",\"\",COUNTIF($B$2:B806,\"=\"&B806))","v":2},500,3.4603041718989813E-2,0.33266129032258063]
["07-3","07","K1304","SERVICES DOMESTIQUES",483,239,{"$f":"IF(C807=\"\",\"\",COUNTIF($B$2:B807,\"=\"&B807))","v":3},480,3.3696107157806611E-2,0.49482401656314701]
["07-4","07","G1803","SERVICE EN RESTAURATION",482,122,{"$f":"IF(C808=\"\",\"\",COUNTIF($B$2:B808,\"=\"&B808))","v":4},480,3.3626342960792518E-2,0.25311203319502074]
["07-5","07","J1506","SOINS INFIRMIERS GÉNÉRALISTES",366,166,{"$f":"IF(C809=\"\",\"\",COUNTIF($B$2:B809,\"=\"&B809))","v":5},370,2.5533696107157805E-2,0.45355191256830601]
["07-6","07","K2204","NETTOYAGE DE LOCAUX",338,110,{"$f":"IF(C810=\"\",\"\",COUNTIF($B$2:B810,\"=\"&B810))","v":6},340,2.3580298590763219E-2,0.32544378698224852]
["07-7","07","N1103","MAGASINAGE ET PRÉPARATION DE COMMANDES",316,87,{"$f":"IF(C811=\"\",\"\",COUNTIF($B$2:B811,\"=\"&B811))","v":7},320,2.2045486256453188E-2,0.27531645569620256]
["07-8","07","K1302","ASSISTANCE AUPRÈS D'ADULTES",297,168,{"$f":"IF(C812=\"\",\"\",COUNTIF($B$2:B812,\"=\"&B812))","v":8},300,2.0719966513185435E-2,0.56565656565656564]
["07-9","07","J1301","PERSONNEL POLYVALENT DES SERVICES HOSPITALIERS",263,91,{"$f":"IF(C813=\"\",\"\",COUNTIF($B$2:B813,\"=\"&B813))","v":9},260,1.8347983814706294E-2,0.34600760456273766]
["07-10","07","G1603","PERSONNEL POLYVALENT EN RESTAURATION",240,150,{"$f":"IF(C814=\"\",\"\",COUNTIF($B$2:B814,\"=\"&B814))","v":10},240,1.6743407283382167E-2,0.625]
["07-11","07","N4101","CONDUITE DE TRANSPORT DE MARCHANDISES SUR LONGUE DISTANCE",233,99,{"$f":"IF(C815=\"\",\"\",COUNTIF($B$2:B815,\"=\"&B815))","v":11},230,1.6255057904283523E-2,0.42489270386266093]
["07-12","07","N4103","CONDUITE DE TRANSPORT EN COMMUN SUR ROUTE",220,154,{"$f":"IF(C816=\"\",\"\",COUNTIF($B$2:B816,\"=\"&B816))","v":12},220,1.5348123343100321E-2,0.7]
["07-13","07","F1703","MAÇONNERIE",217,76,{"$f":"IF(C817=\"\",\"\",COUNTIF($B$2:B817,\"=\"&B817))","v":13},220,1.5138830752058043E-2,0.35023041474654376]
["07-14","07","G1501","PERSONNEL D'ÉTAGE",217,31,{"$f":"IF(C818=\"\",\"\",COUNTIF($B$2:B818,\"=\"&B818))","v":14},220,1.5138830752058043E-2,0.14285714285714285]
["07-15","07","H3302","OPÉRATIONS MANUELLES D'ASSEMBLAGE, TRI OU EMBALLAGE",215,61,{"$f":"IF(C819=\"\",\"\",COUNTIF($B$2:B819,\"=\"&B819))","v":15},220,1.4999302358029858E-2,0.28372093023255812]
["07-16","07","D1106","VENTE EN ALIMENTATION",212,128,{"$f":"IF(C820=\"\",\"\",COUNTIF($B$2:B820,\"=\"&B820))","v":16},210,1.4790009766987583E-2,0.60377358490566035]
["07-17","07","I1203","MAINTENANCE DES BÂTIMENTS ET DES LOCAUX",202,90,{"$f":"IF(C821=\"\",\"\",COUNTIF($B$2:B821,\"=\"&B821))","v":17},200,1.4092367796846658E-2,0.44554455445544555]
["07-18","07","M1203","COMPTABILITÉ",197,115,{"$f":"IF(C822=\"\",\"\",COUNTIF($B$2:B822,\"=\"&B822))","v":18},200,1.3743546811776197E-2,0.58375634517766495]
["07-19","07","G1203","ANIMATION DE LOISIRS AUPRÈS D'ENFANTS OU D'ADOLESCENTS",177,54,{"$f":"IF(C823=\"\",\"\",COUNTIF($B$2:B823,\"=\"&B823))","v":19},180,1.2348262871494349E-2,0.30508474576271188]
["07-20","07","D1101","BOUCHERIE",169,152,{"$f":"IF(C824=\"\",\"\",COUNTIF($B$2:B824,\"=\"&B824))","v":20},170,1.179014929538161E-2,0.89940828402366868]
["07-21","07","D1408","TÉLÉCONSEIL ET TÉLÉVENTE",157,70,{"$f":"IF(C825=\"\",\"\",COUNTIF($B$2:B825,\"=\"&B825))","v":21},160,1.0952978931212502E-2,0.44585987261146498]
["07-22","07","D1507","MISE EN RAYON LIBRE-SERVICE",151,37,{"$f":"IF(C826=\"\",\"\",COUNTIF($B$2:B826,\"=\"&B826))","v":22},150,1.0534393749127947E-2,0.24503311258278146]
["07-23","07","G1605","PLONGE EN RESTAURATION",142,38,{"$f":"IF(C827=\"\",\"\",COUNTIF($B$2:B827,\"=\"&B827))","v":23},140,9.9065159760011161E-3,0.26760563380281688]
["07-24","07","I1604","MÉCANIQUE AUTOMOBILE ET ENTRETIEN DE VÉHICULES",142,106,{"$f":"IF(C828=\"\",\"\",COUNTIF($B$2:B828,\"=\"&B828))","v":24},140,9.9065159760011161E-3,0.74647887323943662]
["07-25","07","F1603","INSTALLATION D'ÉQUIPEMENTS SANITAIRES ET THERMIQUES",141,73,{"$f":"IF(C829=\"\",\"\",COUNTIF($B$2:B829,\"=\"&B829))","v":25},140,9.8367517789870237E-3,0.51773049645390068]
["07-26","07","D1401","ASSISTANAT COMMERCIAL",138,94,{"$f":"IF(C830=\"\",\"\",COUNTIF($B$2:B830,\"=\"&B830))","v":26},140,9.6274591879447462E-3,0.6811594202898551]
["07-27","07","H2102","CONDUITE D'ÉQUIPEMENT DE PRODUCTION ALIMENTAIRE",137,68,{"$f":"IF(C831=\"\",\"\",COUNTIF($B$2:B831,\"=\"&B831))","v":27},140,9.5576949909306538E-3,0.49635036496350365]
["07-28","07","I1304","INSTALLATION ET MAINTENANCE D'ÉQUIPEMENTS INDUSTRIELS ET D'EXPLOITATION",134,117,{"$f":"IF(C832=\"\",\"\",COUNTIF($B$2:B832,\"=\"&B832))","v":28},130,9.3484023998883781E-3,0.87313432835820892]
["07-29","07","F1704","PRÉPARATION DU GROS OEUVRE ET DES TRAVAUX PUBLICS",132,29,{"$f":"IF(C833=\"\",\"\",COUNTIF($B$2:B833,\"=\"&B833))","v":29},{"$f":"ROUND(E833,-1)","v":130},9.2088740058601931E-3,{"$f":"IF(OR(F833=\"\",F833=\".\"),0,F833/E833)","v":0.2196969696969697}]
["07-30","07","M1607","SECRÉTARIAT",130,73,{"$f":"IF(C834=\"\",\"\",COUNTIF($B$2:B834,\"=\"&B834))","v":30},130,{"$f":"E834/SUMIF(B:B,B834,E:E)","v":9.0693456118320082E-3},0.56153846153846154]
[{"$f":"B835&\"-\"&G835","v":"07-31"},"07","K1207","INTERVENTION SOCIOÉDUCATIVE",124,66,{"$f":"IF(C835=\"\",\"\",COUNTIF($B$2:B835,\"=\"&B835))","v":31},120,8.6507604297474533E-3,0.532258064516129]
["07-32","07","F1602","ÉLECTRICITÉ BÂTIMENT",123,46,{"$f":"IF(C836=\"\",\"\",COUNTIF($B$2:B836,\"=\"&B836))","v":32},120,8.5809962327333608E-3,0.37398373983739835]
["07-33","07","A1401","AIDE AGRICOLE DE PRODUCTION FRUITIÈRE OU VITICOLE",114,1,{"$f":"IF(C837=\"\",\"\",COUNTIF($B$2:B837,\"=\"&B837))","v":33},110,7.9531184596065303E-3,8.771929824561403E-3]
["07-34","07","K1303","ASSISTANCE AUPRÈS D'ENFANTS",111,80,{"$f":"IF(C838=\"\",\"\",COUNTIF($B$2:B838,\"=\"&B838))","v":34},110,7.7438258685642528E-3,0.72072072072072069]
["07-35","07","H2909","MONTAGE-ASSEMBLAGE MÉCANIQUE",110,70,{"$f":"IF(C839=\"\",\"\",COUNTIF($B$2:B839,\"=\"&B839))","v":35},110,7.6740616715501603E-3,0.63636363636363635]
["07-36","07","N1101","CONDUITE D'ENGINS DE DÉPLACEMENT DES CHARGES",106,69,{"$f":"IF(C840=\"\",\"\",COUNTIF($B$2:B840,\"=\"&B840))","v":36},110,7.3950048834937913E-3,0.65094339622641506]
["07-37","07","G1801","CAFÉ, BAR BRASSERIE",99,21,{"$f":"IF(C841=\"\",\"\",COUNTIF($B$2:B841,\"=\"&B841))","v":37},100,6.9066555043951448E-3,0.21212121212121213]
["07-38","07","I1401","MAINTENANCE INFORMATIQUE ET BUREAUTIQUE",99,94,{"$f":"IF(C842=\"\",\"\",COUNTIF($B$2:B842,\"=\"&B842))","v":38},100,6.9066555043951448E-3,0.9494949494949495]
["07-39","07","D1104","PÂTISSERIE, CONFISERIE, CHOCOLATERIE ET GLACERIE",98,79,{"$f":"IF(C843=\"\",\"\",COUNTIF($B$2:B843,\"=\"&B843))","v":39},100,6.8368913073810524E-3,0.80612244897959184]
["07-40","07","M1602","OPÉRATIONS ADMINISTRATIVES",98,18,{"$f":"IF(C844=\"\",\"\",COUNTIF($B$2:B844,\"=\"&B844))","v":40},100,6.8368913073810524E-3,0.18367346938775511]
["07-41","07","K2107","ENSEIGNEMENT GÉNÉRAL DU SECOND DEGRÉ",95,33,{"$f":"IF(C845=\"\",\"\",COUNTIF($B$2:B845,\"=\"&B845))","v":41},100,6.6275987163387749E-3,0.3473684210526316]
["07-42","07","N4105","CONDUITE ET LIVRAISON PAR TOURNÉES SUR COURTE DISTANCE",94,39,{"$f":"IF(C846=\"\",\"\",COUNTIF($B$2:B846,\"=\"&B846))","v":42},90,6.5578345193246824E-3,0.41489361702127658]
["07-43","07","F1607","POSE DE FERMETURES MENUISÉES",94,63,{"$f":"IF(C847=\"\",\"\",COUNTIF($B$2:B847,\"=\"&B847))","v":43},90,6.5578345193246824E-3,0.67021276595744683]
["07-44","07","G1703","RÉCEPTION EN HÔTELLERIE",93,16,{"$f":"IF(C848=\"\",\"\",COUNTIF($B$2:B848,\"=\"&B848))","v":44},90,6.48807032231059E-3,0.17204301075268819]
["07-45","07","G1204","ÉDUCATION EN ACTIVITÉS SPORTIVES",93,21,{"$f":"IF(C849=\"\",\"\",COUNTIF($B$2:B849,\"=\"&B849))","v":45},90,6.48807032231059E-3,0.22580645161290322]
["07-46","07","A1405","ARBORICULTURE ET VITICULTURE",90,11,{"$f":"IF(C850=\"\",\"\",COUNTIF($B$2:B850,\"=\"&B850))","v":46},90,6.2787777312683134E-3,0.12222222222222222]
["07-47","07","G1604","FABRICATION DE CRÊPES OU PIZZAS",90,22,{"$f":"IF(C851=\"\",\"\",COUNTIF($B$2:B851,\"=\"&B851))","v":47},90,6.2787777312683134E-3,0.24444444444444444]
["07-48","07","A1203","AMÉNAGEMENT ET ENTRETIEN DES ESPACES VERTS",89,33,{"$f":"IF(C852=\"\",\"\",COUNTIF($B$2:B852,\"=\"&B852))","v":48},90,6.2090135342542209E-3,0.3707865168539326]
["07-49","07","D1505","PERSONNEL DE CAISSE",80,20,{"$f":"IF(C853=\"\",\"\",COUNTIF($B$2:B853,\"=\"&B853))","v":49},80,5.5811357611273895E-3,0.25]
["07-50","07","M1601","ACCUEIL ET RENSEIGNEMENTS",80,29,{"$f":"IF(C854=\"\",\"\",COUNTIF($B$2:B854,\"=\"&B854))","v":50},80,5.5811357611273895E-3,0.36249999999999999]
["07-51","07","F1604","MONTAGE D'AGENCEMENTS",79,20,{"$f":"IF(C855=\"\",\"\",COUNTIF($B$2:B855,\"=\"&B855))","v":51},80,5.511371564113297E-3,0.25316455696202533]
["07-52","07","D1212","VENTE EN DÉCORATION ET ÉQUIPEMENT DU FOYER",78,63,{"$f":"IF(C856=\"\",\"\",COUNTIF($B$2:B856,\"=\"&B856))","v":52},80,5.4416073670992045E-3,0.80769230769230771]
["07-53","07","D1202","COIFFURE",76,59,{"$f":"IF(C857=\"\",\"\",COUNTIF($B$2:B857,\"=\"&B857))","v":53},80,5.3020789730710196E-3,0.77631578947368418]
["07-54","07","K1301","ACCOMPAGNEMENT MÉDICOSOCIAL",75,29,{"$f":"IF(C858=\"\",\"\",COUNTIF($B$2:B858,\"=\"&B858))","v":54},80,5.232314776056928E-3,0.38666666666666666]
["07-55","07","D1102","BOULANGERIE - VIENNOISERIE",75,64,{"$f":"IF(C859=\"\",\"\",COUNTIF($B$2:B859,\"=\"&B859))","v":55},80,5.232314776056928E-3,0.85333333333333339]
["07-56","07","F1606","PEINTURE EN BÂTIMENT",73,26,{"$f":"IF(C860=\"\",\"\",COUNTIF($B$2:B860,\"=\"&B860))","v":56},70,5.092786382028743E-3,0.35616438356164382]
["07-57","07","N1105","MANUTENTION MANUELLE DE CHARGES",70,24,{"$f":"IF(C861=\"\",\"\",COUNTIF($B$2:B861,\"=\"&B861))","v":57},70,4.8834937909864656E-3,0.34285714285714286]
["07-58","07","K2111","FORMATION PROFESSIONNELLE",69,30,{"$f":"IF(C862=\"\",\"\",COUNTIF($B$2:B862,\"=\"&B862))","v":58},70,4.8137295939723731E-3,0.43478260869565216]
["07-59","07","G1202","ANIMATION D'ACTIVITÉS CULTURELLES OU LUDIQUES",65,28,{"$f":"IF(C863=\"\",\"\",COUNTIF($B$2:B863,\"=\"&B863))","v":59},70,4.5346728059160041E-3,0.43076923076923079]
["07-60","07","H2206","RÉALISATION DE MENUISERIE BOIS ET TONNELLERIE",64,35,{"$f":"IF(C864=\"\",\"\",COUNTIF($B$2:B864,\"=\"&B864))","v":60},60,4.4649086089019116E-3,0.546875]
["07-61","07","M1805","ÉTUDES ET DÉVELOPPEMENT INFORMATIQUE",62,58,{"$f":"IF(C865=\"\",\"\",COUNTIF($B$2:B865,\"=\"&B865))","v":61},60,4.3253802148737266E-3,0.93548387096774188]
["07-62","07","K2503","SÉCURITÉ ET SURVEILLANCE PRIVÉES",62,28,{"$f":"IF(C866=\"\",\"\",COUNTIF($B$2:B866,\"=\"&B866))","v":62},60,4.3253802148737266E-3,0.45161290322580644]
["07-63","07","D1209","VENTE DE VÉGÉTAUX",62,46,{"$f":"IF(C867=\"\",\"\",COUNTIF($B$2:B867,\"=\"&B867))","v":63},60,4.3253802148737266E-3,0.74193548387096775]
["07-64","07","K1801","CONSEIL EN EMPLOI ET INSERTION SOCIOPROFESSIONNELLE",60,37,{"$f":"IF(C868=\"\",\"\",COUNTIF($B$2:B868,\"=\"&B868))","v":64},60,4.1858518208455417E-3,0.6166666666666667]
["07-65","07","F1302","CONDUITE D'ENGINS DE TERRASSEMENT ET DE CARRIÈRE",60,25,{"$f":"IF(C869=\"\",\"\",COUNTIF($B$2:B869,\"=\"&B869))","v":65},60,4.1858518208455417E-3,0.41666666666666669]
["07-66","07","M1609","SECRÉTARIAT ET ASSISTANAT MÉDICAL OU MÉDICO-SOCIAL",59,26,{"$f":"IF(C870=\"\",\"\",COUNTIF($B$2:B870,\"=\"&B870))","v":66},60,4.1160876238314501E-3,0.44067796610169491]
["07-67","07","K2304","REVALORISATION DE PRODUITS INDUSTRIELS",58,47,{"$f":"IF(C871=\"\",\"\",COUNTIF($B$2:B871,\"=\"&B871))","v":67},60,4.0463234268173576E-3,0.81034482758620685]
["07-68","07","M1501","ASSISTANAT EN RESSOURCES HUMAINES",56,30,{"$f":"IF(C872=\"\",\"\",COUNTIF($B$2:B872,\"=\"&B872))","v":68},60,3.9067950327891727E-3,0.5357142857142857]
["07-69","07","K1201","ACTION SOCIALE",55,31,{"$f":"IF(C873=\"\",\"\",COUNTIF($B$2:B873,\"=\"&B873))","v":69},60,3.8370308357750802E-3,0.5636363636363636]
["07-70","07","G1601","MANAGEMENT DU PERSONNEL DE CUISINE",55,29,{"$f":"IF(C874=\"\",\"\",COUNTIF($B$2:B874,\"=\"&B874))","v":70},60,3.8370308357750802E-3,0.52727272727272723]
["07-71","07","D1208","SOINS ESTHÉTIQUES ET CORPORELS",54,26,{"$f":"IF(C875=\"\",\"\",COUNTIF($B$2:B875,\"=\"&B875))","v":71},50,3.7672666387609877E-3,0.48148148148148145]
["07-72","07","K1203","ENCADREMENT TECHNIQUE EN INSERTION PROFESSIONNELLE",54,31,{"$f":"IF(C876=\"\",\"\",COUNTIF($B$2:B876,\"=\"&B876))","v":72},50,3.7672666387609877E-3,0.57407407407407407]
["07-73","07","K1104","PSYCHOLOGIE",53,34,{"$f":"IF(C877=\"\",\"\",COUNTIF($B$2:B877,\"=\"&B877))","v":73},50,3.6975024417468957E-3,0.64150943396226412]
["07-74","07","H1404","INTERVENTION TECHNIQUE EN MÉTHODES ET INDUSTRIALISATION",52,40,{"$f":"IF(C878=\"\",\"\",COUNTIF($B$2:B878,\"=\"&B878))","v":74},50,3.6277382447328032E-3,0.76923076923076927]
["07-75","07","H2903","CONDUITE D'ÉQUIPEMENT D'USINAGE",51,35,{"$f":"IF(C879=\"\",\"\",COUNTIF($B$2:B879,\"=\"&B879))","v":75},50,3.5579740477187107E-3,0.68627450980392157]
["07-76","07","H2913","SOUDAGE MANUEL",51,17,{"$f":"IF(C880=\"\",\"\",COUNTIF($B$2:B880,\"=\"&B880))","v":76},50,3.5579740477187107E-3,0.33333333333333331]
["07-77","07","H2404","CONDUITE DE MACHINE DE PRODUCTION ET TRANSFORMATION DES FILS",49,33,{"$f":"IF(C881=\"\",\"\",COUNTIF($B$2:B881,\"=\"&B881))","v":77},50,3.4184456536905262E-3,0.67346938775510201]
["07-78","07","H2401","ASSEMBLAGE - MONTAGE D'ARTICLES EN CUIRS, PEAUX",46,21,{"$f":"IF(C882=\"\",\"\",COUNTIF($B$2:B882,\"=\"&B882))","v":78},50,3.2091530626482487E-3,0.45652173913043476]
["07-79","07","K1802","DÉVELOPPEMENT LOCAL",44,28,{"$f":"IF(C883=\"\",\"\",COUNTIF($B$2:B883,\"=\"&B883))","v":79},40,3.0696246686200642E-3,0.63636363636363635]
["07-80","07","M1603","DISTRIBUTION DE DOCUMENTS",44,4,{"$f":"IF(C884=\"\",\"\",COUNTIF($B$2:B884,\"=\"&B884))","v":80},40,3.0696246686200642E-3,9.0909090909090912E-2]
["07-81","07","H1502","MANAGEMENT ET INGÉNIERIE QUALITÉ INDUSTRIELLE",44,40,{"$f":"IF(C885=\"\",\"\",COUNTIF($B$2:B885,\"=\"&B885))","v":81},40,3.0696246686200642E-3,0.90909090909090906]
["07-82","07","G1502","PERSONNEL POLYVALENT D'HÔTELLERIE",44,8,{"$f":"IF(C886=\"\",\"\",COUNTIF($B$2:B886,\"=\"&B886))","v":82},40,3.0696246686200642E-3,0.18181818181818182]
["07-83","07","K1206","INTERVENTION SOCIOCULTURELLE",40,24,{"$f":"IF(C887=\"\",\"\",COUNTIF($B$2:B887,\"=\"&B887))","v":83},40,2.7905678805636948E-3,0.6]
["07-84","07","J1102","MÉDECINE GÉNÉRALISTE ET SPÉCIALISÉE",40,39,{"$f":"IF(C888=\"\",\"\",COUNTIF($B$2:B888,\"=\"&B888))","v":84},40,2.7905678805636948E-3,0.97499999999999998]
["07-85","07","J1502","COORDINATION DE SERVICES MÉDICAUX OU PARAMÉDICAUX",39,32,{"$f":"IF(C889=\"\",\"\",COUNTIF($B$2:B889,\"=\"&B889))","v":85},40,2.7208036835496023E-3,0.82051282051282048]
["07-86","07","H1503","INTERVENTION TECHNIQUE EN LABORATOIRE D'ANALYSE INDUSTRIELLE",38,22,{"$f":"IF(C890=\"\",\"\",COUNTIF($B$2:B890,\"=\"&B890))","v":86},40,2.6510394865355098E-3,0.57894736842105265]
["07-87","07","D1211","VENTE EN ARTICLES DE SPORT ET LOISIRS",38,17,{"$f":"IF(C891=\"\",\"\",COUNTIF($B$2:B891,\"=\"&B891))","v":87},40,2.6510394865355098E-3,0.44736842105263158]
["07-88","07","A1301","CONSEIL ET ASSISTANCE TECHNIQUE EN AGRICULTURE ET ENVIRONNEMENT NATUREL",38,10,{"$f":"IF(C892=\"\",\"\",COUNTIF($B$2:B892,\"=\"&B892))","v":88},40,2.6510394865355098E-3,0.26315789473684209]
["07-89","07","G1101","ACCUEIL TOURISTIQUE",37,6,{"$f":"IF(C893=\"\",\"\",COUNTIF($B$2:B893,\"=\"&B893))","v":89},40,2.5812752895214178E-3,0.16216216216216217]
["07-90","07","K2104","ÉDUCATION ET SURVEILLANCE AU SEIN D'ÉTABLISSEMENTS D'ENSEIGNEMENT",37,29,{"$f":"IF(C894=\"\",\"\",COUNTIF($B$2:B894,\"=\"&B894))","v":90},40,2.5812752895214178E-3,0.78378378378378377]
["07-91","07","D1214","VENTE EN HABILLEMENT ET ACCESSOIRES DE LA PERSONNE",37,18,{"$f":"IF(C895=\"\",\"\",COUNTIF($B$2:B895,\"=\"&B895))","v":91},40,2.5812752895214178E-3,0.48648648648648651]
["07-92","07","I1606","RÉPARATION DE CARROSSERIE",36,26,{"$f":"IF(C896=\"\",\"\",COUNTIF($B$2:B896,\"=\"&B896))","v":92},40,2.5115110925073253E-3,0.72222222222222221]
["07-93","07","H3404","PEINTURE INDUSTRIELLE",36,22,{"$f":"IF(C897=\"\",\"\",COUNTIF($B$2:B897,\"=\"&B897))","v":93},{"$f":"ROUND(E897,-1)","v":40},2.5115110925073253E-3,{"$f":"IF(OR(F897=\"\",F897=\".\"),0,F897/E897)","v":0.61111111111111116}]
["07-94","07","A1416","POLYCULTURE, ÉLEVAGE",36,10,{"$f":"IF(C898=\"\",\"\",COUNTIF($B$2:B898,\"=\"&B898))","v":94},40,{"$f":"E898/SUMIF(B:B,B898,E:E)","v":2.5115110925073253E-3},0.27777777777777779]
[{"$f":"B899&\"-\"&G899","v":"07-95"},"07","M1605","ASSISTANAT TECHNIQUE ET ADMINISTRATIF",35,24,{"$f":"IF(C899=\"\",\"\",COUNTIF($B$2:B899,\"=\"&B899))","v":95},40,2.4417468954932328E-3,0.68571428571428572]
["07-96","07","D1407","RELATION TECHNICO-COMMERCIALE",35,31,{"$f":"IF(C900=\"\",\"\",COUNTIF($B$2:B900,\"=\"&B900))","v":96},40,2.4417468954932328E-3,0.88571428571428568]
["07-97","07","D1402","RELATION COMMERCIALE GRANDS COMPTES ET ENTREPRISES",35,31,{"$f":"IF(C901=\"\",\"\",COUNTIF($B$2:B901,\"=\"&B901))","v":97},40,2.4417468954932328E-3,0.88571428571428568]
["07-98","07","K2303","NETTOYAGE DES ESPACES URBAINS",33,15,{"$f":"IF(C902=\"\",\"\",COUNTIF($B$2:B902,\"=\"&B902))","v":98},30,2.3022185014650483E-3,0.45454545454545453]
["07-99","07","H3301","CONDUITE D'ÉQUIPEMENT DE CONDITIONNEMENT",33,13,{"$f":"IF(C903=\"\",\"\",COUNTIF($B$2:B903,\"=\"&B903))","v":99},30,2.3022185014650483E-3,0.39393939393939392]
["07-100","07","K2109","ENSEIGNEMENT TECHNIQUE ET PROFESSIONNEL",32,21,{"$f":"IF(C904=\"\",\"\",COUNTIF($B$2:B904,\"=\"&B904))","v":100},30,2.2324543044509558E-3,0.65625]
["07-101","07","J1304","AIDE EN PUÉRICULTURE",31,9,{"$f":"IF(C905=\"\",\"\",COUNTIF($B$2:B905,\"=\"&B905))","v":101},30,2.1626901074368633E-3,0.29032258064516131]
["07-102","07","H2905","CONDUITE D'ÉQUIPEMENT DE FORMAGE ET DÉCOUPAGE DES MATÉRIAUX",30,22,{"$f":"IF(C906=\"\",\"\",COUNTIF($B$2:B906,\"=\"&B906))","v":102},30,2.0929259104227708E-3,0.73333333333333328]
["07-103","07","H2101","ABATTAGE ET DÉCOUPE DES VIANDES",30,19,{"$f":"IF(C907=\"\",\"\",COUNTIF($B$2:B907,\"=\"&B907))","v":103},30,2.0929259104227708E-3,0.6333333333333333]
["07-104","07","A1201","BÛCHERONNAGE ET ÉLAGAGE",29,14,{"$f":"IF(C908=\"\",\"\",COUNTIF($B$2:B908,\"=\"&B908))","v":104},30,2.0231617134086788E-3,0.48275862068965519]
["07-105","07","H2402","ASSEMBLAGE - MONTAGE DE VÊTEMENTS ET PRODUITS TEXTILES",29,2,{"$f":"IF(C909=\"\",\"\",COUNTIF($B$2:B909,\"=\"&B909))","v":105},30,2.0231617134086788E-3,6.8965517241379309E-2]
["07-106","07","N4102","CONDUITE DE TRANSPORT DE PARTICULIERS",28,16,{"$f":"IF(C910=\"\",\"\",COUNTIF($B$2:B910,\"=\"&B910))","v":106},30,1.9533975163945863E-3,0.5714285714285714]
["07-107","07","J1202","PHARMACIE",28,24,{"$f":"IF(C911=\"\",\"\",COUNTIF($B$2:B911,\"=\"&B911))","v":107},30,1.9533975163945863E-3,0.8571428571428571]
["07-108","07","I1607","RÉPARATION DE CYCLES, MOTOCYCLES ET MOTOCULTEURS DE LOISIRS",28,23,{"$f":"IF(C912=\"\",\"\",COUNTIF($B$2:B912,\"=\"&B912))","v":108},30,1.9533975163945863E-3,0.8214285714285714]
["07-109","07","D1203","HYDROTHÉRAPIE",28,".",{"$f":"IF(C913=\"\",\"\",COUNTIF($B$2:B913,\"=\"&B913))","v":109},30,1.9533975163945863E-3,0]
["07-110","07","A1202","ENTRETIEN DES ESPACES NATURELS",27,26,{"$f":"IF(C914=\"\",\"\",COUNTIF($B$2:B914,\"=\"&B914))","v":110},30,1.8836333193804938E-3,0.96296296296296291]
["07-111","07","I1309","MAINTENANCE ÉLECTRIQUE",27,18,{"$f":"IF(C915=\"\",\"\",COUNTIF($B$2:B915,\"=\"&B915))","v":111},30,1.8836333193804938E-3,0.66666666666666663]
["07-112","07","K1204","MÉDIATION SOCIALE ET FACILITATION DE LA VIE EN SOCIÉTÉ",27,9,{"$f":"IF(C916=\"\",\"\",COUNTIF($B$2:B916,\"=\"&B916))","v":112},30,1.8836333193804938E-3,0.33333333333333331]
["07-113","07","D1403","RELATION COMMERCIALE AUPRÈS DE PARTICULIERS",27,24,{"$f":"IF(C917=\"\",\"\",COUNTIF($B$2:B917,\"=\"&B917))","v":113},30,1.8836333193804938E-3,0.88888888888888884]
["07-114","07","K2201","BLANCHISSERIE INDUSTRIELLE",25,5,{"$f":"IF(C918=\"\",\"\",COUNTIF($B$2:B918,\"=\"&B918))","v":114},30,1.7441049253523091E-3,0.2]
["07-115","07","J1307","PRÉPARATION EN PHARMACIE",25,10,{"$f":"IF(C919=\"\",\"\",COUNTIF($B$2:B919,\"=\"&B919))","v":115},30,1.7441049253523091E-3,0.4]
["07-116","07","J1412","RÉÉDUCATION EN PSYCHOMOTRICITÉ",25,13,{"$f":"IF(C920=\"\",\"\",COUNTIF($B$2:B920,\"=\"&B920))","v":116},30,1.7441049253523091E-3,0.52]
["07-117","07","H1403","INTERVENTION TECHNIQUE EN GESTION INDUSTRIELLE ET LOGISTIQUE",25,20,{"$f":"IF(C921=\"\",\"\",COUNTIF($B$2:B921,\"=\"&B921))","v":117},30,1.7441049253523091E-3,0.8]
["07-118","07","F1501","MONTAGE DE STRUCTURES ET DE CHARPENTES BOIS",25,5,{"$f":"IF(C922=\"\",\"\",COUNTIF($B$2:B922,\"=\"&B922))","v":118},30,1.7441049253523091E-3,0.2]
["07-119","07","F1610","POSE ET RESTAURATION DE COUVERTURES",25,20,{"$f":"IF(C923=\"\",\"\",COUNTIF($B$2:B923,\"=\"&B923))","v":119},30,1.7441049253523091E-3,0.8]
["07-120","07","K1403","MANAGEMENT DE STRUCTURE DE SANTÉ, SOCIALE OU PÉNITENTIAIRE",24,14,{"$f":"IF(C924=\"\",\"\",COUNTIF($B$2:B924,\"=\"&B924))","v":120},20,1.6743407283382169E-3,0.58333333333333337]
["07-121","07","H2504","ENCADREMENT D'ÉQUIPE EN INDUSTRIE DE TRANSFORMATION",24,22,{"$f":"IF(C925=\"\",\"\",COUNTIF($B$2:B925,\"=\"&B925))","v":121},20,1.6743407283382169E-3,0.91666666666666663]
["07-122","07","E1103","COMMUNICATION",24,19,{"$f":"IF(C926=\"\",\"\",COUNTIF($B$2:B926,\"=\"&B926))","v":122},20,1.6743407283382169E-3,0.79166666666666663]
["07-123","07","H2902","CHAUDRONNERIE - TÔLERIE",24,12,{"$f":"IF(C927=\"\",\"\",COUNTIF($B$2:B927,\"=\"&B927))","v":123},20,1.6743407283382169E-3,0.5]
["07-124","07","M1810","PRODUCTION ET EXPLOITATION DE SYSTÈMES D'INFORMATION",23,22,{"$f":"IF(C928=\"\",\"\",COUNTIF($B$2:B928,\"=\"&B928))","v":124},20,1.6045765313241244E-3,0.95652173913043481]
["07-125","07","D1301","MANAGEMENT DE MAGASIN DE DÉTAIL",22,20,{"$f":"IF(C929=\"\",\"\",COUNTIF($B$2:B929,\"=\"&B929))","v":125},20,1.5348123343100321E-3,0.90909090909090906]
["07-126","07","K2110","FORMATION EN CONDUITE DE VÉHICULES",22,13,{"$f":"IF(C930=\"\",\"\",COUNTIF($B$2:B930,\"=\"&B930))","v":126},20,1.5348123343100321E-3,0.59090909090909094]
["07-127","07","M1608","SECRÉTARIAT COMPTABLE",22,9,{"$f":"IF(C931=\"\",\"\",COUNTIF($B$2:B931,\"=\"&B931))","v":127},20,1.5348123343100321E-3,0.40909090909090912]
["07-128","07","M1202","AUDIT ET CONTRÔLE COMPTABLES ET FINANCIERS",22,22,{"$f":"IF(C932=\"\",\"\",COUNTIF($B$2:B932,\"=\"&B932))","v":128},20,1.5348123343100321E-3,1]
["07-129","07","J1404","KINÉSITHÉRAPIE",22,9,{"$f":"IF(C933=\"\",\"\",COUNTIF($B$2:B933,\"=\"&B933))","v":129},20,1.5348123343100321E-3,0.40909090909090912]
["07-130","07","D1210","VENTE EN ANIMALERIE",22,18,{"$f":"IF(C934=\"\",\"\",COUNTIF($B$2:B934,\"=\"&B934))","v":130},20,1.5348123343100321E-3,0.81818181818181823]
["07-131","07","M1502","DÉVELOPPEMENT DES RESSOURCES HUMAINES",21,12,{"$f":"IF(C935=\"\",\"\",COUNTIF($B$2:B935,\"=\"&B935))","v":131},20,1.4650481372959396E-3,0.5714285714285714]
["07-132","07","D1107","VENTE EN GROS DE PRODUITS FRAIS",21,21,{"$f":"IF(C936=\"\",\"\",COUNTIF($B$2:B936,\"=\"&B936))","v":132},20,1.4650481372959396E-3,1]
["07-133","07","K1305","INTERVENTION SOCIALE ET FAMILIALE",21,9,{"$f":"IF(C937=\"\",\"\",COUNTIF($B$2:B937,\"=\"&B937))","v":133},20,1.4650481372959396E-3,0.42857142857142855]
["07-134","07","H2413","PRÉPARATION DE FILS, MONTAGE DE MÉTIERS TEXTILES",20,13,{"$f":"IF(C938=\"\",\"\",COUNTIF($B$2:B938,\"=\"&B938))","v":134},20,1.3952839402818474E-3,0.65]
["07-135","07","F1608","POSE DE REVÊTEMENTS RIGIDES",20,10,{"$f":"IF(C939=\"\",\"\",COUNTIF($B$2:B939,\"=\"&B939))","v":135},20,1.3952839402818474E-3,0.5]
["07-136","07","G1802","MANAGEMENT DU SERVICE EN RESTAURATION",20,14,{"$f":"IF(C940=\"\",\"\",COUNTIF($B$2:B940,\"=\"&B940))","v":136},20,1.3952839402818474E-3,0.7]
["07-137","07","H2605","MONTAGE ET CÂBLAGE ÉLECTRONIQUE",20,19,{"$f":"IF(C941=\"\",\"\",COUNTIF($B$2:B941,\"=\"&B941))","v":137},20,1.3952839402818474E-3,0.95]
["07-138","07","J1303","ASSISTANCE MÉDICO-TECHNIQUE",20,9,{"$f":"IF(C942=\"\",\"\",COUNTIF($B$2:B942,\"=\"&B942))","v":138},20,1.3952839402818474E-3,0.45]
["07-139","07","M1604","ASSISTANAT DE DIRECTION",20,13,{"$f":"IF(C943=\"\",\"\",COUNTIF($B$2:B943,\"=\"&B943))","v":139},20,1.3952839402818474E-3,0.65]
["07-140","07","K1903","DÉFENSE ET CONSEIL JURIDIQUE",19,12,{"$f":"IF(C944=\"\",\"\",COUNTIF($B$2:B944,\"=\"&B944))","v":140},20,1.3255197432677549E-3,0.63157894736842102]
["07-141","07","I1603","MAINTENANCE D'ENGINS DE CHANTIER, LEVAGE, MANUTENTION ET DE MACHINES AGRICOLES",19,16,{"$f":"IF(C945=\"\",\"\",COUNTIF($B$2:B945,\"=\"&B945))","v":141},20,1.3255197432677549E-3,0.84210526315789469]
["07-142","07","I1202","ENTRETIEN ET SURVEILLANCE DU TRACÉ ROUTIER",19,10,{"$f":"IF(C946=\"\",\"\",COUNTIF($B$2:B946,\"=\"&B946))","v":142},20,1.3255197432677549E-3,0.52631578947368418]
["07-143","07","H2901","AJUSTEMENT ET MONTAGE DE FABRICATION",19,14,{"$f":"IF(C947=\"\",\"\",COUNTIF($B$2:B947,\"=\"&B947))","v":143},20,1.3255197432677549E-3,0.73684210526315785]
["07-144","07","F1705","POSE DE CANALISATIONS",19,16,{"$f":"IF(C948=\"\",\"\",COUNTIF($B$2:B948,\"=\"&B948))","v":144},20,1.3255197432677549E-3,0.84210526315789469]
["07-145","07","H1206","MANAGEMENT ET INGÉNIERIE ÉTUDES, RECHERCHE ET DÉVELOPPEMENT INDUSTRIEL",19,18,{"$f":"IF(C949=\"\",\"\",COUNTIF($B$2:B949,\"=\"&B949))","v":145},20,1.3255197432677549E-3,0.94736842105263153]
["07-146","07","D1502","MANAGEMENT/GESTION DE RAYON PRODUITS ALIMENTAIRES",19,18,{"$f":"IF(C950=\"\",\"\",COUNTIF($B$2:B950,\"=\"&B950))","v":146},20,1.3255197432677549E-3,0.94736842105263153]
["07-147","07","H2604","MONTAGE DE PRODUITS ÉLECTRIQUES ET ÉLECTRONIQUES",19,14,{"$f":"IF(C951=\"\",\"\",COUNTIF($B$2:B951,\"=\"&B951))","v":147},20,1.3255197432677549E-3,0.73684210526315785]
["07-148","07","I1302","INSTALLATION ET MAINTENANCE D'AUTOMATISMES",18,9,{"$f":"IF(C952=\"\",\"\",COUNTIF($B$2:B952,\"=\"&B952))","v":148},20,1.2557555462536626E-3,0.5]
["07-149","07","C1504","TRANSACTION IMMOBILIÈRE",18,18,{"$f":"IF(C953=\"\",\"\",COUNTIF($B$2:B953,\"=\"&B953))","v":149},20,1.2557555462536626E-3,1]
["07-150","07","M1101","ACHATS",17,6,{"$f":"IF(C954=\"\",\"\",COUNTIF($B$2:B954,\"=\"&B954))","v":150},20,1.1859913492395702E-3,0.35294117647058826]
["07-151","07","M1503","MANAGEMENT DES RESSOURCES HUMAINES",17,10,{"$f":"IF(C955=\"\",\"\",COUNTIF($B$2:B955,\"=\"&B955))","v":151},20,1.1859913492395702E-3,0.58823529411764708]
["07-152","07","N1303","INTERVENTION TECHNIQUE D'EXPLOITATION LOGISTIQUE",16,11,{"$f":"IF(C956=\"\",\"\",COUNTIF($B$2:B956,\"=\"&B956))","v":152},20,1.1162271522254779E-3,0.6875]
["07-153","07","F1701","CONSTRUCTION EN BÉTON",16,2,{"$f":"IF(C957=\"\",\"\",COUNTIF($B$2:B957,\"=\"&B957))","v":153},20,1.1162271522254779E-3,0.125]
["07-154","07","I1402","RÉPARATION DE BIENS ÉLECTRODOMESTIQUES ET MULTIMÉDIA",16,16,{"$f":"IF(C958=\"\",\"\",COUNTIF($B$2:B958,\"=\"&B958))","v":154},20,1.1162271522254779E-3,1]
["07-155","07","J1403","ERGOTHÉRAPIE",16,12,{"$f":"IF(C959=\"\",\"\",COUNTIF($B$2:B959,\"=\"&B959))","v":155},20,1.1162271522254779E-3,0.75]
["07-156","07","F1201","CONDUITE DE TRAVAUX DU BTP ET DE TRAVAUX PAYSAGERS",16,13,{"$f":"IF(C960=\"\",\"\",COUNTIF($B$2:B960,\"=\"&B960))","v":156},20,1.1162271522254779E-3,0.8125]
["07-157","07","F1503","RÉALISATION - INSTALLATION D'OSSATURES BOIS",16,8,{"$f":"IF(C961=\"\",\"\",COUNTIF($B$2:B961,\"=\"&B961))","v":157},{"$f":"ROUND(E961,-1)","v":20},1.1162271522254779E-3,{"$f":"IF(OR(F961=\"\",F961=\".\"),0,F961/E961)","v":0.5}]
["07-158","07","G1401","ASSISTANCE DE DIRECTION D'HÔTEL-RESTAURANT",16,13,{"$f":"IF(C962=\"\",\"\",COUNTIF($B$2:B962,\"=\"&B962))","v":158},20,{"$f":"E962/SUMIF(B:B,B962,E:E)","v":1.1162271522254779E-3},0.8125]
[{"$f":"B963&\"-\"&G963","v":"07-159"},"07","A1414","HORTICULTURE ET MARAÎCHAGE",15,4,{"$f":"IF(C963=\"\",\"\",COUNTIF($B$2:B963,\"=\"&B963))","v":159},20,1.0464629552113854E-3,0.26666666666666666]
["07-160","07","F1611","RÉALISATION ET RESTAURATION DE FAÇADES",15,8,{"$f":"IF(C964=\"\",\"\",COUNTIF($B$2:B964,\"=\"&B964))","v":160},20,1.0464629552113854E-3,0.53333333333333333]
["07-161","07","D1501","ANIMATION DE VENTE",15,1,{"$f":"IF(C965=\"\",\"\",COUNTIF($B$2:B965,\"=\"&B965))","v":161},20,1.0464629552113854E-3,6.6666666666666666E-2]
["07-162","07","C1102","CONSEIL CLIENTÈLE EN ASSURANCES",14,8,{"$f":"IF(C966=\"\",\"\",COUNTIF($B$2:B966,\"=\"&B966))","v":162},10,9.7669875819729316E-4,0.5714285714285714]
["07-163","07","M1801","ADMINISTRATION DE SYSTÈMES D'INFORMATION",14,14,{"$f":"IF(C967=\"\",\"\",COUNTIF($B$2:B967,\"=\"&B967))","v":163},10,9.7669875819729316E-4,1]
["07-164","07","M1402","CONSEIL EN ORGANISATION ET MANAGEMENT D'ENTREPRISE",14,11,{"$f":"IF(C968=\"\",\"\",COUNTIF($B$2:B968,\"=\"&B968))","v":164},10,9.7669875819729316E-4,0.7857142857142857]
["07-165","07","H2502","MANAGEMENT ET INGÉNIERIE DE PRODUCTION",14,11,{"$f":"IF(C969=\"\",\"\",COUNTIF($B$2:B969,\"=\"&B969))","v":165},10,9.7669875819729316E-4,0.7857142857142857]
["07-166","07","H2602","CÂBLAGE ÉLECTRIQUE ET ÉLECTROMÉCANIQUE",14,7,{"$f":"IF(C970=\"\",\"\",COUNTIF($B$2:B970,\"=\"&B970))","v":166},10,9.7669875819729316E-4,0.5]
["07-167","07","G1503","MANAGEMENT DU PERSONNEL D'ÉTAGE",14,5,{"$f":"IF(C971=\"\",\"\",COUNTIF($B$2:B971,\"=\"&B971))","v":167},10,9.7669875819729316E-4,0.35714285714285715]
["07-168","07","A1410","ÉLEVAGE OVIN OU CAPRIN",14,4,{"$f":"IF(C972=\"\",\"\",COUNTIF($B$2:B972,\"=\"&B972))","v":168},10,9.7669875819729316E-4,0.2857142857142857]
["07-169","07","D1213","VENTE EN GROS DE MATÉRIEL ET ÉQUIPEMENT",14,5,{"$f":"IF(C973=\"\",\"\",COUNTIF($B$2:B973,\"=\"&B973))","v":169},10,9.7669875819729316E-4,0.35714285714285715]
["07-170","07","K1202","ÉDUCATION DE JEUNES ENFANTS",13,8,{"$f":"IF(C974=\"\",\"\",COUNTIF($B$2:B974,\"=\"&B974))","v":170},10,9.0693456118320079E-4,0.61538461538461542]
["07-171","07","H1203","CONCEPTION ET DESSIN PRODUITS MÉCANIQUES",13,12,{"$f":"IF(C975=\"\",\"\",COUNTIF($B$2:B975,\"=\"&B975))","v":171},10,9.0693456118320079E-4,0.92307692307692313]
["07-172","07","K1601","GESTION DE L'INFORMATION ET DE LA DOCUMENTATION",13,6,{"$f":"IF(C976=\"\",\"\",COUNTIF($B$2:B976,\"=\"&B976))","v":172},10,9.0693456118320079E-4,0.46153846153846156]
["07-173","07","D1508","ENCADREMENT DU PERSONNEL DE CAISSES",13,13,{"$f":"IF(C977=\"\",\"\",COUNTIF($B$2:B977,\"=\"&B977))","v":173},10,9.0693456118320079E-4,1]
["07-174","07","F1104","DESSIN BTP ET PAYSAGE",13,9,{"$f":"IF(C978=\"\",\"\",COUNTIF($B$2:B978,\"=\"&B978))","v":174},10,9.0693456118320079E-4,0.69230769230769229]
["07-175","07","A1413","FERMENTATION DE BOISSONS ALCOOLISÉES",12,8,{"$f":"IF(C979=\"\",\"\",COUNTIF($B$2:B979,\"=\"&B979))","v":175},10,8.3717036416910843E-4,0.66666666666666663]
["07-176","07","M1204","CONTRÔLE DE GESTION",12,7,{"$f":"IF(C980=\"\",\"\",COUNTIF($B$2:B980,\"=\"&B980))","v":176},10,8.3717036416910843E-4,0.58333333333333337]
["07-177","07","J1507","SOINS INFIRMIERS SPÉCIALISÉS EN PUÉRICULTURE",12,6,{"$f":"IF(C981=\"\",\"\",COUNTIF($B$2:B981,\"=\"&B981))","v":177},10,8.3717036416910843E-4,0.5]
["07-178","07","N1301","CONCEPTION ET ORGANISATION DE LA CHAÎNE LOGISTIQUE",12,11,{"$f":"IF(C982=\"\",\"\",COUNTIF($B$2:B982,\"=\"&B982))","v":178},10,8.3717036416910843E-4,0.91666666666666663]
["07-179","07","M1102","DIRECTION DES ACHATS",12,11,{"$f":"IF(C983=\"\",\"\",COUNTIF($B$2:B983,\"=\"&B983))","v":179},10,8.3717036416910843E-4,0.91666666666666663]
["07-180","07","H2301","CONDUITE D'ÉQUIPEMENT DE PRODUCTION CHIMIQUE OU PHARMACEUTIQUE",12,8,{"$f":"IF(C984=\"\",\"\",COUNTIF($B$2:B984,\"=\"&B984))","v":180},10,8.3717036416910843E-4,0.66666666666666663]
["07-181","07","H1506","INTERVENTION TECHNIQUE QUALITÉ EN MÉCANIQUE ET TRAVAIL DES MÉTAUX",12,11,{"$f":"IF(C985=\"\",\"\",COUNTIF($B$2:B985,\"=\"&B985))","v":181},10,8.3717036416910843E-4,0.91666666666666663]
["07-182","07","K2501","GARDIENNAGE DE LOCAUX",11,3,{"$f":"IF(C986=\"\",\"\",COUNTIF($B$2:B986,\"=\"&B986))","v":182},10,7.6740616715501606E-4,0.27272727272727271]
["07-183","07","K2106","ENSEIGNEMENT DES ÉCOLES",11,4,{"$f":"IF(C987=\"\",\"\",COUNTIF($B$2:B987,\"=\"&B987))","v":183},10,7.6740616715501606E-4,0.36363636363636365]
["07-184","07","H2503","PILOTAGE D'UNITÉ ÉLÉMENTAIRE DE PRODUCTION MÉCANIQUE OU DE TRAVAIL DES MÉTAUX",11,11,{"$f":"IF(C988=\"\",\"\",COUNTIF($B$2:B988,\"=\"&B988))","v":184},10,7.6740616715501606E-4,1]
["07-185","07","K2102","COORDINATION PÉDAGOGIQUE",11,10,{"$f":"IF(C989=\"\",\"\",COUNTIF($B$2:B989,\"=\"&B989))","v":185},10,7.6740616715501606E-4,0.90909090909090906]
["07-186","07","H3201","CONDUITE D'ÉQUIPEMENT DE FORMAGE DES PLASTIQUES ET CAOUTCHOUCS",11,8,{"$f":"IF(C990=\"\",\"\",COUNTIF($B$2:B990,\"=\"&B990))","v":186},10,7.6740616715501606E-4,0.72727272727272729]
["07-187","07","I1305","INSTALLATION ET MAINTENANCE ÉLECTRONIQUE",11,9,{"$f":"IF(C991=\"\",\"\",COUNTIF($B$2:B991,\"=\"&B991))","v":187},10,7.6740616715501606E-4,0.81818181818181823]
["07-188","07","F1202","DIRECTION DE CHANTIER DU BTP",11,6,{"$f":"IF(C992=\"\",\"\",COUNTIF($B$2:B992,\"=\"&B992))","v":188},10,7.6740616715501606E-4,0.54545454545454541]
["07-189","07","K1404","MISE EN OEUVRE ET PILOTAGE DE LA POLITIQUE DES POUVOIRS PUBLICS",10,7,{"$f":"IF(C993=\"\",\"\",COUNTIF($B$2:B993,\"=\"&B993))","v":189},10,6.9764197014092369E-4,0.7]
["07-190","07","M1707","STRATÉGIE COMMERCIALE",10,9,{"$f":"IF(C994=\"\",\"\",COUNTIF($B$2:B994,\"=\"&B994))","v":190},10,6.9764197014092369E-4,0.9]
["07-191","07","J1302","ANALYSES MÉDICALES",10,4,{"$f":"IF(C995=\"\",\"\",COUNTIF($B$2:B995,\"=\"&B995))","v":191},10,6.9764197014092369E-4,0.4]
["07-192","07","J1402","DIÉTÉTIQUE",10,10,{"$f":"IF(C996=\"\",\"\",COUNTIF($B$2:B996,\"=\"&B996))","v":192},10,6.9764197014092369E-4,1]
["07-193","07","J1306","IMAGERIE MÉDICALE",10,10,{"$f":"IF(C997=\"\",\"\",COUNTIF($B$2:B997,\"=\"&B997))","v":193},10,6.9764197014092369E-4,1]
["07-194","07","M1705","MARKETING",10,9,{"$f":"IF(C998=\"\",\"\",COUNTIF($B$2:B998,\"=\"&B998))","v":194},10,6.9764197014092369E-4,0.9]
["07-195","07","E1101","ANIMATION DE SITE MULTIMÉDIA",10,3,{"$f":"IF(C999=\"\",\"\",COUNTIF($B$2:B999,\"=\"&B999))","v":195},10,6.9764197014092369E-4,0.3]
["07-196","07","F1107","MESURES TOPOGRAPHIQUES",10,9,{"$f":"IF(C1000=\"\",\"\",COUNTIF($B$2:B1000,\"=\"&B1000))","v":196},10,6.9764197014092369E-4,0.9]
["07-197","07","J1410","PROTHÈSES DENTAIRES",10,10,{"$f":"IF(C1001=\"\",\"\",COUNTIF($B$2:B1001,\"=\"&B1001))","v":197},10,6.9764197014092369E-4,1]
["07-198","07","A1101","CONDUITE D'ENGINS AGRICOLES ET FORESTIERS",10,6,{"$f":"IF(C1002=\"\",\"\",COUNTIF($B$2:B1002,\"=\"&B1002))","v":198},10,6.9764197014092369E-4,0.6]
["07-199","07","B1806","TAPISSERIE - DÉCORATION EN AMEUBLEMENT",10,9,{"$f":"IF(C1003=\"\",\"\",COUNTIF($B$2:B1003,\"=\"&B1003))","v":199},10,6.9764197014092369E-4,0.9]
["07-200","07","M1803","DIRECTION DES SYSTÈMES D'INFORMATION",9,9,{"$f":"IF(C1004=\"\",\"\",COUNTIF($B$2:B1004,\"=\"&B1004))","v":200},10,6.2787777312683132E-4,1]
["07-201","07","K1902","COLLABORATION JURIDIQUE",9,6,{"$f":"IF(C1005=\"\",\"\",COUNTIF($B$2:B1005,\"=\"&B1005))","v":201},10,6.2787777312683132E-4,0.66666666666666663]
["07-202","07","K2301","DISTRIBUTION ET ASSAINISSEMENT D'EAU",9,6,{"$f":"IF(C1006=\"\",\"\",COUNTIF($B$2:B1006,\"=\"&B1006))","v":202},10,6.2787777312683132E-4,0.66666666666666663]
["07-203","07","H3203","FABRICATION DE PIÈCES EN MATÉRIAUX COMPOSITES",9,4,{"$f":"IF(C1007=\"\",\"\",COUNTIF($B$2:B1007,\"=\"&B1007))","v":203},10,6.2787777312683132E-4,0.44444444444444442]
["07-204","07","H2907","CONDUITE D'INSTALLATION DE PRODUCTION DES MÉTAUX",9,8,{"$f":"IF(C1008=\"\",\"\",COUNTIF($B$2:B1008,\"=\"&B1008))","v":204},10,6.2787777312683132E-4,0.88888888888888884]
["07-205","07","D1205","NETTOYAGE D'ARTICLES TEXTILES OU CUIRS",9,2,{"$f":"IF(C1009=\"\",\"\",COUNTIF($B$2:B1009,\"=\"&B1009))","v":205},10,6.2787777312683132E-4,0.22222222222222221]
["07-206","07","B1803","RÉALISATION DE VÊTEMENTS SUR MESURE OU EN PETITE SÉRIE",9,1,{"$f":"IF(C1010=\"\",\"\",COUNTIF($B$2:B1010,\"=\"&B1010))","v":206},10,6.2787777312683132E-4,0.1111111111111111]
["07-207","07","A1504","SANTÉ ANIMALE",9,6,{"$f":"IF(C1011=\"\",\"\",COUNTIF($B$2:B1011,\"=\"&B1011))","v":207},10,6.2787777312683132E-4,0.66666666666666663]
["07-208","07","I1310","MAINTENANCE MÉCANIQUE INDUSTRIELLE",9,2,{"$f":"IF(C1012=\"\",\"\",COUNTIF($B$2:B1012,\"=\"&B1012))","v":208},10,6.2787777312683132E-4,0.22222222222222221]
["07-209","07","A1412","FABRICATION ET AFFINAGE DE FROMAGES",9,5,{"$f":"IF(C1013=\"\",\"\",COUNTIF($B$2:B1013,\"=\"&B1013))","v":209},10,6.2787777312683132E-4,0.55555555555555558]
["07-210","07","G1303","VENTE DE VOYAGES",9,8,{"$f":"IF(C1014=\"\",\"\",COUNTIF($B$2:B1014,\"=\"&B1014))","v":210},10,6.2787777312683132E-4,0.88888888888888884]
["07-211","07","A1302","CONTRÔLE ET DIAGNOSTIC TECHNIQUE EN AGRICULTURE",9,2,{"$f":"IF(C1015=\"\",\"\",COUNTIF($B$2:B1015,\"=\"&B1015))","v":211},10,6.2787777312683132E-4,0.22222222222222221]
["07-212","07","D1404","RELATION COMMERCIALE EN VENTE DE VÉHICULES",8,7,{"$f":"IF(C1016=\"\",\"\",COUNTIF($B$2:B1016,\"=\"&B1016))","v":212},10,5.5811357611273895E-4,0.875]
["07-213","07","K2306","SUPERVISION D'EXPLOITATION ÉCO-INDUSTRIELLE",8,8,{"$f":"IF(C1017=\"\",\"\",COUNTIF($B$2:B1017,\"=\"&B1017))","v":213},10,5.5811357611273895E-4,1]
["07-214","07","M1205","DIRECTION ADMINISTRATIVE ET FINANCIÈRE",8,8,{"$f":"IF(C1018=\"\",\"\",COUNTIF($B$2:B1018,\"=\"&B1018))","v":214},10,5.5811357611273895E-4,1]
["07-215","07","H2914","RÉALISATION ET MONTAGE EN TUYAUTERIE",8,3,{"$f":"IF(C1019=\"\",\"\",COUNTIF($B$2:B1019,\"=\"&B1019))","v":215},10,5.5811357611273895E-4,0.375]
["07-216","07","H2205","PREMIÈRE TRANSFORMATION DE BOIS D'OEUVRE",8,2,{"$f":"IF(C1020=\"\",\"\",COUNTIF($B$2:B1020,\"=\"&B1020))","v":216},10,5.5811357611273895E-4,0.25]
["07-217","07","I1307","INSTALLATION ET MAINTENANCE TÉLÉCOMS ET COURANTS FAIBLES",8,7,{"$f":"IF(C1021=\"\",\"\",COUNTIF($B$2:B1021,\"=\"&B1021))","v":217},10,5.5811357611273895E-4,0.875]
["07-218","07","J1305","CONDUITE DE VÉHICULES SANITAIRES",8,5,{"$f":"IF(C1022=\"\",\"\",COUNTIF($B$2:B1022,\"=\"&B1022))","v":218},10,5.5811357611273895E-4,0.625]
["07-219","07","H2603","CONDUITE D'INSTALLATION AUTOMATISÉE DE PRODUCTION ÉLECTRIQUE, ÉLECTRONIQUE ET MICROÉLECTRONIQUE",8,7,{"$f":"IF(C1023=\"\",\"\",COUNTIF($B$2:B1023,\"=\"&B1023))","v":219},10,5.5811357611273895E-4,0.875]
["07-220","07","B1601","MÉTALLERIE D'ART",8,4,{"$f":"IF(C1024=\"\",\"\",COUNTIF($B$2:B1024,\"=\"&B1024))","v":220},10,5.5811357611273895E-4,0.5]
["07-221","07","G1403","GESTION DE STRUCTURE DE LOISIRS OU D'HÉBERGEMENT TOURISTIQUE",8,7,{"$f":"IF(C1025=\"\",\"\",COUNTIF($B$2:B1025,\"=\"&B1025))","v":221},{"$f":"ROUND(E1025,-1)","v":10},5.5811357611273895E-4,{"$f":"IF(OR(F1025=\"\",F1025=\".\"),0,F1025/E1025)","v":0.875}]
["07-222","07","F1613","TRAVAUX D'ÉTANCHÉITÉ ET D'ISOLATION",8,2,{"$f":"IF(C1026=\"\",\"\",COUNTIF($B$2:B1026,\"=\"&B1026))","v":222},10,{"$f":"E1026/SUMIF(B:B,B1026,E:E)","v":5.5811357611273895E-4},0.25]
[{"$f":"B1027&\"-\"&G1027","v":"07-223"},"07","F1106","INGÉNIERIE ET ÉTUDES DU BTP",8,8,{"$f":"IF(C1027=\"\",\"\",COUNTIF($B$2:B1027,\"=\"&B1027))","v":223},10,5.5811357611273895E-4,1]
["07-224","07","I1306","INSTALLATION ET MAINTENANCE EN FROID, CONDITIONNEMENT D'AIR",8,8,{"$f":"IF(C1028=\"\",\"\",COUNTIF($B$2:B1028,\"=\"&B1028))","v":224},10,5.5811357611273895E-4,1]
["07-225","07","I1303","INSTALLATION ET MAINTENANCE DE DISTRIBUTEURS AUTOMATIQUES",8,8,{"$f":"IF(C1029=\"\",\"\",COUNTIF($B$2:B1029,\"=\"&B1029))","v":225},10,5.5811357611273895E-4,1]
["07-226","07","H2201","ASSEMBLAGE D'OUVRAGES EN BOIS",8,8,{"$f":"IF(C1030=\"\",\"\",COUNTIF($B$2:B1030,\"=\"&B1030))","v":226},10,5.5811357611273895E-4,1]
["07-227","07","C1502","GESTION LOCATIVE IMMOBILIÈRE",8,5,{"$f":"IF(C1031=\"\",\"\",COUNTIF($B$2:B1031,\"=\"&B1031))","v":227},10,5.5811357611273895E-4,0.625]
["07-228","07","D1503","MANAGEMENT/GESTION DE RAYON PRODUITS NON ALIMENTAIRES",8,8,{"$f":"IF(C1032=\"\",\"\",COUNTIF($B$2:B1032,\"=\"&B1032))","v":228},10,5.5811357611273895E-4,1]
["07-229","07","H1102","MANAGEMENT ET INGÉNIERIE D'AFFAIRES",8,6,{"$f":"IF(C1033=\"\",\"\",COUNTIF($B$2:B1033,\"=\"&B1033))","v":229},10,5.5811357611273895E-4,0.75]
["07-230","07","A1303","INGÉNIERIE EN AGRICULTURE ET ENVIRONNEMENT NATUREL",8,5,{"$f":"IF(C1034=\"\",\"\",COUNTIF($B$2:B1034,\"=\"&B1034))","v":230},10,5.5811357611273895E-4,0.625]
["07-231","07","M1701","ADMINISTRATION DES VENTES",7,7,{"$f":"IF(C1035=\"\",\"\",COUNTIF($B$2:B1035,\"=\"&B1035))","v":231},10,4.8834937909864658E-4,1]
["07-232","07","M1401","CONDUITE D'ENQUÊTES",7,".",{"$f":"IF(C1036=\"\",\"\",COUNTIF($B$2:B1036,\"=\"&B1036))","v":232},10,4.8834937909864658E-4,0]
["07-233","07","L1302","PRODUCTION ET ADMINISTRATION SPECTACLE, CINÉMA ET AUDIOVISUEL",7,5,{"$f":"IF(C1037=\"\",\"\",COUNTIF($B$2:B1037,\"=\"&B1037))","v":233},10,4.8834937909864658E-4,0.7142857142857143]
["07-234","07","M1206","MANAGEMENT DE GROUPE OU DE SERVICE COMPTABLE",7,5,{"$f":"IF(C1038=\"\",\"\",COUNTIF($B$2:B1038,\"=\"&B1038))","v":234},10,4.8834937909864658E-4,0.7142857142857143]
["07-235","07","D1509","MANAGEMENT DE DÉPARTEMENT EN GRANDE DISTRIBUTION",7,7,{"$f":"IF(C1039=\"\",\"\",COUNTIF($B$2:B1039,\"=\"&B1039))","v":235},10,4.8834937909864658E-4,1]
["07-236","07","K1503","CONTRÔLE ET INSPECTION DES IMPÔTS",7,7,{"$f":"IF(C1040=\"\",\"\",COUNTIF($B$2:B1040,\"=\"&B1040))","v":236},10,4.8834937909864658E-4,1]
["07-237","07","H2912","RÉGLAGE D'ÉQUIPEMENT DE PRODUCTION INDUSTRIELLE",7,5,{"$f":"IF(C1041=\"\",\"\",COUNTIF($B$2:B1041,\"=\"&B1041))","v":237},10,4.8834937909864658E-4,0.7142857142857143]
["07-238","07","D1105","POISSONNERIE",7,6,{"$f":"IF(C1042=\"\",\"\",COUNTIF($B$2:B1042,\"=\"&B1042))","v":238},10,4.8834937909864658E-4,0.8571428571428571]
["07-239","07","H1208","INTERVENTION TECHNIQUE EN ÉTUDES ET CONCEPTION EN AUTOMATISME",7,6,{"$f":"IF(C1043=\"\",\"\",COUNTIF($B$2:B1043,\"=\"&B1043))","v":239},10,4.8834937909864658E-4,0.8571428571428571]
["07-240","07","G1201","ACCOMPAGNEMENT DE VOYAGES, D'ACTIVITÉS CULTURELLES OU SPORTIVES",7,".",{"$f":"IF(C1044=\"\",\"\",COUNTIF($B$2:B1044,\"=\"&B1044))","v":240},10,4.8834937909864658E-4,0]
["07-241","07","H1302","MANAGEMENT ET INGÉNIERIE HYGIÈNE SÉCURITÉ ENVIRONNEMENT -HSE- INDUSTRIELS",7,7,{"$f":"IF(C1045=\"\",\"\",COUNTIF($B$2:B1045,\"=\"&B1045))","v":241},10,4.8834937909864658E-4,1]
["07-242","07","F1502","MONTAGE DE STRUCTURES MÉTALLIQUES",7,".",{"$f":"IF(C1046=\"\",\"\",COUNTIF($B$2:B1046,\"=\"&B1046))","v":242},10,4.8834937909864658E-4,0]
["07-243","07","H2403","CONDUITE DE MACHINE DE FABRICATION DE PRODUITS TEXTILES",7,7,{"$f":"IF(C1047=\"\",\"\",COUNTIF($B$2:B1047,\"=\"&B1047))","v":243},10,4.8834937909864658E-4,1]
["07-244","07","J1505","SOINS INFIRMIERS SPÉCIALISÉS EN PRÉVENTION",7,6,{"$f":"IF(C1048=\"\",\"\",COUNTIF($B$2:B1048,\"=\"&B1048))","v":244},10,4.8834937909864658E-4,0.8571428571428571]
["07-245","07","H2911","RÉALISATION DE STRUCTURES MÉTALLIQUES",7,".",{"$f":"IF(C1049=\"\",\"\",COUNTIF($B$2:B1049,\"=\"&B1049))","v":245},10,4.8834937909864658E-4,0]
["07-246","07","K2103","DIRECTION D'ÉTABLISSEMENT ET D'ENSEIGNEMENT",6,3,{"$f":"IF(C1050=\"\",\"\",COUNTIF($B$2:B1050,\"=\"&B1050))","v":246},10,4.1858518208455421E-4,0.5]
["07-247","07","K2202","LAVAGE DE VITRES",6,1,{"$f":"IF(C1051=\"\",\"\",COUNTIF($B$2:B1051,\"=\"&B1051))","v":247},10,4.1858518208455421E-4,0.16666666666666666]
["07-248","07","K2105","ENSEIGNEMENT ARTISTIQUE",6,5,{"$f":"IF(C1052=\"\",\"\",COUNTIF($B$2:B1052,\"=\"&B1052))","v":248},10,4.1858518208455421E-4,0.83333333333333337]
["07-249","07","N4104","COURSES ET LIVRAISONS EXPRESS",6,1,{"$f":"IF(C1053=\"\",\"\",COUNTIF($B$2:B1053,\"=\"&B1053))","v":249},10,4.1858518208455421E-4,0.16666666666666666]
["07-250","07","M1704","MANAGEMENT RELATION CLIENTÈLE",6,6,{"$f":"IF(C1054=\"\",\"\",COUNTIF($B$2:B1054,\"=\"&B1054))","v":250},10,4.1858518208455421E-4,1]
["07-251","07","H1401","MANAGEMENT ET INGÉNIERIE GESTION INDUSTRIELLE ET LOGISTIQUE",6,5,{"$f":"IF(C1055=\"\",\"\",COUNTIF($B$2:B1055,\"=\"&B1055))","v":251},10,4.1858518208455421E-4,0.83333333333333337]
["07-252","07","H3202","RÉGLAGE D'ÉQUIPEMENT DE FORMAGE DES PLASTIQUES ET CAOUTCHOUCS",6,5,{"$f":"IF(C1056=\"\",\"\",COUNTIF($B$2:B1056,\"=\"&B1056))","v":252},10,4.1858518208455421E-4,0.83333333333333337]
["07-253","07","M1802","EXPERTISE ET SUPPORT EN SYSTÈMES D'INFORMATION",6,6,{"$f":"IF(C1057=\"\",\"\",COUNTIF($B$2:B1057,\"=\"&B1057))","v":253},10,4.1858518208455421E-4,1]
["07-254","07","I1308","MAINTENANCE D'INSTALLATION DE CHAUFFAGE",6,6,{"$f":"IF(C1058=\"\",\"\",COUNTIF($B$2:B1058,\"=\"&B1058))","v":254},10,4.1858518208455421E-4,1]
["07-255","07","H2405","CONDUITE DE MACHINE DE TEXTILES NONTISSÉS",6,5,{"$f":"IF(C1059=\"\",\"\",COUNTIF($B$2:B1059,\"=\"&B1059))","v":255},10,4.1858518208455421E-4,0.83333333333333337]
["07-256","07","E1301","CONDUITE DE MACHINES D'IMPRESSION",6,5,{"$f":"IF(C1060=\"\",\"\",COUNTIF($B$2:B1060,\"=\"&B1060))","v":256},10,4.1858518208455421E-4,0.83333333333333337]
["07-257","07","K1102","AIDE AUX BÉNÉFICIAIRES D'UNE MESURE DE PROTECTION JURIDIQUE",6,1,{"$f":"IF(C1061=\"\",\"\",COUNTIF($B$2:B1061,\"=\"&B1061))","v":257},10,4.1858518208455421E-4,0.16666666666666666]
["07-258","07","F1609","POSE DE REVÊTEMENTS SOUPLES",6,4,{"$f":"IF(C1062=\"\",\"\",COUNTIF($B$2:B1062,\"=\"&B1062))","v":258},10,4.1858518208455421E-4,0.66666666666666663]
["07-259","07","E1306","PRÉPRESSE",6,6,{"$f":"IF(C1063=\"\",\"\",COUNTIF($B$2:B1063,\"=\"&B1063))","v":259},10,4.1858518208455421E-4,1]
["07-260","07","H1101","ASSISTANCE ET SUPPORT TECHNIQUE CLIENT",6,5,{"$f":"IF(C1064=\"\",\"\",COUNTIF($B$2:B1064,\"=\"&B1064))","v":260},10,4.1858518208455421E-4,0.83333333333333337]
["07-261","07","M1302","DIRECTION DE PETITE OU MOYENNE ENTREPRISE",5,4,{"$f":"IF(C1065=\"\",\"\",COUNTIF($B$2:B1065,\"=\"&B1065))","v":261},10,3.4882098507046184E-4,0.8]
["07-262","07","M1806","CONSEIL ET MAÎTRISE D'OUVRAGE EN SYSTÈMES D'INFORMATION",5,5,{"$f":"IF(C1066=\"\",\"\",COUNTIF($B$2:B1066,\"=\"&B1066))","v":262},10,3.4882098507046184E-4,1]
["07-263","07","K1205","INFORMATION SOCIALE",5,2,{"$f":"IF(C1067=\"\",\"\",COUNTIF($B$2:B1067,\"=\"&B1067))","v":263},10,3.4882098507046184E-4,0.4]
["07-264","07","K1101","ACCOMPAGNEMENT ET MÉDIATION FAMILIALE",5,1,{"$f":"IF(C1068=\"\",\"\",COUNTIF($B$2:B1068,\"=\"&B1068))","v":264},10,3.4882098507046184E-4,0.2]
["07-265","07","L1203","ART DRAMATIQUE",5,".",{"$f":"IF(C1069=\"\",\"\",COUNTIF($B$2:B1069,\"=\"&B1069))","v":265},10,3.4882098507046184E-4,0]
["07-266","07","I1101","DIRECTION ET INGÉNIERIE EN ENTRETIEN INFRASTRUCTURE ET BÂTI",5,4,{"$f":"IF(C1070=\"\",\"\",COUNTIF($B$2:B1070,\"=\"&B1070))","v":266},10,3.4882098507046184E-4,0.8]
["07-267","07","J1104","SUIVI DE LA GROSSESSE ET DE L'ACCOUCHEMENT",5,4,{"$f":"IF(C1071=\"\",\"\",COUNTIF($B$2:B1071,\"=\"&B1071))","v":267},10,3.4882098507046184E-4,0.8]
["07-268","07","H2802","CONDUITE D'INSTALLATION DE PRODUCTION DE MATÉRIAUX DE CONSTRUCTION",5,3,{"$f":"IF(C1072=\"\",\"\",COUNTIF($B$2:B1072,\"=\"&B1072))","v":268},10,3.4882098507046184E-4,0.6]
["07-269","07","H3401","CONDUITE DE TRAITEMENT D'ABRASION DE SURFACE",5,3,{"$f":"IF(C1073=\"\",\"\",COUNTIF($B$2:B1073,\"=\"&B1073))","v":269},10,3.4882098507046184E-4,0.6]
["07-270","07","F1706","PRÉFABRICATION EN BÉTON INDUSTRIEL",5,".",{"$f":"IF(C1074=\"\",\"\",COUNTIF($B$2:B1074,\"=\"&B1074))","v":270},10,3.4882098507046184E-4,0]
["07-271","07","F1101","ARCHITECTURE DU BTP ET DU PAYSAGE",5,3,{"$f":"IF(C1075=\"\",\"\",COUNTIF($B$2:B1075,\"=\"&B1075))","v":271},10,3.4882098507046184E-4,0.6]
["07-272","07","C1401","GESTION EN BANQUE ET ASSURANCE",5,3,{"$f":"IF(C1076=\"\",\"\",COUNTIF($B$2:B1076,\"=\"&B1076))","v":272},10,3.4882098507046184E-4,0.6]
["07-273","07","D1103","CHARCUTERIE - TRAITEUR",4,1,{"$f":"IF(C1077=\"\",\"\",COUNTIF($B$2:B1077,\"=\"&B1077))","v":273},0,2.7905678805636948E-4,0.25]
["07-274","07","M1606","SAISIE DE DONNÉES",4,".",{"$f":"IF(C1078=\"\",\"\",COUNTIF($B$2:B1078,\"=\"&B1078))","v":274},0,2.7905678805636948E-4,0]
["07-275","07","K2203","MANAGEMENT ET INSPECTION EN PROPRETÉ DE LOCAUX",4,3,{"$f":"IF(C1079=\"\",\"\",COUNTIF($B$2:B1079,\"=\"&B1079))","v":275},0,2.7905678805636948E-4,0.75]
["07-276","07","M1403","ÉTUDES ET PROSPECTIVES SOCIO-ÉCONOMIQUES",4,4,{"$f":"IF(C1080=\"\",\"\",COUNTIF($B$2:B1080,\"=\"&B1080))","v":276},0,2.7905678805636948E-4,1]
["07-277","07","J1406","ORTHOPHONIE",4,4,{"$f":"IF(C1081=\"\",\"\",COUNTIF($B$2:B1081,\"=\"&B1081))","v":277},0,2.7905678805636948E-4,1]
["07-278","07","I1103","SUPERVISION D'ENTRETIEN ET GESTION DE VÉHICULES",4,4,{"$f":"IF(C1082=\"\",\"\",COUNTIF($B$2:B1082,\"=\"&B1082))","v":278},0,2.7905678805636948E-4,1]
["07-279","07","H2804","PILOTAGE DE CENTRALE À BÉTON PRÊT À L'EMPLOI, CIMENT, ENROBÉS ET GRANULATS",4,3,{"$f":"IF(C1083=\"\",\"\",COUNTIF($B$2:B1083,\"=\"&B1083))","v":279},0,2.7905678805636948E-4,0.75]
["07-280","07","I1102","MANAGEMENT ET INGÉNIERIE DE MAINTENANCE INDUSTRIELLE",4,2,{"$f":"IF(C1084=\"\",\"\",COUNTIF($B$2:B1084,\"=\"&B1084))","v":280},0,2.7905678805636948E-4,0.5]
["07-281","07","H2207","RÉALISATION DE MEUBLES EN BOIS",4,2,{"$f":"IF(C1085=\"\",\"\",COUNTIF($B$2:B1085,\"=\"&B1085))","v":281},0,2.7905678805636948E-4,0.5]
["07-282","07","H1402","MANAGEMENT ET INGÉNIERIE MÉTHODES ET INDUSTRIALISATION",4,4,{"$f":"IF(C1086=\"\",\"\",COUNTIF($B$2:B1086,\"=\"&B1086))","v":282},0,2.7905678805636948E-4,1]
["07-283","07","H2202","CONDUITE D'ÉQUIPEMENT DE FABRICATION DE L'AMEUBLEMENT ET DU BOIS",4,4,{"$f":"IF(C1087=\"\",\"\",COUNTIF($B$2:B1087,\"=\"&B1087))","v":283},0,2.7905678805636948E-4,1]
["07-284","07","E1302","CONDUITE DE MACHINES DE FAÇONNAGE ROUTAGE",4,3,{"$f":"IF(C1088=\"\",\"\",COUNTIF($B$2:B1088,\"=\"&B1088))","v":284},0,2.7905678805636948E-4,0.75]
["07-285","07","K1103","DÉVELOPPEMENT PERSONNEL ET BIEN-ÊTRE DE LA PERSONNE",4,4,{"$f":"IF(C1089=\"\",\"\",COUNTIF($B$2:B1089,\"=\"&B1089))","v":285},{"$f":"ROUND(E1089,-1)","v":0},2.7905678805636948E-4,{"$f":"IF(OR(F1089=\"\",F1089=\".\"),0,F1089/E1089)","v":1}]
["07-286","07","F1702","CONSTRUCTION DE ROUTES ET VOIES",4,".",{"$f":"IF(C1090=\"\",\"\",COUNTIF($B$2:B1090,\"=\"&B1090))","v":286},0,{"$f":"E1090/SUMIF(B:B,B1090,E:E)","v":2.7905678805636948E-4},0]
[{"$f":"B1091&\"-\"&G1091","v":"07-287"},"07","H2801","CONDUITE D'ÉQUIPEMENT DE TRANSFORMATION DU VERRE",4,3,{"$f":"IF(C1091=\"\",\"\",COUNTIF($B$2:B1091,\"=\"&B1091))","v":287},0,2.7905678805636948E-4,0.75]
["07-288","07","A1501","AIDE AUX SOINS ANIMAUX",4,2,{"$f":"IF(C1092=\"\",\"\",COUNTIF($B$2:B1092,\"=\"&B1092))","v":288},0,2.7905678805636948E-4,0.5]
["07-289","07","E1205","RÉALISATION DE CONTENUS MULTIMÉDIAS",4,".",{"$f":"IF(C1093=\"\",\"\",COUNTIF($B$2:B1093,\"=\"&B1093))","v":289},0,2.7905678805636948E-4,0]
["07-290","07","C1201","ACCUEIL ET SERVICES BANCAIRES",4,1,{"$f":"IF(C1094=\"\",\"\",COUNTIF($B$2:B1094,\"=\"&B1094))","v":290},0,2.7905678805636948E-4,0.25]
["07-291","07","F1108","MÉTRÉ DE LA CONSTRUCTION",4,2,{"$f":"IF(C1095=\"\",\"\",COUNTIF($B$2:B1095,\"=\"&B1095))","v":291},0,2.7905678805636948E-4,0.5]
["07-292","07","B1802","RÉALISATION D'ARTICLES EN CUIR ET MATÉRIAUX SOUPLES (HORS VÊTEMENT)",4,1,{"$f":"IF(C1096=\"\",\"\",COUNTIF($B$2:B1096,\"=\"&B1096))","v":292},0,2.7905678805636948E-4,0.25]
["07-293","07","C1109","RÉDACTION ET GESTION EN ASSURANCES",4,3,{"$f":"IF(C1097=\"\",\"\",COUNTIF($B$2:B1097,\"=\"&B1097))","v":293},0,2.7905678805636948E-4,0.75]
["07-294","07","N1104","MANOEUVRE ET CONDUITE D'ENGINS LOURDS DE MANUTENTION",3,2,{"$f":"IF(C1098=\"\",\"\",COUNTIF($B$2:B1098,\"=\"&B1098))","v":294},0,2.0929259104227711E-4,0.66666666666666663]
["07-295","07","N1201","AFFRÈTEMENT TRANSPORT",3,3,{"$f":"IF(C1099=\"\",\"\",COUNTIF($B$2:B1099,\"=\"&B1099))","v":295},0,2.0929259104227711E-4,1]
["07-296","07","K2302","MANAGEMENT ET INSPECTION EN ENVIRONNEMENT URBAIN",3,3,{"$f":"IF(C1100=\"\",\"\",COUNTIF($B$2:B1100,\"=\"&B1100))","v":296},0,2.0929259104227711E-4,1]
["07-297","07","K1401","CONCEPTION ET PILOTAGE DE LA POLITIQUE DES POUVOIRS PUBLICS",3,3,{"$f":"IF(C1101=\"\",\"\",COUNTIF($B$2:B1101,\"=\"&B1101))","v":297},0,2.0929259104227711E-4,1]
["07-298","07","L1101","ANIMATION MUSICALE ET SCÉNIQUE",3,".",{"$f":"IF(C1102=\"\",\"\",COUNTIF($B$2:B1102,\"=\"&B1102))","v":298},0,2.0929259104227711E-4,0]
["07-299","07","K1707","SURVEILLANCE MUNICIPALE",3,1,{"$f":"IF(C1103=\"\",\"\",COUNTIF($B$2:B1103,\"=\"&B1103))","v":299},0,2.0929259104227711E-4,0.33333333333333331]
["07-300","07","J1405","OPTIQUE - LUNETTERIE",3,3,{"$f":"IF(C1104=\"\",\"\",COUNTIF($B$2:B1104,\"=\"&B1104))","v":300},0,2.0929259104227711E-4,1]
["07-301","07","H2209","INTERVENTION TECHNIQUE EN AMEUBLEMENT ET BOIS",3,2,{"$f":"IF(C1105=\"\",\"\",COUNTIF($B$2:B1105,\"=\"&B1105))","v":301},0,2.0929259104227711E-4,0.66666666666666663]
["07-302","07","H3101","CONDUITE D'ÉQUIPEMENT DE FABRICATION DE PAPIER OU DE CARTON",3,3,{"$f":"IF(C1106=\"\",\"\",COUNTIF($B$2:B1106,\"=\"&B1106))","v":302},0,2.0929259104227711E-4,1]
["07-303","07","H2505","ENCADREMENT D'ÉQUIPE OU D'ATELIER EN MATÉRIAUX SOUPLES",3,1,{"$f":"IF(C1107=\"\",\"\",COUNTIF($B$2:B1107,\"=\"&B1107))","v":303},0,2.0929259104227711E-4,0.33333333333333331]
["07-304","07","H3303","PRÉPARATION DE MATIÈRES ET PRODUITS INDUSTRIELS (BROYAGE, MÉLANGE, ...)",3,1,{"$f":"IF(C1108=\"\",\"\",COUNTIF($B$2:B1108,\"=\"&B1108))","v":304},0,2.0929259104227711E-4,0.33333333333333331]
["07-305","07","H2906","CONDUITE D'INSTALLATION AUTOMATISÉE OU ROBOTISÉE DE FABRICATION MÉCANIQUE",3,2,{"$f":"IF(C1109=\"\",\"\",COUNTIF($B$2:B1109,\"=\"&B1109))","v":305},0,2.0929259104227711E-4,0.66666666666666663]
["07-306","07","E1106","JOURNALISME ET INFORMATION MÉDIA",3,2,{"$f":"IF(C1110=\"\",\"\",COUNTIF($B$2:B1110,\"=\"&B1110))","v":306},0,2.0929259104227711E-4,0.66666666666666663]
["07-307","07","F1301","CONDUITE DE GRUE",3,".",{"$f":"IF(C1111=\"\",\"\",COUNTIF($B$2:B1111,\"=\"&B1111))","v":307},0,2.0929259104227711E-4,0]
["07-308","07","G1102","PROMOTION DU TOURISME LOCAL",3,2,{"$f":"IF(C1112=\"\",\"\",COUNTIF($B$2:B1112,\"=\"&B1112))","v":308},0,2.0929259104227711E-4,0.66666666666666663]
["07-309","07","D1504","DIRECTION DE MAGASIN DE GRANDE DISTRIBUTION",3,3,{"$f":"IF(C1113=\"\",\"\",COUNTIF($B$2:B1113,\"=\"&B1113))","v":309},0,2.0929259104227711E-4,1]
["07-310","07","D1204","LOCATION DE VÉHICULES OU DE MATÉRIEL DE LOISIRS",3,".",{"$f":"IF(C1114=\"\",\"\",COUNTIF($B$2:B1114,\"=\"&B1114))","v":310},0,2.0929259104227711E-4,0]
["07-311","07","F1204","QUALITÉ SÉCURITÉ ENVIRONNEMENT ET PROTECTION SANTÉ DU BTP",3,3,{"$f":"IF(C1115=\"\",\"\",COUNTIF($B$2:B1115,\"=\"&B1115))","v":311},0,2.0929259104227711E-4,1]
["07-312","07","F1103","CONTRÔLE ET DIAGNOSTIC TECHNIQUE DU BÂTIMENT",3,3,{"$f":"IF(C1116=\"\",\"\",COUNTIF($B$2:B1116,\"=\"&B1116))","v":312},0,2.0929259104227711E-4,1]
["07-313","07","A1409","ÉLEVAGE DE LAPINS ET VOLAILLES",3,2,{"$f":"IF(C1117=\"\",\"\",COUNTIF($B$2:B1117,\"=\"&B1117))","v":313},0,2.0929259104227711E-4,0.66666666666666663]
["07-314","07","C1501","GÉRANCE IMMOBILIÈRE",3,2,{"$f":"IF(C1118=\"\",\"\",COUNTIF($B$2:B1118,\"=\"&B1118))","v":314},0,2.0929259104227711E-4,0.66666666666666663]
["07-315","07","C1206","GESTION DE CLIENTÈLE BANCAIRE",3,".",{"$f":"IF(C1119=\"\",\"\",COUNTIF($B$2:B1119,\"=\"&B1119))","v":315},0,2.0929259104227711E-4,0]
["07-316","07","A1407","ÉLEVAGE BOVIN OU ÉQUIN",2,".",{"$f":"IF(C1120=\"\",\"\",COUNTIF($B$2:B1120,\"=\"&B1120))","v":316},0,1.3952839402818474E-4,0]
["07-317","07","J1407","ORTHOPTIQUE",2,2,{"$f":"IF(C1121=\"\",\"\",COUNTIF($B$2:B1121,\"=\"&B1121))","v":317},0,1.3952839402818474E-4,1]
["07-318","07","L1103","PRÉSENTATION DE SPECTACLES OU D'ÉMISSIONS",2,2,{"$f":"IF(C1122=\"\",\"\",COUNTIF($B$2:B1122,\"=\"&B1122))","v":318},0,1.3952839402818474E-4,1]
["07-319","07","L1508","PRISE DE SON ET SONORISATION",2,1,{"$f":"IF(C1123=\"\",\"\",COUNTIF($B$2:B1123,\"=\"&B1123))","v":319},0,1.3952839402818474E-4,0.5]
["07-320","07","M1808","INFORMATION GÉOGRAPHIQUE",2,2,{"$f":"IF(C1124=\"\",\"\",COUNTIF($B$2:B1124,\"=\"&B1124))","v":320},0,1.3952839402818474E-4,1]
["07-321","07","L1509","RÉGIE GÉNÉRALE",2,".",{"$f":"IF(C1125=\"\",\"\",COUNTIF($B$2:B1125,\"=\"&B1125))","v":321},0,1.3952839402818474E-4,0]
["07-322","07","K2112","ORIENTATION SCOLAIRE ET PROFESSIONNELLE",2,".",{"$f":"IF(C1126=\"\",\"\",COUNTIF($B$2:B1126,\"=\"&B1126))","v":322},0,1.3952839402818474E-4,0]
["07-323","07","K1501","APPLICATION DES RÈGLES FINANCIÈRES PUBLIQUES",2,2,{"$f":"IF(C1127=\"\",\"\",COUNTIF($B$2:B1127,\"=\"&B1127))","v":323},0,1.3952839402818474E-4,1]
["07-324","07","H3402","CONDUITE DE TRAITEMENT PAR DÉPÔT DE SURFACE",2,".",{"$f":"IF(C1128=\"\",\"\",COUNTIF($B$2:B1128,\"=\"&B1128))","v":324},0,1.3952839402818474E-4,0]
["07-325","07","H2805","PILOTAGE D'INSTALLATION DE PRODUCTION VERRIÈRE",2,2,{"$f":"IF(C1129=\"\",\"\",COUNTIF($B$2:B1129,\"=\"&B1129))","v":325},0,1.3952839402818474E-4,1]
["07-326","07","H1504","INTERVENTION TECHNIQUE EN CONTRÔLE ESSAI QUALITÉ EN ÉLECTRICITÉ ET ÉLECTRONIQUE",2,1,{"$f":"IF(C1130=\"\",\"\",COUNTIF($B$2:B1130,\"=\"&B1130))","v":326},0,1.3952839402818474E-4,0.5]
["07-327","07","G1804","SOMMELLERIE",2,".",{"$f":"IF(C1131=\"\",\"\",COUNTIF($B$2:B1131,\"=\"&B1131))","v":327},0,1.3952839402818474E-4,0]
["07-328","07","F1402","EXTRACTION SOLIDE",2,2,{"$f":"IF(C1132=\"\",\"\",COUNTIF($B$2:B1132,\"=\"&B1132))","v":328},0,1.3952839402818474E-4,1]
["07-329","07","C1110","SOUSCRIPTION D'ASSURANCES",2,2,{"$f":"IF(C1133=\"\",\"\",COUNTIF($B$2:B1133,\"=\"&B1133))","v":329},0,1.3952839402818474E-4,1]
["07-330","07","G1206","PERSONNEL TECHNIQUE DES JEUX",2,2,{"$f":"IF(C1134=\"\",\"\",COUNTIF($B$2:B1134,\"=\"&B1134))","v":330},0,1.3952839402818474E-4,1]
["07-331","07","F1605","MONTAGE DE RÉSEAUX ÉLECTRIQUES ET TÉLÉCOMS",2,".",{"$f":"IF(C1135=\"\",\"\",COUNTIF($B$2:B1135,\"=\"&B1135))","v":331},0,1.3952839402818474E-4,0]
["07-332","07","D1406","MANAGEMENT EN FORCE DE VENTE",2,2,{"$f":"IF(C1136=\"\",\"\",COUNTIF($B$2:B1136,\"=\"&B1136))","v":332},0,1.3952839402818474E-4,1]
["07-333","07","I1201","ENTRETIEN D'AFFICHAGE ET MOBILIER URBAIN",2,1,{"$f":"IF(C1137=\"\",\"\",COUNTIF($B$2:B1137,\"=\"&B1137))","v":333},0,1.3952839402818474E-4,0.5]
["07-334","07","A1503","TOILETTAGE DES ANIMAUX",2,1,{"$f":"IF(C1138=\"\",\"\",COUNTIF($B$2:B1138,\"=\"&B1138))","v":334},0,1.3952839402818474E-4,0.5]
["07-335","07","A1404","AQUACULTURE",2,2,{"$f":"IF(C1139=\"\",\"\",COUNTIF($B$2:B1139,\"=\"&B1139))","v":335},0,1.3952839402818474E-4,1]
["07-336","07","A1408","ÉLEVAGE D'ANIMAUX SAUVAGES OU DE COMPAGNIE",1,".",{"$f":"IF(C1140=\"\",\"\",COUNTIF($B$2:B1140,\"=\"&B1140))","v":336},0,6.9764197014092369E-5,0]
["07-337","07","C1503","MANAGEMENT DE PROJET IMMOBILIER",1,1,{"$f":"IF(C1141=\"\",\"\",COUNTIF($B$2:B1141,\"=\"&B1141))","v":337},0,6.9764197014092369E-5,1]
["07-338","07","I1501","INTERVENTION EN GRANDE HAUTEUR",1,".",{"$f":"IF(C1142=\"\",\"\",COUNTIF($B$2:B1142,\"=\"&B1142))","v":338},0,6.9764197014092369E-5,0]
["07-339","07","M1703","MANAGEMENT ET GESTION DE PRODUIT",1,1,{"$f":"IF(C1143=\"\",\"\",COUNTIF($B$2:B1143,\"=\"&B1143))","v":339},0,6.9764197014092369E-5,1]
["07-340","07","L1201","DANSE",1,".",{"$f":"IF(C1144=\"\",\"\",COUNTIF($B$2:B1144,\"=\"&B1144))","v":340},0,6.9764197014092369E-5,0]
["07-341","07","K2601","CONDUITE D'OPÉRATIONS FUNÉRAIRES",1,1,{"$f":"IF(C1145=\"\",\"\",COUNTIF($B$2:B1145,\"=\"&B1145))","v":341},0,6.9764197014092369E-5,1]
["07-342","07","N4203","INTERVENTION TECHNIQUE D'EXPLOITATION DES TRANSPORTS ROUTIERS DE MARCHANDISES",1,".",{"$f":"IF(C1146=\"\",\"\",COUNTIF($B$2:B1146,\"=\"&B1146))","v":342},0,6.9764197014092369E-5,0]
["07-343","07","K1704","MANAGEMENT DE LA SÉCURITÉ PUBLIQUE",1,1,{"$f":"IF(C1147=\"\",\"\",COUNTIF($B$2:B1147,\"=\"&B1147))","v":343},0,6.9764197014092369E-5,1]
["07-344","07","M1201","ANALYSE ET INGÉNIERIE FINANCIÈRE",1,1,{"$f":"IF(C1148=\"\",\"\",COUNTIF($B$2:B1148,\"=\"&B1148))","v":344},0,6.9764197014092369E-5,1]
["07-345","07","N1202","GESTION DES OPÉRATIONS DE CIRCULATION INTERNATIONALE DES MARCHANDISES",1,1,{"$f":"IF(C1149=\"\",\"\",COUNTIF($B$2:B1149,\"=\"&B1149))","v":345},0,6.9764197014092369E-5,1]
["07-346","07","K2108","ENSEIGNEMENT SUPÉRIEUR",1,".",{"$f":"IF(C1150=\"\",\"\",COUNTIF($B$2:B1150,\"=\"&B1150))","v":346},0,6.9764197014092369E-5,0]
["07-347","07","L1504","ÉCLAIRAGE SPECTACLE",1,1,{"$f":"IF(C1151=\"\",\"\",COUNTIF($B$2:B1151,\"=\"&B1151))","v":347},0,6.9764197014092369E-5,1]
["07-348","07","L1507","MONTAGE AUDIOVISUEL ET POST-PRODUCTION",1,1,{"$f":"IF(C1152=\"\",\"\",COUNTIF($B$2:B1152,\"=\"&B1152))","v":348},0,6.9764197014092369E-5,1]
["07-349","07","N1302","DIRECTION DE SITE LOGISTIQUE",1,1,{"$f":"IF(C1153=\"\",\"\",COUNTIF($B$2:B1153,\"=\"&B1153))","v":349},{"$f":"ROUND(E1153,-1)","v":0},6.9764197014092369E-5,{"$f":"IF(OR(F1153=\"\",F1153=\".\"),0,F1153/E1153)","v":1}]
["07-350","07","K1402","CONSEIL EN SANTÉ PUBLIQUE",1,1,{"$f":"IF(C1154=\"\",\"\",COUNTIF($B$2:B1154,\"=\"&B1154))","v":350},0,{"$f":"E1154/SUMIF(B:B,B1154,E:E)","v":6.9764197014092369E-5},1]
[{"$f":"B1155&\"-\"&G1155","v":"07-351"},"07","M1804","ÉTUDES ET DÉVELOPPEMENT DE RÉSEAUX DE TÉLÉCOMS",1,1,{"$f":"IF(C1155=\"\",\"\",COUNTIF($B$2:B1155,\"=\"&B1155))","v":351},0,6.9764197014092369E-5,1]
["07-352","07","K2402","RECHERCHE EN SCIENCES DE L'UNIVERS, DE LA MATIÈRE ET DU VIVANT",1,1,{"$f":"IF(C1156=\"\",\"\",COUNTIF($B$2:B1156,\"=\"&B1156))","v":352},0,6.9764197014092369E-5,1]
["07-353","07","N4202","DIRECTION D'EXPLOITATION DES TRANSPORTS ROUTIERS DE PERSONNES",1,1,{"$f":"IF(C1157=\"\",\"\",COUNTIF($B$2:B1157,\"=\"&B1157))","v":353},0,6.9764197014092369E-5,1]
["07-354","07","I1503","INTERVENTION EN MILIEUX ET PRODUITS NOCIFS",1,".",{"$f":"IF(C1158=\"\",\"\",COUNTIF($B$2:B1158,\"=\"&B1158))","v":354},0,6.9764197014092369E-5,0]
["07-355","07","J1504","SOINS INFIRMIERS SPÉCIALISÉS EN BLOC OPÉRATOIRE",1,".",{"$f":"IF(C1159=\"\",\"\",COUNTIF($B$2:B1159,\"=\"&B1159))","v":355},0,6.9764197014092369E-5,0]
["07-356","07","H2406","CONDUITE DE MACHINE DE TRAITEMENT TEXTILE",1,1,{"$f":"IF(C1160=\"\",\"\",COUNTIF($B$2:B1160,\"=\"&B1160))","v":356},0,6.9764197014092369E-5,1]
["07-357","07","H1209","INTERVENTION TECHNIQUE EN ÉTUDES ET DÉVELOPPEMENT ÉLECTRONIQUE",1,1,{"$f":"IF(C1161=\"\",\"\",COUNTIF($B$2:B1161,\"=\"&B1161))","v":357},0,6.9764197014092369E-5,1]
["07-358","07","B1301","DÉCORATION D'ESPACES DE VENTE ET D'EXPOSITION",1,".",{"$f":"IF(C1162=\"\",\"\",COUNTIF($B$2:B1162,\"=\"&B1162))","v":358},0,6.9764197014092369E-5,0]
["07-359","07","H1301","INSPECTION DE CONFORMITÉ",1,".",{"$f":"IF(C1163=\"\",\"\",COUNTIF($B$2:B1163,\"=\"&B1163))","v":359},0,6.9764197014092369E-5,0]
["07-360","07","H1210","INTERVENTION TECHNIQUE EN ÉTUDES, RECHERCHE ET DÉVELOPPEMENT",1,".",{"$f":"IF(C1164=\"\",\"\",COUNTIF($B$2:B1164,\"=\"&B1164))","v":360},0,6.9764197014092369E-5,0]
["07-361","07","H1303","INTERVENTION TECHNIQUE EN HYGIÈNE SÉCURITÉ ENVIRONNEMENT -HSE- INDUSTRIEL",1,".",{"$f":"IF(C1165=\"\",\"\",COUNTIF($B$2:B1165,\"=\"&B1165))","v":361},0,6.9764197014092369E-5,0]
["07-362","07","H1201","EXPERTISE TECHNIQUE COULEUR EN INDUSTRIE",1,".",{"$f":"IF(C1166=\"\",\"\",COUNTIF($B$2:B1166,\"=\"&B1166))","v":362},0,6.9764197014092369E-5,0]
["07-363","07","E1308","INTERVENTION TECHNIQUE EN INDUSTRIE GRAPHIQUE",1,1,{"$f":"IF(C1167=\"\",\"\",COUNTIF($B$2:B1167,\"=\"&B1167))","v":363},0,6.9764197014092369E-5,1]
["07-364","07","G1404","MANAGEMENT D'ÉTABLISSEMENT DE RESTAURATION COLLECTIVE",1,1,{"$f":"IF(C1168=\"\",\"\",COUNTIF($B$2:B1168,\"=\"&B1168))","v":364},0,6.9764197014092369E-5,1]
["07-365","07","G1205","PERSONNEL D'ATTRACTIONS OU DE STRUCTURES DE LOISIRS",1,".",{"$f":"IF(C1169=\"\",\"\",COUNTIF($B$2:B1169,\"=\"&B1169))","v":365},0,6.9764197014092369E-5,0]
["07-366","07","H2409","COUPE CUIR, TEXTILE ET MATÉRIAUX SOUPLES",1,1,{"$f":"IF(C1170=\"\",\"\",COUNTIF($B$2:B1170,\"=\"&B1170))","v":366},0,6.9764197014092369E-5,1]
["07-367","07","H1202","CONCEPTION ET DESSIN DE PRODUITS ÉLECTRIQUES ET ÉLECTRONIQUES",1,".",{"$f":"IF(C1171=\"\",\"\",COUNTIF($B$2:B1171,\"=\"&B1171))","v":367},0,6.9764197014092369E-5,0]
["07-368","07","E1304","FAÇONNAGE ET ROUTAGE",1,1,{"$f":"IF(C1172=\"\",\"\",COUNTIF($B$2:B1172,\"=\"&B1172))","v":368},0,6.9764197014092369E-5,1]
["07-369","07","E1105","COORDINATION D'ÉDITION",1,1,{"$f":"IF(C1173=\"\",\"\",COUNTIF($B$2:B1173,\"=\"&B1173))","v":369},0,6.9764197014092369E-5,1]
["07-370","07","L1303","PROMOTION D'ARTISTES ET DE SPECTACLES",1,1,{"$f":"IF(C1174=\"\",\"\",COUNTIF($B$2:B1174,\"=\"&B1174))","v":370},0,6.9764197014092369E-5,1]
["07-371","07","E1201","PHOTOGRAPHIE",1,1,{"$f":"IF(C1175=\"\",\"\",COUNTIF($B$2:B1175,\"=\"&B1175))","v":371},0,6.9764197014092369E-5,1]
["07-372","07","H2203","CONDUITE D'INSTALLATION DE PRODUCTION DE PANNEAUX BOIS",1,1,{"$f":"IF(C1176=\"\",\"\",COUNTIF($B$2:B1176,\"=\"&B1176))","v":372},0,6.9764197014092369E-5,1]
["07-373","07","G1402","MANAGEMENT D'HÔTEL-RESTAURANT",1,1,{"$f":"IF(C1177=\"\",\"\",COUNTIF($B$2:B1177,\"=\"&B1177))","v":373},0,6.9764197014092369E-5,1]
["07-374","07","F1612","TAILLE ET DÉCORATION DE PIERRES",1,1,{"$f":"IF(C1178=\"\",\"\",COUNTIF($B$2:B1178,\"=\"&B1178))","v":374},0,6.9764197014092369E-5,1]
["07-375","07","F1203","DIRECTION ET INGÉNIERIE D'EXPLOITATION DE GISEMENTS ET DE CARRIÈRES",1,1,{"$f":"IF(C1179=\"\",\"\",COUNTIF($B$2:B1179,\"=\"&B1179))","v":375},0,6.9764197014092369E-5,1]
["07-376","07","H2415","CONTRÔLE EN INDUSTRIE DU CUIR ET DU TEXTILE",1,".",{"$f":"IF(C1180=\"\",\"\",COUNTIF($B$2:B1180,\"=\"&B1180))","v":376},0,6.9764197014092369E-5,0]
["07-377","07","C1205","CONSEIL EN GESTION DE PATRIMOINE FINANCIER",1,1,{"$f":"IF(C1181=\"\",\"\",COUNTIF($B$2:B1181,\"=\"&B1181))","v":377},0,6.9764197014092369E-5,1]
["07-378","07","A1205","SYLVICULTURE",1,1,{"$f":"IF(C1182=\"\",\"\",COUNTIF($B$2:B1182,\"=\"&B1182))","v":378},0,6.9764197014092369E-5,1]
["07-379","07","I1301","INSTALLATION ET MAINTENANCE D'ASCENSEURS",1,".",{"$f":"IF(C1183=\"\",\"\",COUNTIF($B$2:B1183,\"=\"&B1183))","v":379},0,6.9764197014092369E-5,0]
["07-380","07","A1403","AIDE D'ÉLEVAGE AGRICOLE ET AQUACOLE",1,1,{"$f":"IF(C1184=\"\",\"\",COUNTIF($B$2:B1184,\"=\"&B1184))","v":380},0,6.9764197014092369E-5,1]
["07-381","07","A1402","AIDE AGRICOLE DE PRODUCTION LÉGUMIÈRE OU VÉGÉTALE",1,".",{"$f":"IF(C1185=\"\",\"\",COUNTIF($B$2:B1185,\"=\"&B1185))","v":381},0,6.9764197014092369E-5,0]
["15-1","15","G1602","PERSONNEL DE CUISINE",254,130,{"$f":"IF(C1186=\"\",\"\",COUNTIF($B$2:B1186,\"=\"&B1186))","v":1},250,4.6384222059897735E-2,0.51181102362204722]
["15-2","15","G1603","PERSONNEL POLYVALENT EN RESTAURATION",205,162,{"$f":"IF(C1187=\"\",\"\",COUNTIF($B$2:B1187,\"=\"&B1187))","v":2},210,3.743608473338203E-2,0.79024390243902443]
["15-3","15","G1803","SERVICE EN RESTAURATION",176,67,{"$f":"IF(C1188=\"\",\"\",COUNTIF($B$2:B1188,\"=\"&B1188))","v":3},180,3.2140248356464569E-2,0.38068181818181818]
["15-4","15","D1507","MISE EN RAYON LIBRE-SERVICE",157,102,{"$f":"IF(C1189=\"\",\"\",COUNTIF($B$2:B1189,\"=\"&B1189))","v":4},160,2.8670562454346238E-2,0.64968152866242035]
["15-5","15","K1302","ASSISTANCE AUPRÈS D'ADULTES",136,78,{"$f":"IF(C1190=\"\",\"\",COUNTIF($B$2:B1190,\"=\"&B1190))","v":5},140,2.483564645726808E-2,0.57352941176470584]
["15-6","15","J1501","SOINS D'HYGIÈNE, DE CONFORT DU PATIENT",135,69,{"$f":"IF(C1191=\"\",\"\",COUNTIF($B$2:B1191,\"=\"&B1191))","v":6},140,2.4653031409788168E-2,0.51111111111111107]
["15-7","15","J1506","SOINS INFIRMIERS GÉNÉRALISTES",130,92,{"$f":"IF(C1192=\"\",\"\",COUNTIF($B$2:B1192,\"=\"&B1192))","v":7},130,2.3739956172388606E-2,0.70769230769230773]
["15-8","15","K1304","SERVICES DOMESTIQUES",129,55,{"$f":"IF(C1193=\"\",\"\",COUNTIF($B$2:B1193,\"=\"&B1193))","v":8},130,2.3557341124908694E-2,0.4263565891472868]
["15-9","15","N4101","CONDUITE DE TRANSPORT DE MARCHANDISES SUR LONGUE DISTANCE",112,65,{"$f":"IF(C1194=\"\",\"\",COUNTIF($B$2:B1194,\"=\"&B1194))","v":9},110,2.0452885317750184E-2,0.5803571428571429]
["15-10","15","D1214","VENTE EN HABILLEMENT ET ACCESSOIRES DE LA PERSONNE",112,27,{"$f":"IF(C1195=\"\",\"\",COUNTIF($B$2:B1195,\"=\"&B1195))","v":10},110,2.0452885317750184E-2,0.24107142857142858]
["15-11","15","M1203","COMPTABILITÉ",96,71,{"$f":"IF(C1196=\"\",\"\",COUNTIF($B$2:B1196,\"=\"&B1196))","v":11},100,1.7531044558071585E-2,0.73958333333333337]
["15-12","15","I1604","MÉCANIQUE AUTOMOBILE ET ENTRETIEN DE VÉHICULES",95,83,{"$f":"IF(C1197=\"\",\"\",COUNTIF($B$2:B1197,\"=\"&B1197))","v":12},100,1.7348429510591672E-2,0.87368421052631584]
["15-13","15","M1607","SECRÉTARIAT",88,54,{"$f":"IF(C1198=\"\",\"\",COUNTIF($B$2:B1198,\"=\"&B1198))","v":13},90,1.6070124178232285E-2,0.61363636363636365]
["15-14","15","F1704","PRÉPARATION DU GROS OEUVRE ET DES TRAVAUX PUBLICS",87,23,{"$f":"IF(C1199=\"\",\"\",COUNTIF($B$2:B1199,\"=\"&B1199))","v":14},90,1.5887509130752375E-2,0.26436781609195403]
["15-15","15","I1203","MAINTENANCE DES BÂTIMENTS ET DES LOCAUX",86,42,{"$f":"IF(C1200=\"\",\"\",COUNTIF($B$2:B1200,\"=\"&B1200))","v":15},90,1.5704894083272462E-2,0.48837209302325579]
["15-16","15","D1106","VENTE EN ALIMENTATION",79,49,{"$f":"IF(C1201=\"\",\"\",COUNTIF($B$2:B1201,\"=\"&B1201))","v":16},80,1.4426588750913075E-2,0.620253164556962]
["15-17","15","J1301","PERSONNEL POLYVALENT DES SERVICES HOSPITALIERS",77,28,{"$f":"IF(C1202=\"\",\"\",COUNTIF($B$2:B1202,\"=\"&B1202))","v":17},80,1.4061358655953251E-2,0.36363636363636365]
["15-18","15","G1501","PERSONNEL D'ÉTAGE",75,14,{"$f":"IF(C1203=\"\",\"\",COUNTIF($B$2:B1203,\"=\"&B1203))","v":18},80,1.3696128560993425E-2,0.18666666666666668]
["15-19","15","G1203","ANIMATION DE LOISIRS AUPRÈS D'ENFANTS OU D'ADOLESCENTS",75,11,{"$f":"IF(C1204=\"\",\"\",COUNTIF($B$2:B1204,\"=\"&B1204))","v":19},80,1.3696128560993425E-2,0.14666666666666667]
["15-20","15","N1103","MAGASINAGE ET PRÉPARATION DE COMMANDES",73,50,{"$f":"IF(C1205=\"\",\"\",COUNTIF($B$2:B1205,\"=\"&B1205))","v":20},70,1.3330898466033601E-2,0.68493150684931503]
["15-21","15","H3302","OPÉRATIONS MANUELLES D'ASSEMBLAGE, TRI OU EMBALLAGE",67,16,{"$f":"IF(C1206=\"\",\"\",COUNTIF($B$2:B1206,\"=\"&B1206))","v":21},70,1.2235208181154127E-2,0.23880597014925373]
["15-22","15","K2204","NETTOYAGE DE LOCAUX",66,30,{"$f":"IF(C1207=\"\",\"\",COUNTIF($B$2:B1207,\"=\"&B1207))","v":22},70,1.2052593133674214E-2,0.45454545454545453]
["15-23","15","K1207","INTERVENTION SOCIOÉDUCATIVE",64,44,{"$f":"IF(C1208=\"\",\"\",COUNTIF($B$2:B1208,\"=\"&B1208))","v":23},60,1.168736303871439E-2,0.6875]
["15-24","15","G1605","PLONGE EN RESTAURATION",62,19,{"$f":"IF(C1209=\"\",\"\",COUNTIF($B$2:B1209,\"=\"&B1209))","v":24},60,1.1322132943754566E-2,0.30645161290322581]
["15-25","15","N1105","MANUTENTION MANUELLE DE CHARGES",61,40,{"$f":"IF(C1210=\"\",\"\",COUNTIF($B$2:B1210,\"=\"&B1210))","v":25},60,1.1139517896274653E-2,0.65573770491803274]
["15-26","15","D1212","VENTE EN DÉCORATION ET ÉQUIPEMENT DU FOYER",56,36,{"$f":"IF(C1211=\"\",\"\",COUNTIF($B$2:B1211,\"=\"&B1211))","v":26},60,1.0226442658875092E-2,0.6428571428571429]
["15-27","15","H2102","CONDUITE D'ÉQUIPEMENT DE PRODUCTION ALIMENTAIRE",53,9,{"$f":"IF(C1212=\"\",\"\",COUNTIF($B$2:B1212,\"=\"&B1212))","v":27},50,9.6785975164353551E-3,0.16981132075471697]
["15-28","15","D1401","ASSISTANAT COMMERCIAL",53,42,{"$f":"IF(C1213=\"\",\"\",COUNTIF($B$2:B1213,\"=\"&B1213))","v":28},50,9.6785975164353551E-3,0.79245283018867929]
["15-29","15","N4105","CONDUITE ET LIVRAISON PAR TOURNÉES SUR COURTE DISTANCE",51,35,{"$f":"IF(C1214=\"\",\"\",COUNTIF($B$2:B1214,\"=\"&B1214))","v":29},50,9.3133674214755293E-3,0.68627450980392157]
["15-30","15","K1301","ACCOMPAGNEMENT MÉDICOSOCIAL",50,28,{"$f":"IF(C1215=\"\",\"\",COUNTIF($B$2:B1215,\"=\"&B1215))","v":30},50,9.1307523739956164E-3,0.56000000000000005]
["15-31","15","J1502","COORDINATION DE SERVICES MÉDICAUX OU PARAMÉDICAUX",49,33,{"$f":"IF(C1216=\"\",\"\",COUNTIF($B$2:B1216,\"=\"&B1216))","v":31},50,8.9481373265157052E-3,0.67346938775510201]
["15-32","15","A1203","AMÉNAGEMENT ET ENTRETIEN DES ESPACES VERTS",48,31,{"$f":"IF(C1217=\"\",\"\",COUNTIF($B$2:B1217,\"=\"&B1217))","v":32},{"$f":"ROUND(E1217,-1)","v":50},8.7655222790357923E-3,{"$f":"IF(OR(F1217=\"\",F1217=\".\"),0,F1217/E1217)","v":0.64583333333333337}]
["15-33","15","G1502","PERSONNEL POLYVALENT D'HÔTELLERIE",47,11,{"$f":"IF(C1218=\"\",\"\",COUNTIF($B$2:B1218,\"=\"&B1218))","v":33},50,{"$f":"E1218/SUMIF(B:B,B1218,E:E)","v":8.5829072315558794E-3},0.23404255319148937]
[{"$f":"B1219&\"-\"&G1219","v":"15-34"},"15","G1703","RÉCEPTION EN HÔTELLERIE",47,29,{"$f":"IF(C1219=\"\",\"\",COUNTIF($B$2:B1219,\"=\"&B1219))","v":34},50,8.5829072315558794E-3,0.61702127659574468]
["15-35","15","D1505","PERSONNEL DE CAISSE",45,26,{"$f":"IF(C1220=\"\",\"\",COUNTIF($B$2:B1220,\"=\"&B1220))","v":35},50,8.2176771365960553E-3,0.57777777777777772]
["15-36","15","K1303","ASSISTANCE AUPRÈS D'ENFANTS",42,23,{"$f":"IF(C1221=\"\",\"\",COUNTIF($B$2:B1221,\"=\"&B1221))","v":36},40,7.6698319941563183E-3,0.54761904761904767]
["15-37","15","N4103","CONDUITE DE TRANSPORT EN COMMUN SUR ROUTE",40,28,{"$f":"IF(C1222=\"\",\"\",COUNTIF($B$2:B1222,\"=\"&B1222))","v":37},40,7.3046018991964941E-3,0.7]
["15-38","15","M1602","OPÉRATIONS ADMINISTRATIVES",39,10,{"$f":"IF(C1223=\"\",\"\",COUNTIF($B$2:B1223,\"=\"&B1223))","v":38},40,7.1219868517165812E-3,0.25641025641025639]
["15-39","15","F1302","CONDUITE D'ENGINS DE TERRASSEMENT ET DE CARRIÈRE",39,17,{"$f":"IF(C1224=\"\",\"\",COUNTIF($B$2:B1224,\"=\"&B1224))","v":39},40,7.1219868517165812E-3,0.4358974358974359]
["15-40","15","K1203","ENCADREMENT TECHNIQUE EN INSERTION PROFESSIONNELLE",38,28,{"$f":"IF(C1225=\"\",\"\",COUNTIF($B$2:B1225,\"=\"&B1225))","v":40},40,6.9393718042366692E-3,0.73684210526315785]
["15-41","15","F1607","POSE DE FERMETURES MENUISÉES",38,32,{"$f":"IF(C1226=\"\",\"\",COUNTIF($B$2:B1226,\"=\"&B1226))","v":41},40,6.9393718042366692E-3,0.84210526315789469]
["15-42","15","D1408","TÉLÉCONSEIL ET TÉLÉVENTE",38,9,{"$f":"IF(C1227=\"\",\"\",COUNTIF($B$2:B1227,\"=\"&B1227))","v":42},40,6.9393718042366692E-3,0.23684210526315788]
["15-43","15","M1601","ACCUEIL ET RENSEIGNEMENTS",37,16,{"$f":"IF(C1228=\"\",\"\",COUNTIF($B$2:B1228,\"=\"&B1228))","v":43},40,6.7567567567567571E-3,0.43243243243243246]
["15-44","15","K1201","ACTION SOCIALE",36,22,{"$f":"IF(C1229=\"\",\"\",COUNTIF($B$2:B1229,\"=\"&B1229))","v":44},40,6.5741417092768442E-3,0.61111111111111116]
["15-45","15","I1304","INSTALLATION ET MAINTENANCE D'ÉQUIPEMENTS INDUSTRIELS ET D'EXPLOITATION",35,30,{"$f":"IF(C1230=\"\",\"\",COUNTIF($B$2:B1230,\"=\"&B1230))","v":45},40,6.3915266617969322E-3,0.8571428571428571]
["15-46","15","I1307","INSTALLATION ET MAINTENANCE TÉLÉCOMS ET COURANTS FAIBLES",35,3,{"$f":"IF(C1231=\"\",\"\",COUNTIF($B$2:B1231,\"=\"&B1231))","v":46},40,6.3915266617969322E-3,8.5714285714285715E-2]
["15-47","15","H1503","INTERVENTION TECHNIQUE EN LABORATOIRE D'ANALYSE INDUSTRIELLE",35,25,{"$f":"IF(C1232=\"\",\"\",COUNTIF($B$2:B1232,\"=\"&B1232))","v":47},40,6.3915266617969322E-3,0.7142857142857143]
["15-48","15","F1703","MAÇONNERIE",35,21,{"$f":"IF(C1233=\"\",\"\",COUNTIF($B$2:B1233,\"=\"&B1233))","v":48},40,6.3915266617969322E-3,0.6]
["15-49","15","G1801","CAFÉ, BAR BRASSERIE",34,16,{"$f":"IF(C1234=\"\",\"\",COUNTIF($B$2:B1234,\"=\"&B1234))","v":49},30,6.2089116143170201E-3,0.47058823529411764]
["15-50","15","D1101","BOUCHERIE",33,31,{"$f":"IF(C1235=\"\",\"\",COUNTIF($B$2:B1235,\"=\"&B1235))","v":50},30,6.0262965668371072E-3,0.93939393939393945]
["15-51","15","K2104","ÉDUCATION ET SURVEILLANCE AU SEIN D'ÉTABLISSEMENTS D'ENSEIGNEMENT",32,23,{"$f":"IF(C1236=\"\",\"\",COUNTIF($B$2:B1236,\"=\"&B1236))","v":51},30,5.8436815193571951E-3,0.71875]
["15-52","15","K2111","FORMATION PROFESSIONNELLE",29,22,{"$f":"IF(C1237=\"\",\"\",COUNTIF($B$2:B1237,\"=\"&B1237))","v":52},30,5.2958363769174581E-3,0.75862068965517238]
["15-53","15","H2401","ASSEMBLAGE - MONTAGE D'ARTICLES EN CUIRS, PEAUX",29,1,{"$f":"IF(C1238=\"\",\"\",COUNTIF($B$2:B1238,\"=\"&B1238))","v":53},30,5.2958363769174581E-3,3.4482758620689655E-2]
["15-54","15","F1610","POSE ET RESTAURATION DE COUVERTURES",27,21,{"$f":"IF(C1239=\"\",\"\",COUNTIF($B$2:B1239,\"=\"&B1239))","v":54},30,4.9306062819576332E-3,0.77777777777777779]
["15-55","15","A1301","CONSEIL ET ASSISTANCE TECHNIQUE EN AGRICULTURE ET ENVIRONNEMENT NATUREL",27,24,{"$f":"IF(C1240=\"\",\"\",COUNTIF($B$2:B1240,\"=\"&B1240))","v":55},30,4.9306062819576332E-3,0.88888888888888884]
["15-56","15","I1603","MAINTENANCE D'ENGINS DE CHANTIER, LEVAGE, MANUTENTION ET DE MACHINES AGRICOLES",26,24,{"$f":"IF(C1241=\"\",\"\",COUNTIF($B$2:B1241,\"=\"&B1241))","v":56},30,4.7479912344777211E-3,0.92307692307692313]
["15-57","15","G1601","MANAGEMENT DU PERSONNEL DE CUISINE",25,16,{"$f":"IF(C1242=\"\",\"\",COUNTIF($B$2:B1242,\"=\"&B1242))","v":57},30,4.5653761869978082E-3,0.64]
["15-58","15","F1603","INSTALLATION D'ÉQUIPEMENTS SANITAIRES ET THERMIQUES",25,23,{"$f":"IF(C1243=\"\",\"\",COUNTIF($B$2:B1243,\"=\"&B1243))","v":58},30,4.5653761869978082E-3,0.92]
["15-59","15","K2303","NETTOYAGE DES ESPACES URBAINS",24,21,{"$f":"IF(C1244=\"\",\"\",COUNTIF($B$2:B1244,\"=\"&B1244))","v":59},20,4.3827611395178961E-3,0.875]
["15-60","15","J1202","PHARMACIE",22,19,{"$f":"IF(C1245=\"\",\"\",COUNTIF($B$2:B1245,\"=\"&B1245))","v":60},20,4.0175310445580712E-3,0.86363636363636365]
["15-61","15","D1202","COIFFURE",22,10,{"$f":"IF(C1246=\"\",\"\",COUNTIF($B$2:B1246,\"=\"&B1246))","v":61},20,4.0175310445580712E-3,0.45454545454545453]
["15-62","15","D1104","PÂTISSERIE, CONFISERIE, CHOCOLATERIE ET GLACERIE",22,20,{"$f":"IF(C1247=\"\",\"\",COUNTIF($B$2:B1247,\"=\"&B1247))","v":62},20,4.0175310445580712E-3,0.90909090909090906]
["15-63","15","D1107","VENTE EN GROS DE PRODUITS FRAIS",22,21,{"$f":"IF(C1248=\"\",\"\",COUNTIF($B$2:B1248,\"=\"&B1248))","v":63},20,4.0175310445580712E-3,0.95454545454545459]
["15-64","15","H1404","INTERVENTION TECHNIQUE EN MÉTHODES ET INDUSTRIALISATION",21,7,{"$f":"IF(C1249=\"\",\"\",COUNTIF($B$2:B1249,\"=\"&B1249))","v":64},20,3.8349159970781591E-3,0.33333333333333331]
["15-65","15","K1104","PSYCHOLOGIE",21,3,{"$f":"IF(C1250=\"\",\"\",COUNTIF($B$2:B1250,\"=\"&B1250))","v":65},20,3.8349159970781591E-3,0.14285714285714285]
["15-66","15","D1301","MANAGEMENT DE MAGASIN DE DÉTAIL",21,20,{"$f":"IF(C1251=\"\",\"\",COUNTIF($B$2:B1251,\"=\"&B1251))","v":66},20,3.8349159970781591E-3,0.95238095238095233]
["15-67","15","F1604","MONTAGE D'AGENCEMENTS",21,10,{"$f":"IF(C1252=\"\",\"\",COUNTIF($B$2:B1252,\"=\"&B1252))","v":67},20,3.8349159970781591E-3,0.47619047619047616]
["15-68","15","M1608","SECRÉTARIAT COMPTABLE",20,15,{"$f":"IF(C1253=\"\",\"\",COUNTIF($B$2:B1253,\"=\"&B1253))","v":68},20,3.6523009495982471E-3,0.75]
["15-69","15","D1102","BOULANGERIE - VIENNOISERIE",20,19,{"$f":"IF(C1254=\"\",\"\",COUNTIF($B$2:B1254,\"=\"&B1254))","v":69},20,3.6523009495982471E-3,0.95]
["15-70","15","H3301","CONDUITE D'ÉQUIPEMENT DE CONDITIONNEMENT",19,3,{"$f":"IF(C1255=\"\",\"\",COUNTIF($B$2:B1255,\"=\"&B1255))","v":70},20,3.4696859021183346E-3,0.15789473684210525]
["15-71","15","K2503","SÉCURITÉ ET SURVEILLANCE PRIVÉES",19,10,{"$f":"IF(C1256=\"\",\"\",COUNTIF($B$2:B1256,\"=\"&B1256))","v":71},20,3.4696859021183346E-3,0.52631578947368418]
["15-72","15","H2206","RÉALISATION DE MENUISERIE BOIS ET TONNELLERIE",19,16,{"$f":"IF(C1257=\"\",\"\",COUNTIF($B$2:B1257,\"=\"&B1257))","v":72},20,3.4696859021183346E-3,0.84210526315789469]
["15-73","15","M1609","SECRÉTARIAT ET ASSISTANAT MÉDICAL OU MÉDICO-SOCIAL",19,7,{"$f":"IF(C1258=\"\",\"\",COUNTIF($B$2:B1258,\"=\"&B1258))","v":73},20,3.4696859021183346E-3,0.36842105263157893]
["15-74","15","F1602","ÉLECTRICITÉ BÂTIMENT",19,16,{"$f":"IF(C1259=\"\",\"\",COUNTIF($B$2:B1259,\"=\"&B1259))","v":74},20,3.4696859021183346E-3,0.84210526315789469]
["15-75","15","K2110","FORMATION EN CONDUITE DE VÉHICULES",18,15,{"$f":"IF(C1260=\"\",\"\",COUNTIF($B$2:B1260,\"=\"&B1260))","v":75},20,3.2870708546384221E-3,0.83333333333333337]
["15-76","15","F1606","PEINTURE EN BÂTIMENT",18,14,{"$f":"IF(C1261=\"\",\"\",COUNTIF($B$2:B1261,\"=\"&B1261))","v":76},20,3.2870708546384221E-3,0.77777777777777779]
["15-77","15","K2107","ENSEIGNEMENT GÉNÉRAL DU SECOND DEGRÉ",18,11,{"$f":"IF(C1262=\"\",\"\",COUNTIF($B$2:B1262,\"=\"&B1262))","v":77},20,3.2870708546384221E-3,0.61111111111111116]
["15-78","15","K1206","INTERVENTION SOCIOCULTURELLE",17,12,{"$f":"IF(C1263=\"\",\"\",COUNTIF($B$2:B1263,\"=\"&B1263))","v":78},20,3.1044558071585101E-3,0.70588235294117652]
["15-79","15","I1606","RÉPARATION DE CARROSSERIE",17,17,{"$f":"IF(C1264=\"\",\"\",COUNTIF($B$2:B1264,\"=\"&B1264))","v":79},20,3.1044558071585101E-3,1]
["15-80","15","G1204","ÉDUCATION EN ACTIVITÉS SPORTIVES",17,9,{"$f":"IF(C1265=\"\",\"\",COUNTIF($B$2:B1265,\"=\"&B1265))","v":80},20,3.1044558071585101E-3,0.52941176470588236]
["15-81","15","K1802","DÉVELOPPEMENT LOCAL",16,15,{"$f":"IF(C1266=\"\",\"\",COUNTIF($B$2:B1266,\"=\"&B1266))","v":81},20,2.9218407596785976E-3,0.9375]
["15-82","15","A1416","POLYCULTURE, ÉLEVAGE",16,12,{"$f":"IF(C1267=\"\",\"\",COUNTIF($B$2:B1267,\"=\"&B1267))","v":82},20,2.9218407596785976E-3,0.75]
["15-83","15","F1201","CONDUITE DE TRAVAUX DU BTP ET DE TRAVAUX PAYSAGERS",16,13,{"$f":"IF(C1268=\"\",\"\",COUNTIF($B$2:B1268,\"=\"&B1268))","v":83},20,2.9218407596785976E-3,0.8125]
["15-84","15","A1201","BÛCHERONNAGE ET ÉLAGAGE",16,12,{"$f":"IF(C1269=\"\",\"\",COUNTIF($B$2:B1269,\"=\"&B1269))","v":84},20,2.9218407596785976E-3,0.75]
["15-85","15","J1404","KINÉSITHÉRAPIE",15,15,{"$f":"IF(C1270=\"\",\"\",COUNTIF($B$2:B1270,\"=\"&B1270))","v":85},20,2.7392257121986851E-3,1]
["15-86","15","J1403","ERGOTHÉRAPIE",15,11,{"$f":"IF(C1271=\"\",\"\",COUNTIF($B$2:B1271,\"=\"&B1271))","v":86},20,2.7392257121986851E-3,0.73333333333333328]
["15-87","15","G1202","ANIMATION D'ACTIVITÉS CULTURELLES OU LUDIQUES",15,7,{"$f":"IF(C1272=\"\",\"\",COUNTIF($B$2:B1272,\"=\"&B1272))","v":87},20,2.7392257121986851E-3,0.46666666666666667]
["15-88","15","D1211","VENTE EN ARTICLES DE SPORT ET LOISIRS",15,3,{"$f":"IF(C1273=\"\",\"\",COUNTIF($B$2:B1273,\"=\"&B1273))","v":88},20,2.7392257121986851E-3,0.2]
["15-89","15","J1307","PRÉPARATION EN PHARMACIE",14,8,{"$f":"IF(C1274=\"\",\"\",COUNTIF($B$2:B1274,\"=\"&B1274))","v":89},10,2.556610664718773E-3,0.5714285714285714]
["15-90","15","M1605","ASSISTANAT TECHNIQUE ET ADMINISTRATIF",13,9,{"$f":"IF(C1275=\"\",\"\",COUNTIF($B$2:B1275,\"=\"&B1275))","v":90},10,2.3739956172388606E-3,0.69230769230769229]
["15-91","15","K1801","CONSEIL EN EMPLOI ET INSERTION SOCIOPROFESSIONNELLE",13,11,{"$f":"IF(C1276=\"\",\"\",COUNTIF($B$2:B1276,\"=\"&B1276))","v":91},10,2.3739956172388606E-3,0.84615384615384615]
["15-92","15","A1302","CONTRÔLE ET DIAGNOSTIC TECHNIQUE EN AGRICULTURE",13,6,{"$f":"IF(C1277=\"\",\"\",COUNTIF($B$2:B1277,\"=\"&B1277))","v":92},10,2.3739956172388606E-3,0.46153846153846156]
["15-93","15","D1208","SOINS ESTHÉTIQUES ET CORPORELS",13,11,{"$f":"IF(C1278=\"\",\"\",COUNTIF($B$2:B1278,\"=\"&B1278))","v":93},10,2.3739956172388606E-3,0.84615384615384615]
["15-94","15","K2304","REVALORISATION DE PRODUITS INDUSTRIELS",12,7,{"$f":"IF(C1279=\"\",\"\",COUNTIF($B$2:B1279,\"=\"&B1279))","v":94},10,2.1913805697589481E-3,0.58333333333333337]
["15-95","15","H2801","CONDUITE D'ÉQUIPEMENT DE TRANSFORMATION DU VERRE",12,12,{"$f":"IF(C1280=\"\",\"\",COUNTIF($B$2:B1280,\"=\"&B1280))","v":95},10,2.1913805697589481E-3,1]
["15-96","15","K1403","MANAGEMENT DE STRUCTURE DE SANTÉ, SOCIALE OU PÉNITENTIAIRE",12,12,{"$f":"IF(C1281=\"\",\"\",COUNTIF($B$2:B1281,\"=\"&B1281))","v":96},{"$f":"ROUND(E1281,-1)","v":10},2.1913805697589481E-3,{"$f":"IF(OR(F1281=\"\",F1281=\".\"),0,F1281/E1281)","v":1}]
["15-97","15","G1206","PERSONNEL TECHNIQUE DES JEUX",12,12,{"$f":"IF(C1282=\"\",\"\",COUNTIF($B$2:B1282,\"=\"&B1282))","v":97},10,{"$f":"E1282/SUMIF(B:B,B1282,E:E)","v":2.1913805697589481E-3},1]
[{"$f":"B1283&\"-\"&G1283","v":"15-98"},"15","D1502","MANAGEMENT/GESTION DE RAYON PRODUITS ALIMENTAIRES",12,10,{"$f":"IF(C1283=\"\",\"\",COUNTIF($B$2:B1283,\"=\"&B1283))","v":98},10,2.1913805697589481E-3,0.83333333333333337]
["15-99","15","D1209","VENTE DE VÉGÉTAUX",12,6,{"$f":"IF(C1284=\"\",\"\",COUNTIF($B$2:B1284,\"=\"&B1284))","v":99},10,2.1913805697589481E-3,0.5]
["15-100","15","M1805","ÉTUDES ET DÉVELOPPEMENT INFORMATIQUE",11,11,{"$f":"IF(C1285=\"\",\"\",COUNTIF($B$2:B1285,\"=\"&B1285))","v":100},10,2.0087655222790356E-3,1]
["15-101","15","L1401","SPORTIF PROFESSIONNEL",11,11,{"$f":"IF(C1286=\"\",\"\",COUNTIF($B$2:B1286,\"=\"&B1286))","v":101},10,2.0087655222790356E-3,1]
["15-102","15","J1304","AIDE EN PUÉRICULTURE",11,2,{"$f":"IF(C1287=\"\",\"\",COUNTIF($B$2:B1287,\"=\"&B1287))","v":102},10,2.0087655222790356E-3,0.18181818181818182]
["15-103","15","N1101","CONDUITE D'ENGINS DE DÉPLACEMENT DES CHARGES",11,5,{"$f":"IF(C1288=\"\",\"\",COUNTIF($B$2:B1288,\"=\"&B1288))","v":103},10,2.0087655222790356E-3,0.45454545454545453]
["15-104","15","D1402","RELATION COMMERCIALE GRANDS COMPTES ET ENTREPRISES",11,11,{"$f":"IF(C1289=\"\",\"\",COUNTIF($B$2:B1289,\"=\"&B1289))","v":104},10,2.0087655222790356E-3,1]
["15-105","15","J1305","CONDUITE DE VÉHICULES SANITAIRES",10,8,{"$f":"IF(C1290=\"\",\"\",COUNTIF($B$2:B1290,\"=\"&B1290))","v":105},10,1.8261504747991235E-3,0.8]
["15-106","15","M1402","CONSEIL EN ORGANISATION ET MANAGEMENT D'ENTREPRISE",10,10,{"$f":"IF(C1291=\"\",\"\",COUNTIF($B$2:B1291,\"=\"&B1291))","v":106},10,1.8261504747991235E-3,1]
["15-107","15","H2903","CONDUITE D'ÉQUIPEMENT D'USINAGE",10,8,{"$f":"IF(C1292=\"\",\"\",COUNTIF($B$2:B1292,\"=\"&B1292))","v":107},10,1.8261504747991235E-3,0.8]
["15-108","15","G1401","ASSISTANCE DE DIRECTION D'HÔTEL-RESTAURANT",10,6,{"$f":"IF(C1293=\"\",\"\",COUNTIF($B$2:B1293,\"=\"&B1293))","v":108},10,1.8261504747991235E-3,0.6]
["15-109","15","I1202","ENTRETIEN ET SURVEILLANCE DU TRACÉ ROUTIER",10,4,{"$f":"IF(C1294=\"\",\"\",COUNTIF($B$2:B1294,\"=\"&B1294))","v":109},10,1.8261504747991235E-3,0.4]
["15-110","15","F1202","DIRECTION DE CHANTIER DU BTP",10,8,{"$f":"IF(C1295=\"\",\"\",COUNTIF($B$2:B1295,\"=\"&B1295))","v":110},10,1.8261504747991235E-3,0.8]
["15-111","15","D1404","RELATION COMMERCIALE EN VENTE DE VÉHICULES",10,10,{"$f":"IF(C1296=\"\",\"\",COUNTIF($B$2:B1296,\"=\"&B1296))","v":111},10,1.8261504747991235E-3,1]
["15-112","15","M1810","PRODUCTION ET EXPLOITATION DE SYSTÈMES D'INFORMATION",9,8,{"$f":"IF(C1297=\"\",\"\",COUNTIF($B$2:B1297,\"=\"&B1297))","v":112},10,1.6435354273192111E-3,0.88888888888888884]
["15-113","15","M1202","AUDIT ET CONTRÔLE COMPTABLES ET FINANCIERS",9,8,{"$f":"IF(C1298=\"\",\"\",COUNTIF($B$2:B1298,\"=\"&B1298))","v":113},10,1.6435354273192111E-3,0.88888888888888884]
["15-114","15","H2901","AJUSTEMENT ET MONTAGE DE FABRICATION",9,7,{"$f":"IF(C1299=\"\",\"\",COUNTIF($B$2:B1299,\"=\"&B1299))","v":114},10,1.6435354273192111E-3,0.77777777777777779]
["15-115","15","M1503","MANAGEMENT DES RESSOURCES HUMAINES",9,8,{"$f":"IF(C1300=\"\",\"\",COUNTIF($B$2:B1300,\"=\"&B1300))","v":115},10,1.6435354273192111E-3,0.88888888888888884]
["15-116","15","H1210","INTERVENTION TECHNIQUE EN ÉTUDES, RECHERCHE ET DÉVELOPPEMENT",9,2,{"$f":"IF(C1301=\"\",\"\",COUNTIF($B$2:B1301,\"=\"&B1301))","v":116},10,1.6435354273192111E-3,0.22222222222222221]
["15-117","15","D1407","RELATION TECHNICO-COMMERCIALE",9,9,{"$f":"IF(C1302=\"\",\"\",COUNTIF($B$2:B1302,\"=\"&B1302))","v":117},10,1.6435354273192111E-3,1]
["15-118","15","C1102","CONSEIL CLIENTÈLE EN ASSURANCES",9,9,{"$f":"IF(C1303=\"\",\"\",COUNTIF($B$2:B1303,\"=\"&B1303))","v":118},10,1.6435354273192111E-3,1]
["15-119","15","M1604","ASSISTANAT DE DIRECTION",8,7,{"$f":"IF(C1304=\"\",\"\",COUNTIF($B$2:B1304,\"=\"&B1304))","v":119},10,1.4609203798392988E-3,0.875]
["15-120","15","J1302","ANALYSES MÉDICALES",8,3,{"$f":"IF(C1305=\"\",\"\",COUNTIF($B$2:B1305,\"=\"&B1305))","v":120},10,1.4609203798392988E-3,0.375]
["15-121","15","J1102","MÉDECINE GÉNÉRALISTE ET SPÉCIALISÉE",8,8,{"$f":"IF(C1306=\"\",\"\",COUNTIF($B$2:B1306,\"=\"&B1306))","v":121},10,1.4609203798392988E-3,1]
["15-122","15","J1104","SUIVI DE LA GROSSESSE ET DE L'ACCOUCHEMENT",8,".",{"$f":"IF(C1307=\"\",\"\",COUNTIF($B$2:B1307,\"=\"&B1307))","v":122},10,1.4609203798392988E-3,0]
["15-123","15","H1502","MANAGEMENT ET INGÉNIERIE QUALITÉ INDUSTRIELLE",8,5,{"$f":"IF(C1308=\"\",\"\",COUNTIF($B$2:B1308,\"=\"&B1308))","v":123},10,1.4609203798392988E-3,0.625]
["15-124","15","M1501","ASSISTANAT EN RESSOURCES HUMAINES",8,4,{"$f":"IF(C1309=\"\",\"\",COUNTIF($B$2:B1309,\"=\"&B1309))","v":124},10,1.4609203798392988E-3,0.5]
["15-125","15","D1203","HYDROTHÉRAPIE",8,1,{"$f":"IF(C1310=\"\",\"\",COUNTIF($B$2:B1310,\"=\"&B1310))","v":125},10,1.4609203798392988E-3,0.125]
["15-126","15","F1608","POSE DE REVÊTEMENTS RIGIDES",8,5,{"$f":"IF(C1311=\"\",\"\",COUNTIF($B$2:B1311,\"=\"&B1311))","v":126},10,1.4609203798392988E-3,0.625]
["15-127","15","F1106","INGÉNIERIE ET ÉTUDES DU BTP",8,8,{"$f":"IF(C1312=\"\",\"\",COUNTIF($B$2:B1312,\"=\"&B1312))","v":127},10,1.4609203798392988E-3,1]
["15-128","15","M1502","DÉVELOPPEMENT DES RESSOURCES HUMAINES",7,7,{"$f":"IF(C1313=\"\",\"\",COUNTIF($B$2:B1313,\"=\"&B1313))","v":128},10,1.2783053323593865E-3,1]
["15-129","15","K1102","AIDE AUX BÉNÉFICIAIRES D'UNE MESURE DE PROTECTION JURIDIQUE",7,2,{"$f":"IF(C1314=\"\",\"\",COUNTIF($B$2:B1314,\"=\"&B1314))","v":129},10,1.2783053323593865E-3,0.2857142857142857]
["15-130","15","I1401","MAINTENANCE INFORMATIQUE ET BUREAUTIQUE",7,5,{"$f":"IF(C1315=\"\",\"\",COUNTIF($B$2:B1315,\"=\"&B1315))","v":130},10,1.2783053323593865E-3,0.7142857142857143]
["15-131","15","H2101","ABATTAGE ET DÉCOUPE DES VIANDES",7,5,{"$f":"IF(C1316=\"\",\"\",COUNTIF($B$2:B1316,\"=\"&B1316))","v":131},10,1.2783053323593865E-3,0.7142857142857143]
["15-132","15","G1403","GESTION DE STRUCTURE DE LOISIRS OU D'HÉBERGEMENT TOURISTIQUE",7,5,{"$f":"IF(C1317=\"\",\"\",COUNTIF($B$2:B1317,\"=\"&B1317))","v":132},10,1.2783053323593865E-3,0.7142857142857143]
["15-133","15","G1201","ACCOMPAGNEMENT DE VOYAGES, D'ACTIVITÉS CULTURELLES OU SPORTIVES",7,2,{"$f":"IF(C1318=\"\",\"\",COUNTIF($B$2:B1318,\"=\"&B1318))","v":133},10,1.2783053323593865E-3,0.2857142857142857]
["15-134","15","G1402","MANAGEMENT D'HÔTEL-RESTAURANT",7,6,{"$f":"IF(C1319=\"\",\"\",COUNTIF($B$2:B1319,\"=\"&B1319))","v":134},10,1.2783053323593865E-3,0.8571428571428571]
["15-135","15","G1101","ACCUEIL TOURISTIQUE",7,1,{"$f":"IF(C1320=\"\",\"\",COUNTIF($B$2:B1320,\"=\"&B1320))","v":135},10,1.2783053323593865E-3,0.14285714285714285]
["15-136","15","F1104","DESSIN BTP ET PAYSAGE",7,4,{"$f":"IF(C1321=\"\",\"\",COUNTIF($B$2:B1321,\"=\"&B1321))","v":136},10,1.2783053323593865E-3,0.5714285714285714]
["15-137","15","A1501","AIDE AUX SOINS ANIMAUX",7,4,{"$f":"IF(C1322=\"\",\"\",COUNTIF($B$2:B1322,\"=\"&B1322))","v":137},10,1.2783053323593865E-3,0.5714285714285714]
["15-138","15","A1412","FABRICATION ET AFFINAGE DE FROMAGES",7,2,{"$f":"IF(C1323=\"\",\"\",COUNTIF($B$2:B1323,\"=\"&B1323))","v":138},10,1.2783053323593865E-3,0.2857142857142857]
["15-139","15","A1202","ENTRETIEN DES ESPACES NATURELS",7,3,{"$f":"IF(C1324=\"\",\"\",COUNTIF($B$2:B1324,\"=\"&B1324))","v":139},10,1.2783053323593865E-3,0.42857142857142855]
["15-140","15","D1503","MANAGEMENT/GESTION DE RAYON PRODUITS NON ALIMENTAIRES",7,7,{"$f":"IF(C1325=\"\",\"\",COUNTIF($B$2:B1325,\"=\"&B1325))","v":140},10,1.2783053323593865E-3,1]
["15-141","15","D1205","NETTOYAGE D'ARTICLES TEXTILES OU CUIRS",7,2,{"$f":"IF(C1326=\"\",\"\",COUNTIF($B$2:B1326,\"=\"&B1326))","v":141},10,1.2783053323593865E-3,0.2857142857142857]
["15-142","15","A1403","AIDE D'ÉLEVAGE AGRICOLE ET AQUACOLE",7,4,{"$f":"IF(C1327=\"\",\"\",COUNTIF($B$2:B1327,\"=\"&B1327))","v":142},10,1.2783053323593865E-3,0.5714285714285714]
["15-143","15","A1303","INGÉNIERIE EN AGRICULTURE ET ENVIRONNEMENT NATUREL",7,5,{"$f":"IF(C1328=\"\",\"\",COUNTIF($B$2:B1328,\"=\"&B1328))","v":143},10,1.2783053323593865E-3,0.7142857142857143]
["15-144","15","F1503","RÉALISATION - INSTALLATION D'OSSATURES BOIS",6,3,{"$f":"IF(C1329=\"\",\"\",COUNTIF($B$2:B1329,\"=\"&B1329))","v":144},10,1.095690284879474E-3,0.5]
["15-145","15","J1412","RÉÉDUCATION EN PSYCHOMOTRICITÉ",6,5,{"$f":"IF(C1330=\"\",\"\",COUNTIF($B$2:B1330,\"=\"&B1330))","v":145},10,1.095690284879474E-3,0.83333333333333337]
["15-146","15","K1305","INTERVENTION SOCIALE ET FAMILIALE",6,4,{"$f":"IF(C1331=\"\",\"\",COUNTIF($B$2:B1331,\"=\"&B1331))","v":146},10,1.095690284879474E-3,0.66666666666666663]
["15-147","15","K1404","MISE EN OEUVRE ET PILOTAGE DE LA POLITIQUE DES POUVOIRS PUBLICS",6,5,{"$f":"IF(C1332=\"\",\"\",COUNTIF($B$2:B1332,\"=\"&B1332))","v":147},10,1.095690284879474E-3,0.83333333333333337]
["15-148","15","K1205","INFORMATION SOCIALE",6,3,{"$f":"IF(C1333=\"\",\"\",COUNTIF($B$2:B1333,\"=\"&B1333))","v":148},10,1.095690284879474E-3,0.5]
["15-149","15","K2109","ENSEIGNEMENT TECHNIQUE ET PROFESSIONNEL",6,6,{"$f":"IF(C1334=\"\",\"\",COUNTIF($B$2:B1334,\"=\"&B1334))","v":149},10,1.095690284879474E-3,1]
["15-150","15","K1202","ÉDUCATION DE JEUNES ENFANTS",6,3,{"$f":"IF(C1335=\"\",\"\",COUNTIF($B$2:B1335,\"=\"&B1335))","v":150},10,1.095690284879474E-3,0.5]
["15-151","15","G1604","FABRICATION DE CRÊPES OU PIZZAS",6,6,{"$f":"IF(C1336=\"\",\"\",COUNTIF($B$2:B1336,\"=\"&B1336))","v":151},10,1.095690284879474E-3,1]
["15-152","15","J1306","IMAGERIE MÉDICALE",6,4,{"$f":"IF(C1337=\"\",\"\",COUNTIF($B$2:B1337,\"=\"&B1337))","v":152},10,1.095690284879474E-3,0.66666666666666663]
["15-153","15","H1101","ASSISTANCE ET SUPPORT TECHNIQUE CLIENT",6,6,{"$f":"IF(C1338=\"\",\"\",COUNTIF($B$2:B1338,\"=\"&B1338))","v":153},10,1.095690284879474E-3,1]
["15-154","15","H2911","RÉALISATION DE STRUCTURES MÉTALLIQUES",6,4,{"$f":"IF(C1339=\"\",\"\",COUNTIF($B$2:B1339,\"=\"&B1339))","v":154},10,1.095690284879474E-3,0.66666666666666663]
["15-155","15","E1103","COMMUNICATION",6,5,{"$f":"IF(C1340=\"\",\"\",COUNTIF($B$2:B1340,\"=\"&B1340))","v":155},10,1.095690284879474E-3,0.83333333333333337]
["15-156","15","E1205","RÉALISATION DE CONTENUS MULTIMÉDIAS",6,5,{"$f":"IF(C1341=\"\",\"\",COUNTIF($B$2:B1341,\"=\"&B1341))","v":156},10,1.095690284879474E-3,0.83333333333333337]
["15-157","15","A1407","ÉLEVAGE BOVIN OU ÉQUIN",6,3,{"$f":"IF(C1342=\"\",\"\",COUNTIF($B$2:B1342,\"=\"&B1342))","v":157},10,1.095690284879474E-3,0.5]
["15-158","15","A1402","AIDE AGRICOLE DE PRODUCTION LÉGUMIÈRE OU VÉGÉTALE",6,3,{"$f":"IF(C1343=\"\",\"\",COUNTIF($B$2:B1343,\"=\"&B1343))","v":158},10,1.095690284879474E-3,0.5]
["15-159","15","N4102","CONDUITE DE TRANSPORT DE PARTICULIERS",5,3,{"$f":"IF(C1344=\"\",\"\",COUNTIF($B$2:B1344,\"=\"&B1344))","v":159},10,9.1307523739956177E-4,0.6]
["15-160","15","M1102","DIRECTION DES ACHATS",5,2,{"$f":"IF(C1345=\"\",\"\",COUNTIF($B$2:B1345,\"=\"&B1345))","v":160},{"$f":"ROUND(E1345,-1)","v":10},9.1307523739956177E-4,{"$f":"IF(OR(F1345=\"\",F1345=\".\"),0,F1345/E1345)","v":0.4}]
["15-161","15","M1704","MANAGEMENT RELATION CLIENTÈLE",5,5,{"$f":"IF(C1346=\"\",\"\",COUNTIF($B$2:B1346,\"=\"&B1346))","v":161},10,{"$f":"E1346/SUMIF(B:B,B1346,E:E)","v":9.1307523739956177E-4},1]
[{"$f":"B1347&\"-\"&G1347","v":"15-162"},"15","K1903","DÉFENSE ET CONSEIL JURIDIQUE",5,2,{"$f":"IF(C1347=\"\",\"\",COUNTIF($B$2:B1347,\"=\"&B1347))","v":162},10,9.1307523739956177E-4,0.4]
["15-163","15","I1607","RÉPARATION DE CYCLES, MOTOCYCLES ET MOTOCULTEURS DE LOISIRS",5,3,{"$f":"IF(C1348=\"\",\"\",COUNTIF($B$2:B1348,\"=\"&B1348))","v":163},10,9.1307523739956177E-4,0.6]
["15-164","15","F1103","CONTRÔLE ET DIAGNOSTIC TECHNIQUE DU BÂTIMENT",5,4,{"$f":"IF(C1349=\"\",\"\",COUNTIF($B$2:B1349,\"=\"&B1349))","v":164},10,9.1307523739956177E-4,0.8]
["15-165","15","J1505","SOINS INFIRMIERS SPÉCIALISÉS EN PRÉVENTION",5,4,{"$f":"IF(C1350=\"\",\"\",COUNTIF($B$2:B1350,\"=\"&B1350))","v":165},10,9.1307523739956177E-4,0.8]
["15-166","15","H2913","SOUDAGE MANUEL",5,3,{"$f":"IF(C1351=\"\",\"\",COUNTIF($B$2:B1351,\"=\"&B1351))","v":166},10,9.1307523739956177E-4,0.6]
["15-167","15","H2207","RÉALISATION DE MEUBLES EN BOIS",5,4,{"$f":"IF(C1352=\"\",\"\",COUNTIF($B$2:B1352,\"=\"&B1352))","v":167},10,9.1307523739956177E-4,0.8]
["15-168","15","H3303","PRÉPARATION DE MATIÈRES ET PRODUITS INDUSTRIELS (BROYAGE, MÉLANGE, ...)",5,1,{"$f":"IF(C1353=\"\",\"\",COUNTIF($B$2:B1353,\"=\"&B1353))","v":168},10,9.1307523739956177E-4,0.2]
["15-169","15","G1802","MANAGEMENT DU SERVICE EN RESTAURATION",5,4,{"$f":"IF(C1354=\"\",\"\",COUNTIF($B$2:B1354,\"=\"&B1354))","v":169},10,9.1307523739956177E-4,0.8]
["15-170","15","F1108","MÉTRÉ DE LA CONSTRUCTION",5,5,{"$f":"IF(C1355=\"\",\"\",COUNTIF($B$2:B1355,\"=\"&B1355))","v":170},10,9.1307523739956177E-4,1]
["15-171","15","I1308","MAINTENANCE D'INSTALLATION DE CHAUFFAGE",5,5,{"$f":"IF(C1356=\"\",\"\",COUNTIF($B$2:B1356,\"=\"&B1356))","v":171},10,9.1307523739956177E-4,1]
["15-172","15","M1301","DIRECTION DE GRANDE ENTREPRISE OU D'ÉTABLISSEMENT PUBLIC",4,4,{"$f":"IF(C1357=\"\",\"\",COUNTIF($B$2:B1357,\"=\"&B1357))","v":172},0,7.3046018991964939E-4,1]
["15-173","15","I1103","SUPERVISION D'ENTRETIEN ET GESTION DE VÉHICULES",4,4,{"$f":"IF(C1358=\"\",\"\",COUNTIF($B$2:B1358,\"=\"&B1358))","v":173},0,7.3046018991964939E-4,1]
["15-174","15","M1707","STRATÉGIE COMMERCIALE",4,4,{"$f":"IF(C1359=\"\",\"\",COUNTIF($B$2:B1359,\"=\"&B1359))","v":174},0,7.3046018991964939E-4,1]
["15-175","15","J1303","ASSISTANCE MÉDICO-TECHNIQUE",4,3,{"$f":"IF(C1360=\"\",\"\",COUNTIF($B$2:B1360,\"=\"&B1360))","v":175},0,7.3046018991964939E-4,0.75]
["15-176","15","K1601","GESTION DE L'INFORMATION ET DE LA DOCUMENTATION",4,2,{"$f":"IF(C1361=\"\",\"\",COUNTIF($B$2:B1361,\"=\"&B1361))","v":176},0,7.3046018991964939E-4,0.5]
["15-177","15","K1204","MÉDIATION SOCIALE ET FACILITATION DE LA VIE EN SOCIÉTÉ",4,4,{"$f":"IF(C1362=\"\",\"\",COUNTIF($B$2:B1362,\"=\"&B1362))","v":177},0,7.3046018991964939E-4,1]
["15-178","15","H2909","MONTAGE-ASSEMBLAGE MÉCANIQUE",4,2,{"$f":"IF(C1363=\"\",\"\",COUNTIF($B$2:B1363,\"=\"&B1363))","v":178},0,7.3046018991964939E-4,0.5]
["15-179","15","K2106","ENSEIGNEMENT DES ÉCOLES",4,4,{"$f":"IF(C1364=\"\",\"\",COUNTIF($B$2:B1364,\"=\"&B1364))","v":179},0,7.3046018991964939E-4,1]
["15-180","15","H3404","PEINTURE INDUSTRIELLE",4,2,{"$f":"IF(C1365=\"\",\"\",COUNTIF($B$2:B1365,\"=\"&B1365))","v":180},0,7.3046018991964939E-4,0.5]
["15-181","15","J1410","PROTHÈSES DENTAIRES",4,4,{"$f":"IF(C1366=\"\",\"\",COUNTIF($B$2:B1366,\"=\"&B1366))","v":181},0,7.3046018991964939E-4,1]
["15-182","15","M1204","CONTRÔLE DE GESTION",4,4,{"$f":"IF(C1367=\"\",\"\",COUNTIF($B$2:B1367,\"=\"&B1367))","v":182},0,7.3046018991964939E-4,1]
["15-183","15","H1203","CONCEPTION ET DESSIN PRODUITS MÉCANIQUES",4,4,{"$f":"IF(C1368=\"\",\"\",COUNTIF($B$2:B1368,\"=\"&B1368))","v":183},0,7.3046018991964939E-4,1]
["15-184","15","H2902","CHAUDRONNERIE - TÔLERIE",4,3,{"$f":"IF(C1369=\"\",\"\",COUNTIF($B$2:B1369,\"=\"&B1369))","v":184},0,7.3046018991964939E-4,0.75]
["15-185","15","H2504","ENCADREMENT D'ÉQUIPE EN INDUSTRIE DE TRANSFORMATION",4,4,{"$f":"IF(C1370=\"\",\"\",COUNTIF($B$2:B1370,\"=\"&B1370))","v":185},0,7.3046018991964939E-4,1]
["15-186","15","C1501","GÉRANCE IMMOBILIÈRE",4,4,{"$f":"IF(C1371=\"\",\"\",COUNTIF($B$2:B1371,\"=\"&B1371))","v":186},0,7.3046018991964939E-4,1]
["15-187","15","D1504","DIRECTION DE MAGASIN DE GRANDE DISTRIBUTION",4,4,{"$f":"IF(C1372=\"\",\"\",COUNTIF($B$2:B1372,\"=\"&B1372))","v":187},0,7.3046018991964939E-4,1]
["15-188","15","D1509","MANAGEMENT DE DÉPARTEMENT EN GRANDE DISTRIBUTION",4,4,{"$f":"IF(C1373=\"\",\"\",COUNTIF($B$2:B1373,\"=\"&B1373))","v":188},0,7.3046018991964939E-4,1]
["15-189","15","D1103","CHARCUTERIE - TRAITEUR",4,2,{"$f":"IF(C1374=\"\",\"\",COUNTIF($B$2:B1374,\"=\"&B1374))","v":189},0,7.3046018991964939E-4,0.5]
["15-190","15","F1701","CONSTRUCTION EN BÉTON",4,".",{"$f":"IF(C1375=\"\",\"\",COUNTIF($B$2:B1375,\"=\"&B1375))","v":190},0,7.3046018991964939E-4,0]
["15-191","15","N1301","CONCEPTION ET ORGANISATION DE LA CHAÎNE LOGISTIQUE",3,3,{"$f":"IF(C1376=\"\",\"\",COUNTIF($B$2:B1376,\"=\"&B1376))","v":191},0,5.4784514243973702E-4,1]
["15-192","15","N4203","INTERVENTION TECHNIQUE D'EXPLOITATION DES TRANSPORTS ROUTIERS DE MARCHANDISES",3,2,{"$f":"IF(C1377=\"\",\"\",COUNTIF($B$2:B1377,\"=\"&B1377))","v":192},0,5.4784514243973702E-4,0.66666666666666663]
["15-193","15","K2302","MANAGEMENT ET INSPECTION EN ENVIRONNEMENT URBAIN",3,".",{"$f":"IF(C1378=\"\",\"\",COUNTIF($B$2:B1378,\"=\"&B1378))","v":193},0,5.4784514243973702E-4,0]
["15-194","15","M1705","MARKETING",3,2,{"$f":"IF(C1379=\"\",\"\",COUNTIF($B$2:B1379,\"=\"&B1379))","v":194},0,5.4784514243973702E-4,0.66666666666666663]
["15-195","15","M1801","ADMINISTRATION DE SYSTÈMES D'INFORMATION",3,1,{"$f":"IF(C1380=\"\",\"\",COUNTIF($B$2:B1380,\"=\"&B1380))","v":195},0,5.4784514243973702E-4,0.33333333333333331]
["15-196","15","K2201","BLANCHISSERIE INDUSTRIELLE",3,".",{"$f":"IF(C1381=\"\",\"\",COUNTIF($B$2:B1381,\"=\"&B1381))","v":196},0,5.4784514243973702E-4,0]
["15-197","15","N1102","DÉMÉNAGEMENT",3,2,{"$f":"IF(C1382=\"\",\"\",COUNTIF($B$2:B1382,\"=\"&B1382))","v":197},0,5.4784514243973702E-4,0.66666666666666663]
["15-198","15","M1603","DISTRIBUTION DE DOCUMENTS",3,".",{"$f":"IF(C1383=\"\",\"\",COUNTIF($B$2:B1383,\"=\"&B1383))","v":198},0,5.4784514243973702E-4,0]
["15-199","15","J1411","PROTHÈSES ET ORTHÈSES",3,3,{"$f":"IF(C1384=\"\",\"\",COUNTIF($B$2:B1384,\"=\"&B1384))","v":199},0,5.4784514243973702E-4,1]
["15-200","15","K1402","CONSEIL EN SANTÉ PUBLIQUE",3,2,{"$f":"IF(C1385=\"\",\"\",COUNTIF($B$2:B1385,\"=\"&B1385))","v":200},0,5.4784514243973702E-4,0.66666666666666663]
["15-201","15","K1902","COLLABORATION JURIDIQUE",3,3,{"$f":"IF(C1386=\"\",\"\",COUNTIF($B$2:B1386,\"=\"&B1386))","v":201},0,5.4784514243973702E-4,1]
["15-202","15","I1306","INSTALLATION ET MAINTENANCE EN FROID, CONDITIONNEMENT D'AIR",3,2,{"$f":"IF(C1387=\"\",\"\",COUNTIF($B$2:B1387,\"=\"&B1387))","v":202},0,5.4784514243973702E-4,0.66666666666666663]
["15-203","15","H2205","PREMIÈRE TRANSFORMATION DE BOIS D'OEUVRE",3,3,{"$f":"IF(C1388=\"\",\"\",COUNTIF($B$2:B1388,\"=\"&B1388))","v":203},0,5.4784514243973702E-4,1]
["15-204","15","M1205","DIRECTION ADMINISTRATIVE ET FINANCIÈRE",3,2,{"$f":"IF(C1389=\"\",\"\",COUNTIF($B$2:B1389,\"=\"&B1389))","v":204},0,5.4784514243973702E-4,0.66666666666666663]
["15-205","15","H2502","MANAGEMENT ET INGÉNIERIE DE PRODUCTION",3,3,{"$f":"IF(C1390=\"\",\"\",COUNTIF($B$2:B1390,\"=\"&B1390))","v":205},0,5.4784514243973702E-4,1]
["15-206","15","F1301","CONDUITE DE GRUE",3,2,{"$f":"IF(C1391=\"\",\"\",COUNTIF($B$2:B1391,\"=\"&B1391))","v":206},0,5.4784514243973702E-4,0.66666666666666663]
["15-207","15","D1508","ENCADREMENT DU PERSONNEL DE CAISSES",3,3,{"$f":"IF(C1392=\"\",\"\",COUNTIF($B$2:B1392,\"=\"&B1392))","v":207},0,5.4784514243973702E-4,1]
["15-208","15","E1107","ORGANISATION D'ÉVÈNEMENTIEL",3,3,{"$f":"IF(C1393=\"\",\"\",COUNTIF($B$2:B1393,\"=\"&B1393))","v":208},0,5.4784514243973702E-4,1]
["15-209","15","C1502","GESTION LOCATIVE IMMOBILIÈRE",3,3,{"$f":"IF(C1394=\"\",\"\",COUNTIF($B$2:B1394,\"=\"&B1394))","v":209},0,5.4784514243973702E-4,1]
["15-210","15","A1204","PROTECTION DU PATRIMOINE NATUREL",3,3,{"$f":"IF(C1395=\"\",\"\",COUNTIF($B$2:B1395,\"=\"&B1395))","v":210},0,5.4784514243973702E-4,1]
["15-211","15","F1402","EXTRACTION SOLIDE",3,".",{"$f":"IF(C1396=\"\",\"\",COUNTIF($B$2:B1396,\"=\"&B1396))","v":211},0,5.4784514243973702E-4,0]
["15-212","15","C1504","TRANSACTION IMMOBILIÈRE",3,2,{"$f":"IF(C1397=\"\",\"\",COUNTIF($B$2:B1397,\"=\"&B1397))","v":212},0,5.4784514243973702E-4,0.66666666666666663]
["15-213","15","E1304","FAÇONNAGE ET ROUTAGE",3,".",{"$f":"IF(C1398=\"\",\"\",COUNTIF($B$2:B1398,\"=\"&B1398))","v":213},0,5.4784514243973702E-4,0]
["15-214","15","F1102","CONCEPTION - AMÉNAGEMENT D'ESPACES INTÉRIEURS",3,3,{"$f":"IF(C1399=\"\",\"\",COUNTIF($B$2:B1399,\"=\"&B1399))","v":214},0,5.4784514243973702E-4,1]
["15-215","15","E1108","TRADUCTION, INTERPRÉTARIAT",3,".",{"$f":"IF(C1400=\"\",\"\",COUNTIF($B$2:B1400,\"=\"&B1400))","v":215},0,5.4784514243973702E-4,0]
["15-216","15","E1301","CONDUITE DE MACHINES D'IMPRESSION",3,".",{"$f":"IF(C1401=\"\",\"\",COUNTIF($B$2:B1401,\"=\"&B1401))","v":216},0,5.4784514243973702E-4,0]
["15-217","15","D1213","VENTE EN GROS DE MATÉRIEL ET ÉQUIPEMENT",3,2,{"$f":"IF(C1402=\"\",\"\",COUNTIF($B$2:B1402,\"=\"&B1402))","v":217},0,5.4784514243973702E-4,0.66666666666666663]
["15-218","15","K2112","ORIENTATION SCOLAIRE ET PROFESSIONNELLE",2,1,{"$f":"IF(C1403=\"\",\"\",COUNTIF($B$2:B1403,\"=\"&B1403))","v":218},0,3.652300949598247E-4,0.5]
["15-219","15","N4204","INTERVENTION TECHNIQUE D'EXPLOITATION DES TRANSPORTS ROUTIERS DE PERSONNES",2,2,{"$f":"IF(C1404=\"\",\"\",COUNTIF($B$2:B1404,\"=\"&B1404))","v":219},0,3.652300949598247E-4,1]
["15-220","15","N1303","INTERVENTION TECHNIQUE D'EXPLOITATION LOGISTIQUE",2,1,{"$f":"IF(C1405=\"\",\"\",COUNTIF($B$2:B1405,\"=\"&B1405))","v":220},0,3.652300949598247E-4,0.5]
["15-221","15","N4104","COURSES ET LIVRAISONS EXPRESS",2,2,{"$f":"IF(C1406=\"\",\"\",COUNTIF($B$2:B1406,\"=\"&B1406))","v":221},0,3.652300949598247E-4,1]
["15-222","15","H2905","CONDUITE D'ÉQUIPEMENT DE FORMAGE ET DÉCOUPAGE DES MATÉRIAUX",2,2,{"$f":"IF(C1407=\"\",\"\",COUNTIF($B$2:B1407,\"=\"&B1407))","v":222},0,3.652300949598247E-4,1]
["15-223","15","M1101","ACHATS",2,2,{"$f":"IF(C1408=\"\",\"\",COUNTIF($B$2:B1408,\"=\"&B1408))","v":223},0,3.652300949598247E-4,1]
["15-224","15","K2108","ENSEIGNEMENT SUPÉRIEUR",2,2,{"$f":"IF(C1409=\"\",\"\",COUNTIF($B$2:B1409,\"=\"&B1409))","v":224},{"$f":"ROUND(E1409,-1)","v":0},3.652300949598247E-4,{"$f":"IF(OR(F1409=\"\",F1409=\".\"),0,F1409/E1409)","v":1}]
["15-225","15","M1302","DIRECTION DE PETITE OU MOYENNE ENTREPRISE",2,2,{"$f":"IF(C1410=\"\",\"\",COUNTIF($B$2:B1410,\"=\"&B1410))","v":225},0,{"$f":"E1410/SUMIF(B:B,B1410,E:E)","v":3.652300949598247E-4},1]
[{"$f":"B1411&\"-\"&G1411","v":"15-226"},"15","J1504","SOINS INFIRMIERS SPÉCIALISÉS EN BLOC OPÉRATOIRE",2,2,{"$f":"IF(C1411=\"\",\"\",COUNTIF($B$2:B1411,\"=\"&B1411))","v":226},0,3.652300949598247E-4,1]
["15-227","15","K2402","RECHERCHE EN SCIENCES DE L'UNIVERS, DE LA MATIÈRE ET DU VIVANT",2,".",{"$f":"IF(C1412=\"\",\"\",COUNTIF($B$2:B1412,\"=\"&B1412))","v":227},0,3.652300949598247E-4,0]
["15-228","15","H2407","CONDUITE DE MACHINE DE TRANSFORMATION ET DE FINITION DES CUIRS ET PEAUX",2,2,{"$f":"IF(C1413=\"\",\"\",COUNTIF($B$2:B1413,\"=\"&B1413))","v":228},0,3.652300949598247E-4,1]
["15-229","15","K2103","DIRECTION D'ÉTABLISSEMENT ET D'ENSEIGNEMENT",2,2,{"$f":"IF(C1414=\"\",\"\",COUNTIF($B$2:B1414,\"=\"&B1414))","v":229},0,3.652300949598247E-4,1]
["15-230","15","K2101","CONSEIL EN FORMATION",2,2,{"$f":"IF(C1415=\"\",\"\",COUNTIF($B$2:B1415,\"=\"&B1415))","v":230},0,3.652300949598247E-4,1]
["15-231","15","J1406","ORTHOPHONIE",2,2,{"$f":"IF(C1416=\"\",\"\",COUNTIF($B$2:B1416,\"=\"&B1416))","v":231},0,3.652300949598247E-4,1]
["15-232","15","I1310","MAINTENANCE MÉCANIQUE INDUSTRIELLE",2,2,{"$f":"IF(C1417=\"\",\"\",COUNTIF($B$2:B1417,\"=\"&B1417))","v":232},0,3.652300949598247E-4,1]
["15-233","15","G1302","OPTIMISATION DE PRODUITS TOURISTIQUES",2,2,{"$f":"IF(C1418=\"\",\"\",COUNTIF($B$2:B1418,\"=\"&B1418))","v":233},0,3.652300949598247E-4,1]
["15-234","15","I1309","MAINTENANCE ÉLECTRIQUE",2,1,{"$f":"IF(C1419=\"\",\"\",COUNTIF($B$2:B1419,\"=\"&B1419))","v":234},0,3.652300949598247E-4,0.5]
["15-235","15","H1504","INTERVENTION TECHNIQUE EN CONTRÔLE ESSAI QUALITÉ EN ÉLECTRICITÉ ET ÉLECTRONIQUE",2,2,{"$f":"IF(C1420=\"\",\"\",COUNTIF($B$2:B1420,\"=\"&B1420))","v":235},0,3.652300949598247E-4,1]
["15-236","15","H2301","CONDUITE D'ÉQUIPEMENT DE PRODUCTION CHIMIQUE OU PHARMACEUTIQUE",2,".",{"$f":"IF(C1421=\"\",\"\",COUNTIF($B$2:B1421,\"=\"&B1421))","v":236},0,3.652300949598247E-4,0]
["15-237","15","H1206","MANAGEMENT ET INGÉNIERIE ÉTUDES, RECHERCHE ET DÉVELOPPEMENT INDUSTRIEL",2,1,{"$f":"IF(C1422=\"\",\"\",COUNTIF($B$2:B1422,\"=\"&B1422))","v":237},0,3.652300949598247E-4,0.5]
["15-238","15","H1303","INTERVENTION TECHNIQUE EN HYGIÈNE SÉCURITÉ ENVIRONNEMENT -HSE- INDUSTRIEL",2,2,{"$f":"IF(C1423=\"\",\"\",COUNTIF($B$2:B1423,\"=\"&B1423))","v":238},0,3.652300949598247E-4,1]
["15-239","15","G1404","MANAGEMENT D'ÉTABLISSEMENT DE RESTAURATION COLLECTIVE",2,2,{"$f":"IF(C1424=\"\",\"\",COUNTIF($B$2:B1424,\"=\"&B1424))","v":239},0,3.652300949598247E-4,1]
["15-240","15","H2204","ENCADREMENT DES INDUSTRIES DE L'AMEUBLEMENT ET DU BOIS",2,2,{"$f":"IF(C1425=\"\",\"\",COUNTIF($B$2:B1425,\"=\"&B1425))","v":240},0,3.652300949598247E-4,1]
["15-241","15","K2602","CONSEIL EN SERVICES FUNÉRAIRES",2,2,{"$f":"IF(C1426=\"\",\"\",COUNTIF($B$2:B1426,\"=\"&B1426))","v":241},0,3.652300949598247E-4,1]
["15-242","15","H1301","INSPECTION DE CONFORMITÉ",2,".",{"$f":"IF(C1427=\"\",\"\",COUNTIF($B$2:B1427,\"=\"&B1427))","v":242},0,3.652300949598247E-4,0]
["15-243","15","F1501","MONTAGE DE STRUCTURES ET DE CHARPENTES BOIS",2,1,{"$f":"IF(C1428=\"\",\"\",COUNTIF($B$2:B1428,\"=\"&B1428))","v":243},0,3.652300949598247E-4,0.5]
["15-244","15","F1605","MONTAGE DE RÉSEAUX ÉLECTRIQUES ET TÉLÉCOMS",2,2,{"$f":"IF(C1429=\"\",\"\",COUNTIF($B$2:B1429,\"=\"&B1429))","v":244},0,3.652300949598247E-4,1]
["15-245","15","C1109","RÉDACTION ET GESTION EN ASSURANCES",2,1,{"$f":"IF(C1430=\"\",\"\",COUNTIF($B$2:B1430,\"=\"&B1430))","v":245},0,3.652300949598247E-4,0.5]
["15-246","15","E1101","ANIMATION DE SITE MULTIMÉDIA",2,1,{"$f":"IF(C1431=\"\",\"\",COUNTIF($B$2:B1431,\"=\"&B1431))","v":246},0,3.652300949598247E-4,0.5]
["15-247","15","F1502","MONTAGE DE STRUCTURES MÉTALLIQUES",2,2,{"$f":"IF(C1432=\"\",\"\",COUNTIF($B$2:B1432,\"=\"&B1432))","v":247},0,3.652300949598247E-4,1]
["15-248","15","F1204","QUALITÉ SÉCURITÉ ENVIRONNEMENT ET PROTECTION SANTÉ DU BTP",2,2,{"$f":"IF(C1433=\"\",\"\",COUNTIF($B$2:B1433,\"=\"&B1433))","v":248},0,3.652300949598247E-4,1]
["15-249","15","F1107","MESURES TOPOGRAPHIQUES",2,2,{"$f":"IF(C1434=\"\",\"\",COUNTIF($B$2:B1434,\"=\"&B1434))","v":249},0,3.652300949598247E-4,1]
["15-250","15","F1702","CONSTRUCTION DE ROUTES ET VOIES",2,2,{"$f":"IF(C1435=\"\",\"\",COUNTIF($B$2:B1435,\"=\"&B1435))","v":250},0,3.652300949598247E-4,1]
["15-251","15","F1611","RÉALISATION ET RESTAURATION DE FAÇADES",2,2,{"$f":"IF(C1436=\"\",\"\",COUNTIF($B$2:B1436,\"=\"&B1436))","v":251},0,3.652300949598247E-4,1]
["15-252","15","B1603","RÉALISATION D'OUVRAGES EN BIJOUTERIE, JOAILLERIE ET ORFÈVRERIE",2,1,{"$f":"IF(C1437=\"\",\"\",COUNTIF($B$2:B1437,\"=\"&B1437))","v":252},0,3.652300949598247E-4,0.5]
["15-253","15","N1104","MANOEUVRE ET CONDUITE D'ENGINS LOURDS DE MANUTENTION",1,".",{"$f":"IF(C1438=\"\",\"\",COUNTIF($B$2:B1438,\"=\"&B1438))","v":253},0,1.8261504747991235E-4,0]
["15-254","15","N4201","DIRECTION D'EXPLOITATION DES TRANSPORTS ROUTIERS DE MARCHANDISES",1,1,{"$f":"IF(C1439=\"\",\"\",COUNTIF($B$2:B1439,\"=\"&B1439))","v":254},0,1.8261504747991235E-4,1]
["15-255","15","N1302","DIRECTION DE SITE LOGISTIQUE",1,1,{"$f":"IF(C1440=\"\",\"\",COUNTIF($B$2:B1440,\"=\"&B1440))","v":255},0,1.8261504747991235E-4,1]
["15-256","15","N3103","NAVIGATION FLUVIALE",1,".",{"$f":"IF(C1441=\"\",\"\",COUNTIF($B$2:B1441,\"=\"&B1441))","v":256},0,1.8261504747991235E-4,0]
["15-257","15","N4402","EXPLOITATION ET MANOEUVRE DES REMONTÉES MÉCANIQUES",1,".",{"$f":"IF(C1442=\"\",\"\",COUNTIF($B$2:B1442,\"=\"&B1442))","v":257},0,1.8261504747991235E-4,0]
["15-258","15","M1206","MANAGEMENT DE GROUPE OU DE SERVICE COMPTABLE",1,1,{"$f":"IF(C1443=\"\",\"\",COUNTIF($B$2:B1443,\"=\"&B1443))","v":258},0,1.8261504747991235E-4,1]
["15-259","15","K2601","CONDUITE D'OPÉRATIONS FUNÉRAIRES",1,".",{"$f":"IF(C1444=\"\",\"\",COUNTIF($B$2:B1444,\"=\"&B1444))","v":259},0,1.8261504747991235E-4,0]
["15-260","15","M1401","CONDUITE D'ENQUÊTES",1,".",{"$f":"IF(C1445=\"\",\"\",COUNTIF($B$2:B1445,\"=\"&B1445))","v":260},0,1.8261504747991235E-4,0]
["15-261","15","K2301","DISTRIBUTION ET ASSAINISSEMENT D'EAU",1,1,{"$f":"IF(C1446=\"\",\"\",COUNTIF($B$2:B1446,\"=\"&B1446))","v":261},0,1.8261504747991235E-4,1]
["15-262","15","M1803","DIRECTION DES SYSTÈMES D'INFORMATION",1,1,{"$f":"IF(C1447=\"\",\"\",COUNTIF($B$2:B1447,\"=\"&B1447))","v":262},0,1.8261504747991235E-4,1]
["15-263","15","J1507","SOINS INFIRMIERS SPÉCIALISÉS EN PUÉRICULTURE",1,1,{"$f":"IF(C1448=\"\",\"\",COUNTIF($B$2:B1448,\"=\"&B1448))","v":263},0,1.8261504747991235E-4,1]
["15-264","15","I1503","INTERVENTION EN MILIEUX ET PRODUITS NOCIFS",1,".",{"$f":"IF(C1449=\"\",\"\",COUNTIF($B$2:B1449,\"=\"&B1449))","v":264},0,1.8261504747991235E-4,0]
["15-265","15","I1302","INSTALLATION ET MAINTENANCE D'AUTOMATISMES",1,1,{"$f":"IF(C1450=\"\",\"\",COUNTIF($B$2:B1450,\"=\"&B1450))","v":265},0,1.8261504747991235E-4,1]
["15-266","15","J1405","OPTIQUE - LUNETTERIE",1,1,{"$f":"IF(C1451=\"\",\"\",COUNTIF($B$2:B1451,\"=\"&B1451))","v":266},0,1.8261504747991235E-4,1]
["15-267","15","H2409","COUPE CUIR, TEXTILE ET MATÉRIAUX SOUPLES",1,".",{"$f":"IF(C1452=\"\",\"\",COUNTIF($B$2:B1452,\"=\"&B1452))","v":267},0,1.8261504747991235E-4,0]
["15-268","15","K2105","ENSEIGNEMENT ARTISTIQUE",1,1,{"$f":"IF(C1453=\"\",\"\",COUNTIF($B$2:B1453,\"=\"&B1453))","v":268},0,1.8261504747991235E-4,1]
["15-269","15","I1502","INTERVENTION EN MILIEU SUBAQUATIQUE",1,1,{"$f":"IF(C1454=\"\",\"\",COUNTIF($B$2:B1454,\"=\"&B1454))","v":269},0,1.8261504747991235E-4,1]
["15-270","15","K2306","SUPERVISION D'EXPLOITATION ÉCO-INDUSTRIELLE",1,1,{"$f":"IF(C1455=\"\",\"\",COUNTIF($B$2:B1455,\"=\"&B1455))","v":270},0,1.8261504747991235E-4,1]
["15-271","15","H2402","ASSEMBLAGE - MONTAGE DE VÊTEMENTS ET PRODUITS TEXTILES",1,1,{"$f":"IF(C1456=\"\",\"\",COUNTIF($B$2:B1456,\"=\"&B1456))","v":271},0,1.8261504747991235E-4,1]
["15-272","15","H1102","MANAGEMENT ET INGÉNIERIE D'AFFAIRES",1,1,{"$f":"IF(C1457=\"\",\"\",COUNTIF($B$2:B1457,\"=\"&B1457))","v":272},0,1.8261504747991235E-4,1]
["15-273","15","G1102","PROMOTION DU TOURISME LOCAL",1,1,{"$f":"IF(C1458=\"\",\"\",COUNTIF($B$2:B1458,\"=\"&B1458))","v":273},0,1.8261504747991235E-4,1]
["15-274","15","I1201","ENTRETIEN D'AFFICHAGE ET MOBILIER URBAIN",1,1,{"$f":"IF(C1459=\"\",\"\",COUNTIF($B$2:B1459,\"=\"&B1459))","v":274},0,1.8261504747991235E-4,1]
["15-275","15","H1209","INTERVENTION TECHNIQUE EN ÉTUDES ET DÉVELOPPEMENT ÉLECTRONIQUE",1,1,{"$f":"IF(C1460=\"\",\"\",COUNTIF($B$2:B1460,\"=\"&B1460))","v":275},0,1.8261504747991235E-4,1]
["15-276","15","K2501","GARDIENNAGE DE LOCAUX",1,1,{"$f":"IF(C1461=\"\",\"\",COUNTIF($B$2:B1461,\"=\"&B1461))","v":276},0,1.8261504747991235E-4,1]
["15-277","15","G1503","MANAGEMENT DU PERSONNEL D'ÉTAGE",1,".",{"$f":"IF(C1462=\"\",\"\",COUNTIF($B$2:B1462,\"=\"&B1462))","v":277},0,1.8261504747991235E-4,0]
["15-278","15","H2602","CÂBLAGE ÉLECTRIQUE ET ÉLECTROMÉCANIQUE",1,".",{"$f":"IF(C1463=\"\",\"\",COUNTIF($B$2:B1463,\"=\"&B1463))","v":278},0,1.8261504747991235E-4,0]
["15-279","15","H1202","CONCEPTION ET DESSIN DE PRODUITS ÉLECTRIQUES ET ÉLECTRONIQUES",1,1,{"$f":"IF(C1464=\"\",\"\",COUNTIF($B$2:B1464,\"=\"&B1464))","v":279},0,1.8261504747991235E-4,1]
["15-280","15","F1706","PRÉFABRICATION EN BÉTON INDUSTRIEL",1,1,{"$f":"IF(C1465=\"\",\"\",COUNTIF($B$2:B1465,\"=\"&B1465))","v":280},0,1.8261504747991235E-4,1]
["15-281","15","A1101","CONDUITE D'ENGINS AGRICOLES ET FORESTIERS",1,1,{"$f":"IF(C1466=\"\",\"\",COUNTIF($B$2:B1466,\"=\"&B1466))","v":281},0,1.8261504747991235E-4,1]
["15-282","15","E1104","CONCEPTION DE CONTENUS MULTIMÉDIAS",1,1,{"$f":"IF(C1467=\"\",\"\",COUNTIF($B$2:B1467,\"=\"&B1467))","v":282},0,1.8261504747991235E-4,1]
["15-283","15","I1402","RÉPARATION DE BIENS ÉLECTRODOMESTIQUES ET MULTIMÉDIA",1,1,{"$f":"IF(C1468=\"\",\"\",COUNTIF($B$2:B1468,\"=\"&B1468))","v":283},0,1.8261504747991235E-4,1]
["15-284","15","H1402","MANAGEMENT ET INGÉNIERIE MÉTHODES ET INDUSTRIALISATION",1,1,{"$f":"IF(C1469=\"\",\"\",COUNTIF($B$2:B1469,\"=\"&B1469))","v":284},0,1.8261504747991235E-4,1]
["15-285","15","H2209","INTERVENTION TECHNIQUE EN AMEUBLEMENT ET BOIS",1,".",{"$f":"IF(C1470=\"\",\"\",COUNTIF($B$2:B1470,\"=\"&B1470))","v":285},0,1.8261504747991235E-4,0]
["15-286","15","G1303","VENTE DE VOYAGES",1,".",{"$f":"IF(C1471=\"\",\"\",COUNTIF($B$2:B1471,\"=\"&B1471))","v":286},0,1.8261504747991235E-4,0]
["15-287","15","H2202","CONDUITE D'ÉQUIPEMENT DE FABRICATION DE L'AMEUBLEMENT ET DU BOIS",1,".",{"$f":"IF(C1472=\"\",\"\",COUNTIF($B$2:B1472,\"=\"&B1472))","v":287},0,1.8261504747991235E-4,0]
["15-288","15","H3101","CONDUITE D'ÉQUIPEMENT DE FABRICATION DE PAPIER OU DE CARTON",1,".",{"$f":"IF(C1473=\"\",\"\",COUNTIF($B$2:B1473,\"=\"&B1473))","v":288},{"$f":"ROUND(E1473,-1)","v":0},1.8261504747991235E-4,{"$f":"IF(OR(F1473=\"\",F1473=\".\"),0,F1473/E1473)","v":0}]
["15-289","15","H1208","INTERVENTION TECHNIQUE EN ÉTUDES ET CONCEPTION EN AUTOMATISME",1,1,{"$f":"IF(C1474=\"\",\"\",COUNTIF($B$2:B1474,\"=\"&B1474))","v":289},0,{"$f":"E1474/SUMIF(B:B,B1474,E:E)","v":1.8261504747991235E-4},1]
[{"$f":"B1475&\"-\"&G1475","v":"15-290"},"15","A1411","ÉLEVAGE PORCIN",1,1,{"$f":"IF(C1475=\"\",\"\",COUNTIF($B$2:B1475,\"=\"&B1475))","v":290},0,1.8261504747991235E-4,1]
["15-291","15","D1403","RELATION COMMERCIALE AUPRÈS DE PARTICULIERS",1,1,{"$f":"IF(C1476=\"\",\"\",COUNTIF($B$2:B1476,\"=\"&B1476))","v":291},0,1.8261504747991235E-4,1]
["15-292","15","E1203","PRODUCTION EN LABORATOIRE PHOTOGRAPHIQUE",1,".",{"$f":"IF(C1477=\"\",\"\",COUNTIF($B$2:B1477,\"=\"&B1477))","v":292},0,1.8261504747991235E-4,0]
["15-293","15","A1408","ÉLEVAGE D'ANIMAUX SAUVAGES OU DE COMPAGNIE",1,".",{"$f":"IF(C1478=\"\",\"\",COUNTIF($B$2:B1478,\"=\"&B1478))","v":293},0,1.8261504747991235E-4,0]
["15-294","15","E1204","PROJECTION CINÉMA",1,1,{"$f":"IF(C1479=\"\",\"\",COUNTIF($B$2:B1479,\"=\"&B1479))","v":294},0,1.8261504747991235E-4,1]
["15-295","15","C1302","GESTION BACK ET MIDDLE-OFFICE MARCHÉS FINANCIERS",1,1,{"$f":"IF(C1480=\"\",\"\",COUNTIF($B$2:B1480,\"=\"&B1480))","v":295},0,1.8261504747991235E-4,1]
["15-296","15","F1705","POSE DE CANALISATIONS",1,1,{"$f":"IF(C1481=\"\",\"\",COUNTIF($B$2:B1481,\"=\"&B1481))","v":296},0,1.8261504747991235E-4,1]
["15-297","15","A1413","FERMENTATION DE BOISSONS ALCOOLISÉES",1,1,{"$f":"IF(C1482=\"\",\"\",COUNTIF($B$2:B1482,\"=\"&B1482))","v":297},0,1.8261504747991235E-4,1]
["15-298","15","A1205","SYLVICULTURE",1,1,{"$f":"IF(C1483=\"\",\"\",COUNTIF($B$2:B1483,\"=\"&B1483))","v":298},0,1.8261504747991235E-4,1]
["15-299","15","E1306","PRÉPRESSE",1,1,{"$f":"IF(C1484=\"\",\"\",COUNTIF($B$2:B1484,\"=\"&B1484))","v":299},0,1.8261504747991235E-4,1]
["15-300","15","C1201","ACCUEIL ET SERVICES BANCAIRES",1,1,{"$f":"IF(C1485=\"\",\"\",COUNTIF($B$2:B1485,\"=\"&B1485))","v":300},0,1.8261504747991235E-4,1]
["15-301","15","D1105","POISSONNERIE",1,1,{"$f":"IF(C1486=\"\",\"\",COUNTIF($B$2:B1486,\"=\"&B1486))","v":301},0,1.8261504747991235E-4,1]
["15-302","15","C1203","RELATION CLIENTS BANQUE/FINANCE",1,1,{"$f":"IF(C1487=\"\",\"\",COUNTIF($B$2:B1487,\"=\"&B1487))","v":302},0,1.8261504747991235E-4,1]
["15-303","15","F1203","DIRECTION ET INGÉNIERIE D'EXPLOITATION DE GISEMENTS ET DE CARRIÈRES",1,".",{"$f":"IF(C1488=\"\",\"\",COUNTIF($B$2:B1488,\"=\"&B1488))","v":303},0,1.8261504747991235E-4,0]
["15-304","15","F1105","ÉTUDES GÉOLOGIQUES",1,1,{"$f":"IF(C1489=\"\",\"\",COUNTIF($B$2:B1489,\"=\"&B1489))","v":304},0,1.8261504747991235E-4,1]
["15-305","15","C1503","MANAGEMENT DE PROJET IMMOBILIER",1,".",{"$f":"IF(C1490=\"\",\"\",COUNTIF($B$2:B1490,\"=\"&B1490))","v":305},0,1.8261504747991235E-4,0]
["15-306","15","C1207","MANAGEMENT EN EXPLOITATION BANCAIRE",1,".",{"$f":"IF(C1491=\"\",\"\",COUNTIF($B$2:B1491,\"=\"&B1491))","v":306},0,1.8261504747991235E-4,0]
["26-1","26","K2204","NETTOYAGE DE LOCAUX",1151,472,{"$f":"IF(C1492=\"\",\"\",COUNTIF($B$2:B1492,\"=\"&B1492))","v":1},1150,3.330921718998698E-2,0.41007819287576019]
["26-2","26","N1103","MAGASINAGE ET PRÉPARATION DE COMMANDES",1134,447,{"$f":"IF(C1493=\"\",\"\",COUNTIF($B$2:B1493,\"=\"&B1493))","v":2},1130,3.2817247865721315E-2,0.39417989417989419]
["26-3","26","K1302","ASSISTANCE AUPRÈS D'ADULTES",1074,845,{"$f":"IF(C1494=\"\",\"\",COUNTIF($B$2:B1494,\"=\"&B1494))","v":3},1070,3.1080885544783679E-2,0.78677839851024212]
["26-4","26","N4101","CONDUITE DE TRANSPORT DE MARCHANDISES SUR LONGUE DISTANCE",919,685,{"$f":"IF(C1495=\"\",\"\",COUNTIF($B$2:B1495,\"=\"&B1495))","v":4},920,2.6595282882361453E-2,0.74537540805223068]
["26-5","26","K1304","SERVICES DOMESTIQUES",914,644,{"$f":"IF(C1496=\"\",\"\",COUNTIF($B$2:B1496,\"=\"&B1496))","v":5},910,2.6450586022283316E-2,0.70459518599562365]
["26-6","26","A1416","POLYCULTURE, ÉLEVAGE",858,48,{"$f":"IF(C1497=\"\",\"\",COUNTIF($B$2:B1497,\"=\"&B1497))","v":6},860,2.4829981189408191E-2,5.5944055944055944E-2]
["26-7","26","G1602","PERSONNEL DE CUISINE",783,458,{"$f":"IF(C1498=\"\",\"\",COUNTIF($B$2:B1498,\"=\"&B1498))","v":7},780,2.2659528288236145E-2,0.58492975734355046]
["26-8","26","G1803","SERVICE EN RESTAURATION",703,429,{"$f":"IF(C1499=\"\",\"\",COUNTIF($B$2:B1499,\"=\"&B1499))","v":8},700,2.0344378526985965E-2,0.6102418207681366]
["26-9","26","D1507","MISE EN RAYON LIBRE-SERVICE",619,228,{"$f":"IF(C1500=\"\",\"\",COUNTIF($B$2:B1500,\"=\"&B1500))","v":9},620,1.7913471277673274E-2,0.36833602584814218]
["26-10","26","A1405","ARBORICULTURE ET VITICULTURE",544,43,{"$f":"IF(C1501=\"\",\"\",COUNTIF($B$2:B1501,\"=\"&B1501))","v":10},540,1.574301837650123E-2,7.904411764705882E-2]
["26-11","26","G1603","PERSONNEL POLYVALENT EN RESTAURATION",540,380,{"$f":"IF(C1502=\"\",\"\",COUNTIF($B$2:B1502,\"=\"&B1502))","v":11},540,1.5627260888438722E-2,0.70370370370370372]
["26-12","26","H2102","CONDUITE D'ÉQUIPEMENT DE PRODUCTION ALIMENTAIRE",530,249,{"$f":"IF(C1503=\"\",\"\",COUNTIF($B$2:B1503,\"=\"&B1503))","v":12},530,1.5337867168282449E-2,0.46981132075471699]
["26-13","26","J1501","SOINS D'HYGIÈNE, DE CONFORT DU PATIENT",530,243,{"$f":"IF(C1504=\"\",\"\",COUNTIF($B$2:B1504,\"=\"&B1504))","v":13},530,1.5337867168282449E-2,0.45849056603773586]
["26-14","26","M1203","COMPTABILITÉ",520,327,{"$f":"IF(C1505=\"\",\"\",COUNTIF($B$2:B1505,\"=\"&B1505))","v":14},520,1.5048473448126177E-2,0.62884615384615383]
["26-15","26","D1403","RELATION COMMERCIALE AUPRÈS DE PARTICULIERS",483,453,{"$f":"IF(C1506=\"\",\"\",COUNTIF($B$2:B1506,\"=\"&B1506))","v":15},480,1.3977716683547968E-2,0.93788819875776397]
["26-16","26","H3302","OPÉRATIONS MANUELLES D'ASSEMBLAGE, TRI OU EMBALLAGE",482,72,{"$f":"IF(C1507=\"\",\"\",COUNTIF($B$2:B1507,\"=\"&B1507))","v":16},480,1.3948777311532341E-2,0.14937759336099585]
["26-17","26","D1106","VENTE EN ALIMENTATION",466,289,{"$f":"IF(C1508=\"\",\"\",COUNTIF($B$2:B1508,\"=\"&B1508))","v":17},470,1.3485747359282303E-2,0.62017167381974247]
["26-18","26","J1506","SOINS INFIRMIERS GÉNÉRALISTES",443,228,{"$f":"IF(C1509=\"\",\"\",COUNTIF($B$2:B1509,\"=\"&B1509))","v":18},440,1.2820141802922876E-2,0.51467268623024831]
["26-19","26","M1607","SECRÉTARIAT",442,228,{"$f":"IF(C1510=\"\",\"\",COUNTIF($B$2:B1510,\"=\"&B1510))","v":19},440,1.2791202430907249E-2,0.51583710407239824]
["26-20","26","D1401","ASSISTANAT COMMERCIAL",433,257,{"$f":"IF(C1511=\"\",\"\",COUNTIF($B$2:B1511,\"=\"&B1511))","v":20},430,1.2530748082766604E-2,0.59353348729792144]
["26-21","26","D1506","MARCHANDISAGE",425,8,{"$f":"IF(C1512=\"\",\"\",COUNTIF($B$2:B1512,\"=\"&B1512))","v":21},430,1.2299233106641586E-2,1.8823529411764704E-2]
["26-22","26","I1604","MÉCANIQUE AUTOMOBILE ET ENTRETIEN DE VÉHICULES",414,280,{"$f":"IF(C1513=\"\",\"\",COUNTIF($B$2:B1513,\"=\"&B1513))","v":22},410,1.1980900014469687E-2,0.67632850241545894]
["26-23","26","I1304","INSTALLATION ET MAINTENANCE D'ÉQUIPEMENTS INDUSTRIELS ET D'EXPLOITATION",397,319,{"$f":"IF(C1514=\"\",\"\",COUNTIF($B$2:B1514,\"=\"&B1514))","v":23},400,1.1488930690204022E-2,0.80352644836272036]
["26-24","26","N1101","CONDUITE D'ENGINS DE DÉPLACEMENT DES CHARGES",380,56,{"$f":"IF(C1515=\"\",\"\",COUNTIF($B$2:B1515,\"=\"&B1515))","v":24},380,1.0996961365938359E-2,0.14736842105263157]
["26-25","26","F1704","PRÉPARATION DU GROS OEUVRE ET DES TRAVAUX PUBLICS",364,117,{"$f":"IF(C1516=\"\",\"\",COUNTIF($B$2:B1516,\"=\"&B1516))","v":25},360,1.0533931413688323E-2,0.32142857142857145]
["26-26","26","D1212","VENTE EN DÉCORATION ET ÉQUIPEMENT DU FOYER",364,276,{"$f":"IF(C1517=\"\",\"\",COUNTIF($B$2:B1517,\"=\"&B1517))","v":26},360,1.0533931413688323E-2,0.75824175824175821]
["26-27","26","F1703","MAÇONNERIE",351,157,{"$f":"IF(C1518=\"\",\"\",COUNTIF($B$2:B1518,\"=\"&B1518))","v":27},350,1.0157719577485168E-2,0.44729344729344728]
["26-28","26","A1401","AIDE AGRICOLE DE PRODUCTION FRUITIÈRE OU VITICOLE",348,4,{"$f":"IF(C1519=\"\",\"\",COUNTIF($B$2:B1519,\"=\"&B1519))","v":28},350,1.0070901461438287E-2,1.1494252873563218E-2]
["26-29","26","K1207","INTERVENTION SOCIOÉDUCATIVE",327,153,{"$f":"IF(C1520=\"\",\"\",COUNTIF($B$2:B1520,\"=\"&B1520))","v":29},330,9.4631746491101142E-3,0.46788990825688076]
["26-30","26","N1105","MANUTENTION MANUELLE DE CHARGES",323,55,{"$f":"IF(C1521=\"\",\"\",COUNTIF($B$2:B1521,\"=\"&B1521))","v":30},320,9.347417161047606E-3,0.17027863777089783]
["26-31","26","K2107","ENSEIGNEMENT GÉNÉRAL DU SECOND DEGRÉ",311,173,{"$f":"IF(C1522=\"\",\"\",COUNTIF($B$2:B1522,\"=\"&B1522))","v":31},310,9.0001446968600782E-3,0.5562700964630225]
["26-32","26","N4105","CONDUITE ET LIVRAISON PAR TOURNÉES SUR COURTE DISTANCE",298,187,{"$f":"IF(C1523=\"\",\"\",COUNTIF($B$2:B1523,\"=\"&B1523))","v":32},300,8.6239328606569233E-3,0.62751677852348997]
["26-33","26","F1603","INSTALLATION D'ÉQUIPEMENTS SANITAIRES ET THERMIQUES",291,185,{"$f":"IF(C1524=\"\",\"\",COUNTIF($B$2:B1524,\"=\"&B1524))","v":33},290,8.4213572565475323E-3,0.63573883161512024]
["26-34","26","K1303","ASSISTANCE AUPRÈS D'ENFANTS",282,220,{"$f":"IF(C1525=\"\",\"\",COUNTIF($B$2:B1525,\"=\"&B1525))","v":34},280,8.1609029084068873E-3,0.78014184397163122]
["26-35","26","F1602","ÉLECTRICITÉ BÂTIMENT",272,149,{"$f":"IF(C1526=\"\",\"\",COUNTIF($B$2:B1526,\"=\"&B1526))","v":35},270,7.8715091882506152E-3,0.54779411764705888]
["26-36","26","G1203","ANIMATION DE LOISIRS AUPRÈS D'ENFANTS OU D'ADOLESCENTS",260,80,{"$f":"IF(C1527=\"\",\"\",COUNTIF($B$2:B1527,\"=\"&B1527))","v":36},260,7.5242367240630883E-3,0.30769230769230771]
["26-37","26","K2503","SÉCURITÉ ET SURVEILLANCE PRIVÉES",258,74,{"$f":"IF(C1528=\"\",\"\",COUNTIF($B$2:B1528,\"=\"&B1528))","v":37},260,7.4663579800318333E-3,0.2868217054263566]
["26-38","26","I1203","MAINTENANCE DES BÂTIMENTS ET DES LOCAUX",225,124,{"$f":"IF(C1529=\"\",\"\",COUNTIF($B$2:B1529,\"=\"&B1529))","v":38},230,6.5113587035161334E-3,0.55111111111111111]
["26-39","26","F1607","POSE DE FERMETURES MENUISÉES",220,101,{"$f":"IF(C1530=\"\",\"\",COUNTIF($B$2:B1530,\"=\"&B1530))","v":39},220,6.3666618434379974E-3,0.45909090909090911]
["26-40","26","D1407","RELATION TECHNICO-COMMERCIALE",214,204,{"$f":"IF(C1531=\"\",\"\",COUNTIF($B$2:B1531,\"=\"&B1531))","v":40},210,6.1930256113442335E-3,0.95327102803738317]
["26-41","26","D1505","PERSONNEL DE CAISSE",214,110,{"$f":"IF(C1532=\"\",\"\",COUNTIF($B$2:B1532,\"=\"&B1532))","v":41},210,6.1930256113442335E-3,0.51401869158878499]
["26-42","26","K2104","ÉDUCATION ET SURVEILLANCE AU SEIN D'ÉTABLISSEMENTS D'ENSEIGNEMENT",209,182,{"$f":"IF(C1533=\"\",\"\",COUNTIF($B$2:B1533,\"=\"&B1533))","v":42},210,6.0483287512660975E-3,0.87081339712918659]
["26-43","26","D1408","TÉLÉCONSEIL ET TÉLÉVENTE",203,60,{"$f":"IF(C1534=\"\",\"\",COUNTIF($B$2:B1534,\"=\"&B1534))","v":43},200,5.8746925191723335E-3,0.29556650246305421]
["26-44","26","G1605","PLONGE EN RESTAURATION",202,73,{"$f":"IF(C1535=\"\",\"\",COUNTIF($B$2:B1535,\"=\"&B1535))","v":44},200,5.8457531471567065E-3,0.36138613861386137]
["26-45","26","H2903","CONDUITE D'ÉQUIPEMENT D'USINAGE",200,140,{"$f":"IF(C1536=\"\",\"\",COUNTIF($B$2:B1536,\"=\"&B1536))","v":45},200,5.7878744031254524E-3,0.7]
["26-46","26","F1201","CONDUITE DE TRAVAUX DU BTP ET DE TRAVAUX PAYSAGERS",192,174,{"$f":"IF(C1537=\"\",\"\",COUNTIF($B$2:B1537,\"=\"&B1537))","v":46},{"$f":"ROUND(E1537,-1)","v":190},5.5563594270004344E-3,{"$f":"IF(OR(F1537=\"\",F1537=\".\"),0,F1537/E1537)","v":0.90625}]
["26-47","26","D1214","VENTE EN HABILLEMENT ET ACCESSOIRES DE LA PERSONNE",190,117,{"$f":"IF(C1538=\"\",\"\",COUNTIF($B$2:B1538,\"=\"&B1538))","v":47},190,{"$f":"E1538/SUMIF(B:B,B1538,E:E)","v":5.4984806829691795E-3},0.61578947368421055]
[{"$f":"B1539&\"-\"&G1539","v":"26-48"},"26","K1301","ACCOMPAGNEMENT MÉDICOSOCIAL",189,92,{"$f":"IF(C1539=\"\",\"\",COUNTIF($B$2:B1539,\"=\"&B1539))","v":48},190,5.4695413109535525E-3,0.48677248677248675]
["26-49","26","B1802","RÉALISATION D'ARTICLES EN CUIR ET MATÉRIAUX SOUPLES (HORS VÊTEMENT)",186,14,{"$f":"IF(C1540=\"\",\"\",COUNTIF($B$2:B1540,\"=\"&B1540))","v":49},190,5.3827231949066705E-3,7.5268817204301078E-2]
["26-50","26","H2909","MONTAGE-ASSEMBLAGE MÉCANIQUE",180,64,{"$f":"IF(C1541=\"\",\"\",COUNTIF($B$2:B1541,\"=\"&B1541))","v":50},180,5.2090869628129066E-3,0.35555555555555557]
["26-51","26","D1402","RELATION COMMERCIALE GRANDS COMPTES ET ENTREPRISES",175,159,{"$f":"IF(C1542=\"\",\"\",COUNTIF($B$2:B1542,\"=\"&B1542))","v":51},180,5.0643901027347706E-3,0.90857142857142859]
["26-52","26","A1203","AMÉNAGEMENT ET ENTRETIEN DES ESPACES VERTS",169,100,{"$f":"IF(C1543=\"\",\"\",COUNTIF($B$2:B1543,\"=\"&B1543))","v":52},170,4.8907538706410075E-3,0.59171597633136097]
["26-53","26","H3301","CONDUITE D'ÉQUIPEMENT DE CONDITIONNEMENT",165,90,{"$f":"IF(C1544=\"\",\"\",COUNTIF($B$2:B1544,\"=\"&B1544))","v":53},170,4.7749963825784976E-3,0.54545454545454541]
["26-54","26","G1501","PERSONNEL D'ÉTAGE",165,52,{"$f":"IF(C1545=\"\",\"\",COUNTIF($B$2:B1545,\"=\"&B1545))","v":54},170,4.7749963825784976E-3,0.31515151515151513]
["26-55","26","J1301","PERSONNEL POLYVALENT DES SERVICES HOSPITALIERS",164,64,{"$f":"IF(C1546=\"\",\"\",COUNTIF($B$2:B1546,\"=\"&B1546))","v":55},160,4.7460570105628706E-3,0.3902439024390244]
["26-56","26","D1102","BOULANGERIE - VIENNOISERIE",161,137,{"$f":"IF(C1547=\"\",\"\",COUNTIF($B$2:B1547,\"=\"&B1547))","v":56},160,4.6592388945159886E-3,0.85093167701863359]
["26-57","26","H1404","INTERVENTION TECHNIQUE EN MÉTHODES ET INDUSTRIALISATION",161,89,{"$f":"IF(C1548=\"\",\"\",COUNTIF($B$2:B1548,\"=\"&B1548))","v":57},160,4.6592388945159886E-3,0.55279503105590067]
["26-58","26","M1501","ASSISTANAT EN RESSOURCES HUMAINES",155,84,{"$f":"IF(C1549=\"\",\"\",COUNTIF($B$2:B1549,\"=\"&B1549))","v":58},160,4.4856026624222256E-3,0.54193548387096779]
["26-59","26","G1703","RÉCEPTION EN HÔTELLERIE",152,112,{"$f":"IF(C1550=\"\",\"\",COUNTIF($B$2:B1550,\"=\"&B1550))","v":59},150,4.3987845463753436E-3,0.73684210526315785]
["26-60","26","I1307","INSTALLATION ET MAINTENANCE TÉLÉCOMS ET COURANTS FAIBLES",145,93,{"$f":"IF(C1551=\"\",\"\",COUNTIF($B$2:B1551,\"=\"&B1551))","v":60},150,4.1962089422659526E-3,0.64137931034482754]
["26-61","26","H2913","SOUDAGE MANUEL",143,57,{"$f":"IF(C1552=\"\",\"\",COUNTIF($B$2:B1552,\"=\"&B1552))","v":61},140,4.1383301982346986E-3,0.39860139860139859]
["26-62","26","D1202","COIFFURE",142,95,{"$f":"IF(C1553=\"\",\"\",COUNTIF($B$2:B1553,\"=\"&B1553))","v":62},140,4.1093908262190707E-3,0.66901408450704225]
["26-63","26","M1601","ACCUEIL ET RENSEIGNEMENTS",141,63,{"$f":"IF(C1554=\"\",\"\",COUNTIF($B$2:B1554,\"=\"&B1554))","v":63},140,4.0804514542034436E-3,0.44680851063829785]
["26-64","26","F1106","INGÉNIERIE ET ÉTUDES DU BTP",134,126,{"$f":"IF(C1555=\"\",\"\",COUNTIF($B$2:B1555,\"=\"&B1555))","v":64},130,3.8778758500940531E-3,0.94029850746268662]
["26-65","26","F1604","MONTAGE D'AGENCEMENTS",134,61,{"$f":"IF(C1556=\"\",\"\",COUNTIF($B$2:B1556,\"=\"&B1556))","v":65},130,3.8778758500940531E-3,0.45522388059701491]
["26-66","26","M1805","ÉTUDES ET DÉVELOPPEMENT INFORMATIQUE",134,120,{"$f":"IF(C1557=\"\",\"\",COUNTIF($B$2:B1557,\"=\"&B1557))","v":66},130,3.8778758500940531E-3,0.89552238805970152]
["26-67","26","F1302","CONDUITE D'ENGINS DE TERRASSEMENT ET DE CARRIÈRE",130,49,{"$f":"IF(C1558=\"\",\"\",COUNTIF($B$2:B1558,\"=\"&B1558))","v":67},130,3.7621183620315441E-3,0.37692307692307692]
["26-68","26","A1414","HORTICULTURE ET MARAÎCHAGE",126,24,{"$f":"IF(C1559=\"\",\"\",COUNTIF($B$2:B1559,\"=\"&B1559))","v":68},130,3.6463608739690347E-3,0.19047619047619047]
["26-69","26","H2401","ASSEMBLAGE - MONTAGE D'ARTICLES EN CUIRS, PEAUX",125,63,{"$f":"IF(C1560=\"\",\"\",COUNTIF($B$2:B1560,\"=\"&B1560))","v":69},130,3.6174215019534077E-3,0.504]
["26-70","26","K2111","FORMATION PROFESSIONNELLE",123,93,{"$f":"IF(C1561=\"\",\"\",COUNTIF($B$2:B1561,\"=\"&B1561))","v":70},120,3.5595427579221532E-3,0.75609756097560976]
["26-71","26","M1706","PROMOTION DES VENTES",116,22,{"$f":"IF(C1562=\"\",\"\",COUNTIF($B$2:B1562,\"=\"&B1562))","v":71},120,3.3569671538127622E-3,0.18965517241379309]
["26-72","26","H1502","MANAGEMENT ET INGÉNIERIE QUALITÉ INDUSTRIELLE",113,79,{"$f":"IF(C1563=\"\",\"\",COUNTIF($B$2:B1563,\"=\"&B1563))","v":72},110,3.2701490377658807E-3,0.69911504424778759]
["26-73","26","F1606","PEINTURE EN BÂTIMENT",111,16,{"$f":"IF(C1564=\"\",\"\",COUNTIF($B$2:B1564,\"=\"&B1564))","v":73},110,3.2122702937346262E-3,0.14414414414414414]
["26-74","26","D1104","PÂTISSERIE, CONFISERIE, CHOCOLATERIE ET GLACERIE",111,93,{"$f":"IF(C1565=\"\",\"\",COUNTIF($B$2:B1565,\"=\"&B1565))","v":74},110,3.2122702937346262E-3,0.83783783783783783]
["26-75","26","K1201","ACTION SOCIALE",110,47,{"$f":"IF(C1566=\"\",\"\",COUNTIF($B$2:B1566,\"=\"&B1566))","v":75},110,3.1833309217189987E-3,0.42727272727272725]
["26-76","26","G1801","CAFÉ, BAR BRASSERIE",109,57,{"$f":"IF(C1567=\"\",\"\",COUNTIF($B$2:B1567,\"=\"&B1567))","v":76},110,3.1543915497033712E-3,0.52293577981651373]
["26-77","26","M1602","OPÉRATIONS ADMINISTRATIVES",109,20,{"$f":"IF(C1568=\"\",\"\",COUNTIF($B$2:B1568,\"=\"&B1568))","v":77},110,3.1543915497033712E-3,0.1834862385321101]
["26-78","26","N1303","INTERVENTION TECHNIQUE D'EXPLOITATION LOGISTIQUE",106,66,{"$f":"IF(C1569=\"\",\"\",COUNTIF($B$2:B1569,\"=\"&B1569))","v":78},110,3.0675734336564897E-3,0.62264150943396224]
["26-79","26","D1101","BOUCHERIE",104,85,{"$f":"IF(C1570=\"\",\"\",COUNTIF($B$2:B1570,\"=\"&B1570))","v":79},100,3.0096946896252352E-3,0.81730769230769229]
["26-80","26","K1206","INTERVENTION SOCIOCULTURELLE",101,56,{"$f":"IF(C1571=\"\",\"\",COUNTIF($B$2:B1571,\"=\"&B1571))","v":80},100,2.9228765735783532E-3,0.5544554455445545]
["26-81","26","G1204","ÉDUCATION EN ACTIVITÉS SPORTIVES",100,47,{"$f":"IF(C1572=\"\",\"\",COUNTIF($B$2:B1572,\"=\"&B1572))","v":81},100,2.8939372015627262E-3,0.47]
["26-82","26","F1104","DESSIN BTP ET PAYSAGE",100,94,{"$f":"IF(C1573=\"\",\"\",COUNTIF($B$2:B1573,\"=\"&B1573))","v":82},100,2.8939372015627262E-3,0.94]
["26-83","26","D1501","ANIMATION DE VENTE",100,7,{"$f":"IF(C1574=\"\",\"\",COUNTIF($B$2:B1574,\"=\"&B1574))","v":83},100,2.8939372015627262E-3,7.0000000000000007E-2]
["26-84","26","H2206","RÉALISATION DE MENUISERIE BOIS ET TONNELLERIE",98,53,{"$f":"IF(C1575=\"\",\"\",COUNTIF($B$2:B1575,\"=\"&B1575))","v":84},100,2.8360584575314717E-3,0.54081632653061229]
["26-85","26","D1208","SOINS ESTHÉTIQUES ET CORPORELS",96,64,{"$f":"IF(C1576=\"\",\"\",COUNTIF($B$2:B1576,\"=\"&B1576))","v":85},100,2.7781797135002172E-3,0.66666666666666663]
["26-86","26","F1202","DIRECTION DE CHANTIER DU BTP",94,85,{"$f":"IF(C1577=\"\",\"\",COUNTIF($B$2:B1577,\"=\"&B1577))","v":86},90,2.7203009694689627E-3,0.9042553191489362]
["26-87","26","K2303","NETTOYAGE DES ESPACES URBAINS",94,76,{"$f":"IF(C1578=\"\",\"\",COUNTIF($B$2:B1578,\"=\"&B1578))","v":87},90,2.7203009694689627E-3,0.80851063829787229]
["26-88","26","M1605","ASSISTANAT TECHNIQUE ET ADMINISTRATIF",91,65,{"$f":"IF(C1579=\"\",\"\",COUNTIF($B$2:B1579,\"=\"&B1579))","v":88},90,2.6334828534220808E-3,0.7142857142857143]
["26-89","26","F1610","POSE ET RESTAURATION DE COUVERTURES",91,41,{"$f":"IF(C1580=\"\",\"\",COUNTIF($B$2:B1580,\"=\"&B1580))","v":89},90,2.6334828534220808E-3,0.45054945054945056]
["26-90","26","H2914","RÉALISATION ET MONTAGE EN TUYAUTERIE",90,73,{"$f":"IF(C1581=\"\",\"\",COUNTIF($B$2:B1581,\"=\"&B1581))","v":90},90,2.6045434814064533E-3,0.81111111111111112]
["26-91","26","H2602","CÂBLAGE ÉLECTRIQUE ET ÉLECTROMÉCANIQUE",90,18,{"$f":"IF(C1582=\"\",\"\",COUNTIF($B$2:B1582,\"=\"&B1582))","v":91},90,2.6045434814064533E-3,0.2]
["26-92","26","D1301","MANAGEMENT DE MAGASIN DE DÉTAIL",89,79,{"$f":"IF(C1583=\"\",\"\",COUNTIF($B$2:B1583,\"=\"&B1583))","v":92},90,2.5756041093908263E-3,0.88764044943820219]
["26-93","26","M1604","ASSISTANAT DE DIRECTION",87,62,{"$f":"IF(C1584=\"\",\"\",COUNTIF($B$2:B1584,\"=\"&B1584))","v":93},90,2.5177253653595718E-3,0.71264367816091956]
["26-94","26","I1606","RÉPARATION DE CARROSSERIE",86,75,{"$f":"IF(C1585=\"\",\"\",COUNTIF($B$2:B1585,\"=\"&B1585))","v":94},90,2.4887859933439443E-3,0.87209302325581395]
["26-95","26","I1401","MAINTENANCE INFORMATIQUE ET BUREAUTIQUE",83,71,{"$f":"IF(C1586=\"\",\"\",COUNTIF($B$2:B1586,\"=\"&B1586))","v":95},80,2.4019678772970628E-3,0.85542168674698793]
["26-96","26","K1104","PSYCHOLOGIE",83,50,{"$f":"IF(C1587=\"\",\"\",COUNTIF($B$2:B1587,\"=\"&B1587))","v":96},80,2.4019678772970628E-3,0.60240963855421692]
["26-97","26","G1601","MANAGEMENT DU PERSONNEL DE CUISINE",80,57,{"$f":"IF(C1588=\"\",\"\",COUNTIF($B$2:B1588,\"=\"&B1588))","v":97},80,2.3151497612501808E-3,0.71250000000000002]
["26-98","26","F1705","POSE DE CANALISATIONS",80,34,{"$f":"IF(C1589=\"\",\"\",COUNTIF($B$2:B1589,\"=\"&B1589))","v":98},80,2.3151497612501808E-3,0.42499999999999999]
["26-99","26","H1203","CONCEPTION ET DESSIN PRODUITS MÉCANIQUES",78,61,{"$f":"IF(C1590=\"\",\"\",COUNTIF($B$2:B1590,\"=\"&B1590))","v":99},80,2.2572710172189263E-3,0.78205128205128205]
["26-100","26","J1303","ASSISTANCE MÉDICO-TECHNIQUE",77,54,{"$f":"IF(C1591=\"\",\"\",COUNTIF($B$2:B1591,\"=\"&B1591))","v":100},80,2.2283316452032993E-3,0.70129870129870131]
["26-101","26","C1504","TRANSACTION IMMOBILIÈRE",77,62,{"$f":"IF(C1592=\"\",\"\",COUNTIF($B$2:B1592,\"=\"&B1592))","v":101},80,2.2283316452032993E-3,0.80519480519480524]
["26-102","26","H1206","MANAGEMENT ET INGÉNIERIE ÉTUDES, RECHERCHE ET DÉVELOPPEMENT INDUSTRIEL",74,70,{"$f":"IF(C1593=\"\",\"\",COUNTIF($B$2:B1593,\"=\"&B1593))","v":102},70,2.1415135291564173E-3,0.94594594594594594]
["26-103","26","G1604","FABRICATION DE CRÊPES OU PIZZAS",73,45,{"$f":"IF(C1594=\"\",\"\",COUNTIF($B$2:B1594,\"=\"&B1594))","v":103},70,2.1125741571407898E-3,0.61643835616438358]
["26-104","26","I1503","INTERVENTION EN MILIEUX ET PRODUITS NOCIFS",72,49,{"$f":"IF(C1595=\"\",\"\",COUNTIF($B$2:B1595,\"=\"&B1595))","v":104},70,2.0836347851251628E-3,0.68055555555555558]
["26-105","26","I1306","INSTALLATION ET MAINTENANCE EN FROID, CONDITIONNEMENT D'AIR",70,63,{"$f":"IF(C1596=\"\",\"\",COUNTIF($B$2:B1596,\"=\"&B1596))","v":105},70,2.0257560410939083E-3,0.9]
["26-106","26","M1502","DÉVELOPPEMENT DES RESSOURCES HUMAINES",69,31,{"$f":"IF(C1597=\"\",\"\",COUNTIF($B$2:B1597,\"=\"&B1597))","v":106},70,1.9968166690782808E-3,0.44927536231884058]
["26-107","26","N4103","CONDUITE DE TRANSPORT EN COMMUN SUR ROUTE",68,51,{"$f":"IF(C1598=\"\",\"\",COUNTIF($B$2:B1598,\"=\"&B1598))","v":107},70,1.9678772970626538E-3,0.75]
["26-108","26","H2905","CONDUITE D'ÉQUIPEMENT DE FORMAGE ET DÉCOUPAGE DES MATÉRIAUX",68,27,{"$f":"IF(C1599=\"\",\"\",COUNTIF($B$2:B1599,\"=\"&B1599))","v":108},70,1.9678772970626538E-3,0.39705882352941174]
["26-109","26","H2902","CHAUDRONNERIE - TÔLERIE",68,40,{"$f":"IF(C1600=\"\",\"\",COUNTIF($B$2:B1600,\"=\"&B1600))","v":109},70,1.9678772970626538E-3,0.58823529411764708]
["26-110","26","M1608","SECRÉTARIAT COMPTABLE",68,45,{"$f":"IF(C1601=\"\",\"\",COUNTIF($B$2:B1601,\"=\"&B1601))","v":110},{"$f":"ROUND(E1601,-1)","v":70},1.9678772970626538E-3,{"$f":"IF(OR(F1601=\"\",F1601=\".\"),0,F1601/E1601)","v":0.66176470588235292}]
["26-111","26","K1403","MANAGEMENT DE STRUCTURE DE SANTÉ, SOCIALE OU PÉNITENTIAIRE",66,59,{"$f":"IF(C1602=\"\",\"\",COUNTIF($B$2:B1602,\"=\"&B1602))","v":111},70,{"$f":"E1602/SUMIF(B:B,B1602,E:E)","v":1.9099985530313993E-3},0.89393939393939392]
[{"$f":"B1603&\"-\"&G1603","v":"26-112"},"26","G1401","ASSISTANCE DE DIRECTION D'HÔTEL-RESTAURANT",66,61,{"$f":"IF(C1603=\"\",\"\",COUNTIF($B$2:B1603,\"=\"&B1603))","v":112},70,1.9099985530313993E-3,0.9242424242424242]
["26-113","26","M1609","SECRÉTARIAT ET ASSISTANAT MÉDICAL OU MÉDICO-SOCIAL",65,13,{"$f":"IF(C1604=\"\",\"\",COUNTIF($B$2:B1604,\"=\"&B1604))","v":113},70,1.8810591810157721E-3,0.2]
["26-114","26","K2110","FORMATION EN CONDUITE DE VÉHICULES",65,57,{"$f":"IF(C1605=\"\",\"\",COUNTIF($B$2:B1605,\"=\"&B1605))","v":114},70,1.8810591810157721E-3,0.87692307692307692]
["26-115","26","H1503","INTERVENTION TECHNIQUE EN LABORATOIRE D'ANALYSE INDUSTRIELLE",64,23,{"$f":"IF(C1606=\"\",\"\",COUNTIF($B$2:B1606,\"=\"&B1606))","v":115},60,1.8521198090001446E-3,0.359375]
["26-116","26","H2605","MONTAGE ET CÂBLAGE ÉLECTRONIQUE",64,5,{"$f":"IF(C1607=\"\",\"\",COUNTIF($B$2:B1607,\"=\"&B1607))","v":116},60,1.8521198090001446E-3,7.8125E-2]
["26-117","26","M1205","DIRECTION ADMINISTRATIVE ET FINANCIÈRE",62,51,{"$f":"IF(C1608=\"\",\"\",COUNTIF($B$2:B1608,\"=\"&B1608))","v":117},60,1.7942410649688901E-3,0.82258064516129037]
["26-118","26","H2502","MANAGEMENT ET INGÉNIERIE DE PRODUCTION",61,46,{"$f":"IF(C1609=\"\",\"\",COUNTIF($B$2:B1609,\"=\"&B1609))","v":118},60,1.7653016929532628E-3,0.75409836065573765]
["26-119","26","K1203","ENCADREMENT TECHNIQUE EN INSERTION PROFESSIONNELLE",60,31,{"$f":"IF(C1610=\"\",\"\",COUNTIF($B$2:B1610,\"=\"&B1610))","v":119},60,1.7363623209376356E-3,0.51666666666666672]
["26-120","26","H2504","ENCADREMENT D'ÉQUIPE EN INDUSTRIE DE TRANSFORMATION",59,49,{"$f":"IF(C1611=\"\",\"\",COUNTIF($B$2:B1611,\"=\"&B1611))","v":120},60,1.7074229489220084E-3,0.83050847457627119]
["26-121","26","H1303","INTERVENTION TECHNIQUE EN HYGIÈNE SÉCURITÉ ENVIRONNEMENT -HSE- INDUSTRIEL",57,50,{"$f":"IF(C1612=\"\",\"\",COUNTIF($B$2:B1612,\"=\"&B1612))","v":121},60,1.6495442048907539E-3,0.8771929824561403]
["26-122","26","F1701","CONSTRUCTION EN BÉTON",57,23,{"$f":"IF(C1613=\"\",\"\",COUNTIF($B$2:B1613,\"=\"&B1613))","v":122},60,1.6495442048907539E-3,0.40350877192982454]
["26-123","26","F1502","MONTAGE DE STRUCTURES MÉTALLIQUES",57,14,{"$f":"IF(C1614=\"\",\"\",COUNTIF($B$2:B1614,\"=\"&B1614))","v":123},60,1.6495442048907539E-3,0.24561403508771928]
["26-124","26","D1211","VENTE EN ARTICLES DE SPORT ET LOISIRS",57,19,{"$f":"IF(C1615=\"\",\"\",COUNTIF($B$2:B1615,\"=\"&B1615))","v":124},60,1.6495442048907539E-3,0.33333333333333331]
["26-125","26","K1802","DÉVELOPPEMENT LOCAL",57,47,{"$f":"IF(C1616=\"\",\"\",COUNTIF($B$2:B1616,\"=\"&B1616))","v":125},60,1.6495442048907539E-3,0.82456140350877194]
["26-126","26","K1801","CONSEIL EN EMPLOI ET INSERTION SOCIOPROFESSIONNELLE",54,35,{"$f":"IF(C1617=\"\",\"\",COUNTIF($B$2:B1617,\"=\"&B1617))","v":126},50,1.5627260888438721E-3,0.64814814814814814]
["26-127","26","M1810","PRODUCTION ET EXPLOITATION DE SYSTÈMES D'INFORMATION",54,31,{"$f":"IF(C1618=\"\",\"\",COUNTIF($B$2:B1618,\"=\"&B1618))","v":127},50,1.5627260888438721E-3,0.57407407407407407]
["26-128","26","H1403","INTERVENTION TECHNIQUE EN GESTION INDUSTRIELLE ET LOGISTIQUE",54,30,{"$f":"IF(C1619=\"\",\"\",COUNTIF($B$2:B1619,\"=\"&B1619))","v":128},50,1.5627260888438721E-3,0.55555555555555558]
["26-129","26","I1603","MAINTENANCE D'ENGINS DE CHANTIER, LEVAGE, MANUTENTION ET DE MACHINES AGRICOLES",53,41,{"$f":"IF(C1620=\"\",\"\",COUNTIF($B$2:B1620,\"=\"&B1620))","v":129},50,1.5337867168282449E-3,0.77358490566037741]
["26-130","26","H2901","AJUSTEMENT ET MONTAGE DE FABRICATION",53,16,{"$f":"IF(C1621=\"\",\"\",COUNTIF($B$2:B1621,\"=\"&B1621))","v":130},50,1.5337867168282449E-3,0.30188679245283018]
["26-131","26","A1101","CONDUITE D'ENGINS AGRICOLES ET FORESTIERS",53,12,{"$f":"IF(C1622=\"\",\"\",COUNTIF($B$2:B1622,\"=\"&B1622))","v":131},50,1.5337867168282449E-3,0.22641509433962265]
["26-132","26","I1309","MAINTENANCE ÉLECTRIQUE",53,28,{"$f":"IF(C1623=\"\",\"\",COUNTIF($B$2:B1623,\"=\"&B1623))","v":132},50,1.5337867168282449E-3,0.52830188679245282]
["26-133","26","F1613","TRAVAUX D'ÉTANCHÉITÉ ET D'ISOLATION",52,12,{"$f":"IF(C1624=\"\",\"\",COUNTIF($B$2:B1624,\"=\"&B1624))","v":133},50,1.5048473448126176E-3,0.23076923076923078]
["26-134","26","G1202","ANIMATION D'ACTIVITÉS CULTURELLES OU LUDIQUES",52,20,{"$f":"IF(C1625=\"\",\"\",COUNTIF($B$2:B1625,\"=\"&B1625))","v":134},50,1.5048473448126176E-3,0.38461538461538464]
["26-135","26","I1308","MAINTENANCE D'INSTALLATION DE CHAUFFAGE",51,49,{"$f":"IF(C1626=\"\",\"\",COUNTIF($B$2:B1626,\"=\"&B1626))","v":135},50,1.4759079727969904E-3,0.96078431372549022]
["26-136","26","A1402","AIDE AGRICOLE DE PRODUCTION LÉGUMIÈRE OU VÉGÉTALE",51,24,{"$f":"IF(C1627=\"\",\"\",COUNTIF($B$2:B1627,\"=\"&B1627))","v":136},50,1.4759079727969904E-3,0.47058823529411764]
["26-137","26","G1802","MANAGEMENT DU SERVICE EN RESTAURATION",50,45,{"$f":"IF(C1628=\"\",\"\",COUNTIF($B$2:B1628,\"=\"&B1628))","v":137},50,1.4469686007813631E-3,0.9]
["26-138","26","H2301","CONDUITE D'ÉQUIPEMENT DE PRODUCTION CHIMIQUE OU PHARMACEUTIQUE",50,13,{"$f":"IF(C1629=\"\",\"\",COUNTIF($B$2:B1629,\"=\"&B1629))","v":138},50,1.4469686007813631E-3,0.26]
["26-139","26","I1310","MAINTENANCE MÉCANIQUE INDUSTRIELLE",50,39,{"$f":"IF(C1630=\"\",\"\",COUNTIF($B$2:B1630,\"=\"&B1630))","v":139},50,1.4469686007813631E-3,0.78]
["26-140","26","K1305","INTERVENTION SOCIALE ET FAMILIALE",49,28,{"$f":"IF(C1631=\"\",\"\",COUNTIF($B$2:B1631,\"=\"&B1631))","v":140},50,1.4180292287657359E-3,0.5714285714285714]
["26-141","26","H2201","ASSEMBLAGE D'OUVRAGES EN BOIS",49,38,{"$f":"IF(C1632=\"\",\"\",COUNTIF($B$2:B1632,\"=\"&B1632))","v":141},50,1.4180292287657359E-3,0.77551020408163263]
["26-142","26","J1305","CONDUITE DE VÉHICULES SANITAIRES",49,34,{"$f":"IF(C1633=\"\",\"\",COUNTIF($B$2:B1633,\"=\"&B1633))","v":142},50,1.4180292287657359E-3,0.69387755102040816]
["26-143","26","H2912","RÉGLAGE D'ÉQUIPEMENT DE PRODUCTION INDUSTRIELLE",49,37,{"$f":"IF(C1634=\"\",\"\",COUNTIF($B$2:B1634,\"=\"&B1634))","v":143},50,1.4180292287657359E-3,0.75510204081632648]
["26-144","26","H1102","MANAGEMENT ET INGÉNIERIE D'AFFAIRES",48,43,{"$f":"IF(C1635=\"\",\"\",COUNTIF($B$2:B1635,\"=\"&B1635))","v":144},50,1.3890898567501086E-3,0.89583333333333337]
["26-145","26","F1503","RÉALISATION - INSTALLATION D'OSSATURES BOIS",48,31,{"$f":"IF(C1636=\"\",\"\",COUNTIF($B$2:B1636,\"=\"&B1636))","v":145},50,1.3890898567501086E-3,0.64583333333333337]
["26-146","26","C1502","GESTION LOCATIVE IMMOBILIÈRE",48,33,{"$f":"IF(C1637=\"\",\"\",COUNTIF($B$2:B1637,\"=\"&B1637))","v":146},50,1.3890898567501086E-3,0.6875]
["26-147","26","M1707","STRATÉGIE COMMERCIALE",48,45,{"$f":"IF(C1638=\"\",\"\",COUNTIF($B$2:B1638,\"=\"&B1638))","v":147},50,1.3890898567501086E-3,0.9375]
["26-148","26","M1202","AUDIT ET CONTRÔLE COMPTABLES ET FINANCIERS",48,39,{"$f":"IF(C1639=\"\",\"\",COUNTIF($B$2:B1639,\"=\"&B1639))","v":148},50,1.3890898567501086E-3,0.8125]
["26-149","26","D1504","DIRECTION DE MAGASIN DE GRANDE DISTRIBUTION",47,47,{"$f":"IF(C1640=\"\",\"\",COUNTIF($B$2:B1640,\"=\"&B1640))","v":149},50,1.3601504847344814E-3,1]
["26-150","26","K2106","ENSEIGNEMENT DES ÉCOLES",46,15,{"$f":"IF(C1641=\"\",\"\",COUNTIF($B$2:B1641,\"=\"&B1641))","v":150},50,1.3312111127188539E-3,0.32608695652173914]
["26-151","26","I1302","INSTALLATION ET MAINTENANCE D'AUTOMATISMES",45,31,{"$f":"IF(C1642=\"\",\"\",COUNTIF($B$2:B1642,\"=\"&B1642))","v":151},50,1.3022717407032266E-3,0.68888888888888888]
["26-152","26","F1608","POSE DE REVÊTEMENTS RIGIDES",44,28,{"$f":"IF(C1643=\"\",\"\",COUNTIF($B$2:B1643,\"=\"&B1643))","v":152},40,1.2733323686875994E-3,0.63636363636363635]
["26-153","26","F1605","MONTAGE DE RÉSEAUX ÉLECTRIQUES ET TÉLÉCOMS",44,18,{"$f":"IF(C1644=\"\",\"\",COUNTIF($B$2:B1644,\"=\"&B1644))","v":153},40,1.2733323686875994E-3,0.40909090909090912]
["26-154","26","E1103","COMMUNICATION",43,36,{"$f":"IF(C1645=\"\",\"\",COUNTIF($B$2:B1645,\"=\"&B1645))","v":154},40,1.2443929966719721E-3,0.83720930232558144]
["26-155","26","D1209","VENTE DE VÉGÉTAUX",43,21,{"$f":"IF(C1646=\"\",\"\",COUNTIF($B$2:B1646,\"=\"&B1646))","v":155},40,1.2443929966719721E-3,0.48837209302325579]
["26-156","26","K1204","MÉDIATION SOCIALE ET FACILITATION DE LA VIE EN SOCIÉTÉ",43,19,{"$f":"IF(C1647=\"\",\"\",COUNTIF($B$2:B1647,\"=\"&B1647))","v":156},40,1.2443929966719721E-3,0.44186046511627908]
["26-157","26","J1502","COORDINATION DE SERVICES MÉDICAUX OU PARAMÉDICAUX",42,23,{"$f":"IF(C1648=\"\",\"\",COUNTIF($B$2:B1648,\"=\"&B1648))","v":157},40,1.2154536246563449E-3,0.54761904761904767]
["26-158","26","M1801","ADMINISTRATION DE SYSTÈMES D'INFORMATION",42,40,{"$f":"IF(C1649=\"\",\"\",COUNTIF($B$2:B1649,\"=\"&B1649))","v":158},40,1.2154536246563449E-3,0.95238095238095233]
["26-159","26","D1406","MANAGEMENT EN FORCE DE VENTE",42,40,{"$f":"IF(C1650=\"\",\"\",COUNTIF($B$2:B1650,\"=\"&B1650))","v":159},40,1.2154536246563449E-3,0.95238095238095233]
["26-160","26","H3303","PRÉPARATION DE MATIÈRES ET PRODUITS INDUSTRIELS (BROYAGE, MÉLANGE, ...)",41,14,{"$f":"IF(C1651=\"\",\"\",COUNTIF($B$2:B1651,\"=\"&B1651))","v":160},40,1.1865142526407176E-3,0.34146341463414637]
["26-161","26","A1301","CONSEIL ET ASSISTANCE TECHNIQUE EN AGRICULTURE ET ENVIRONNEMENT NATUREL",41,13,{"$f":"IF(C1652=\"\",\"\",COUNTIF($B$2:B1652,\"=\"&B1652))","v":161},40,1.1865142526407176E-3,0.31707317073170732]
["26-162","26","G1502","PERSONNEL POLYVALENT D'HÔTELLERIE",40,13,{"$f":"IF(C1653=\"\",\"\",COUNTIF($B$2:B1653,\"=\"&B1653))","v":162},40,1.1575748806250904E-3,0.32500000000000001]
["26-163","26","M1101","ACHATS",40,20,{"$f":"IF(C1654=\"\",\"\",COUNTIF($B$2:B1654,\"=\"&B1654))","v":163},40,1.1575748806250904E-3,0.5]
["26-164","26","M1803","DIRECTION DES SYSTÈMES D'INFORMATION",38,33,{"$f":"IF(C1655=\"\",\"\",COUNTIF($B$2:B1655,\"=\"&B1655))","v":164},40,1.0996961365938359E-3,0.86842105263157898]
["26-165","26","J1307","PRÉPARATION EN PHARMACIE",38,26,{"$f":"IF(C1656=\"\",\"\",COUNTIF($B$2:B1656,\"=\"&B1656))","v":165},40,1.0996961365938359E-3,0.68421052631578949]
["26-166","26","D1107","VENTE EN GROS DE PRODUITS FRAIS",38,38,{"$f":"IF(C1657=\"\",\"\",COUNTIF($B$2:B1657,\"=\"&B1657))","v":166},40,1.0996961365938359E-3,1]
["26-167","26","K2202","LAVAGE DE VITRES",37,24,{"$f":"IF(C1658=\"\",\"\",COUNTIF($B$2:B1658,\"=\"&B1658))","v":167},40,1.0707567645782087E-3,0.64864864864864868]
["26-168","26","H3404","PEINTURE INDUSTRIELLE",37,14,{"$f":"IF(C1659=\"\",\"\",COUNTIF($B$2:B1659,\"=\"&B1659))","v":168},40,1.0707567645782087E-3,0.3783783783783784]
["26-169","26","F1301","CONDUITE DE GRUE",37,1,{"$f":"IF(C1660=\"\",\"\",COUNTIF($B$2:B1660,\"=\"&B1660))","v":169},40,1.0707567645782087E-3,2.7027027027027029E-2]
["26-170","26","H1506","INTERVENTION TECHNIQUE QUALITÉ EN MÉCANIQUE ET TRAVAIL DES MÉTAUX",36,21,{"$f":"IF(C1661=\"\",\"\",COUNTIF($B$2:B1661,\"=\"&B1661))","v":170},40,1.0418173925625814E-3,0.58333333333333337]
["26-171","26","J1404","KINÉSITHÉRAPIE",36,27,{"$f":"IF(C1662=\"\",\"\",COUNTIF($B$2:B1662,\"=\"&B1662))","v":171},40,1.0418173925625814E-3,0.75]
["26-172","26","N4203","INTERVENTION TECHNIQUE D'EXPLOITATION DES TRANSPORTS ROUTIERS DE MARCHANDISES",35,31,{"$f":"IF(C1663=\"\",\"\",COUNTIF($B$2:B1663,\"=\"&B1663))","v":172},40,1.0128780205469542E-3,0.88571428571428568]
["26-173","26","M1603","DISTRIBUTION DE DOCUMENTS",35,15,{"$f":"IF(C1664=\"\",\"\",COUNTIF($B$2:B1664,\"=\"&B1664))","v":173},40,1.0128780205469542E-3,0.42857142857142855]
["26-174","26","F1611","RÉALISATION ET RESTAURATION DE FAÇADES",35,20,{"$f":"IF(C1665=\"\",\"\",COUNTIF($B$2:B1665,\"=\"&B1665))","v":174},{"$f":"ROUND(E1665,-1)","v":40},1.0128780205469542E-3,{"$f":"IF(OR(F1665=\"\",F1665=\".\"),0,F1665/E1665)","v":0.5714285714285714}]
["26-175","26","F1501","MONTAGE DE STRUCTURES ET DE CHARPENTES BOIS",35,26,{"$f":"IF(C1666=\"\",\"\",COUNTIF($B$2:B1666,\"=\"&B1666))","v":175},40,{"$f":"E1666/SUMIF(B:B,B1666,E:E)","v":1.0128780205469542E-3},0.74285714285714288]
[{"$f":"B1667&\"-\"&G1667","v":"26-176"},"26","E1304","FAÇONNAGE ET ROUTAGE",35,2,{"$f":"IF(C1667=\"\",\"\",COUNTIF($B$2:B1667,\"=\"&B1667))","v":176},40,1.0128780205469542E-3,5.7142857142857141E-2]
["26-177","26","K1202","ÉDUCATION DE JEUNES ENFANTS",35,21,{"$f":"IF(C1668=\"\",\"\",COUNTIF($B$2:B1668,\"=\"&B1668))","v":177},40,1.0128780205469542E-3,0.6]
["26-178","26","J1304","AIDE EN PUÉRICULTURE",35,13,{"$f":"IF(C1669=\"\",\"\",COUNTIF($B$2:B1669,\"=\"&B1669))","v":178},40,1.0128780205469542E-3,0.37142857142857144]
["26-179","26","F1702","CONSTRUCTION DE ROUTES ET VOIES",34,16,{"$f":"IF(C1670=\"\",\"\",COUNTIF($B$2:B1670,\"=\"&B1670))","v":179},30,9.8393864853132691E-4,0.47058823529411764]
["26-180","26","H2402","ASSEMBLAGE - MONTAGE DE VÊTEMENTS ET PRODUITS TEXTILES",33,11,{"$f":"IF(C1671=\"\",\"\",COUNTIF($B$2:B1671,\"=\"&B1671))","v":180},30,9.5499927651569966E-4,0.33333333333333331]
["26-181","26","J1412","RÉÉDUCATION EN PSYCHOMOTRICITÉ",33,21,{"$f":"IF(C1672=\"\",\"\",COUNTIF($B$2:B1672,\"=\"&B1672))","v":181},30,9.5499927651569966E-4,0.63636363636363635]
["26-182","26","N4102","CONDUITE DE TRANSPORT DE PARTICULIERS",32,21,{"$f":"IF(C1673=\"\",\"\",COUNTIF($B$2:B1673,\"=\"&B1673))","v":182},30,9.260599045000723E-4,0.65625]
["26-183","26","K1902","COLLABORATION JURIDIQUE",32,23,{"$f":"IF(C1674=\"\",\"\",COUNTIF($B$2:B1674,\"=\"&B1674))","v":183},30,9.260599045000723E-4,0.71875]
["26-184","26","M1606","SAISIE DE DONNÉES",31,5,{"$f":"IF(C1675=\"\",\"\",COUNTIF($B$2:B1675,\"=\"&B1675))","v":184},30,8.9712053248444505E-4,0.16129032258064516]
["26-185","26","C1503","MANAGEMENT DE PROJET IMMOBILIER",31,30,{"$f":"IF(C1676=\"\",\"\",COUNTIF($B$2:B1676,\"=\"&B1676))","v":185},30,8.9712053248444505E-4,0.967741935483871]
["26-186","26","K2501","GARDIENNAGE DE LOCAUX",31,24,{"$f":"IF(C1677=\"\",\"\",COUNTIF($B$2:B1677,\"=\"&B1677))","v":186},30,8.9712053248444505E-4,0.77419354838709675]
["26-187","26","J1406","ORTHOPHONIE",30,22,{"$f":"IF(C1678=\"\",\"\",COUNTIF($B$2:B1678,\"=\"&B1678))","v":187},30,8.681811604688178E-4,0.73333333333333328]
["26-188","26","I1102","MANAGEMENT ET INGÉNIERIE DE MAINTENANCE INDUSTRIELLE",30,28,{"$f":"IF(C1679=\"\",\"\",COUNTIF($B$2:B1679,\"=\"&B1679))","v":188},30,8.681811604688178E-4,0.93333333333333335]
["26-189","26","K2304","REVALORISATION DE PRODUITS INDUSTRIELS",30,4,{"$f":"IF(C1680=\"\",\"\",COUNTIF($B$2:B1680,\"=\"&B1680))","v":189},30,8.681811604688178E-4,0.13333333333333333]
["26-190","26","N1301","CONCEPTION ET ORGANISATION DE LA CHAÎNE LOGISTIQUE",30,20,{"$f":"IF(C1681=\"\",\"\",COUNTIF($B$2:B1681,\"=\"&B1681))","v":190},30,8.681811604688178E-4,0.66666666666666663]
["26-191","26","I1402","RÉPARATION DE BIENS ÉLECTRODOMESTIQUES ET MULTIMÉDIA",29,22,{"$f":"IF(C1682=\"\",\"\",COUNTIF($B$2:B1682,\"=\"&B1682))","v":191},30,8.3924178845319055E-4,0.75862068965517238]
["26-192","26","H2202","CONDUITE D'ÉQUIPEMENT DE FABRICATION DE L'AMEUBLEMENT ET DU BOIS",29,16,{"$f":"IF(C1683=\"\",\"\",COUNTIF($B$2:B1683,\"=\"&B1683))","v":192},30,8.3924178845319055E-4,0.55172413793103448]
["26-193","26","F1108","MÉTRÉ DE LA CONSTRUCTION",29,22,{"$f":"IF(C1684=\"\",\"\",COUNTIF($B$2:B1684,\"=\"&B1684))","v":193},30,8.3924178845319055E-4,0.75862068965517238]
["26-194","26","D1210","VENTE EN ANIMALERIE",29,23,{"$f":"IF(C1685=\"\",\"\",COUNTIF($B$2:B1685,\"=\"&B1685))","v":194},30,8.3924178845319055E-4,0.7931034482758621]
["26-195","26","H3401","CONDUITE DE TRAITEMENT D'ABRASION DE SURFACE",28,15,{"$f":"IF(C1686=\"\",\"\",COUNTIF($B$2:B1686,\"=\"&B1686))","v":195},30,8.103024164375633E-4,0.5357142857142857]
["26-196","26","H3201","CONDUITE D'ÉQUIPEMENT DE FORMAGE DES PLASTIQUES ET CAOUTCHOUCS",28,21,{"$f":"IF(C1687=\"\",\"\",COUNTIF($B$2:B1687,\"=\"&B1687))","v":196},30,8.103024164375633E-4,0.75]
["26-197","26","I1607","RÉPARATION DE CYCLES, MOTOCYCLES ET MOTOCULTEURS DE LOISIRS",28,15,{"$f":"IF(C1688=\"\",\"\",COUNTIF($B$2:B1688,\"=\"&B1688))","v":197},30,8.103024164375633E-4,0.5357142857142857]
["26-198","26","H1101","ASSISTANCE ET SUPPORT TECHNIQUE CLIENT",28,24,{"$f":"IF(C1689=\"\",\"\",COUNTIF($B$2:B1689,\"=\"&B1689))","v":198},30,8.103024164375633E-4,0.8571428571428571]
["26-199","26","D1105","POISSONNERIE",28,10,{"$f":"IF(C1690=\"\",\"\",COUNTIF($B$2:B1690,\"=\"&B1690))","v":199},30,8.103024164375633E-4,0.35714285714285715]
["26-200","26","C1102","CONSEIL CLIENTÈLE EN ASSURANCES",28,27,{"$f":"IF(C1691=\"\",\"\",COUNTIF($B$2:B1691,\"=\"&B1691))","v":200},30,8.103024164375633E-4,0.9642857142857143]
["26-201","26","K2301","DISTRIBUTION ET ASSAINISSEMENT D'EAU",27,11,{"$f":"IF(C1692=\"\",\"\",COUNTIF($B$2:B1692,\"=\"&B1692))","v":201},30,7.8136304442193605E-4,0.40740740740740738]
["26-202","26","F1204","QUALITÉ SÉCURITÉ ENVIRONNEMENT ET PROTECTION SANTÉ DU BTP",27,18,{"$f":"IF(C1693=\"\",\"\",COUNTIF($B$2:B1693,\"=\"&B1693))","v":202},30,7.8136304442193605E-4,0.66666666666666663]
["26-203","26","E1301","CONDUITE DE MACHINES D'IMPRESSION",27,22,{"$f":"IF(C1694=\"\",\"\",COUNTIF($B$2:B1694,\"=\"&B1694))","v":203},30,7.8136304442193605E-4,0.81481481481481477]
["26-204","26","H1401","MANAGEMENT ET INGÉNIERIE GESTION INDUSTRIELLE ET LOGISTIQUE",27,18,{"$f":"IF(C1695=\"\",\"\",COUNTIF($B$2:B1695,\"=\"&B1695))","v":204},30,7.8136304442193605E-4,0.66666666666666663]
["26-205","26","C1501","GÉRANCE IMMOBILIÈRE",27,20,{"$f":"IF(C1696=\"\",\"\",COUNTIF($B$2:B1696,\"=\"&B1696))","v":205},30,7.8136304442193605E-4,0.7407407407407407]
["26-206","26","K2201","BLANCHISSERIE INDUSTRIELLE",27,11,{"$f":"IF(C1697=\"\",\"\",COUNTIF($B$2:B1697,\"=\"&B1697))","v":206},30,7.8136304442193605E-4,0.40740740740740738]
["26-207","26","H2906","CONDUITE D'INSTALLATION AUTOMATISÉE OU ROBOTISÉE DE FABRICATION MÉCANIQUE",26,15,{"$f":"IF(C1698=\"\",\"\",COUNTIF($B$2:B1698,\"=\"&B1698))","v":207},30,7.524236724063088E-4,0.57692307692307687]
["26-208","26","D1502","MANAGEMENT/GESTION DE RAYON PRODUITS ALIMENTAIRES",26,26,{"$f":"IF(C1699=\"\",\"\",COUNTIF($B$2:B1699,\"=\"&B1699))","v":208},30,7.524236724063088E-4,1]
["26-209","26","J1302","ANALYSES MÉDICALES",26,18,{"$f":"IF(C1700=\"\",\"\",COUNTIF($B$2:B1700,\"=\"&B1700))","v":209},30,7.524236724063088E-4,0.69230769230769229]
["26-210","26","M1806","CONSEIL ET MAÎTRISE D'OUVRAGE EN SYSTÈMES D'INFORMATION",25,17,{"$f":"IF(C1701=\"\",\"\",COUNTIF($B$2:B1701,\"=\"&B1701))","v":210},30,7.2348430039068155E-4,0.68]
["26-211","26","H1210","INTERVENTION TECHNIQUE EN ÉTUDES, RECHERCHE ET DÉVELOPPEMENT",25,20,{"$f":"IF(C1702=\"\",\"\",COUNTIF($B$2:B1702,\"=\"&B1702))","v":211},30,7.2348430039068155E-4,0.8]
["26-212","26","H2803","FAÇONNAGE ET ÉMAILLAGE EN INDUSTRIE CÉRAMIQUE",25,8,{"$f":"IF(C1703=\"\",\"\",COUNTIF($B$2:B1703,\"=\"&B1703))","v":212},30,7.2348430039068155E-4,0.32]
["26-213","26","M1705","MARKETING",25,20,{"$f":"IF(C1704=\"\",\"\",COUNTIF($B$2:B1704,\"=\"&B1704))","v":213},30,7.2348430039068155E-4,0.8]
["26-214","26","D1508","ENCADREMENT DU PERSONNEL DE CAISSES",24,23,{"$f":"IF(C1705=\"\",\"\",COUNTIF($B$2:B1705,\"=\"&B1705))","v":214},20,6.9454492837505431E-4,0.95833333333333337]
["26-215","26","K1903","DÉFENSE ET CONSEIL JURIDIQUE",24,22,{"$f":"IF(C1706=\"\",\"\",COUNTIF($B$2:B1706,\"=\"&B1706))","v":215},20,6.9454492837505431E-4,0.91666666666666663]
["26-216","26","I1103","SUPERVISION D'ENTRETIEN ET GESTION DE VÉHICULES",23,17,{"$f":"IF(C1707=\"\",\"\",COUNTIF($B$2:B1707,\"=\"&B1707))","v":216},20,6.6560555635942695E-4,0.73913043478260865]
["26-217","26","F1103","CONTRÔLE ET DIAGNOSTIC TECHNIQUE DU BÂTIMENT",23,22,{"$f":"IF(C1708=\"\",\"\",COUNTIF($B$2:B1708,\"=\"&B1708))","v":217},20,6.6560555635942695E-4,0.95652173913043481]
["26-218","26","M1401","CONDUITE D'ENQUÊTES",23,1,{"$f":"IF(C1709=\"\",\"\",COUNTIF($B$2:B1709,\"=\"&B1709))","v":218},20,6.6560555635942695E-4,4.3478260869565216E-2]
["26-219","26","D1404","RELATION COMMERCIALE EN VENTE DE VÉHICULES",22,17,{"$f":"IF(C1710=\"\",\"\",COUNTIF($B$2:B1710,\"=\"&B1710))","v":219},20,6.366661843437997E-4,0.77272727272727271]
["26-220","26","G1101","ACCUEIL TOURISTIQUE",22,3,{"$f":"IF(C1711=\"\",\"\",COUNTIF($B$2:B1711,\"=\"&B1711))","v":220},20,6.366661843437997E-4,0.13636363636363635]
["26-221","26","C1109","RÉDACTION ET GESTION EN ASSURANCES",22,10,{"$f":"IF(C1712=\"\",\"\",COUNTIF($B$2:B1712,\"=\"&B1712))","v":221},20,6.366661843437997E-4,0.45454545454545453]
["26-222","26","A1410","ÉLEVAGE OVIN OU CAPRIN",22,2,{"$f":"IF(C1713=\"\",\"\",COUNTIF($B$2:B1713,\"=\"&B1713))","v":222},20,6.366661843437997E-4,9.0909090909090912E-2]
["26-223","26","M1402","CONSEIL EN ORGANISATION ET MANAGEMENT D'ENTREPRISE",22,14,{"$f":"IF(C1714=\"\",\"\",COUNTIF($B$2:B1714,\"=\"&B1714))","v":223},20,6.366661843437997E-4,0.63636363636363635]
["26-224","26","M1204","CONTRÔLE DE GESTION",22,19,{"$f":"IF(C1715=\"\",\"\",COUNTIF($B$2:B1715,\"=\"&B1715))","v":224},20,6.366661843437997E-4,0.86363636363636365]
["26-225","26","J1102","MÉDECINE GÉNÉRALISTE ET SPÉCIALISÉE",21,21,{"$f":"IF(C1716=\"\",\"\",COUNTIF($B$2:B1716,\"=\"&B1716))","v":225},20,6.0772681232817245E-4,1]
["26-226","26","J1410","PROTHÈSES DENTAIRES",20,17,{"$f":"IF(C1717=\"\",\"\",COUNTIF($B$2:B1717,\"=\"&B1717))","v":226},20,5.787874403125452E-4,0.85]
["26-227","26","H2804","PILOTAGE DE CENTRALE À BÉTON PRÊT À L'EMPLOI, CIMENT, ENROBÉS ET GRANULATS",20,7,{"$f":"IF(C1718=\"\",\"\",COUNTIF($B$2:B1718,\"=\"&B1718))","v":227},20,5.787874403125452E-4,0.35]
["26-228","26","E1205","RÉALISATION DE CONTENUS MULTIMÉDIAS",20,17,{"$f":"IF(C1719=\"\",\"\",COUNTIF($B$2:B1719,\"=\"&B1719))","v":228},20,5.787874403125452E-4,0.85]
["26-229","26","H1202","CONCEPTION ET DESSIN DE PRODUITS ÉLECTRIQUES ET ÉLECTRONIQUES",20,16,{"$f":"IF(C1720=\"\",\"\",COUNTIF($B$2:B1720,\"=\"&B1720))","v":229},20,5.787874403125452E-4,0.8]
["26-230","26","A1413","FERMENTATION DE BOISSONS ALCOOLISÉES",20,6,{"$f":"IF(C1721=\"\",\"\",COUNTIF($B$2:B1721,\"=\"&B1721))","v":230},20,5.787874403125452E-4,0.3]
["26-231","26","D1213","VENTE EN GROS DE MATÉRIEL ET ÉQUIPEMENT",20,10,{"$f":"IF(C1722=\"\",\"\",COUNTIF($B$2:B1722,\"=\"&B1722))","v":231},20,5.787874403125452E-4,0.5]
["26-232","26","K2601","CONDUITE D'OPÉRATIONS FUNÉRAIRES",20,10,{"$f":"IF(C1723=\"\",\"\",COUNTIF($B$2:B1723,\"=\"&B1723))","v":232},20,5.787874403125452E-4,0.5]
["26-233","26","J1507","SOINS INFIRMIERS SPÉCIALISÉS EN PUÉRICULTURE",20,8,{"$f":"IF(C1724=\"\",\"\",COUNTIF($B$2:B1724,\"=\"&B1724))","v":233},20,5.787874403125452E-4,0.4]
["26-234","26","H2505","ENCADREMENT D'ÉQUIPE OU D'ATELIER EN MATÉRIAUX SOUPLES",19,17,{"$f":"IF(C1725=\"\",\"\",COUNTIF($B$2:B1725,\"=\"&B1725))","v":234},20,5.4984806829691795E-4,0.89473684210526316]
["26-235","26","H3202","RÉGLAGE D'ÉQUIPEMENT DE FORMAGE DES PLASTIQUES ET CAOUTCHOUCS",19,14,{"$f":"IF(C1726=\"\",\"\",COUNTIF($B$2:B1726,\"=\"&B1726))","v":235},20,5.4984806829691795E-4,0.73684210526315785]
["26-236","26","H1302","MANAGEMENT ET INGÉNIERIE HYGIÈNE SÉCURITÉ ENVIRONNEMENT -HSE- INDUSTRIELS",19,14,{"$f":"IF(C1727=\"\",\"\",COUNTIF($B$2:B1727,\"=\"&B1727))","v":236},20,5.4984806829691795E-4,0.73684210526315785]
["26-237","26","H2101","ABATTAGE ET DÉCOUPE DES VIANDES",19,3,{"$f":"IF(C1728=\"\",\"\",COUNTIF($B$2:B1728,\"=\"&B1728))","v":237},20,5.4984806829691795E-4,0.15789473684210525]
["26-238","26","K2109","ENSEIGNEMENT TECHNIQUE ET PROFESSIONNEL",19,12,{"$f":"IF(C1729=\"\",\"\",COUNTIF($B$2:B1729,\"=\"&B1729))","v":238},{"$f":"ROUND(E1729,-1)","v":20},5.4984806829691795E-4,{"$f":"IF(OR(F1729=\"\",F1729=\".\"),0,F1729/E1729)","v":0.63157894736842102}]
["26-239","26","D1203","HYDROTHÉRAPIE",19,14,{"$f":"IF(C1730=\"\",\"\",COUNTIF($B$2:B1730,\"=\"&B1730))","v":239},20,{"$f":"E1730/SUMIF(B:B,B1730,E:E)","v":5.4984806829691795E-4},0.73684210526315785]
[{"$f":"B1731&\"-\"&G1731","v":"26-240"},"26","J1505","SOINS INFIRMIERS SPÉCIALISÉS EN PRÉVENTION",19,10,{"$f":"IF(C1731=\"\",\"\",COUNTIF($B$2:B1731,\"=\"&B1731))","v":240},20,5.4984806829691795E-4,0.52631578947368418]
["26-241","26","I1101","DIRECTION ET INGÉNIERIE EN ENTRETIEN INFRASTRUCTURE ET BÂTI",19,15,{"$f":"IF(C1732=\"\",\"\",COUNTIF($B$2:B1732,\"=\"&B1732))","v":241},20,5.4984806829691795E-4,0.78947368421052633]
["26-242","26","I1202","ENTRETIEN ET SURVEILLANCE DU TRACÉ ROUTIER",18,6,{"$f":"IF(C1733=\"\",\"\",COUNTIF($B$2:B1733,\"=\"&B1733))","v":242},20,5.209086962812907E-4,0.33333333333333331]
["26-243","26","N1302","DIRECTION DE SITE LOGISTIQUE",18,17,{"$f":"IF(C1734=\"\",\"\",COUNTIF($B$2:B1734,\"=\"&B1734))","v":243},20,5.209086962812907E-4,0.94444444444444442]
["26-244","26","M1802","EXPERTISE ET SUPPORT EN SYSTÈMES D'INFORMATION",18,18,{"$f":"IF(C1735=\"\",\"\",COUNTIF($B$2:B1735,\"=\"&B1735))","v":244},20,5.209086962812907E-4,1]
["26-245","26","K1707","SURVEILLANCE MUNICIPALE",17,14,{"$f":"IF(C1736=\"\",\"\",COUNTIF($B$2:B1736,\"=\"&B1736))","v":245},20,4.9196932426566345E-4,0.82352941176470584]
["26-246","26","C1206","GESTION DE CLIENTÈLE BANCAIRE",17,5,{"$f":"IF(C1737=\"\",\"\",COUNTIF($B$2:B1737,\"=\"&B1737))","v":246},20,4.9196932426566345E-4,0.29411764705882354]
["26-247","26","N4104","COURSES ET LIVRAISONS EXPRESS",17,6,{"$f":"IF(C1738=\"\",\"\",COUNTIF($B$2:B1738,\"=\"&B1738))","v":247},20,4.9196932426566345E-4,0.35294117647058826]
["26-248","26","M1503","MANAGEMENT DES RESSOURCES HUMAINES",17,14,{"$f":"IF(C1739=\"\",\"\",COUNTIF($B$2:B1739,\"=\"&B1739))","v":248},20,4.9196932426566345E-4,0.82352941176470584]
["26-249","26","K1404","MISE EN OEUVRE ET PILOTAGE DE LA POLITIQUE DES POUVOIRS PUBLICS",16,13,{"$f":"IF(C1740=\"\",\"\",COUNTIF($B$2:B1740,\"=\"&B1740))","v":249},20,4.6302995225003615E-4,0.8125]
["26-250","26","N1201","AFFRÈTEMENT TRANSPORT",16,16,{"$f":"IF(C1741=\"\",\"\",COUNTIF($B$2:B1741,\"=\"&B1741))","v":250},20,4.6302995225003615E-4,1]
["26-251","26","H2907","CONDUITE D'INSTALLATION DE PRODUCTION DES MÉTAUX",16,9,{"$f":"IF(C1742=\"\",\"\",COUNTIF($B$2:B1742,\"=\"&B1742))","v":251},20,4.6302995225003615E-4,0.5625]
["26-252","26","H1301","INSPECTION DE CONFORMITÉ",16,16,{"$f":"IF(C1743=\"\",\"\",COUNTIF($B$2:B1743,\"=\"&B1743))","v":252},20,4.6302995225003615E-4,1]
["26-253","26","H3101","CONDUITE D'ÉQUIPEMENT DE FABRICATION DE PAPIER OU DE CARTON",16,10,{"$f":"IF(C1744=\"\",\"\",COUNTIF($B$2:B1744,\"=\"&B1744))","v":253},20,4.6302995225003615E-4,0.625]
["26-254","26","F1107","MESURES TOPOGRAPHIQUES",16,14,{"$f":"IF(C1745=\"\",\"\",COUNTIF($B$2:B1745,\"=\"&B1745))","v":254},20,4.6302995225003615E-4,0.875]
["26-255","26","A1412","FABRICATION ET AFFINAGE DE FROMAGES",16,2,{"$f":"IF(C1746=\"\",\"\",COUNTIF($B$2:B1746,\"=\"&B1746))","v":255},20,4.6302995225003615E-4,0.125]
["26-256","26","J1403","ERGOTHÉRAPIE",15,11,{"$f":"IF(C1747=\"\",\"\",COUNTIF($B$2:B1747,\"=\"&B1747))","v":256},20,4.340905802344089E-4,0.73333333333333328]
["26-257","26","L1302","PRODUCTION ET ADMINISTRATION SPECTACLE, CINÉMA ET AUDIOVISUEL",15,8,{"$f":"IF(C1748=\"\",\"\",COUNTIF($B$2:B1748,\"=\"&B1748))","v":257},20,4.340905802344089E-4,0.53333333333333333]
["26-258","26","H1504","INTERVENTION TECHNIQUE EN CONTRÔLE ESSAI QUALITÉ EN ÉLECTRICITÉ ET ÉLECTRONIQUE",15,14,{"$f":"IF(C1749=\"\",\"\",COUNTIF($B$2:B1749,\"=\"&B1749))","v":258},20,4.340905802344089E-4,0.93333333333333335]
["26-259","26","H1208","INTERVENTION TECHNIQUE EN ÉTUDES ET CONCEPTION EN AUTOMATISME",15,15,{"$f":"IF(C1750=\"\",\"\",COUNTIF($B$2:B1750,\"=\"&B1750))","v":259},20,4.340905802344089E-4,1]
["26-260","26","D1103","CHARCUTERIE - TRAITEUR",15,6,{"$f":"IF(C1751=\"\",\"\",COUNTIF($B$2:B1751,\"=\"&B1751))","v":260},20,4.340905802344089E-4,0.4]
["26-261","26","E1101","ANIMATION DE SITE MULTIMÉDIA",15,10,{"$f":"IF(C1752=\"\",\"\",COUNTIF($B$2:B1752,\"=\"&B1752))","v":261},20,4.340905802344089E-4,0.66666666666666663]
["26-262","26","B1803","RÉALISATION DE VÊTEMENTS SUR MESURE OU EN PETITE SÉRIE",15,3,{"$f":"IF(C1753=\"\",\"\",COUNTIF($B$2:B1753,\"=\"&B1753))","v":262},20,4.340905802344089E-4,0.2]
["26-263","26","B1603","RÉALISATION D'OUVRAGES EN BIJOUTERIE, JOAILLERIE ET ORFÈVRERIE",15,14,{"$f":"IF(C1754=\"\",\"\",COUNTIF($B$2:B1754,\"=\"&B1754))","v":263},20,4.340905802344089E-4,0.93333333333333335]
["26-264","26","J1405","OPTIQUE - LUNETTERIE",15,15,{"$f":"IF(C1755=\"\",\"\",COUNTIF($B$2:B1755,\"=\"&B1755))","v":264},20,4.340905802344089E-4,1]
["26-265","26","N1102","DÉMÉNAGEMENT",15,3,{"$f":"IF(C1756=\"\",\"\",COUNTIF($B$2:B1756,\"=\"&B1756))","v":265},20,4.340905802344089E-4,0.2]
["26-266","26","K1205","INFORMATION SOCIALE",15,11,{"$f":"IF(C1757=\"\",\"\",COUNTIF($B$2:B1757,\"=\"&B1757))","v":266},20,4.340905802344089E-4,0.73333333333333328]
["26-267","26","K2203","MANAGEMENT ET INSPECTION EN PROPRETÉ DE LOCAUX",14,11,{"$f":"IF(C1758=\"\",\"\",COUNTIF($B$2:B1758,\"=\"&B1758))","v":267},10,4.0515120821878165E-4,0.7857142857142857]
["26-268","26","E1308","INTERVENTION TECHNIQUE EN INDUSTRIE GRAPHIQUE",14,3,{"$f":"IF(C1759=\"\",\"\",COUNTIF($B$2:B1759,\"=\"&B1759))","v":268},10,4.0515120821878165E-4,0.21428571428571427]
["26-269","26","A1409","ÉLEVAGE DE LAPINS ET VOLAILLES",14,5,{"$f":"IF(C1760=\"\",\"\",COUNTIF($B$2:B1760,\"=\"&B1760))","v":269},10,4.0515120821878165E-4,0.35714285714285715]
["26-270","26","B1601","MÉTALLERIE D'ART",14,14,{"$f":"IF(C1761=\"\",\"\",COUNTIF($B$2:B1761,\"=\"&B1761))","v":270},10,4.0515120821878165E-4,1]
["26-271","26","M1704","MANAGEMENT RELATION CLIENTÈLE",14,8,{"$f":"IF(C1762=\"\",\"\",COUNTIF($B$2:B1762,\"=\"&B1762))","v":271},10,4.0515120821878165E-4,0.5714285714285714]
["26-272","26","M1403","ÉTUDES ET PROSPECTIVES SOCIO-ÉCONOMIQUES",14,12,{"$f":"IF(C1763=\"\",\"\",COUNTIF($B$2:B1763,\"=\"&B1763))","v":272},10,4.0515120821878165E-4,0.8571428571428571]
["26-273","26","G1804","SOMMELLERIE",13,13,{"$f":"IF(C1764=\"\",\"\",COUNTIF($B$2:B1764,\"=\"&B1764))","v":273},10,3.762118362031544E-4,1]
["26-274","26","H2802","CONDUITE D'INSTALLATION DE PRODUCTION DE MATÉRIAUX DE CONSTRUCTION",13,12,{"$f":"IF(C1765=\"\",\"\",COUNTIF($B$2:B1765,\"=\"&B1765))","v":274},10,3.762118362031544E-4,0.92307692307692313]
["26-275","26","F1101","ARCHITECTURE DU BTP ET DU PAYSAGE",13,13,{"$f":"IF(C1766=\"\",\"\",COUNTIF($B$2:B1766,\"=\"&B1766))","v":275},10,3.762118362031544E-4,1]
["26-276","26","H2911","RÉALISATION DE STRUCTURES MÉTALLIQUES",13,4,{"$f":"IF(C1767=\"\",\"\",COUNTIF($B$2:B1767,\"=\"&B1767))","v":276},10,3.762118362031544E-4,0.30769230769230771]
["26-277","26","H2203","CONDUITE D'INSTALLATION DE PRODUCTION DE PANNEAUX BOIS",13,12,{"$f":"IF(C1768=\"\",\"\",COUNTIF($B$2:B1768,\"=\"&B1768))","v":277},10,3.762118362031544E-4,0.92307692307692313]
["26-278","26","M1102","DIRECTION DES ACHATS",13,13,{"$f":"IF(C1769=\"\",\"\",COUNTIF($B$2:B1769,\"=\"&B1769))","v":278},10,3.762118362031544E-4,1]
["26-279","26","K1102","AIDE AUX BÉNÉFICIAIRES D'UNE MESURE DE PROTECTION JURIDIQUE",13,6,{"$f":"IF(C1770=\"\",\"\",COUNTIF($B$2:B1770,\"=\"&B1770))","v":279},10,3.762118362031544E-4,0.46153846153846156]
["26-280","26","J1202","PHARMACIE",13,12,{"$f":"IF(C1771=\"\",\"\",COUNTIF($B$2:B1771,\"=\"&B1771))","v":280},10,3.762118362031544E-4,0.92307692307692313]
["26-281","26","M1302","DIRECTION DE PETITE OU MOYENNE ENTREPRISE",12,9,{"$f":"IF(C1772=\"\",\"\",COUNTIF($B$2:B1772,\"=\"&B1772))","v":281},10,3.4727246418752715E-4,0.75]
["26-282","26","K2105","ENSEIGNEMENT ARTISTIQUE",12,9,{"$f":"IF(C1773=\"\",\"\",COUNTIF($B$2:B1773,\"=\"&B1773))","v":282},10,3.4727246418752715E-4,0.75]
["26-283","26","I1501","INTERVENTION EN GRANDE HAUTEUR",12,10,{"$f":"IF(C1774=\"\",\"\",COUNTIF($B$2:B1774,\"=\"&B1774))","v":283},10,3.4727246418752715E-4,0.83333333333333337]
["26-284","26","H2403","CONDUITE DE MACHINE DE FABRICATION DE PRODUITS TEXTILES",12,6,{"$f":"IF(C1775=\"\",\"\",COUNTIF($B$2:B1775,\"=\"&B1775))","v":284},10,3.4727246418752715E-4,0.5]
["26-285","26","K1601","GESTION DE L'INFORMATION ET DE LA DOCUMENTATION",12,7,{"$f":"IF(C1776=\"\",\"\",COUNTIF($B$2:B1776,\"=\"&B1776))","v":285},10,3.4727246418752715E-4,0.58333333333333337]
["26-286","26","A1303","INGÉNIERIE EN AGRICULTURE ET ENVIRONNEMENT NATUREL",12,11,{"$f":"IF(C1777=\"\",\"\",COUNTIF($B$2:B1777,\"=\"&B1777))","v":286},10,3.4727246418752715E-4,0.91666666666666663]
["26-287","26","C1103","COURTAGE EN ASSURANCES",12,12,{"$f":"IF(C1778=\"\",\"\",COUNTIF($B$2:B1778,\"=\"&B1778))","v":287},10,3.4727246418752715E-4,1]
["26-288","26","K2102","COORDINATION PÉDAGOGIQUE",12,8,{"$f":"IF(C1779=\"\",\"\",COUNTIF($B$2:B1779,\"=\"&B1779))","v":288},10,3.4727246418752715E-4,0.66666666666666663]
["26-289","26","M1206","MANAGEMENT DE GROUPE OU DE SERVICE COMPTABLE",12,11,{"$f":"IF(C1780=\"\",\"\",COUNTIF($B$2:B1780,\"=\"&B1780))","v":289},10,3.4727246418752715E-4,0.91666666666666663]
["26-290","26","N1104","MANOEUVRE ET CONDUITE D'ENGINS LOURDS DE MANUTENTION",11,1,{"$f":"IF(C1781=\"\",\"\",COUNTIF($B$2:B1781,\"=\"&B1781))","v":290},10,3.1833309217189985E-4,9.0909090909090912E-2]
["26-291","26","H2701","PILOTAGE D'INSTALLATION ÉNERGÉTIQUE ET PÉTROCHIMIQUE",11,8,{"$f":"IF(C1782=\"\",\"\",COUNTIF($B$2:B1782,\"=\"&B1782))","v":291},10,3.1833309217189985E-4,0.72727272727272729]
["26-292","26","H1209","INTERVENTION TECHNIQUE EN ÉTUDES ET DÉVELOPPEMENT ÉLECTRONIQUE",11,9,{"$f":"IF(C1783=\"\",\"\",COUNTIF($B$2:B1783,\"=\"&B1783))","v":292},10,3.1833309217189985E-4,0.81818181818181823]
["26-293","26","H2404","CONDUITE DE MACHINE DE PRODUCTION ET TRANSFORMATION DES FILS",11,4,{"$f":"IF(C1784=\"\",\"\",COUNTIF($B$2:B1784,\"=\"&B1784))","v":293},10,3.1833309217189985E-4,0.36363636363636365]
["26-294","26","D1205","NETTOYAGE D'ARTICLES TEXTILES OU CUIRS",11,2,{"$f":"IF(C1785=\"\",\"\",COUNTIF($B$2:B1785,\"=\"&B1785))","v":294},10,3.1833309217189985E-4,0.18181818181818182]
["26-295","26","L1510","FILMS D'ANIMATION ET EFFETS SPÉCIAUX",11,11,{"$f":"IF(C1786=\"\",\"\",COUNTIF($B$2:B1786,\"=\"&B1786))","v":295},10,3.1833309217189985E-4,1]
["26-296","26","I1201","ENTRETIEN D'AFFICHAGE ET MOBILIER URBAIN",10,5,{"$f":"IF(C1787=\"\",\"\",COUNTIF($B$2:B1787,\"=\"&B1787))","v":296},10,2.893937201562726E-4,0.5]
["26-297","26","G1503","MANAGEMENT DU PERSONNEL D'ÉTAGE",10,8,{"$f":"IF(C1788=\"\",\"\",COUNTIF($B$2:B1788,\"=\"&B1788))","v":297},10,2.893937201562726E-4,0.8]
["26-298","26","H1402","MANAGEMENT ET INGÉNIERIE MÉTHODES ET INDUSTRIALISATION",10,10,{"$f":"IF(C1789=\"\",\"\",COUNTIF($B$2:B1789,\"=\"&B1789))","v":298},10,2.893937201562726E-4,1]
["26-299","26","F1612","TAILLE ET DÉCORATION DE PIERRES",10,9,{"$f":"IF(C1790=\"\",\"\",COUNTIF($B$2:B1790,\"=\"&B1790))","v":299},10,2.893937201562726E-4,0.9]
["26-300","26","E1306","PRÉPRESSE",10,4,{"$f":"IF(C1791=\"\",\"\",COUNTIF($B$2:B1791,\"=\"&B1791))","v":300},10,2.893937201562726E-4,0.4]
["26-301","26","M1701","ADMINISTRATION DES VENTES",10,7,{"$f":"IF(C1792=\"\",\"\",COUNTIF($B$2:B1792,\"=\"&B1792))","v":301},10,2.893937201562726E-4,0.7]
["26-302","26","H3203","FABRICATION DE PIÈCES EN MATÉRIAUX COMPOSITES",9,2,{"$f":"IF(C1793=\"\",\"\",COUNTIF($B$2:B1793,\"=\"&B1793))","v":302},{"$f":"ROUND(E1793,-1)","v":10},2.6045434814064535E-4,{"$f":"IF(OR(F1793=\"\",F1793=\".\"),0,F1793/E1793)","v":0.22222222222222221}]
["26-303","26","G1403","GESTION DE STRUCTURE DE LOISIRS OU D'HÉBERGEMENT TOURISTIQUE",9,6,{"$f":"IF(C1794=\"\",\"\",COUNTIF($B$2:B1794,\"=\"&B1794))","v":303},10,{"$f":"E1794/SUMIF(B:B,B1794,E:E)","v":2.6045434814064535E-4},0.66666666666666663]
[{"$f":"B1795&\"-\"&G1795","v":"26-304"},"26","G1201","ACCOMPAGNEMENT DE VOYAGES, D'ACTIVITÉS CULTURELLES OU SPORTIVES",9,2,{"$f":"IF(C1795=\"\",\"\",COUNTIF($B$2:B1795,\"=\"&B1795))","v":304},10,2.6045434814064535E-4,0.22222222222222221]
["26-305","26","F1402","EXTRACTION SOLIDE",9,4,{"$f":"IF(C1796=\"\",\"\",COUNTIF($B$2:B1796,\"=\"&B1796))","v":305},10,2.6045434814064535E-4,0.44444444444444442]
["26-306","26","D1509","MANAGEMENT DE DÉPARTEMENT EN GRANDE DISTRIBUTION",9,7,{"$f":"IF(C1797=\"\",\"\",COUNTIF($B$2:B1797,\"=\"&B1797))","v":306},10,2.6045434814064535E-4,0.77777777777777779]
["26-307","26","C1302","GESTION BACK ET MIDDLE-OFFICE MARCHÉS FINANCIERS",9,1,{"$f":"IF(C1798=\"\",\"\",COUNTIF($B$2:B1798,\"=\"&B1798))","v":307},10,2.6045434814064535E-4,0.1111111111111111]
["26-308","26","C1201","ACCUEIL ET SERVICES BANCAIRES",9,".",{"$f":"IF(C1799=\"\",\"\",COUNTIF($B$2:B1799,\"=\"&B1799))","v":308},10,2.6045434814064535E-4,0]
["26-309","26","A1302","CONTRÔLE ET DIAGNOSTIC TECHNIQUE EN AGRICULTURE",9,3,{"$f":"IF(C1800=\"\",\"\",COUNTIF($B$2:B1800,\"=\"&B1800))","v":309},10,2.6045434814064535E-4,0.33333333333333331]
["26-310","26","M1804","ÉTUDES ET DÉVELOPPEMENT DE RÉSEAUX DE TÉLÉCOMS",9,9,{"$f":"IF(C1801=\"\",\"\",COUNTIF($B$2:B1801,\"=\"&B1801))","v":310},10,2.6045434814064535E-4,1]
["26-311","26","L1503","DÉCOR ET ACCESSOIRES SPECTACLE",8,2,{"$f":"IF(C1802=\"\",\"\",COUNTIF($B$2:B1802,\"=\"&B1802))","v":311},10,2.3151497612501807E-4,0.25]
["26-312","26","H3402","CONDUITE DE TRAITEMENT PAR DÉPÔT DE SURFACE",8,4,{"$f":"IF(C1803=\"\",\"\",COUNTIF($B$2:B1803,\"=\"&B1803))","v":312},10,2.3151497612501807E-4,0.5]
["26-313","26","H2604","MONTAGE DE PRODUITS ÉLECTRIQUES ET ÉLECTRONIQUES",8,3,{"$f":"IF(C1804=\"\",\"\",COUNTIF($B$2:B1804,\"=\"&B1804))","v":313},10,2.3151497612501807E-4,0.375]
["26-314","26","H2207","RÉALISATION DE MEUBLES EN BOIS",8,5,{"$f":"IF(C1805=\"\",\"\",COUNTIF($B$2:B1805,\"=\"&B1805))","v":314},10,2.3151497612501807E-4,0.625]
["26-315","26","H2904","CONDUITE D'ÉQUIPEMENT DE DÉFORMATION DES MÉTAUX",8,8,{"$f":"IF(C1806=\"\",\"\",COUNTIF($B$2:B1806,\"=\"&B1806))","v":315},10,2.3151497612501807E-4,1]
["26-316","26","D1503","MANAGEMENT/GESTION DE RAYON PRODUITS NON ALIMENTAIRES",8,8,{"$f":"IF(C1807=\"\",\"\",COUNTIF($B$2:B1807,\"=\"&B1807))","v":316},10,2.3151497612501807E-4,1]
["26-317","26","H2204","ENCADREMENT DES INDUSTRIES DE L'AMEUBLEMENT ET DU BOIS",8,8,{"$f":"IF(C1808=\"\",\"\",COUNTIF($B$2:B1808,\"=\"&B1808))","v":317},10,2.3151497612501807E-4,1]
["26-318","26","A1201","BÛCHERONNAGE ET ÉLAGAGE",8,6,{"$f":"IF(C1809=\"\",\"\",COUNTIF($B$2:B1809,\"=\"&B1809))","v":318},10,2.3151497612501807E-4,0.75]
["26-319","26","K2305","SALUBRITÉ ET TRAITEMENT DE NUISIBLES",8,8,{"$f":"IF(C1810=\"\",\"\",COUNTIF($B$2:B1810,\"=\"&B1810))","v":319},10,2.3151497612501807E-4,1]
["26-320","26","H2503","PILOTAGE D'UNITÉ ÉLÉMENTAIRE DE PRODUCTION MÉCANIQUE OU DE TRAVAIL DES MÉTAUX",7,4,{"$f":"IF(C1811=\"\",\"\",COUNTIF($B$2:B1811,\"=\"&B1811))","v":320},10,2.0257560410939083E-4,0.5714285714285714]
["26-321","26","I1301","INSTALLATION ET MAINTENANCE D'ASCENSEURS",7,3,{"$f":"IF(C1812=\"\",\"\",COUNTIF($B$2:B1812,\"=\"&B1812))","v":321},10,2.0257560410939083E-4,0.42857142857142855]
["26-322","26","G1102","PROMOTION DU TOURISME LOCAL",7,6,{"$f":"IF(C1813=\"\",\"\",COUNTIF($B$2:B1813,\"=\"&B1813))","v":322},10,2.0257560410939083E-4,0.8571428571428571]
["26-323","26","E1302","CONDUITE DE MACHINES DE FAÇONNAGE ROUTAGE",7,6,{"$f":"IF(C1814=\"\",\"\",COUNTIF($B$2:B1814,\"=\"&B1814))","v":323},10,2.0257560410939083E-4,0.8571428571428571]
["26-324","26","K2302","MANAGEMENT ET INSPECTION EN ENVIRONNEMENT URBAIN",7,7,{"$f":"IF(C1815=\"\",\"\",COUNTIF($B$2:B1815,\"=\"&B1815))","v":324},10,2.0257560410939083E-4,1]
["26-325","26","J1103","MÉDECINE DENTAIRE",7,7,{"$f":"IF(C1816=\"\",\"\",COUNTIF($B$2:B1816,\"=\"&B1816))","v":325},10,2.0257560410939083E-4,1]
["26-326","26","I1305","INSTALLATION ET MAINTENANCE ÉLECTRONIQUE",6,5,{"$f":"IF(C1817=\"\",\"\",COUNTIF($B$2:B1817,\"=\"&B1817))","v":326},10,1.7363623209376358E-4,0.83333333333333337]
["26-327","26","H2205","PREMIÈRE TRANSFORMATION DE BOIS D'OEUVRE",6,5,{"$f":"IF(C1818=\"\",\"\",COUNTIF($B$2:B1818,\"=\"&B1818))","v":327},10,1.7363623209376358E-4,0.83333333333333337]
["26-328","26","H2209","INTERVENTION TECHNIQUE EN AMEUBLEMENT ET BOIS",6,3,{"$f":"IF(C1819=\"\",\"\",COUNTIF($B$2:B1819,\"=\"&B1819))","v":328},10,1.7363623209376358E-4,0.5]
["26-329","26","F1706","PRÉFABRICATION EN BÉTON INDUSTRIEL",6,4,{"$f":"IF(C1820=\"\",\"\",COUNTIF($B$2:B1820,\"=\"&B1820))","v":329},10,1.7363623209376358E-4,0.66666666666666663]
["26-330","26","E1104","CONCEPTION DE CONTENUS MULTIMÉDIAS",6,4,{"$f":"IF(C1821=\"\",\"\",COUNTIF($B$2:B1821,\"=\"&B1821))","v":330},10,1.7363623209376358E-4,0.66666666666666663]
["26-331","26","E1107","ORGANISATION D'ÉVÈNEMENTIEL",6,4,{"$f":"IF(C1822=\"\",\"\",COUNTIF($B$2:B1822,\"=\"&B1822))","v":331},10,1.7363623209376358E-4,0.66666666666666663]
["26-332","26","C1401","GESTION EN BANQUE ET ASSURANCE",6,3,{"$f":"IF(C1823=\"\",\"\",COUNTIF($B$2:B1823,\"=\"&B1823))","v":332},10,1.7363623209376358E-4,0.5]
["26-333","26","J1306","IMAGERIE MÉDICALE",6,1,{"$f":"IF(C1824=\"\",\"\",COUNTIF($B$2:B1824,\"=\"&B1824))","v":333},10,1.7363623209376358E-4,0.16666666666666666]
["26-334","26","I1602","MAINTENANCE D'AÉRONEFS",5,4,{"$f":"IF(C1825=\"\",\"\",COUNTIF($B$2:B1825,\"=\"&B1825))","v":334},10,1.446968600781363E-4,0.8]
["26-335","26","G1402","MANAGEMENT D'HÔTEL-RESTAURANT",5,5,{"$f":"IF(C1826=\"\",\"\",COUNTIF($B$2:B1826,\"=\"&B1826))","v":335},10,1.446968600781363E-4,1]
["26-336","26","H2409","COUPE CUIR, TEXTILE ET MATÉRIAUX SOUPLES",5,3,{"$f":"IF(C1827=\"\",\"\",COUNTIF($B$2:B1827,\"=\"&B1827))","v":336},10,1.446968600781363E-4,0.6]
["26-337","26","G1702","PERSONNEL DU HALL",5,1,{"$f":"IF(C1828=\"\",\"\",COUNTIF($B$2:B1828,\"=\"&B1828))","v":337},10,1.446968600781363E-4,0.2]
["26-338","26","H1204","DESIGN INDUSTRIEL",5,4,{"$f":"IF(C1829=\"\",\"\",COUNTIF($B$2:B1829,\"=\"&B1829))","v":338},10,1.446968600781363E-4,0.8]
["26-339","26","A1504","SANTÉ ANIMALE",5,".",{"$f":"IF(C1830=\"\",\"\",COUNTIF($B$2:B1830,\"=\"&B1830))","v":339},10,1.446968600781363E-4,0]
["26-340","26","N1202","GESTION DES OPÉRATIONS DE CIRCULATION INTERNATIONALE DES MARCHANDISES",5,3,{"$f":"IF(C1831=\"\",\"\",COUNTIF($B$2:B1831,\"=\"&B1831))","v":340},10,1.446968600781363E-4,0.6]
["26-341","26","M1301","DIRECTION DE GRANDE ENTREPRISE OU D'ÉTABLISSEMENT PUBLIC",5,5,{"$f":"IF(C1832=\"\",\"\",COUNTIF($B$2:B1832,\"=\"&B1832))","v":341},10,1.446968600781363E-4,1]
["26-342","26","M1703","MANAGEMENT ET GESTION DE PRODUIT",5,5,{"$f":"IF(C1833=\"\",\"\",COUNTIF($B$2:B1833,\"=\"&B1833))","v":342},10,1.446968600781363E-4,1]
["26-343","26","L1103","PRÉSENTATION DE SPECTACLES OU D'ÉMISSIONS",5,3,{"$f":"IF(C1834=\"\",\"\",COUNTIF($B$2:B1834,\"=\"&B1834))","v":343},10,1.446968600781363E-4,0.6]
["26-344","26","K2306","SUPERVISION D'EXPLOITATION ÉCO-INDUSTRIELLE",5,3,{"$f":"IF(C1835=\"\",\"\",COUNTIF($B$2:B1835,\"=\"&B1835))","v":344},10,1.446968600781363E-4,0.6]
["26-345","26","M1702","ANALYSE DE TENDANCE",5,5,{"$f":"IF(C1836=\"\",\"\",COUNTIF($B$2:B1836,\"=\"&B1836))","v":345},10,1.446968600781363E-4,1]
["26-346","26","N4201","DIRECTION D'EXPLOITATION DES TRANSPORTS ROUTIERS DE MARCHANDISES",4,4,{"$f":"IF(C1837=\"\",\"\",COUNTIF($B$2:B1837,\"=\"&B1837))","v":346},0,1.1575748806250904E-4,1]
["26-347","26","H2501","ENCADREMENT DE PRODUCTION DE MATÉRIEL ÉLECTRIQUE ET ÉLECTRONIQUE",4,4,{"$f":"IF(C1838=\"\",\"\",COUNTIF($B$2:B1838,\"=\"&B1838))","v":347},0,1.1575748806250904E-4,1]
["26-348","26","G1303","VENTE DE VOYAGES",4,".",{"$f":"IF(C1839=\"\",\"\",COUNTIF($B$2:B1839,\"=\"&B1839))","v":348},0,1.1575748806250904E-4,0]
["26-349","26","H2603","CONDUITE D'INSTALLATION AUTOMATISÉE DE PRODUCTION ÉLECTRIQUE, ÉLECTRONIQUE ET MICROÉLECTRONIQUE",4,".",{"$f":"IF(C1840=\"\",\"\",COUNTIF($B$2:B1840,\"=\"&B1840))","v":349},0,1.1575748806250904E-4,0]
["26-350","26","H1505","INTERVENTION TECHNIQUE EN FORMULATION ET ANALYSE SENSORIELLE",4,2,{"$f":"IF(C1841=\"\",\"\",COUNTIF($B$2:B1841,\"=\"&B1841))","v":350},0,1.1575748806250904E-4,0.5]
["26-351","26","F1401","EXTRACTION LIQUIDE ET GAZEUSE",4,4,{"$f":"IF(C1842=\"\",\"\",COUNTIF($B$2:B1842,\"=\"&B1842))","v":351},0,1.1575748806250904E-4,1]
["26-352","26","F1609","POSE DE REVÊTEMENTS SOUPLES",4,3,{"$f":"IF(C1843=\"\",\"\",COUNTIF($B$2:B1843,\"=\"&B1843))","v":352},0,1.1575748806250904E-4,0.75]
["26-353","26","F1102","CONCEPTION - AMÉNAGEMENT D'ESPACES INTÉRIEURS",4,4,{"$f":"IF(C1844=\"\",\"\",COUNTIF($B$2:B1844,\"=\"&B1844))","v":353},0,1.1575748806250904E-4,1]
["26-354","26","L1203","ART DRAMATIQUE",4,".",{"$f":"IF(C1845=\"\",\"\",COUNTIF($B$2:B1845,\"=\"&B1845))","v":354},0,1.1575748806250904E-4,0]
["26-355","26","M1808","INFORMATION GÉOGRAPHIQUE",4,1,{"$f":"IF(C1846=\"\",\"\",COUNTIF($B$2:B1846,\"=\"&B1846))","v":355},0,1.1575748806250904E-4,0.25]
["26-356","26","K2502","MANAGEMENT DE SÉCURITÉ PRIVÉE",4,3,{"$f":"IF(C1847=\"\",\"\",COUNTIF($B$2:B1847,\"=\"&B1847))","v":356},0,1.1575748806250904E-4,0.75]
["26-357","26","K2101","CONSEIL EN FORMATION",4,3,{"$f":"IF(C1848=\"\",\"\",COUNTIF($B$2:B1848,\"=\"&B1848))","v":357},0,1.1575748806250904E-4,0.75]
["26-358","26","J1504","SOINS INFIRMIERS SPÉCIALISÉS EN BLOC OPÉRATOIRE",3,2,{"$f":"IF(C1849=\"\",\"\",COUNTIF($B$2:B1849,\"=\"&B1849))","v":358},0,8.6818116046881788E-5,0.66666666666666663]
["26-359","26","N3201","EXPLOITATION DES OPÉRATIONS PORTUAIRES ET DU TRANSPORT MARITIME",3,".",{"$f":"IF(C1850=\"\",\"\",COUNTIF($B$2:B1850,\"=\"&B1850))","v":359},0,8.6818116046881788E-5,0]
["26-360","26","G1404","MANAGEMENT D'ÉTABLISSEMENT DE RESTAURATION COLLECTIVE",3,2,{"$f":"IF(C1851=\"\",\"\",COUNTIF($B$2:B1851,\"=\"&B1851))","v":360},0,8.6818116046881788E-5,0.66666666666666663]
["26-361","26","H2910","MOULAGE SABLE",3,1,{"$f":"IF(C1852=\"\",\"\",COUNTIF($B$2:B1852,\"=\"&B1852))","v":361},0,8.6818116046881788E-5,0.33333333333333331]
["26-362","26","A1501","AIDE AUX SOINS ANIMAUX",3,1,{"$f":"IF(C1853=\"\",\"\",COUNTIF($B$2:B1853,\"=\"&B1853))","v":362},0,8.6818116046881788E-5,0.33333333333333331]
["26-363","26","H1207","RÉDACTION TECHNIQUE",3,3,{"$f":"IF(C1854=\"\",\"\",COUNTIF($B$2:B1854,\"=\"&B1854))","v":363},0,8.6818116046881788E-5,1]
["26-364","26","D1204","LOCATION DE VÉHICULES OU DE MATÉRIEL DE LOISIRS",3,1,{"$f":"IF(C1855=\"\",\"\",COUNTIF($B$2:B1855,\"=\"&B1855))","v":364},0,8.6818116046881788E-5,0.33333333333333331]
["26-365","26","B1301","DÉCORATION D'ESPACES DE VENTE ET D'EXPOSITION",3,1,{"$f":"IF(C1856=\"\",\"\",COUNTIF($B$2:B1856,\"=\"&B1856))","v":365},0,8.6818116046881788E-5,0.33333333333333331]
["26-366","26","E1108","TRADUCTION, INTERPRÉTARIAT",3,3,{"$f":"IF(C1857=\"\",\"\",COUNTIF($B$2:B1857,\"=\"&B1857))","v":366},{"$f":"ROUND(E1857,-1)","v":0},8.6818116046881788E-5,{"$f":"IF(OR(F1857=\"\",F1857=\".\"),0,F1857/E1857)","v":1}]
["26-367","26","A1407","ÉLEVAGE BOVIN OU ÉQUIN",3,".",{"$f":"IF(C1858=\"\",\"\",COUNTIF($B$2:B1858,\"=\"&B1858))","v":367},0,{"$f":"E1858/SUMIF(B:B,B1858,E:E)","v":8.6818116046881788E-5},0]
[{"$f":"B1859&\"-\"&G1859","v":"26-368"},"26","A1204","PROTECTION DU PATRIMOINE NATUREL",3,2,{"$f":"IF(C1859=\"\",\"\",COUNTIF($B$2:B1859,\"=\"&B1859))","v":368},0,8.6818116046881788E-5,0.66666666666666663]
["26-369","26","B1806","TAPISSERIE - DÉCORATION EN AMEUBLEMENT",3,3,{"$f":"IF(C1860=\"\",\"\",COUNTIF($B$2:B1860,\"=\"&B1860))","v":369},0,8.6818116046881788E-5,1]
["26-370","26","N3103","NAVIGATION FLUVIALE",3,1,{"$f":"IF(C1861=\"\",\"\",COUNTIF($B$2:B1861,\"=\"&B1861))","v":370},0,8.6818116046881788E-5,0.33333333333333331]
["26-371","26","N4202","DIRECTION D'EXPLOITATION DES TRANSPORTS ROUTIERS DE PERSONNES",3,2,{"$f":"IF(C1862=\"\",\"\",COUNTIF($B$2:B1862,\"=\"&B1862))","v":371},0,8.6818116046881788E-5,0.66666666666666663]
["26-372","26","L1504","ÉCLAIRAGE SPECTACLE",3,3,{"$f":"IF(C1863=\"\",\"\",COUNTIF($B$2:B1863,\"=\"&B1863))","v":372},0,8.6818116046881788E-5,1]
["26-373","26","M1201","ANALYSE ET INGÉNIERIE FINANCIÈRE",3,3,{"$f":"IF(C1864=\"\",\"\",COUNTIF($B$2:B1864,\"=\"&B1864))","v":373},0,8.6818116046881788E-5,1]
["26-374","26","L1509","RÉGIE GÉNÉRALE",3,3,{"$f":"IF(C1865=\"\",\"\",COUNTIF($B$2:B1865,\"=\"&B1865))","v":374},0,8.6818116046881788E-5,1]
["26-375","26","L1303","PROMOTION D'ARTISTES ET DE SPECTACLES",3,3,{"$f":"IF(C1866=\"\",\"\",COUNTIF($B$2:B1866,\"=\"&B1866))","v":375},0,8.6818116046881788E-5,1]
["26-376","26","M1207","TRÉSORERIE ET FINANCEMENT",3,2,{"$f":"IF(C1867=\"\",\"\",COUNTIF($B$2:B1867,\"=\"&B1867))","v":376},0,8.6818116046881788E-5,0.66666666666666663]
["26-377","26","K1706","SÉCURITÉ PUBLIQUE",3,3,{"$f":"IF(C1868=\"\",\"\",COUNTIF($B$2:B1868,\"=\"&B1868))","v":377},0,8.6818116046881788E-5,1]
["26-378","26","K2402","RECHERCHE EN SCIENCES DE L'UNIVERS, DE LA MATIÈRE ET DU VIVANT",3,2,{"$f":"IF(C1869=\"\",\"\",COUNTIF($B$2:B1869,\"=\"&B1869))","v":378},0,8.6818116046881788E-5,0.66666666666666663]
["26-379","26","L1201","DANSE",3,2,{"$f":"IF(C1870=\"\",\"\",COUNTIF($B$2:B1870,\"=\"&B1870))","v":379},0,8.6818116046881788E-5,0.66666666666666663]
["26-380","26","K2602","CONSEIL EN SERVICES FUNÉRAIRES",2,1,{"$f":"IF(C1871=\"\",\"\",COUNTIF($B$2:B1871,\"=\"&B1871))","v":380},0,5.7878744031254519E-5,0.5]
["26-381","26","K1602","GESTION DE PATRIMOINE CULTUREL",2,2,{"$f":"IF(C1872=\"\",\"\",COUNTIF($B$2:B1872,\"=\"&B1872))","v":381},0,5.7878744031254519E-5,1]
["26-382","26","J1104","SUIVI DE LA GROSSESSE ET DE L'ACCOUCHEMENT",2,".",{"$f":"IF(C1873=\"\",\"\",COUNTIF($B$2:B1873,\"=\"&B1873))","v":382},0,5.7878744031254519E-5,0]
["26-383","26","K2103","DIRECTION D'ÉTABLISSEMENT ET D'ENSEIGNEMENT",2,1,{"$f":"IF(C1874=\"\",\"\",COUNTIF($B$2:B1874,\"=\"&B1874))","v":383},0,5.7878744031254519E-5,0.5]
["26-384","26","K2108","ENSEIGNEMENT SUPÉRIEUR",2,2,{"$f":"IF(C1875=\"\",\"\",COUNTIF($B$2:B1875,\"=\"&B1875))","v":384},0,5.7878744031254519E-5,1]
["26-385","26","H2412","PATRONNAGE - GRADATION",2,2,{"$f":"IF(C1876=\"\",\"\",COUNTIF($B$2:B1876,\"=\"&B1876))","v":385},0,5.7878744031254519E-5,1]
["26-386","26","H1205","ÉTUDES - MODÈLES EN INDUSTRIE DES MATÉRIAUX SOUPLES",2,2,{"$f":"IF(C1877=\"\",\"\",COUNTIF($B$2:B1877,\"=\"&B1877))","v":386},0,5.7878744031254519E-5,1]
["26-387","26","H2406","CONDUITE DE MACHINE DE TRAITEMENT TEXTILE",2,2,{"$f":"IF(C1878=\"\",\"\",COUNTIF($B$2:B1878,\"=\"&B1878))","v":387},0,5.7878744031254519E-5,1]
["26-388","26","H1501","DIRECTION DE LABORATOIRE D'ANALYSE INDUSTRIELLE",2,2,{"$f":"IF(C1879=\"\",\"\",COUNTIF($B$2:B1879,\"=\"&B1879))","v":388},0,5.7878744031254519E-5,1]
["26-389","26","E1105","COORDINATION D'ÉDITION",2,".",{"$f":"IF(C1880=\"\",\"\",COUNTIF($B$2:B1880,\"=\"&B1880))","v":389},0,5.7878744031254519E-5,0]
["26-390","26","E1303","ENCADREMENT DES INDUSTRIES GRAPHIQUES",2,1,{"$f":"IF(C1881=\"\",\"\",COUNTIF($B$2:B1881,\"=\"&B1881))","v":390},0,5.7878744031254519E-5,0.5]
["26-391","26","E1307","REPROGRAPHIE",2,1,{"$f":"IF(C1882=\"\",\"\",COUNTIF($B$2:B1882,\"=\"&B1882))","v":391},0,5.7878744031254519E-5,0.5]
["26-392","26","C1110","SOUSCRIPTION D'ASSURANCES",2,2,{"$f":"IF(C1883=\"\",\"\",COUNTIF($B$2:B1883,\"=\"&B1883))","v":392},0,5.7878744031254519E-5,1]
["26-393","26","D1206","RÉPARATION D'ARTICLES EN CUIR ET MATÉRIAUX SOUPLES",2,".",{"$f":"IF(C1884=\"\",\"\",COUNTIF($B$2:B1884,\"=\"&B1884))","v":393},0,5.7878744031254519E-5,0]
["26-394","26","E1201","PHOTOGRAPHIE",2,2,{"$f":"IF(C1885=\"\",\"\",COUNTIF($B$2:B1885,\"=\"&B1885))","v":394},0,5.7878744031254519E-5,1]
["26-395","26","H2411","MONTAGE DE PROTOTYPE CUIR ET MATÉRIAUX SOUPLES",2,2,{"$f":"IF(C1886=\"\",\"\",COUNTIF($B$2:B1886,\"=\"&B1886))","v":395},0,5.7878744031254519E-5,1]
["26-396","26","A1403","AIDE D'ÉLEVAGE AGRICOLE ET AQUACOLE",2,".",{"$f":"IF(C1887=\"\",\"\",COUNTIF($B$2:B1887,\"=\"&B1887))","v":396},0,5.7878744031254519E-5,0]
["26-397","26","A1202","ENTRETIEN DES ESPACES NATURELS",2,2,{"$f":"IF(C1888=\"\",\"\",COUNTIF($B$2:B1888,\"=\"&B1888))","v":397},0,5.7878744031254519E-5,1]
["26-398","26","A1408","ÉLEVAGE D'ANIMAUX SAUVAGES OU DE COMPAGNIE",2,1,{"$f":"IF(C1889=\"\",\"\",COUNTIF($B$2:B1889,\"=\"&B1889))","v":398},0,5.7878744031254519E-5,0.5]
["26-399","26","N2204","PRÉPARATION DES VOLS",2,2,{"$f":"IF(C1890=\"\",\"\",COUNTIF($B$2:B1890,\"=\"&B1890))","v":399},0,5.7878744031254519E-5,1]
["26-400","26","K2112","ORIENTATION SCOLAIRE ET PROFESSIONNELLE",2,2,{"$f":"IF(C1891=\"\",\"\",COUNTIF($B$2:B1891,\"=\"&B1891))","v":400},0,5.7878744031254519E-5,1]
["26-401","26","M1807","EXPLOITATION DE SYSTÈMES DE COMMUNICATION ET DE COMMANDEMENT",2,2,{"$f":"IF(C1892=\"\",\"\",COUNTIF($B$2:B1892,\"=\"&B1892))","v":401},0,5.7878744031254519E-5,1]
["26-402","26","L1202","MUSIQUE ET CHANT",2,2,{"$f":"IF(C1893=\"\",\"\",COUNTIF($B$2:B1893,\"=\"&B1893))","v":402},0,5.7878744031254519E-5,1]
["26-403","26","L1507","MONTAGE AUDIOVISUEL ET POST-PRODUCTION",2,2,{"$f":"IF(C1894=\"\",\"\",COUNTIF($B$2:B1894,\"=\"&B1894))","v":403},0,5.7878744031254519E-5,1]
["26-404","26","I1303","INSTALLATION ET MAINTENANCE DE DISTRIBUTEURS AUTOMATIQUES",2,".",{"$f":"IF(C1895=\"\",\"\",COUNTIF($B$2:B1895,\"=\"&B1895))","v":404},0,5.7878744031254519E-5,0]
["26-405","26","L1505","IMAGE CINÉMATOGRAPHIQUE ET TÉLÉVISUELLE",1,1,{"$f":"IF(C1896=\"\",\"\",COUNTIF($B$2:B1896,\"=\"&B1896))","v":405},0,2.8939372015627259E-5,1]
["26-406","26","K1504","CONTRÔLE ET INSPECTION DU TRÉSOR PUBLIC",1,1,{"$f":"IF(C1897=\"\",\"\",COUNTIF($B$2:B1897,\"=\"&B1897))","v":406},0,2.8939372015627259E-5,1]
["26-407","26","K1103","DÉVELOPPEMENT PERSONNEL ET BIEN-ÊTRE DE LA PERSONNE",1,1,{"$f":"IF(C1898=\"\",\"\",COUNTIF($B$2:B1898,\"=\"&B1898))","v":407},0,2.8939372015627259E-5,1]
["26-408","26","K1502","CONTRÔLE ET INSPECTION DES AFFAIRES SOCIALES",1,1,{"$f":"IF(C1899=\"\",\"\",COUNTIF($B$2:B1899,\"=\"&B1899))","v":408},0,2.8939372015627259E-5,1]
["26-409","26","L1401","SPORTIF PROFESSIONNEL",1,1,{"$f":"IF(C1900=\"\",\"\",COUNTIF($B$2:B1900,\"=\"&B1900))","v":409},0,2.8939372015627259E-5,1]
["26-410","26","J1402","DIÉTÉTIQUE",1,1,{"$f":"IF(C1901=\"\",\"\",COUNTIF($B$2:B1901,\"=\"&B1901))","v":410},0,2.8939372015627259E-5,1]
["26-411","26","K1101","ACCOMPAGNEMENT ET MÉDIATION FAMILIALE",1,".",{"$f":"IF(C1902=\"\",\"\",COUNTIF($B$2:B1902,\"=\"&B1902))","v":411},0,2.8939372015627259E-5,0]
["26-412","26","K1703","DIRECTION OPÉRATIONNELLE DE LA DÉFENSE",1,1,{"$f":"IF(C1903=\"\",\"\",COUNTIF($B$2:B1903,\"=\"&B1903))","v":412},0,2.8939372015627259E-5,1]
["26-413","26","J1101","MÉDECINE DE PRÉVENTION",1,1,{"$f":"IF(C1904=\"\",\"\",COUNTIF($B$2:B1904,\"=\"&B1904))","v":413},0,2.8939372015627259E-5,1]
["26-414","26","N4204","INTERVENTION TECHNIQUE D'EXPLOITATION DES TRANSPORTS ROUTIERS DE PERSONNES",1,1,{"$f":"IF(C1905=\"\",\"\",COUNTIF($B$2:B1905,\"=\"&B1905))","v":414},0,2.8939372015627259E-5,1]
["26-415","26","H2413","PRÉPARATION DE FILS, MONTAGE DE MÉTIERS TEXTILES",1,1,{"$f":"IF(C1906=\"\",\"\",COUNTIF($B$2:B1906,\"=\"&B1906))","v":415},0,2.8939372015627259E-5,1]
["26-416","26","L1204","ARTS DU CIRQUE ET ARTS VISUELS",1,".",{"$f":"IF(C1907=\"\",\"\",COUNTIF($B$2:B1907,\"=\"&B1907))","v":416},0,2.8939372015627259E-5,0]
["26-417","26","H2601","BOBINAGE ÉLECTRIQUE",1,1,{"$f":"IF(C1908=\"\",\"\",COUNTIF($B$2:B1908,\"=\"&B1908))","v":417},0,2.8939372015627259E-5,1]
["26-418","26","G1205","PERSONNEL D'ATTRACTIONS OU DE STRUCTURES DE LOISIRS",1,".",{"$f":"IF(C1909=\"\",\"\",COUNTIF($B$2:B1909,\"=\"&B1909))","v":418},0,2.8939372015627259E-5,0]
["26-419","26","F1601","APPLICATION ET DÉCORATION EN PLÂTRE, STUC ET STAFF",1,".",{"$f":"IF(C1910=\"\",\"\",COUNTIF($B$2:B1910,\"=\"&B1910))","v":419},0,2.8939372015627259E-5,0]
["26-420","26","E1401","DÉVELOPPEMENT ET PROMOTION PUBLICITAIRE",1,1,{"$f":"IF(C1911=\"\",\"\",COUNTIF($B$2:B1911,\"=\"&B1911))","v":420},0,2.8939372015627259E-5,1]
["26-421","26","G1701","CONCIERGERIE EN HÔTELLERIE",1,1,{"$f":"IF(C1912=\"\",\"\",COUNTIF($B$2:B1912,\"=\"&B1912))","v":421},0,2.8939372015627259E-5,1]
["26-422","26","F1105","ÉTUDES GÉOLOGIQUES",1,1,{"$f":"IF(C1913=\"\",\"\",COUNTIF($B$2:B1913,\"=\"&B1913))","v":422},0,2.8939372015627259E-5,1]
["26-423","26","E1102","ÉCRITURE D'OUVRAGES, DE LIVRES",1,1,{"$f":"IF(C1914=\"\",\"\",COUNTIF($B$2:B1914,\"=\"&B1914))","v":423},0,2.8939372015627259E-5,1]
["26-424","26","B1805","STYLISME",1,1,{"$f":"IF(C1915=\"\",\"\",COUNTIF($B$2:B1915,\"=\"&B1915))","v":424},0,2.8939372015627259E-5,1]
["26-425","26","C1104","DIRECTION D'EXPLOITATION EN ASSURANCES",1,1,{"$f":"IF(C1916=\"\",\"\",COUNTIF($B$2:B1916,\"=\"&B1916))","v":425},0,2.8939372015627259E-5,1]
["26-426","26","B1501","FABRICATION ET RÉPARATION D'INSTRUMENTS DE MUSIQUE",1,".",{"$f":"IF(C1917=\"\",\"\",COUNTIF($B$2:B1917,\"=\"&B1917))","v":426},0,2.8939372015627259E-5,0]
["26-427","26","C1207","MANAGEMENT EN EXPLOITATION BANCAIRE",1,1,{"$f":"IF(C1918=\"\",\"\",COUNTIF($B$2:B1918,\"=\"&B1918))","v":427},0,2.8939372015627259E-5,1]
["26-428","26","N2102","PILOTAGE ET NAVIGATION TECHNIQUE AÉRIENNE",1,1,{"$f":"IF(C1919=\"\",\"\",COUNTIF($B$2:B1919,\"=\"&B1919))","v":428},0,2.8939372015627259E-5,1]
["26-429","26","K1901","AIDE ET MÉDIATION JUDICIAIRE",1,".",{"$f":"IF(C1920=\"\",\"\",COUNTIF($B$2:B1920,\"=\"&B1920))","v":429},0,2.8939372015627259E-5,0]
["26-430","26","L1508","PRISE DE SON ET SONORISATION",1,1,{"$f":"IF(C1921=\"\",\"\",COUNTIF($B$2:B1921,\"=\"&B1921))","v":430},{"$f":"ROUND(E1921,-1)","v":0},2.8939372015627259E-5,{"$f":"IF(OR(F1921=\"\",F1921=\".\"),0,F1921/E1921)","v":1}]
["26-431","26","K1501","APPLICATION DES RÈGLES FINANCIÈRES PUBLIQUES",1,1,{"$f":"IF(C1922=\"\",\"\",COUNTIF($B$2:B1922,\"=\"&B1922))","v":431},0,{"$f":"E1922/SUMIF(B:B,B1922,E:E)","v":2.8939372015627259E-5},1]
[{"$f":"B1923&\"-\"&G1923","v":"26-432"},"26","K1401","CONCEPTION ET PILOTAGE DE LA POLITIQUE DES POUVOIRS PUBLICS",1,1,{"$f":"IF(C1923=\"\",\"\",COUNTIF($B$2:B1923,\"=\"&B1923))","v":432},0,2.8939372015627259E-5,1]
["26-433","26","J1407","ORTHOPTIQUE",1,1,{"$f":"IF(C1924=\"\",\"\",COUNTIF($B$2:B1924,\"=\"&B1924))","v":433},0,2.8939372015627259E-5,1]
["26-434","26","K2401","RECHERCHE EN SCIENCES DE L'HOMME ET DE LA SOCIÉTÉ",1,".",{"$f":"IF(C1925=\"\",\"\",COUNTIF($B$2:B1925,\"=\"&B1925))","v":434},0,2.8939372015627259E-5,0]
["26-435","26","K1705","SÉCURITÉ CIVILE ET SECOURS",1,1,{"$f":"IF(C1926=\"\",\"\",COUNTIF($B$2:B1926,\"=\"&B1926))","v":435},0,2.8939372015627259E-5,1]
["38-1","38","K1302","ASSISTANCE AUPRÈS D'ADULTES",2675,2247,{"$f":"IF(C1927=\"\",\"\",COUNTIF($B$2:B1927,\"=\"&B1927))","v":1},2680,3.6787963803394122E-2,0.84]
["38-2","38","N1103","MAGASINAGE ET PRÉPARATION DE COMMANDES",2435,1330,{"$f":"IF(C1928=\"\",\"\",COUNTIF($B$2:B1928,\"=\"&B1928))","v":2},2440,3.3487361443463433E-2,0.5462012320328542]
["38-3","38","K1304","SERVICES DOMESTIQUES",2369,1971,{"$f":"IF(C1929=\"\",\"\",COUNTIF($B$2:B1929,\"=\"&B1929))","v":3},2370,3.2579695794482492E-2,0.8319966230476995]
["38-4","38","K2204","NETTOYAGE DE LOCAUX",1749,828,{"$f":"IF(C1930=\"\",\"\",COUNTIF($B$2:B1930,\"=\"&B1930))","v":4},1750,2.4053139697994885E-2,0.47341337907375641]
["38-5","38","G1602","PERSONNEL DE CUISINE",1512,860,{"$f":"IF(C1931=\"\",\"\",COUNTIF($B$2:B1931,\"=\"&B1931))","v":5},1510,2.0793794867563331E-2,0.56878306878306883]
["38-6","38","M1203","COMPTABILITÉ",1509,1063,{"$f":"IF(C1932=\"\",\"\",COUNTIF($B$2:B1932,\"=\"&B1932))","v":6},1510,2.0752537338064196E-2,0.70444002650762094]
["38-7","38","D1507","MISE EN RAYON LIBRE-SERVICE",1301,898,{"$f":"IF(C1933=\"\",\"\",COUNTIF($B$2:B1933,\"=\"&B1933))","v":7},1300,1.7892015292790935E-2,0.69023827824750195]
["38-8","38","D1401","ASSISTANAT COMMERCIAL",1288,868,{"$f":"IF(C1934=\"\",\"\",COUNTIF($B$2:B1934,\"=\"&B1934))","v":8},1290,1.7713232664961356E-2,0.67391304347826086]
["38-9","38","G1803","SERVICE EN RESTAURATION",1256,723,{"$f":"IF(C1935=\"\",\"\",COUNTIF($B$2:B1935,\"=\"&B1935))","v":9},1260,1.7273152350303932E-2,0.57563694267515919]
["38-10","38","M1607","SECRÉTARIAT",1078,589,{"$f":"IF(C1936=\"\",\"\",COUNTIF($B$2:B1936,\"=\"&B1936))","v":10},1080,1.4825205600022004E-2,0.54638218923933213]
["38-11","38","J1506","SOINS INFIRMIERS GÉNÉRALISTES",1023,526,{"$f":"IF(C1937=\"\",\"\",COUNTIF($B$2:B1937,\"=\"&B1937))","v":11},1020,1.4068817559204555E-2,0.51417399804496577]
["38-12","38","G1603","PERSONNEL POLYVALENT EN RESTAURATION",1011,627,{"$f":"IF(C1938=\"\",\"\",COUNTIF($B$2:B1938,\"=\"&B1938))","v":12},1010,1.3903787441208021E-2,0.62017804154302669]
["38-13","38","D1106","VENTE EN ALIMENTATION",1009,729,{"$f":"IF(C1939=\"\",\"\",COUNTIF($B$2:B1939,\"=\"&B1939))","v":13},1010,1.3876282421541932E-2,0.72249752229930619]
["38-14","38","N4101","CONDUITE DE TRANSPORT DE MARCHANDISES SUR LONGUE DISTANCE",1007,684,{"$f":"IF(C1940=\"\",\"\",COUNTIF($B$2:B1940,\"=\"&B1940))","v":14},1010,1.3848777401875843E-2,0.67924528301886788]
["38-15","38","K1303","ASSISTANCE AUPRÈS D'ENFANTS",970,758,{"$f":"IF(C1941=\"\",\"\",COUNTIF($B$2:B1941,\"=\"&B1941))","v":15},970,1.3339934538053195E-2,0.78144329896907216]
["38-16","38","J1501","SOINS D'HYGIÈNE, DE CONFORT DU PATIENT",965,508,{"$f":"IF(C1942=\"\",\"\",COUNTIF($B$2:B1942,\"=\"&B1942))","v":16},970,1.3271171988887972E-2,0.52642487046632125]
["38-17","38","I1304","INSTALLATION ET MAINTENANCE D'ÉQUIPEMENTS INDUSTRIELS ET D'EXPLOITATION",937,805,{"$f":"IF(C1943=\"\",\"\",COUNTIF($B$2:B1943,\"=\"&B1943))","v":17},940,1.2886101713562725E-2,0.85912486659551757]
["38-18","38","K1207","INTERVENTION SOCIOÉDUCATIVE",840,436,{"$f":"IF(C1944=\"\",\"\",COUNTIF($B$2:B1944,\"=\"&B1944))","v":18},840,1.1552108259757405E-2,0.51904761904761909]
["38-19","38","N1105","MANUTENTION MANUELLE DE CHARGES",839,326,{"$f":"IF(C1945=\"\",\"\",COUNTIF($B$2:B1945,\"=\"&B1945))","v":19},840,1.1538355749924361E-2,0.38855780691299163]
["38-20","38","G1203","ANIMATION DE LOISIRS AUPRÈS D'ENFANTS OU D'ADOLESCENTS",832,448,{"$f":"IF(C1946=\"\",\"\",COUNTIF($B$2:B1946,\"=\"&B1946))","v":20},830,1.144208818109305E-2,0.53846153846153844]
["38-21","38","I1604","MÉCANIQUE AUTOMOBILE ET ENTRETIEN DE VÉHICULES",798,652,{"$f":"IF(C1947=\"\",\"\",COUNTIF($B$2:B1947,\"=\"&B1947))","v":21},800,1.0974502846769535E-2,0.81704260651629068]
["38-22","38","F1603","INSTALLATION D'ÉQUIPEMENTS SANITAIRES ET THERMIQUES",768,439,{"$f":"IF(C1948=\"\",\"\",COUNTIF($B$2:B1948,\"=\"&B1948))","v":22},770,1.05619275517782E-2,0.57161458333333337]
["38-23","38","M1805","ÉTUDES ET DÉVELOPPEMENT INFORMATIQUE",767,739,{"$f":"IF(C1949=\"\",\"\",COUNTIF($B$2:B1949,\"=\"&B1949))","v":23},770,1.0548175041945156E-2,0.96349413298565845]
["38-24","38","K2105","ENSEIGNEMENT ARTISTIQUE",758,750,{"$f":"IF(C1950=\"\",\"\",COUNTIF($B$2:B1950,\"=\"&B1950))","v":24},760,1.0424402453447754E-2,0.98944591029023743]
["38-25","38","D1212","VENTE EN DÉCORATION ET ÉQUIPEMENT DU FOYER",733,562,{"$f":"IF(C1951=\"\",\"\",COUNTIF($B$2:B1951,\"=\"&B1951))","v":25},730,1.0080589707621641E-2,0.76671214188267389]
["38-26","38","C1206","GESTION DE CLIENTÈLE BANCAIRE",707,611,{"$f":"IF(C1952=\"\",\"\",COUNTIF($B$2:B1952,\"=\"&B1952))","v":26},710,9.7230244519624833E-3,0.86421499292786419]
["38-27","38","K2107","ENSEIGNEMENT GÉNÉRAL DU SECOND DEGRÉ",677,567,{"$f":"IF(C1953=\"\",\"\",COUNTIF($B$2:B1953,\"=\"&B1953))","v":27},680,9.310449156971148E-3,0.83751846381093054]
["38-28","38","F1602","ÉLECTRICITÉ BÂTIMENT",658,331,{"$f":"IF(C1954=\"\",\"\",COUNTIF($B$2:B1954,\"=\"&B1954))","v":28},660,9.0491514701433011E-3,0.50303951367781152]
["38-29","38","F1703","MAÇONNERIE",606,273,{"$f":"IF(C1955=\"\",\"\",COUNTIF($B$2:B1955,\"=\"&B1955))","v":29},610,8.3340209588249857E-3,0.45049504950495051]
["38-30","38","N1101","CONDUITE D'ENGINS DE DÉPLACEMENT DES CHARGES",592,239,{"$f":"IF(C1956=\"\",\"\",COUNTIF($B$2:B1956,\"=\"&B1956))","v":30},590,8.1414858211623625E-3,0.40371621621621623]
["38-31","38","I1203","MAINTENANCE DES BÂTIMENTS ET DES LOCAUX",565,298,{"$f":"IF(C1957=\"\",\"\",COUNTIF($B$2:B1957,\"=\"&B1957))","v":31},570,7.7701680556701595E-3,0.52743362831858409]
["38-32","38","H2909","MONTAGE-ASSEMBLAGE MÉCANIQUE",563,179,{"$f":"IF(C1958=\"\",\"\",COUNTIF($B$2:B1958,\"=\"&B1958))","v":32},560,7.7426630360040707E-3,0.31793960923623443]
["38-33","38","D1505","PERSONNEL DE CAISSE",558,279,{"$f":"IF(C1959=\"\",\"\",COUNTIF($B$2:B1959,\"=\"&B1959))","v":33},560,7.6739004868388479E-3,0.5]
["38-34","38","H3302","OPÉRATIONS MANUELLES D'ASSEMBLAGE, TRI OU EMBALLAGE",538,227,{"$f":"IF(C1960=\"\",\"\",COUNTIF($B$2:B1960,\"=\"&B1960))","v":34},540,7.3988502901779574E-3,0.42193308550185876]
["38-35","38","A1203","AMÉNAGEMENT ET ENTRETIEN DES ESPACES VERTS",510,304,{"$f":"IF(C1961=\"\",\"\",COUNTIF($B$2:B1961,\"=\"&B1961))","v":35},510,7.0137800148527109E-3,0.59607843137254901]
["38-36","38","F1704","PRÉPARATION DU GROS OEUVRE ET DES TRAVAUX PUBLICS",510,173,{"$f":"IF(C1962=\"\",\"\",COUNTIF($B$2:B1962,\"=\"&B1962))","v":36},510,7.0137800148527109E-3,0.33921568627450982]
["38-37","38","N4105","CONDUITE ET LIVRAISON PAR TOURNÉES SUR COURTE DISTANCE",507,315,{"$f":"IF(C1963=\"\",\"\",COUNTIF($B$2:B1963,\"=\"&B1963))","v":37},510,6.9725224853535769E-3,0.62130177514792895]
["38-38","38","N4103","CONDUITE DE TRANSPORT EN COMMUN SUR ROUTE",487,412,{"$f":"IF(C1964=\"\",\"\",COUNTIF($B$2:B1964,\"=\"&B1964))","v":38},490,6.6974722886926864E-3,0.8459958932238193]
["38-39","38","D1407","RELATION TECHNICO-COMMERCIALE",471,445,{"$f":"IF(C1965=\"\",\"\",COUNTIF($B$2:B1965,\"=\"&B1965))","v":39},470,6.4774321313639735E-3,0.94479830148619959]
["38-40","38","H2903","CONDUITE D'ÉQUIPEMENT D'USINAGE",461,316,{"$f":"IF(C1966=\"\",\"\",COUNTIF($B$2:B1966,\"=\"&B1966))","v":40},460,6.3399070330335287E-3,0.68546637744034711]
["38-41","38","K1201","ACTION SOCIALE",455,207,{"$f":"IF(C1967=\"\",\"\",COUNTIF($B$2:B1967,\"=\"&B1967))","v":41},460,6.2573919740352615E-3,0.45494505494505494]
["38-42","38","F1607","POSE DE FERMETURES MENUISÉES",437,185,{"$f":"IF(C1968=\"\",\"\",COUNTIF($B$2:B1968,\"=\"&B1968))","v":42},440,6.0098467970404598E-3,0.42334096109839819]
["38-43","38","D1408","TÉLÉCONSEIL ET TÉLÉVENTE",437,237,{"$f":"IF(C1969=\"\",\"\",COUNTIF($B$2:B1969,\"=\"&B1969))","v":43},440,6.0098467970404598E-3,0.54233409610983985]
["38-44","38","H2206","RÉALISATION DE MENUISERIE BOIS ET TONNELLERIE",407,157,{"$f":"IF(C1970=\"\",\"\",COUNTIF($B$2:B1970,\"=\"&B1970))","v":44},410,5.5972715020491236E-3,0.38574938574938578]
["38-45","38","M1603","DISTRIBUTION DE DOCUMENTS",406,258,{"$f":"IF(C1971=\"\",\"\",COUNTIF($B$2:B1971,\"=\"&B1971))","v":45},410,5.5835189922160793E-3,0.6354679802955665]
["38-46","38","D1402","RELATION COMMERCIALE GRANDS COMPTES ET ENTREPRISES",383,363,{"$f":"IF(C1972=\"\",\"\",COUNTIF($B$2:B1972,\"=\"&B1972))","v":46},380,5.2672112660560556E-3,0.9477806788511749]
["38-47","38","M1601","ACCUEIL ET RENSEIGNEMENTS",371,142,{"$f":"IF(C1973=\"\",\"\",COUNTIF($B$2:B1973,\"=\"&B1973))","v":47},370,5.1021811480595211E-3,0.38274932614555257]
["38-48","38","F1302","CONDUITE D'ENGINS DE TERRASSEMENT ET DE CARRIÈRE",369,120,{"$f":"IF(C1974=\"\",\"\",COUNTIF($B$2:B1974,\"=\"&B1974))","v":48},370,5.0746761283934315E-3,0.32520325203252032]
["38-49","38","D1202","COIFFURE",368,299,{"$f":"IF(C1975=\"\",\"\",COUNTIF($B$2:B1975,\"=\"&B1975))","v":49},370,5.0609236185603871E-3,0.8125]
["38-50","38","D1102","BOULANGERIE - VIENNOISERIE",365,284,{"$f":"IF(C1976=\"\",\"\",COUNTIF($B$2:B1976,\"=\"&B1976))","v":50},370,5.0196660890612539E-3,0.77808219178082194]
["38-51","38","F1604","MONTAGE D'AGENCEMENTS",360,146,{"$f":"IF(C1977=\"\",\"\",COUNTIF($B$2:B1977,\"=\"&B1977))","v":51},360,4.9509035398960311E-3,0.40555555555555556]
["38-52","38","D1214","VENTE EN HABILLEMENT ET ACCESSOIRES DE LA PERSONNE",359,229,{"$f":"IF(C1978=\"\",\"\",COUNTIF($B$2:B1978,\"=\"&B1978))","v":52},360,4.9371510300629867E-3,0.63788300835654599]
["38-53","38","K2503","SÉCURITÉ ET SURVEILLANCE PRIVÉES",354,191,{"$f":"IF(C1979=\"\",\"\",COUNTIF($B$2:B1979,\"=\"&B1979))","v":53},350,4.8683884808977639E-3,0.53954802259887003]
["38-54","38","D1211","VENTE EN ARTICLES DE SPORT ET LOISIRS",354,109,{"$f":"IF(C1980=\"\",\"\",COUNTIF($B$2:B1980,\"=\"&B1980))","v":54},350,4.8683884808977639E-3,0.30790960451977401]
["38-55","38","N1303","INTERVENTION TECHNIQUE D'EXPLOITATION LOGISTIQUE",342,218,{"$f":"IF(C1981=\"\",\"\",COUNTIF($B$2:B1981,\"=\"&B1981))","v":55},340,4.7033583629012294E-3,0.63742690058479534]
["38-56","38","M1501","ASSISTANAT EN RESSOURCES HUMAINES",341,210,{"$f":"IF(C1982=\"\",\"\",COUNTIF($B$2:B1982,\"=\"&B1982))","v":56},340,4.689605853068185E-3,0.61583577712609971]
["38-57","38","K1301","ACCOMPAGNEMENT MÉDICOSOCIAL",340,184,{"$f":"IF(C1983=\"\",\"\",COUNTIF($B$2:B1983,\"=\"&B1983))","v":57},340,4.6758533432351406E-3,0.54117647058823526]
["38-58","38","H2102","CONDUITE D'ÉQUIPEMENT DE PRODUCTION ALIMENTAIRE",338,100,{"$f":"IF(C1984=\"\",\"\",COUNTIF($B$2:B1984,\"=\"&B1984))","v":58},340,4.648348323569051E-3,0.29585798816568049]
["38-59","38","D1104","PÂTISSERIE, CONFISERIE, CHOCOLATERIE ET GLACERIE",337,282,{"$f":"IF(C1985=\"\",\"\",COUNTIF($B$2:B1985,\"=\"&B1985))","v":59},{"$f":"ROUND(E1985,-1)","v":340},4.6345958137360066E-3,{"$f":"IF(OR(F1985=\"\",F1985=\".\"),0,F1985/E1985)","v":0.83679525222551931}]
["38-60","38","G1605","PLONGE EN RESTAURATION",336,171,{"$f":"IF(C1986=\"\",\"\",COUNTIF($B$2:B1986,\"=\"&B1986))","v":60},340,{"$f":"E1986/SUMIF(B:B,B1986,E:E)","v":4.6208433039029622E-3},0.5089285714285714]
[{"$f":"B1987&\"-\"&G1987","v":"38-61"},"38","D1403","RELATION COMMERCIALE AUPRÈS DE PARTICULIERS",332,272,{"$f":"IF(C1987=\"\",\"\",COUNTIF($B$2:B1987,\"=\"&B1987))","v":61},330,4.5658332645707846E-3,0.81927710843373491]
["38-62","38","M1704","MANAGEMENT RELATION CLIENTÈLE",329,217,{"$f":"IF(C1988=\"\",\"\",COUNTIF($B$2:B1988,\"=\"&B1988))","v":62},330,4.5245757350716505E-3,0.65957446808510634]
["38-63","38","M1502","DÉVELOPPEMENT DES RESSOURCES HUMAINES",316,213,{"$f":"IF(C1989=\"\",\"\",COUNTIF($B$2:B1989,\"=\"&B1989))","v":63},320,4.3457931072420717E-3,0.67405063291139244]
["38-64","38","F1106","INGÉNIERIE ET ÉTUDES DU BTP",313,290,{"$f":"IF(C1990=\"\",\"\",COUNTIF($B$2:B1990,\"=\"&B1990))","v":64},310,4.3045355777429385E-3,0.92651757188498407]
["38-65","38","G1501","PERSONNEL D'ÉTAGE",282,83,{"$f":"IF(C1991=\"\",\"\",COUNTIF($B$2:B1991,\"=\"&B1991))","v":65},280,3.8782077729185576E-3,0.29432624113475175]
["38-66","38","M1605","ASSISTANAT TECHNIQUE ET ADMINISTRATIF",276,192,{"$f":"IF(C1992=\"\",\"\",COUNTIF($B$2:B1992,\"=\"&B1992))","v":66},280,3.7956927139202903E-3,0.69565217391304346]
["38-67","38","D1208","SOINS ESTHÉTIQUES ET CORPORELS",272,188,{"$f":"IF(C1993=\"\",\"\",COUNTIF($B$2:B1993,\"=\"&B1993))","v":67},270,3.7406826745881123E-3,0.69117647058823528]
["38-68","38","J1301","PERSONNEL POLYVALENT DES SERVICES HOSPITALIERS",259,85,{"$f":"IF(C1994=\"\",\"\",COUNTIF($B$2:B1994,\"=\"&B1994))","v":68},260,3.5619000467585335E-3,0.3281853281853282]
["38-69","38","M1202","AUDIT ET CONTRÔLE COMPTABLES ET FINANCIERS",258,250,{"$f":"IF(C1995=\"\",\"\",COUNTIF($B$2:B1995,\"=\"&B1995))","v":69},260,3.5481475369254891E-3,0.96899224806201545]
["38-70","38","F1201","CONDUITE DE TRAVAUX DU BTP ET DE TRAVAUX PAYSAGERS",252,227,{"$f":"IF(C1996=\"\",\"\",COUNTIF($B$2:B1996,\"=\"&B1996))","v":70},250,3.4656324779272218E-3,0.90079365079365081]
["38-71","38","I1306","INSTALLATION ET MAINTENANCE EN FROID, CONDITIONNEMENT D'AIR",249,185,{"$f":"IF(C1997=\"\",\"\",COUNTIF($B$2:B1997,\"=\"&B1997))","v":71},250,3.4243749484280882E-3,0.74297188755020083]
["38-72","38","H1502","MANAGEMENT ET INGÉNIERIE QUALITÉ INDUSTRIELLE",248,177,{"$f":"IF(C1998=\"\",\"\",COUNTIF($B$2:B1998,\"=\"&B1998))","v":72},250,3.4106224385950434E-3,0.71370967741935487]
["38-73","38","H1404","INTERVENTION TECHNIQUE EN MÉTHODES ET INDUSTRIALISATION",245,139,{"$f":"IF(C1999=\"\",\"\",COUNTIF($B$2:B1999,\"=\"&B1999))","v":73},250,3.3693649090959098E-3,0.56734693877551023]
["38-74","38","D1301","MANAGEMENT DE MAGASIN DE DÉTAIL",244,220,{"$f":"IF(C2000=\"\",\"\",COUNTIF($B$2:B2000,\"=\"&B2000))","v":74},240,3.3556123992628654E-3,0.90163934426229508]
["38-81","38","M1609","SECRÉTARIAT ET ASSISTANAT MÉDICAL OU MÉDICO-SOCIAL",229,92,{"$f":"IF(C2007=\"\",\"\",COUNTIF($B$2:B2007,\"=\"&B2007))","v":81},230,3.1493247517671973E-3,0.40174672489082969]
["38-88","38","H3301","CONDUITE D'ÉQUIPEMENT DE CONDITIONNEMENT",217,119,{"$f":"IF(C2014=\"\",\"\",COUNTIF($B$2:B2014,\"=\"&B2014))","v":88},220,2.9842946337706633E-3,0.54838709677419351]
["38-94","38","I1307","INSTALLATION ET MAINTENANCE TÉLÉCOMS ET COURANTS FAIBLES",211,174,{"$f":"IF(C2020=\"\",\"\",COUNTIF($B$2:B2020,\"=\"&B2020))","v":94},210,2.9017795747723961E-3,0.82464454976303314]
["38-108","38","F1702","CONSTRUCTION DE ROUTES ET VOIES",177,99,{"$f":"IF(C2034=\"\",\"\",COUNTIF($B$2:B2034,\"=\"&B2034))","v":108},180,2.4341942404488819E-3,0.55932203389830504]
["38-119","38","I1302","INSTALLATION ET MAINTENANCE D'AUTOMATISMES",150,131,{"$f":"IF(C2045=\"\",\"\",COUNTIF($B$2:B2045,\"=\"&B2045))","v":119},150,2.0628764749566794E-3,0.87333333333333329]
["38-124","38","H2914","RÉALISATION ET MONTAGE EN TUYAUTERIE",138,45,{"$f":"IF(C2050=\"\",\"\",COUNTIF($B$2:B2050,\"=\"&B2050))","v":124},140,{"$f":"E2050/SUMIF(B:B,B2050,E:E)","v":1.8978463569601452E-3},0.32608695652173914]
["38-131","38","M1205","DIRECTION ADMINISTRATIVE ET FINANCIÈRE",131,113,{"$f":"IF(C2057=\"\",\"\",COUNTIF($B$2:B2057,\"=\"&B2057))","v":131},130,1.8015787881288335E-3,0.86259541984732824]
["38-148","38","D1105","POISSONNERIE",113,32,{"$f":"IF(C2074=\"\",\"\",COUNTIF($B$2:B2074,\"=\"&B2074))","v":148},110,1.5540336111340319E-3,0.2831858407079646]
["38-151","38","H2301","CONDUITE D'ÉQUIPEMENT DE PRODUCTION CHIMIQUE OU PHARMACEUTIQUE",107,65,{"$f":"IF(C2077=\"\",\"\",COUNTIF($B$2:B2077,\"=\"&B2077))","v":151},110,1.4715185521357648E-3,0.60747663551401865]
["38-163","38","K1305","INTERVENTION SOCIALE ET FAMILIALE",93,63,{"$f":"IF(C2089=\"\",\"\",COUNTIF($B$2:B2089,\"=\"&B2089))","v":163},90,1.2789834144731414E-3,0.67741935483870963]
["38-176","38","J1412","RÉÉDUCATION EN PSYCHOMOTRICITÉ",77,53,{"$f":"IF(C2102=\"\",\"\",COUNTIF($B$2:B2102,\"=\"&B2102))","v":176},80,1.0589432571444289E-3,0.68831168831168832]
["38-183","38","M1402","CONSEIL EN ORGANISATION ET MANAGEMENT D'ENTREPRISE",73,62,{"$f":"IF(C2109=\"\",\"\",COUNTIF($B$2:B2109,\"=\"&B2109))","v":183},70,1.0039332178122507E-3,0.84931506849315064]
["38-192","38","H1303","INTERVENTION TECHNIQUE EN HYGIÈNE SÉCURITÉ ENVIRONNEMENT -HSE- INDUSTRIEL",70,60,{"$f":"IF(C2118=\"\",\"\",COUNTIF($B$2:B2118,\"=\"&B2118))","v":192},70,9.6267568831311719E-4,0.8571428571428571]
["38-199","38","E1205","RÉALISATION DE CONTENUS MULTIMÉDIAS",65,55,{"$f":"IF(C2125=\"\",\"\",COUNTIF($B$2:B2125,\"=\"&B2125))","v":199},70,8.9391313914789446E-4,0.84615384615384615]
["38-207","38","I1501","INTERVENTION EN GRANDE HAUTEUR",63,6,{"$f":"IF(C2133=\"\",\"\",COUNTIF($B$2:B2133,\"=\"&B2133))","v":207},60,8.6640811948180546E-4,9.5238095238095233E-2]
["38-219","38","I1202","ENTRETIEN ET SURVEILLANCE DU TRACÉ ROUTIER",56,10,{"$f":"IF(C2145=\"\",\"\",COUNTIF($B$2:B2145,\"=\"&B2145))","v":219},60,7.7014055065049373E-4,0.17857142857142858]
["38-226","38","H1209","INTERVENTION TECHNIQUE EN ÉTUDES ET DÉVELOPPEMENT ÉLECTRONIQUE",51,39,{"$f":"IF(C2152=\"\",\"\",COUNTIF($B$2:B2152,\"=\"&B2152))","v":226},50,7.0137800148527111E-4,0.76470588235294112]
["38-236","38","K1902","COLLABORATION JURIDIQUE",46,39,{"$f":"IF(C2162=\"\",\"\",COUNTIF($B$2:B2162,\"=\"&B2162))","v":236},50,6.3261545232004839E-4,0.84782608695652173]
["38-251","38","N4102","CONDUITE DE TRANSPORT DE PARTICULIERS",41,26,{"$f":"IF(C2177=\"\",\"\",COUNTIF($B$2:B2177,\"=\"&B2177))","v":251},{"$f":"ROUND(E2177,-1)","v":40},5.6385290315482577E-4,{"$f":"IF(OR(F2177=\"\",F2177=\".\"),0,F2177/E2177)","v":0.63414634146341464}]
["38-261","38","I1503","INTERVENTION EN MILIEUX ET PRODUITS NOCIFS",35,25,{"$f":"IF(C2187=\"\",\"\",COUNTIF($B$2:B2187,\"=\"&B2187))","v":261},40,4.813378441565586E-4,0.7142857142857143]
["38-271","38","H2701","PILOTAGE D'INSTALLATION ÉNERGÉTIQUE ET PÉTROCHIMIQUE",31,18,{"$f":"IF(C2197=\"\",\"\",COUNTIF($B$2:B2197,\"=\"&B2197))","v":271},30,4.2632780482438043E-4,0.58064516129032262]
["38-278","38","J1404","KINÉSITHÉRAPIE",30,20,{"$f":"IF(C2204=\"\",\"\",COUNTIF($B$2:B2204,\"=\"&B2204))","v":278},30,4.1257529499133592E-4,0.66666666666666663]
["38-290","38","E1301","CONDUITE DE MACHINES D'IMPRESSION",26,15,{"$f":"IF(C2216=\"\",\"\",COUNTIF($B$2:B2216,\"=\"&B2216))","v":290},30,3.5756525565915781E-4,0.57692307692307687]
["38-294","38","K2302","MANAGEMENT ET INSPECTION EN ENVIRONNEMENT URBAIN",24,23,{"$f":"IF(C2220=\"\",\"\",COUNTIF($B$2:B2220,\"=\"&B2220))","v":294},20,3.3006023599306875E-4,0.95833333333333337]
["38-305","38","H3203","FABRICATION DE PIÈCES EN MATÉRIAUX COMPOSITES",21,10,{"$f":"IF(C2231=\"\",\"\",COUNTIF($B$2:B2231,\"=\"&B2231))","v":305},20,2.8880270649393514E-4,0.47619047619047616]
["38-314","38","H2205","PREMIÈRE TRANSFORMATION DE BOIS D'OEUVRE",19,12,{"$f":"IF(C2240=\"\",\"\",COUNTIF($B$2:B2240,\"=\"&B2240))","v":314},20,2.6129768682784608E-4,0.63157894736842102]
["38-324","38","J1504","SOINS INFIRMIERS SPÉCIALISÉS EN BLOC OPÉRATOIRE",16,13,{"$f":"IF(C2250=\"\",\"\",COUNTIF($B$2:B2250,\"=\"&B2250))","v":324},20,2.2004015732871249E-4,0.8125]
["38-334","38","I1502","INTERVENTION EN MILIEU SUBAQUATIQUE",14,1,{"$f":"IF(C2260=\"\",\"\",COUNTIF($B$2:B2260,\"=\"&B2260))","v":334},10,1.9253513766262343E-4,7.1428571428571425E-2]
["38-346","38","A1402","AIDE AGRICOLE DE PRODUCTION LÉGUMIÈRE OU VÉGÉTALE",11,".",{"$f":"IF(C2272=\"\",\"\",COUNTIF($B$2:B2272,\"=\"&B2272))","v":346},10,1.5127760816348985E-4,0]
["38-349","38","M1201","ANALYSE ET INGÉNIERIE FINANCIÈRE",11,5,{"$f":"IF(C2275=\"\",\"\",COUNTIF($B$2:B2275,\"=\"&B2275))","v":349},10,1.5127760816348985E-4,0.45454545454545453]
["38-357","38","L1508","PRISE DE SON ET SONORISATION",9,6,{"$f":"IF(C2283=\"\",\"\",COUNTIF($B$2:B2283,\"=\"&B2283))","v":357},10,1.2377258849740079E-4,0.66666666666666663]
["38-368","38","J1401","AUDIOPROTHÈSES",8,8,{"$f":"IF(C2294=\"\",\"\",COUNTIF($B$2:B2294,\"=\"&B2294))","v":368},10,1.1002007866435625E-4,1]
["38-377","38","K1602","GESTION DE PATRIMOINE CULTUREL",7,6,{"$f":"IF(C2303=\"\",\"\",COUNTIF($B$2:B2303,\"=\"&B2303))","v":377},10,9.6267568831311716E-5,0.8571428571428571]
["38-389","38","L1505","IMAGE CINÉMATOGRAPHIQUE ET TÉLÉVISUELLE",6,6,{"$f":"IF(C2315=\"\",\"\",COUNTIF($B$2:B2315,\"=\"&B2315))","v":389},10,8.2515058998267187E-5,1]
["38-397","38","J1101","MÉDECINE DE PRÉVENTION",5,5,{"$f":"IF(C2323=\"\",\"\",COUNTIF($B$2:B2323,\"=\"&B2323))","v":397},10,6.8762549165222658E-5,1]
["38-409","38","I1602","MAINTENANCE D'AÉRONEFS",4,3,{"$f":"IF(C2335=\"\",\"\",COUNTIF($B$2:B2335,\"=\"&B2335))","v":409},0,5.5010039332178123E-5,0.75]
["38-422","38","G1206","PERSONNEL TECHNIQUE DES JEUX",3,".",{"$f":"IF(C2348=\"\",\"\",COUNTIF($B$2:B2348,\"=\"&B2348))","v":422},0,4.1257529499133594E-5,0]
["38-429","38","E1401","DÉVELOPPEMENT ET PROMOTION PUBLICITAIRE",3,2,{"$f":"IF(C2355=\"\",\"\",COUNTIF($B$2:B2355,\"=\"&B2355))","v":429},0,4.1257529499133594E-5,0.66666666666666663]
["38-432","38","M1702","ANALYSE DE TENDANCE",2,2,{"$f":"IF(C2358=\"\",\"\",COUNTIF($B$2:B2358,\"=\"&B2358))","v":432},0,2.7505019666089061E-5,1]
["38-441","38","E1303","ENCADREMENT DES INDUSTRIES GRAPHIQUES",2,2,{"$f":"IF(C2367=\"\",\"\",COUNTIF($B$2:B2367,\"=\"&B2367))","v":441},0,2.7505019666089061E-5,1]
["38-452","38","A1503","TOILETTAGE DES ANIMAUX",1,".",{"$f":"IF(C2378=\"\",\"\",COUNTIF($B$2:B2378,\"=\"&B2378))","v":452},0,1.3752509833044531E-5,0]
["38-466","38","J1201","BIOLOGIE MÉDICALE",1,1,{"$f":"IF(C2392=\"\",\"\",COUNTIF($B$2:B2392,\"=\"&B2392))","v":466},0,1.3752509833044531E-5,1]
["38-472","38","B1601","MÉTALLERIE D'ART",1,1,{"$f":"IF(C2398=\"\",\"\",COUNTIF($B$2:B2398,\"=\"&B2398))","v":472},0,1.3752509833044531E-5,1]
["42-9","42","D1101","BOUCHERIE",623,519,{"$f":"IF(C2410=\"\",\"\",COUNTIF($B$2:B2410,\"=\"&B2410))","v":9},620,1.7991740549282351E-2,0.8330658105939005]
["42-20","42","M1607","SECRÉTARIAT",444,191,{"$f":"IF(C2421=\"\",\"\",COUNTIF($B$2:B2421,\"=\"&B2421))","v":20},440,1.2822364051173939E-2,0.43018018018018017]
["42-29","42","N1105","MANUTENTION MANUELLE DE CHARGES",337,142,{"$f":"IF(C2430=\"\",\"\",COUNTIF($B$2:B2430,\"=\"&B2430))","v":29},340,9.7322898316342735E-3,0.42136498516320475]
["42-35","42","F1603","INSTALLATION D'ÉQUIPEMENTS SANITAIRES ET THERMIQUES",283,121,{"$f":"IF(C2436=\"\",\"\",COUNTIF($B$2:B2436,\"=\"&B2436))","v":35},280,8.172813122707713E-3,0.42756183745583037]
["42-45","42","H2206","RÉALISATION DE MENUISERIE BOIS ET TONNELLERIE",232,105,{"$f":"IF(C2446=\"\",\"\",COUNTIF($B$2:B2446,\"=\"&B2446))","v":45},230,6.6999740087215175E-3,0.45258620689655171]
["42-52","42","J1301","PERSONNEL POLYVALENT DES SERVICES HOSPITALIERS",187,44,{"$f":"IF(C2453=\"\",\"\",COUNTIF($B$2:B2453,\"=\"&B2453))","v":52},190,5.4004100846160507E-3,0.23529411764705882]
["42-64","42","K2111","FORMATION PROFESSIONNELLE",145,111,{"$f":"IF(C2465=\"\",\"\",COUNTIF($B$2:B2465,\"=\"&B2465))","v":64},150,4.1874837554509488E-3,0.76551724137931032]
["42-72","42","H2602","CÂBLAGE ÉLECTRIQUE ET ÉLECTROMÉCANIQUE",129,54,{"$f":"IF(C2473=\"\",\"\",COUNTIF($B$2:B2473,\"=\"&B2473))","v":72},130,3.7254165824356718E-3,0.41860465116279072]
["42-79","42","I1606","RÉPARATION DE CARROSSERIE",113,88,{"$f":"IF(C2480=\"\",\"\",COUNTIF($B$2:B2480,\"=\"&B2480))","v":79},110,3.2633494094203943E-3,0.77876106194690264]
["42-97","42","J1307","PRÉPARATION EN PHARMACIE",85,49,{"$f":"IF(C2498=\"\",\"\",COUNTIF($B$2:B2498,\"=\"&B2498))","v":97},90,{"$f":"E2498/SUMIF(B:B,B2498,E:E)","v":2.4547318566436596E-3},0.57647058823529407]
["42-104","42","K1104","PSYCHOLOGIE",77,47,{"$f":"IF(C2505=\"\",\"\",COUNTIF($B$2:B2505,\"=\"&B2505))","v":104},80,2.2236982701360208E-3,0.61038961038961037]
["42-108","42","D1403","RELATION COMMERCIALE AUPRÈS DE PARTICULIERS",75,61,{"$f":"IF(C2509=\"\",\"\",COUNTIF($B$2:B2509,\"=\"&B2509))","v":108},80,2.1659398735091114E-3,0.81333333333333335]
["42-124","42","H3401","CONDUITE DE TRAITEMENT D'ABRASION DE SURFACE",66,44,{"$f":"IF(C2525=\"\",\"\",COUNTIF($B$2:B2525,\"=\"&B2525))","v":124},70,1.9060270886880181E-3,0.66666666666666663]
["42-133","42","C1504","TRANSACTION IMMOBILIÈRE",56,47,{"$f":"IF(C2534=\"\",\"\",COUNTIF($B$2:B2534,\"=\"&B2534))","v":133},60,1.6172351055534699E-3,0.8392857142857143]
["42-140","42","G1703","RÉCEPTION EN HÔTELLERIE",52,31,{"$f":"IF(C2541=\"\",\"\",COUNTIF($B$2:B2541,\"=\"&B2541))","v":140},50,1.5017183122996505E-3,0.59615384615384615]
["42-148","42","K2110","FORMATION EN CONDUITE DE VÉHICULES",45,38,{"$f":"IF(C2549=\"\",\"\",COUNTIF($B$2:B2549,\"=\"&B2549))","v":148},50,1.2995639241054667E-3,0.84444444444444444]
["42-160","42","J1502","COORDINATION DE SERVICES MÉDICAUX OU PARAMÉDICAUX",38,23,{"$f":"IF(C2561=\"\",\"\",COUNTIF($B$2:B2561,\"=\"&B2561))","v":160},{"$f":"ROUND(E2561,-1)","v":40},1.0974095359112832E-3,{"$f":"IF(OR(F2561=\"\",F2561=\".\"),0,F2561/E2561)","v":0.60526315789473684}]
["42-172","42","D1502","MANAGEMENT/GESTION DE RAYON PRODUITS ALIMENTAIRES",34,30,{"$f":"IF(C2573=\"\",\"\",COUNTIF($B$2:B2573,\"=\"&B2573))","v":172},30,9.8189274265746379E-4,0.88235294117647056]
["42-177","42","D1105","POISSONNERIE",33,31,{"$f":"IF(C2578=\"\",\"\",COUNTIF($B$2:B2578,\"=\"&B2578))","v":177},30,9.5301354434400905E-4,0.93939393939393945]
["42-183","42","J1410","PROTHÈSES DENTAIRES",30,24,{"$f":"IF(C2584=\"\",\"\",COUNTIF($B$2:B2584,\"=\"&B2584))","v":183},30,8.6637594940364453E-4,0.8]
["42-192","42","C1206","GESTION DE CLIENTÈLE BANCAIRE",28,8,{"$f":"IF(C2593=\"\",\"\",COUNTIF($B$2:B2593,\"=\"&B2593))","v":192},30,8.0861755277673495E-4,0.2857142857142857]
["42-203","42","I1202","ENTRETIEN ET SURVEILLANCE DU TRACÉ ROUTIER",25,6,{"$f":"IF(C2604=\"\",\"\",COUNTIF($B$2:B2604,\"=\"&B2604))","v":203},30,7.2197995783637042E-4,0.24]
["42-215","42","F1108","MÉTRÉ DE LA CONSTRUCTION",23,23,{"$f":"IF(C2616=\"\",\"\",COUNTIF($B$2:B2616,\"=\"&B2616))","v":215},20,6.6422156120946084E-4,1]
["42-221","42","H2415","CONTRÔLE EN INDUSTRIE DU CUIR ET DU TEXTILE",22,16,{"$f":"IF(C2622=\"\",\"\",COUNTIF($B$2:B2622,\"=\"&B2622))","v":221},20,6.35342362896006E-4,0.72727272727272729]
["42-235","42","A1301","CONSEIL ET ASSISTANCE TECHNIQUE EN AGRICULTURE ET ENVIRONNEMENT NATUREL",19,14,{"$f":"IF(C2636=\"\",\"\",COUNTIF($B$2:B2636,\"=\"&B2636))","v":235},20,5.4870476795564158E-4,0.73684210526315785]
["42-240","42","I1607","RÉPARATION DE CYCLES, MOTOCYCLES ET MOTOCULTEURS DE LOISIRS",18,17,{"$f":"IF(C2641=\"\",\"\",COUNTIF($B$2:B2641,\"=\"&B2641))","v":240},20,5.1982556964218674E-4,0.94444444444444442]
["42-255","42","H2605","MONTAGE ET CÂBLAGE ÉLECTRONIQUE",16,2,{"$f":"IF(C2656=\"\",\"\",COUNTIF($B$2:B2656,\"=\"&B2656))","v":255},20,4.6206717301527711E-4,0.125]
["42-258","42","K2201","BLANCHISSERIE INDUSTRIELLE",15,4,{"$f":"IF(C2659=\"\",\"\",COUNTIF($B$2:B2659,\"=\"&B2659))","v":258},20,4.3318797470182226E-4,0.26666666666666666]
["42-275","42","I1103","SUPERVISION D'ENTRETIEN ET GESTION DE VÉHICULES",13,12,{"$f":"IF(C2676=\"\",\"\",COUNTIF($B$2:B2676,\"=\"&B2676))","v":275},10,3.7542957807491263E-4,0.92307692307692313]
["42-278","42","M1801","ADMINISTRATION DE SYSTÈMES D'INFORMATION",12,9,{"$f":"IF(C2679=\"\",\"\",COUNTIF($B$2:B2679,\"=\"&B2679))","v":278},10,3.4655037976145784E-4,0.75]
["42-294","42","H3101","CONDUITE D'ÉQUIPEMENT DE FABRICATION DE PAPIER OU DE CARTON",10,6,{"$f":"IF(C2695=\"\",\"\",COUNTIF($B$2:B2695,\"=\"&B2695))","v":294},10,2.8879198313454821E-4,0.6]
["42-298","42","H2410","MISE EN FORME, REPASSAGE ET FINITIONS EN INDUSTRIE TEXTILE",10,6,{"$f":"IF(C2699=\"\",\"\",COUNTIF($B$2:B2699,\"=\"&B2699))","v":298},10,2.8879198313454821E-4,0.6]
["42-309","42","A1413","FERMENTATION DE BOISSONS ALCOOLISÉES",9,6,{"$f":"IF(C2710=\"\",\"\",COUNTIF($B$2:B2710,\"=\"&B2710))","v":309},10,2.5991278482109337E-4,0.66666666666666663]
["42-318","42","D1405","CONSEIL EN INFORMATION MÉDICALE",8,8,{"$f":"IF(C2719=\"\",\"\",COUNTIF($B$2:B2719,\"=\"&B2719))","v":318},10,2.3103358650763855E-4,1]
["42-330","42","K2101","CONSEIL EN FORMATION",6,5,{"$f":"IF(C2731=\"\",\"\",COUNTIF($B$2:B2731,\"=\"&B2731))","v":330},10,1.7327518988072892E-4,0.83333333333333337]
["42-338","42","D1504","DIRECTION DE MAGASIN DE GRANDE DISTRIBUTION",6,6,{"$f":"IF(C2739=\"\",\"\",COUNTIF($B$2:B2739,\"=\"&B2739))","v":338},10,1.7327518988072892E-4,1]
["42-350","42","F1203","DIRECTION ET INGÉNIERIE D'EXPLOITATION DE GISEMENTS ET DE CARRIÈRES",5,5,{"$f":"IF(C2751=\"\",\"\",COUNTIF($B$2:B2751,\"=\"&B2751))","v":350},10,1.4439599156727411E-4,1]
["42-353","42","B1601","MÉTALLERIE D'ART",5,3,{"$f":"IF(C2754=\"\",\"\",COUNTIF($B$2:B2754,\"=\"&B2754))","v":353},10,{"$f":"E2754/SUMIF(B:B,B2754,E:E)","v":1.4439599156727411E-4},0.6]
["42-366","42","H2408","CONDUITE DE MACHINE D'IMPRESSION TEXTILE",4,".",{"$f":"IF(C2767=\"\",\"\",COUNTIF($B$2:B2767,\"=\"&B2767))","v":366},0,1.1551679325381928E-4,0]
["42-373","42","L1506","MACHINERIE SPECTACLE",3,2,{"$f":"IF(C2774=\"\",\"\",COUNTIF($B$2:B2774,\"=\"&B2774))","v":373},0,8.6637594940364461E-5,0.66666666666666663]
["42-382","42","G1102","PROMOTION DU TOURISME LOCAL",3,1,{"$f":"IF(C2783=\"\",\"\",COUNTIF($B$2:B2783,\"=\"&B2783))","v":382},0,8.6637594940364461E-5,0.33333333333333331]
["42-393","42","H2805","PILOTAGE D'INSTALLATION DE PRODUCTION VERRIÈRE",2,2,{"$f":"IF(C2794=\"\",\"\",COUNTIF($B$2:B2794,\"=\"&B2794))","v":393},0,5.7758396626909638E-5,1]
["42-407","42","L1507","MONTAGE AUDIOVISUEL ET POST-PRODUCTION",1,1,{"$f":"IF(C2808=\"\",\"\",COUNTIF($B$2:B2808,\"=\"&B2808))","v":407},0,2.8879198313454819E-5,1]
["42-409","42","J1407","ORTHOPTIQUE",1,".",{"$f":"IF(C2810=\"\",\"\",COUNTIF($B$2:B2810,\"=\"&B2810))","v":409},0,2.8879198313454819E-5,0]
["42-425","42","E1402","ÉLABORATION DE PLAN MÉDIA",1,1,{"$f":"IF(C2826=\"\",\"\",COUNTIF($B$2:B2826,\"=\"&B2826))","v":425},0,2.8879198313454819E-5,1]
["43-2","43","J1501","SOINS D'HYGIÈNE, DE CONFORT DU PATIENT",266,93,{"$f":"IF(C2837=\"\",\"\",COUNTIF($B$2:B2837,\"=\"&B2837))","v":2},270,2.7298850574712645E-2,0.34962406015037595]
["43-7","43","K1302","ASSISTANCE AUPRÈS D'ADULTES",210,146,{"$f":"IF(C2842=\"\",\"\",COUNTIF($B$2:B2842,\"=\"&B2842))","v":7},210,2.1551724137931036E-2,0.69523809523809521]
["43-17","43","H3302","OPÉRATIONS MANUELLES D'ASSEMBLAGE, TRI OU EMBALLAGE",140,32,{"$f":"IF(C2852=\"\",\"\",COUNTIF($B$2:B2852,\"=\"&B2852))","v":17},140,1.4367816091954023E-2,0.22857142857142856]
["43-27","43","F1704","PRÉPARATION DU GROS OEUVRE ET DES TRAVAUX PUBLICS",96,24,{"$f":"IF(C2862=\"\",\"\",COUNTIF($B$2:B2862,\"=\"&B2862))","v":27},100,9.852216748768473E-3,0.25]
["43-34","43","F1603","INSTALLATION D'ÉQUIPEMENTS SANITAIRES ET THERMIQUES",79,60,{"$f":"IF(C2869=\"\",\"\",COUNTIF($B$2:B2869,\"=\"&B2869))","v":34},80,8.1075533661740563E-3,0.759493670886076]
["43-46","43","K1104","PSYCHOLOGIE",60,38,{"$f":"IF(C2881=\"\",\"\",COUNTIF($B$2:B2881,\"=\"&B2881))","v":46},{"$f":"ROUND(E2881,-1)","v":60},6.1576354679802959E-3,{"$f":"IF(OR(F2881=\"\",F2881=\".\"),0,F2881/E2881)","v":0.6333333333333333}]
["43-50","43","H2206","RÉALISATION DE MENUISERIE BOIS ET TONNELLERIE",55,31,{"$f":"IF(C2885=\"\",\"\",COUNTIF($B$2:B2885,\"=\"&B2885))","v":50},60,5.6444991789819376E-3,0.5636363636363636]
["43-61","43","G1801","CAFÉ, BAR BRASSERIE",45,23,{"$f":"IF(C2896=\"\",\"\",COUNTIF($B$2:B2896,\"=\"&B2896))","v":61},50,4.6182266009852221E-3,0.51111111111111107]
["43-70","43","H1502","MANAGEMENT ET INGÉNIERIE QUALITÉ INDUSTRIELLE",39,32,{"$f":"IF(C2905=\"\",\"\",COUNTIF($B$2:B2905,\"=\"&B2905))","v":70},40,4.0024630541871924E-3,0.82051282051282048]
["43-86","43","F1610","POSE ET RESTAURATION DE COUVERTURES",28,20,{"$f":"IF(C2921=\"\",\"\",COUNTIF($B$2:B2921,\"=\"&B2921))","v":86},30,2.8735632183908046E-3,0.7142857142857143]
["43-90","43","K1801","CONSEIL EN EMPLOI ET INSERTION SOCIOPROFESSIONNELLE",25,17,{"$f":"IF(C2925=\"\",\"\",COUNTIF($B$2:B2925,\"=\"&B2925))","v":90},30,2.5656814449917897E-3,0.68]
["43-102","43","H2201","ASSEMBLAGE D'OUVRAGES EN BOIS",22,19,{"$f":"IF(C2937=\"\",\"\",COUNTIF($B$2:B2937,\"=\"&B2937))","v":102},20,2.2577996715927749E-3,0.86363636363636365]
["43-115","43","H2205","PREMIÈRE TRANSFORMATION DE BOIS D'OEUVRE",19,16,{"$f":"IF(C2950=\"\",\"\",COUNTIF($B$2:B2950,\"=\"&B2950))","v":115},20,1.9499178981937603E-3,0.84210526315789469]
["43-122","43","H2905","CONDUITE D'ÉQUIPEMENT DE FORMAGE ET DÉCOUPAGE DES MATÉRIAUX",17,6,{"$f":"IF(C2957=\"\",\"\",COUNTIF($B$2:B2957,\"=\"&B2957))","v":122},20,1.7446633825944171E-3,0.35294117647058826]
["43-134","43","K1802","DÉVELOPPEMENT LOCAL",15,15,{"$f":"IF(C2969=\"\",\"\",COUNTIF($B$2:B2969,\"=\"&B2969))","v":134},20,1.539408866995074E-3,1]
["43-142","43","C1109","RÉDACTION ET GESTION EN ASSURANCES",14,7,{"$f":"IF(C2977=\"\",\"\",COUNTIF($B$2:B2977,\"=\"&B2977))","v":142},10,1.4367816091954023E-3,0.5]
["43-145","43","N1303","INTERVENTION TECHNIQUE D'EXPLOITATION LOGISTIQUE",13,11,{"$f":"IF(C2980=\"\",\"\",COUNTIF($B$2:B2980,\"=\"&B2980))","v":145},10,1.3341543513957308E-3,0.84615384615384615]
["43-159","43","K2303","NETTOYAGE DES ESPACES URBAINS",11,2,{"$f":"IF(C2994=\"\",\"\",COUNTIF($B$2:B2994,\"=\"&B2994))","v":159},10,1.1288998357963874E-3,0.18181818181818182]
["43-165","43","I1402","RÉPARATION DE BIENS ÉLECTRODOMESTIQUES ET MULTIMÉDIA",10,10,{"$f":"IF(C3000=\"\",\"\",COUNTIF($B$2:B3000,\"=\"&B3000))","v":165},10,1.026272577996716E-3,1]
["43-178","43","A1414","HORTICULTURE ET MARAÎCHAGE",9,4,{"$f":"IF(C3013=\"\",\"\",COUNTIF($B$2:B3013,\"=\"&B3013))","v":178},10,9.2364532019704429E-4,0.44444444444444442]
["43-185","43","I1310","MAINTENANCE MÉCANIQUE INDUSTRIELLE",8,7,{"$f":"IF(C3020=\"\",\"\",COUNTIF($B$2:B3020,\"=\"&B3020))","v":185},10,8.2101806239737272E-4,0.875]
["43-197","43","J1507","SOINS INFIRMIERS SPÉCIALISÉS EN PUÉRICULTURE",7,2,{"$f":"IF(C3032=\"\",\"\",COUNTIF($B$2:B3032,\"=\"&B3032))","v":197},10,7.1839080459770114E-4,0.2857142857142857]
["43-203","43","M1810","PRODUCTION ET EXPLOITATION DE SYSTÈMES D'INFORMATION",6,3,{"$f":"IF(C3038=\"\",\"\",COUNTIF($B$2:B3038,\"=\"&B3038))","v":203},10,6.1576354679802956E-4,0.5]
["43-217","43","G1102","PROMOTION DU TOURISME LOCAL",6,6,{"$f":"IF(C3052=\"\",\"\",COUNTIF($B$2:B3052,\"=\"&B3052))","v":217},10,6.1576354679802956E-4,1]
["43-222","43","M1705","MARKETING",5,3,{"$f":"IF(C3057=\"\",\"\",COUNTIF($B$2:B3057,\"=\"&B3057))","v":222},10,5.1313628899835799E-4,0.6]
["43-237","43","D1213","VENTE EN GROS DE MATÉRIEL ET ÉQUIPEMENT",5,5,{"$f":"IF(C3072=\"\",\"\",COUNTIF($B$2:B3072,\"=\"&B3072))","v":237},10,5.1313628899835799E-4,1]
[{"$f":"B3075&\"-\"&G3075","v":"43-240"},"43","D1210","VENTE EN ANIMALERIE",5,4,{"$f":"IF(C3075=\"\",\"\",COUNTIF($B$2:B3075,\"=\"&B3075))","v":240},10,5.1313628899835799E-4,0.8]
["43-251","43","J1302","ANALYSES MÉDICALES",4,".",{"$f":"IF(C3086=\"\",\"\",COUNTIF($B$2:B3086,\"=\"&B3086))","v":251},0,4.1050903119868636E-4,0]
["43-260","43","K2304","REVALORISATION DE PRODUITS INDUSTRIELS",3,3,{"$f":"IF(C3095=\"\",\"\",COUNTIF($B$2:B3095,\"=\"&B3095))","v":260},0,3.0788177339901478E-4,1]
["43-266","43","N1201","AFFRÈTEMENT TRANSPORT",3,2,{"$f":"IF(C3101=\"\",\"\",COUNTIF($B$2:B3101,\"=\"&B3101))","v":266},0,3.0788177339901478E-4,0.66666666666666663]
["43-280","43","D1406","MANAGEMENT EN FORCE DE VENTE",3,2,{"$f":"IF(C3115=\"\",\"\",COUNTIF($B$2:B3115,\"=\"&B3115))","v":280},0,3.0788177339901478E-4,0.66666666666666663]
["43-292","43","F1105","ÉTUDES GÉOLOGIQUES",3,3,{"$f":"IF(C3127=\"\",\"\",COUNTIF($B$2:B3127,\"=\"&B3127))","v":292},0,3.0788177339901478E-4,1]
["43-295","43","K2112","ORIENTATION SCOLAIRE ET PROFESSIONNELLE",2,1,{"$f":"IF(C3130=\"\",\"\",COUNTIF($B$2:B3130,\"=\"&B3130))","v":295},0,2.0525451559934318E-4,0.5]
["43-312","43","H3402","CONDUITE DE TRAITEMENT PAR DÉPÔT DE SURFACE",2,".",{"$f":"IF(C3147=\"\",\"\",COUNTIF($B$2:B3147,\"=\"&B3147))","v":312},0,2.0525451559934318E-4,0]
["43-320","43","A1413","FERMENTATION DE BOISSONS ALCOOLISÉES",2,2,{"$f":"IF(C3155=\"\",\"\",COUNTIF($B$2:B3155,\"=\"&B3155))","v":320},0,2.0525451559934318E-4,1]
["43-328","43","N4401","CIRCULATION DU RÉSEAU FERRÉ",1,".",{"$f":"IF(C3163=\"\",\"\",COUNTIF($B$2:B3163,\"=\"&B3163))","v":328},0,1.0262725779967159E-4,0]
["43-335","43","K1705","SÉCURITÉ CIVILE ET SECOURS",1,1,{"$f":"IF(C3170=\"\",\"\",COUNTIF($B$2:B3170,\"=\"&B3170))","v":335},0,1.0262725779967159E-4,1]
["43-348","43","G1301","CONCEPTION DE PRODUITS TOURISTIQUES",1,".",{"$f":"IF(C3183=\"\",\"\",COUNTIF($B$2:B3183,\"=\"&B3183))","v":348},0,1.0262725779967159E-4,0]
["43-355","43","E1304","FAÇONNAGE ET ROUTAGE",1,".",{"$f":"IF(C3190=\"\",\"\",COUNTIF($B$2:B3190,\"=\"&B3190))","v":355},0,1.0262725779967159E-4,0]
["43-364","43","B1302","DÉCORATION D'OBJETS D'ART ET ARTISANAUX",1,1,{"$f":"IF(C3199=\"\",\"\",COUNTIF($B$2:B3199,\"=\"&B3199))","v":364},0,1.0262725779967159E-4,1]
["63-6","63","G1803","SERVICE EN RESTAURATION",859,447,{"$f":"IF(C3206=\"\",\"\",COUNTIF($B$2:B3206,\"=\"&B3206))","v":6},860,2.4839511884795558E-2,0.52037252619324792]
["63-14","63","J1506","SOINS INFIRMIERS GÉNÉRALISTES",504,228,{"$f":"IF(C3214=\"\",\"\",COUNTIF($B$2:B3214,\"=\"&B3214))","v":14},500,1.4574055867214157E-2,0.45238095238095238]
["63-26","63","K2503","SÉCURITÉ ET SURVEILLANCE PRIVÉES",355,212,{"$f":"IF(C3226=\"\",\"\",COUNTIF($B$2:B3226,\"=\"&B3226))","v":26},360,1.0265456017581401E-2,0.59718309859154928]
["63-33","63","J1301","PERSONNEL POLYVALENT DES SERVICES HOSPITALIERS",269,66,{"$f":"IF(C3233=\"\",\"\",COUNTIF($B$2:B3233,\"=\"&B3233))","v":33},270,7.7786131513504133E-3,0.24535315985130113]
["63-43","63","H2102","CONDUITE D'ÉQUIPEMENT DE PRODUCTION ALIMENTAIRE",234,77,{"$f":"IF(C3243=\"\",\"\",COUNTIF($B$2:B3243,\"=\"&B3243))","v":43},230,6.7665259383494301E-3,0.32905982905982906]
["63-58","63","K1201","ACTION SOCIALE",163,85,{"$f":"IF(C3258=\"\",\"\",COUNTIF($B$2:B3258,\"=\"&B3258))","v":58},160,4.7134347348331499E-3,0.5214723926380368]
["63-68","63","F1106","INGÉNIERIE ET ÉTUDES DU BTP",135,117,{"$f":"IF(C3268=\"\",\"\",COUNTIF($B$2:B3268,\"=\"&B3268))","v":68},140,3.9037649644323635E-3,0.8666666666666667]
["63-78","63","F1608","POSE DE REVÊTEMENTS RIGIDES",110,55,{"$f":"IF(C3278=\"\",\"\",COUNTIF($B$2:B3278,\"=\"&B3278))","v":78},110,3.1808455265745187E-3,0.5]
["63-81","63","D1101","BOUCHERIE",106,83,{"$f":"IF(C3281=\"\",\"\",COUNTIF($B$2:B3281,\"=\"&B3281))","v":81},110,3.0651784165172634E-3,0.78301886792452835]
["63-97","63","F1611","RÉALISATION ET RESTAURATION DE FAÇADES",89,41,{"$f":"IF(C3297=\"\",\"\",COUNTIF($B$2:B3297,\"=\"&B3297))","v":97},90,2.5735931987739286E-3,0.4606741573033708]
["63-101","63","I1606","RÉPARATION DE CARROSSERIE",79,50,{"$f":"IF(C3301=\"\",\"\",COUNTIF($B$2:B3301,\"=\"&B3301))","v":101},80,2.2844254236307907E-3,0.63291139240506333]
["63-112","63","G1604","FABRICATION DE CRÊPES OU PIZZAS",63,41,{"$f":"IF(C3312=\"\",\"\",COUNTIF($B$2:B3312,\"=\"&B3312))","v":112},60,1.8217569834017696E-3,0.65079365079365081]
["63-121","63","K1403","MANAGEMENT DE STRUCTURE DE SANTÉ, SOCIALE OU PÉNITENTIAIRE",58,41,{"$f":"IF(C3321=\"\",\"\",COUNTIF($B$2:B3321,\"=\"&B3321))","v":121},60,1.6771730958302007E-3,0.7068965517241379]
["63-133","63","H1404","INTERVENTION TECHNIQUE EN MÉTHODES ET INDUSTRIALISATION",50,36,{"$f":"IF(C3333=\"\",\"\",COUNTIF($B$2:B3333,\"=\"&B3333))","v":133},50,1.4458388757156901E-3,0.72]
["63-141","63","D1203","HYDROTHÉRAPIE",44,".",{"$f":"IF(C3341=\"\",\"\",COUNTIF($B$2:B3341,\"=\"&B3341))","v":141},40,1.2723382106298075E-3,0]
["63-153","63","K1902","COLLABORATION JURIDIQUE",38,22,{"$f":"IF(C3353=\"\",\"\",COUNTIF($B$2:B3353,\"=\"&B3353))","v":153},40,1.0988375455439246E-3,0.57894736842105265]
["63-156","63","H2205","PREMIÈRE TRANSFORMATION DE BOIS D'OEUVRE",38,22,{"$f":"IF(C3356=\"\",\"\",COUNTIF($B$2:B3356,\"=\"&B3356))","v":156},40,1.0988375455439246E-3,0.57894736842105265]
["63-173","63","C1401","GESTION EN BANQUE ET ASSURANCE",34,11,{"$f":"IF(C3373=\"\",\"\",COUNTIF($B$2:B3373,\"=\"&B3373))","v":173},30,9.831704354866693E-4,0.3235294117647059]
["63-176","63","N1301","CONCEPTION ET ORGANISATION DE LA CHAÎNE LOGISTIQUE",31,28,{"$f":"IF(C3376=\"\",\"\",COUNTIF($B$2:B3376,\"=\"&B3376))","v":176},30,8.9642010294372796E-4,0.90322580645161288]
["63-185","63","C1502","GESTION LOCATIVE IMMOBILIÈRE",29,22,{"$f":"IF(C3385=\"\",\"\",COUNTIF($B$2:B3385,\"=\"&B3385))","v":185},30,8.3858654791510033E-4,0.75862068965517238]
["63-196","63","I1101","DIRECTION ET INGÉNIERIE EN ENTRETIEN INFRASTRUCTURE ET BÂTI",26,19,{"$f":"IF(C3396=\"\",\"\",COUNTIF($B$2:B3396,\"=\"&B3396))","v":196},30,7.5183621537215888E-4,0.73076923076923073]
["63-204","63","N1102","DÉMÉNAGEMENT",24,13,{"$f":"IF(C3404=\"\",\"\",COUNTIF($B$2:B3404,\"=\"&B3404))","v":204},20,6.9400266034353136E-4,0.54166666666666663]
["63-216","63","A1303","INGÉNIERIE EN AGRICULTURE ET ENVIRONNEMENT NATUREL",22,13,{"$f":"IF(C3416=\"\",\"\",COUNTIF($B$2:B3416,\"=\"&B3416))","v":216},20,6.3616910531490373E-4,0.59090909090909094]
["63-229","63","A1101","CONDUITE D'ENGINS AGRICOLES ET FORESTIERS",20,5,{"$f":"IF(C3429=\"\",\"\",COUNTIF($B$2:B3429,\"=\"&B3429))","v":229},20,5.783355502862761E-4,0.25]
["63-236","63","M1206","MANAGEMENT DE GROUPE OU DE SERVICE COMPTABLE",18,17,{"$f":"IF(C3436=\"\",\"\",COUNTIF($B$2:B3436,\"=\"&B3436))","v":236},20,5.2050199525764847E-4,0.94444444444444442]
["63-248","63","K2101","CONSEIL EN FORMATION",16,14,{"$f":"IF(C3448=\"\",\"\",COUNTIF($B$2:B3448,\"=\"&B3448))","v":248},20,4.6266844022902089E-4,0.875]
["63-258","63","D1503","MANAGEMENT/GESTION DE RAYON PRODUITS NON ALIMENTAIRES",16,15,{"$f":"IF(C3458=\"\",\"\",COUNTIF($B$2:B3458,\"=\"&B3458))","v":258},20,{"$f":"E3458/SUMIF(B:B,B3458,E:E)","v":4.6266844022902089E-4},0.9375]
[{"$f":"B3459&\"-\"&G3459","v":"63-259"},"63","H1402","MANAGEMENT ET INGÉNIERIE MÉTHODES ET INDUSTRIALISATION",15,15,{"$f":"IF(C3459=\"\",\"\",COUNTIF($B$2:B3459,\"=\"&B3459))","v":259},20,4.3375166271470707E-4,1]
["63-273","63","K1305","INTERVENTION SOCIALE ET FAMILIALE",13,3,{"$f":"IF(C3473=\"\",\"\",COUNTIF($B$2:B3473,\"=\"&B3473))","v":273},10,3.7591810768607944E-4,0.23076923076923078]
["63-284","63","H3101","CONDUITE D'ÉQUIPEMENT DE FABRICATION DE PAPIER OU DE CARTON",12,9,{"$f":"IF(C3484=\"\",\"\",COUNTIF($B$2:B3484,\"=\"&B3484))","v":284},10,3.4700133017176568E-4,0.75]
["63-291","63","M1704","MANAGEMENT RELATION CLIENTÈLE",10,7,{"$f":"IF(C3491=\"\",\"\",COUNTIF($B$2:B3491,\"=\"&B3491))","v":291},10,2.8916777514313805E-4,0.7]
["63-302","63","K2306","SUPERVISION D'EXPLOITATION ÉCO-INDUSTRIELLE",9,7,{"$f":"IF(C3502=\"\",\"\",COUNTIF($B$2:B3502,\"=\"&B3502))","v":302},10,2.6025099762882423E-4,0.77777777777777779]
["63-311","63","M1606","SAISIE DE DONNÉES",8,2,{"$f":"IF(C3511=\"\",\"\",COUNTIF($B$2:B3511,\"=\"&B3511))","v":311},10,2.3133422011451044E-4,0.25]
["63-317","63","M1804","ÉTUDES ET DÉVELOPPEMENT DE RÉSEAUX DE TÉLÉCOMS",7,5,{"$f":"IF(C3517=\"\",\"\",COUNTIF($B$2:B3517,\"=\"&B3517))","v":317},10,2.0241744260019663E-4,0.7142857142857143]
["63-327","63","M1808","INFORMATION GÉOGRAPHIQUE",6,4,{"$f":"IF(C3527=\"\",\"\",COUNTIF($B$2:B3527,\"=\"&B3527))","v":327},10,1.7350066508588284E-4,0.66666666666666663]
["63-334","63","H1303","INTERVENTION TECHNIQUE EN HYGIÈNE SÉCURITÉ ENVIRONNEMENT -HSE- INDUSTRIEL",6,5,{"$f":"IF(C3534=\"\",\"\",COUNTIF($B$2:B3534,\"=\"&B3534))","v":334},10,1.7350066508588284E-4,0.83333333333333337]
["63-346","63","A1408","ÉLEVAGE D'ANIMAUX SAUVAGES OU DE COMPAGNIE",5,2,{"$f":"IF(C3546=\"\",\"\",COUNTIF($B$2:B3546,\"=\"&B3546))","v":346},10,1.4458388757156902E-4,0.4]
["63-354","63","J1104","SUIVI DE LA GROSSESSE ET DE L'ACCOUCHEMENT",4,".",{"$f":"IF(C3554=\"\",\"\",COUNTIF($B$2:B3554,\"=\"&B3554))","v":354},0,1.1566711005725522E-4,0]
["63-371","63","H2604","MONTAGE DE PRODUITS ÉLECTRIQUES ET ÉLECTRONIQUES",3,3,{"$f":"IF(C3571=\"\",\"\",COUNTIF($B$2:B3571,\"=\"&B3571))","v":371},0,8.675033254294142E-5,1]
["63-379","63","H3403","CONDUITE DE TRAITEMENT THERMIQUE",2,2,{"$f":"IF(C3579=\"\",\"\",COUNTIF($B$2:B3579,\"=\"&B3579))","v":379},0,5.7833555028627611E-5,1]
["63-386","63","H2203","CONDUITE D'INSTALLATION DE PRODUCTION DE PANNEAUX BOIS",2,2,{"$f":"IF(C3586=\"\",\"\",COUNTIF($B$2:B3586,\"=\"&B3586))","v":386},0,{"$f":"E3586/SUMIF(B:B,B3586,E:E)","v":5.7833555028627611E-5},1]
["63-390","63","F1601","APPLICATION ET DÉCORATION EN PLÂTRE, STUC ET STAFF",2,2,{"$f":"IF(C3590=\"\",\"\",COUNTIF($B$2:B3590,\"=\"&B3590))","v":390},0,5.7833555028627611E-5,1]
["63-402","63","L1510","FILMS D'ANIMATION ET EFFETS SPÉCIAUX",1,".",{"$f":"IF(C3602=\"\",\"\",COUNTIF($B$2:B3602,\"=\"&B3602))","v":402},0,2.8916777514313806E-5,0]
["63-415","63","H2415","CONTRÔLE EN INDUSTRIE DU CUIR ET DU TEXTILE",1,".",{"$f":"IF(C3615=\"\",\"\",COUNTIF($B$2:B3615,\"=\"&B3615))","v":415},0,2.8916777514313806E-5,0]
["63-422","63","E1305","PRÉPARATION ET CORRECTION EN ÉDITION ET PRESSE",1,".",{"$f":"IF(C3622=\"\",\"\",COUNTIF($B$2:B3622,\"=\"&B3622))","v":422},0,2.8916777514313806E-5,0]
["63-429","63","A1503","TOILETTAGE DES ANIMAUX",1,1,{"$f":"IF(C3629=\"\",\"\",COUNTIF($B$2:B3629,\"=\"&B3629))","v":429},0,2.8916777514313806E-5,1]
["69-8","69","K2204","NETTOYAGE DE LOCAUX",2579,1560,{"$f":"IF(C3644=\"\",\"\",COUNTIF($B$2:B3644,\"=\"&B3644))","v":8},2580,1.8609249063764998E-2,0.60488561457929435]
["69-18","69","M1805","ÉTUDES ET DÉVELOPPEMENT INFORMATIQUE",1642,1610,{"$f":"IF(C3654=\"\",\"\",COUNTIF($B$2:B3654,\"=\"&B3654))","v":18},1640,1.1848153145677444E-2,0.98051157125456756]
["69-23","69","F1703","MAÇONNERIE",1387,391,{"$f":"IF(C3659=\"\",\"\",COUNTIF($B$2:B3659,\"=\"&B3659))","v":23},1390,1.0008153722932166E-2,0.28190338860850755]
["69-38","69","J1304","AIDE EN PUÉRICULTURE",967,649,{"$f":"IF(C3674=\"\",\"\",COUNTIF($B$2:B3674,\"=\"&B3674))","v":38},970,6.9775664384105294E-3,0.67114788004136505]
["69-42","69","K2111","FORMATION PROFESSIONNELLE",901,591,{"$f":"IF(C3678=\"\",\"\",COUNTIF($B$2:B3678,\"=\"&B3678))","v":42},900,6.5013312936999862E-3,0.65593784683684797]
["69-49","69","M1501","ASSISTANAT EN RESSOURCES HUMAINES",796,513,{"$f":"IF(C3685=\"\",\"\",COUNTIF($B$2:B3685,\"=\"&B3685))","v":49},800,5.743684472569577E-3,0.64447236180904521]
["69-61","69","D1205","NETTOYAGE D'ARTICLES TEXTILES OU CUIRS",613,44,{"$f":"IF(C3697=\"\",\"\",COUNTIF($B$2:B3697,\"=\"&B3697))","v":61},610,4.4232142985994359E-3,7.177814029363784E-2]
["69-67","69","H2909","MONTAGE-ASSEMBLAGE MÉCANIQUE",553,329,{"$f":"IF(C3703=\"\",\"\",COUNTIF($B$2:B3703,\"=\"&B3703))","v":67},550,3.9902732579534875E-3,0.59493670886075944]
["69-81","69","K2104","ÉDUCATION ET SURVEILLANCE AU SEIN D'ÉTABLISSEMENTS D'ENSEIGNEMENT",468,311,{"$f":"IF(C3717=\"\",\"\",COUNTIF($B$2:B3717,\"=\"&B3717))","v":81},470,3.3769401170383948E-3,0.6645299145299145]
["69-86","69","D1104","PÂTISSERIE, CONFISERIE, CHOCOLATERIE ET GLACERIE",454,397,{"$f":"IF(C3722=\"\",\"\",COUNTIF($B$2:B3722,\"=\"&B3722))","v":86},450,3.2759205408876735E-3,0.87444933920704848]
["69-101","69","H2902","CHAUDRONNERIE - TÔLERIE",373,238,{"$f":"IF(C3737=\"\",\"\",COUNTIF($B$2:B3737,\"=\"&B3737))","v":101},370,2.6914501360156438E-3,0.63806970509383376]
["69-113","69","K2501","GARDIENNAGE DE LOCAUX",302,210,{"$f":"IF(C3749=\"\",\"\",COUNTIF($B$2:B3749,\"=\"&B3749))","v":113},300,2.1791365712512719E-3,0.69536423841059603]
["69-121","69","H1102","MANAGEMENT ET INGÉNIERIE D'AFFAIRES",285,264,{"$f":"IF(C3757=\"\",\"\",COUNTIF($B$2:B3757,\"=\"&B3757))","v":121},290,2.0564699430682533E-3,0.9263157894736842]
["69-124","69","H1503","INTERVENTION TECHNIQUE EN LABORATOIRE D'ANALYSE INDUSTRIELLE",280,127,{"$f":"IF(C3760=\"\",\"\",COUNTIF($B$2:B3760,\"=\"&B3760))","v":124},280,2.0203915230144242E-3,0.45357142857142857]
["69-140","69","E1103","COMMUNICATION",233,189,{"$f":"IF(C3776=\"\",\"\",COUNTIF($B$2:B3776,\"=\"&B3776))","v":140},230,1.6812543745084315E-3,0.81115879828326176]
["69-144","69","J1305","CONDUITE DE VÉHICULES SANITAIRES",226,203,{"$f":"IF(C3780=\"\",\"\",COUNTIF($B$2:B3780,\"=\"&B3780))","v":144},230,1.6307445864330709E-3,0.89823008849557517]
["69-156","69","M1101","ACHATS",199,133,{"$f":"IF(C3792=\"\",\"\",COUNTIF($B$2:B3792,\"=\"&B3792))","v":156},200,1.4359211181423942E-3,0.66834170854271358]
["69-169","69","C1502","GESTION LOCATIVE IMMOBILIÈRE",168,110,{"$f":"IF(C3805=\"\",\"\",COUNTIF($B$2:B3805,\"=\"&B3805))","v":169},170,1.2122349138086546E-3,0.65476190476190477]
["69-176","69","B1802","RÉALISATION D'ARTICLES EN CUIR ET MATÉRIAUX SOUPLES (HORS VÊTEMENT)",161,161,{"$f":"IF(C3812=\"\",\"\",COUNTIF($B$2:B3812,\"=\"&B3812))","v":176},160,1.161725125733294E-3,1]
["69-184","69","N1301","CONCEPTION ET ORGANISATION DE LA CHAÎNE LOGISTIQUE",149,120,{"$f":"IF(C3820=\"\",\"\",COUNTIF($B$2:B3820,\"=\"&B3820))","v":184},150,1.0751369176041042E-3,0.80536912751677847]
["69-196","69","C1302","GESTION BACK ET MIDDLE-OFFICE MARCHÉS FINANCIERS",135,66,{"$f":"IF(C3832=\"\",\"\",COUNTIF($B$2:B3832,\"=\"&B3832))","v":196},140,9.7411734145338308E-4,0.48888888888888887]
["69-199","69","N1202","GESTION DES OPÉRATIONS DE CIRCULATION INTERNATIONALE DES MARCHANDISES",130,105,{"$f":"IF(C3835=\"\",\"\",COUNTIF($B$2:B3835,\"=\"&B3835))","v":199},130,9.3803892139955407E-4,0.80769230769230771]
["69-213","69","H2603","CONDUITE D'INSTALLATION AUTOMATISÉE DE PRODUCTION ÉLECTRIQUE, ÉLECTRONIQUE ET MICROÉLECTRONIQUE",115,71,{"$f":"IF(C3849=\"\",\"\",COUNTIF($B$2:B3849,\"=\"&B3849))","v":213},120,8.2980366123806706E-4,0.61739130434782608]
["69-219","69","G1502","PERSONNEL POLYVALENT D'HÔTELLERIE",104,58,{"$f":"IF(C3855=\"\",\"\",COUNTIF($B$2:B3855,\"=\"&B3855))","v":219},100,7.504311371196433E-4,0.55769230769230771]
["69-228","69","F1204","QUALITÉ SÉCURITÉ ENVIRONNEMENT ET PROTECTION SANTÉ DU BTP",98,79,{"$f":"IF(C3864=\"\",\"\",COUNTIF($B$2:B3864,\"=\"&B3864))","v":228},100,7.0713703305504843E-4,0.80612244897959184]
["69-239","69","J1412","RÉÉDUCATION EN PSYCHOMOTRICITÉ",90,67,{"$f":"IF(C3875=\"\",\"\",COUNTIF($B$2:B3875,\"=\"&B3875))","v":239},90,6.4941156096892205E-4,0.74444444444444446]
["69-253","69","K1102","AIDE AUX BÉNÉFICIAIRES D'UNE MESURE DE PROTECTION JURIDIQUE",82,51,{"$f":"IF(C3889=\"\",\"\",COUNTIF($B$2:B3889,\"=\"&B3889))","v":253},80,5.9168608888279567E-4,0.62195121951219512]
["69-264","69","D1509","MANAGEMENT DE DÉPARTEMENT EN GRANDE DISTRIBUTION",69,63,{"$f":"IF(C3900=\"\",\"\",COUNTIF($B$2:B3900,\"=\"&B3900))","v":264},70,4.9788219674284028E-4,0.91304347826086951]
[{"$f":"B3907&\"-\"&G3907","v":"69-271"},"69","K2105","ENSEIGNEMENT ARTISTIQUE",65,56,{"$f":"IF(C3907=\"\",\"\",COUNTIF($B$2:B3907,\"=\"&B3907))","v":271},70,4.6901946069977704E-4,0.86153846153846159]
["69-282","69","N1104","MANOEUVRE ET CONDUITE D'ENGINS LOURDS DE MANUTENTION",60,30,{"$f":"IF(C3918=\"\",\"\",COUNTIF($B$2:B3918,\"=\"&B3918))","v":282},60,4.3294104064594803E-4,0.5]
["69-287","69","I1201","ENTRETIEN D'AFFICHAGE ET MOBILIER URBAIN",57,46,{"$f":"IF(C3923=\"\",\"\",COUNTIF($B$2:B3923,\"=\"&B3923))","v":287},60,4.1129398861365065E-4,0.80701754385964908]
["69-297","69","K2202","LAVAGE DE VITRES",47,41,{"$f":"IF(C3933=\"\",\"\",COUNTIF($B$2:B3933,\"=\"&B3933))","v":297},50,3.3913714850599265E-4,0.87234042553191493]
["69-307","69","C1401","GESTION EN BANQUE ET ASSURANCE",40,17,{"$f":"IF(C3943=\"\",\"\",COUNTIF($B$2:B3943,\"=\"&B3943))","v":307},40,2.8862736043063202E-4,0.42499999999999999]
["69-314","69","K1101","ACCOMPAGNEMENT ET MÉDIATION FAMILIALE",37,26,{"$f":"IF(C3950=\"\",\"\",COUNTIF($B$2:B3950,\"=\"&B3950))","v":314},40,2.6698030839833464E-4,0.70270270270270274]
["69-326","69","D1103","CHARCUTERIE - TRAITEUR",31,28,{"$f":"IF(C3962=\"\",\"\",COUNTIF($B$2:B3962,\"=\"&B3962))","v":326},30,2.2368620433373983E-4,0.90322580645161288]
["69-339","69","L1509","RÉGIE GÉNÉRALE",25,18,{"$f":"IF(C3975=\"\",\"\",COUNTIF($B$2:B3975,\"=\"&B3975))","v":339},30,1.8039210026914501E-4,0.72]
["69-341","69","K1404","MISE EN OEUVRE ET PILOTAGE DE LA POLITIQUE DES POUVOIRS PUBLICS",25,21,{"$f":"IF(C3977=\"\",\"\",COUNTIF($B$2:B3977,\"=\"&B3977))","v":341},30,1.8039210026914501E-4,0.84]
["69-350","69","H2802","CONDUITE D'INSTALLATION DE PRODUCTION DE MATÉRIAUX DE CONSTRUCTION",22,16,{"$f":"IF(C3986=\"\",\"\",COUNTIF($B$2:B3986,\"=\"&B3986))","v":350},20,1.5874504823684761E-4,0.72727272727272729]
["69-362","69","H2403","CONDUITE DE MACHINE DE FABRICATION DE PRODUITS TEXTILES",19,12,{"$f":"IF(C3998=\"\",\"\",COUNTIF($B$2:B3998,\"=\"&B3998))","v":362},20,1.370979962045502E-4,0.63157894736842102]
["69-370","69","A1407","ÉLEVAGE BOVIN OU ÉQUIN",16,14,{"$f":"IF(C4006=\"\",\"\",COUNTIF($B$2:B4006,\"=\"&B4006))","v":370},20,1.1545094417225281E-4,0.875]
["69-382","69","J1104","SUIVI DE LA GROSSESSE ET DE L'ACCOUCHEMENT",14,8,{"$f":"IF(C4018=\"\",\"\",COUNTIF($B$2:B4018,\"=\"&B4018))","v":382},10,1.0101957615072121E-4,0.5714285714285714]
["69-395","69","N4401","CIRCULATION DU RÉSEAU FERRÉ",12,12,{"$f":"IF(C4031=\"\",\"\",COUNTIF($B$2:B4031,\"=\"&B4031))","v":395},10,8.6588208129189601E-5,1]
["69-402","69","H1501","DIRECTION DE LABORATOIRE D'ANALYSE INDUSTRIELLE",11,5,{"$f":"IF(C4038=\"\",\"\",COUNTIF($B$2:B4038,\"=\"&B4038))","v":402},10,7.9372524118423803E-5,0.45454545454545453]
["69-414","69","M1404","MANAGEMENT ET GESTION D'ENQUÊTES",9,6,{"$f":"IF(C4050=\"\",\"\",COUNTIF($B$2:B4050,\"=\"&B4050))","v":414},10,6.4941156096892208E-5,0.66666666666666663]
["69-424","69","H2404","CONDUITE DE MACHINE DE PRODUCTION ET TRANSFORMATION DES FILS",8,3,{"$f":"IF(C4060=\"\",\"\",COUNTIF($B$2:B4060,\"=\"&B4060))","v":424},10,5.7725472086126403E-5,0.375]
["69-425","69","F1203","DIRECTION ET INGÉNIERIE D'EXPLOITATION DE GISEMENTS ET DE CARRIÈRES",7,3,{"$f":"IF(C4061=\"\",\"\",COUNTIF($B$2:B4061,\"=\"&B4061))","v":425},10,5.0509788075360605E-5,0.42857142857142855]
["69-439","69","A1403","AIDE D'ÉLEVAGE AGRICOLE ET AQUACOLE",6,2,{"$f":"IF(C4075=\"\",\"\",COUNTIF($B$2:B4075,\"=\"&B4075))","v":439},10,4.3294104064594801E-5,0.33333333333333331]
["69-445","69","N3102","ÉQUIPAGE DE LA NAVIGATION MARITIME",5,4,{"$f":"IF(C4081=\"\",\"\",COUNTIF($B$2:B4081,\"=\"&B4081))","v":445},10,3.6078420053829003E-5,0.8]
["69-457","69","N2202","CONTRÔLE DE LA NAVIGATION AÉRIENNE",4,4,{"$f":"IF(C4093=\"\",\"\",COUNTIF($B$2:B4093,\"=\"&B4093))","v":457},0,2.8862736043063202E-5,1]
["69-468","69","N3203","MANUTENTION PORTUAIRE",3,1,{"$f":"IF(C4104=\"\",\"\",COUNTIF($B$2:B4104,\"=\"&B4104))","v":468},0,2.16470520322974E-5,0.33333333333333331]
["69-477","69","E1204","PROJECTION CINÉMA",2,1,{"$f":"IF(C4113=\"\",\"\",COUNTIF($B$2:B4113,\"=\"&B4113))","v":477},0,1.4431368021531601E-5,0.5]
["69-487","69","K1402","CONSEIL EN SANTÉ PUBLIQUE",2,".",{"$f":"IF(C4123=\"\",\"\",COUNTIF($B$2:B4123,\"=\"&B4123))","v":487},0,1.4431368021531601E-5,0]
["69-497","69","B1801","RÉALISATION D'ARTICLES DE CHAPELLERIE",1,1,{"$f":"IF(C4133=\"\",\"\",COUNTIF($B$2:B4133,\"=\"&B4133))","v":497},0,7.2156840107658004E-6,1]
["69-502","69","N4402","EXPLOITATION ET MANOEUVRE DES REMONTÉES MÉCANIQUES",1,1,{"$f":"IF(C4138=\"\",\"\",COUNTIF($B$2:B4138,\"=\"&B4138))","v":502},0,7.2156840107658004E-6,1]
["73-10","73","I1203","MAINTENANCE DES BÂTIMENTS ET DES LOCAUX",574,185,{"$f":"IF(C4153=\"\",\"\",COUNTIF($B$2:B4153,\"=\"&B4153))","v":10},570,1.6648297465050178E-2,0.32229965156794427]
["73-13","73","N1103","MAGASINAGE ET PRÉPARATION DE COMMANDES",547,235,{"$f":"IF(C4156=\"\",\"\",COUNTIF($B$2:B4156,\"=\"&B4156))","v":13},550,1.5865189396136667E-2,0.42961608775137111]
["73-24","73","K1207","INTERVENTION SOCIOÉDUCATIVE",331,217,{"$f":"IF(C4167=\"\",\"\",COUNTIF($B$2:B4167,\"=\"&B4167))","v":24},330,9.6003248448285859E-3,0.65558912386706947]
["73-33","73","D1505","PERSONNEL DE CAISSE",300,96,{"$f":"IF(C4176=\"\",\"\",COUNTIF($B$2:B4176,\"=\"&B4176))","v":33},300,8.7012007657056682E-3,0.32]
["73-49","73","G1401","ASSISTANCE DE DIRECTION D'HÔTEL-RESTAURANT",177,83,{"$f":"IF(C4192=\"\",\"\",COUNTIF($B$2:B4192,\"=\"&B4192))","v":49},180,5.1337084517663438E-3,0.46892655367231639]
["73-58","73","G1101","ACCUEIL TOURISTIQUE",143,10,{"$f":"IF(C4201=\"\",\"\",COUNTIF($B$2:B4201,\"=\"&B4201))","v":58},140,4.1475723649863679E-3,6.9930069930069935E-2]
["73-65","73","D1202","COIFFURE",129,76,{"$f":"IF(C4208=\"\",\"\",COUNTIF($B$2:B4208,\"=\"&B4208))","v":65},130,3.7415163292534369E-3,0.58914728682170547]
["73-68","73","K1202","ÉDUCATION DE JEUNES ENFANTS",114,35,{"$f":"IF(C4211=\"\",\"\",COUNTIF($B$2:B4211,\"=\"&B4211))","v":68},110,3.3064562909681538E-3,0.30701754385964913]
["73-85","73","F1702","CONSTRUCTION DE ROUTES ET VOIES",94,27,{"$f":"IF(C4228=\"\",\"\",COUNTIF($B$2:B4228,\"=\"&B4228))","v":85},90,2.726376239921109E-3,0.28723404255319152]
["73-93","73","D1407","RELATION TECHNICO-COMMERCIALE",83,79,{"$f":"IF(C4236=\"\",\"\",COUNTIF($B$2:B4236,\"=\"&B4236))","v":93},80,2.4073322118452348E-3,0.95180722891566261]
["73-101","73","D1402","RELATION COMMERCIALE GRANDS COMPTES ET ENTREPRISES",77,69,{"$f":"IF(C4244=\"\",\"\",COUNTIF($B$2:B4244,\"=\"&B4244))","v":101},80,2.2333081965311215E-3,0.89610389610389607]
["73-108","73","M1603","DISTRIBUTION DE DOCUMENTS",68,3,{"$f":"IF(C4251=\"\",\"\",COUNTIF($B$2:B4251,\"=\"&B4251))","v":108},70,1.9722721735599513E-3,4.4117647058823532E-2]
["73-122","73","K1801","CONSEIL EN EMPLOI ET INSERTION SOCIOPROFESSIONNELLE",62,35,{"$f":"IF(C4265=\"\",\"\",COUNTIF($B$2:B4265,\"=\"&B4265))","v":122},60,1.798248158245838E-3,0.56451612903225812]
["73-128","73","F1608","POSE DE REVÊTEMENTS RIGIDES",55,28,{"$f":"IF(C4271=\"\",\"\",COUNTIF($B$2:B4271,\"=\"&B4271))","v":128},60,1.5952201403793722E-3,0.50909090909090904]
["73-137","73","C1502","GESTION LOCATIVE IMMOBILIÈRE",49,37,{"$f":"IF(C4280=\"\",\"\",COUNTIF($B$2:B4280,\"=\"&B4280))","v":137},50,1.4211961250652589E-3,0.75510204081632648]
["73-144","73","M1205","DIRECTION ADMINISTRATIVE ET FINANCIÈRE",42,38,{"$f":"IF(C4287=\"\",\"\",COUNTIF($B$2:B4287,\"=\"&B4287))","v":144},40,1.2181681071987934E-3,0.90476190476190477]
["73-160","73","K2109","ENSEIGNEMENT TECHNIQUE ET PROFESSIONNEL",37,25,{"$f":"IF(C4303=\"\",\"\",COUNTIF($B$2:B4303,\"=\"&B4303))","v":160},40,1.0731480944370323E-3,0.67567567567567566]
["73-166","73","H2504","ENCADREMENT D'ÉQUIPE EN INDUSTRIE DE TRANSFORMATION",32,29,{"$f":"IF(C4309=\"\",\"\",COUNTIF($B$2:B4309,\"=\"&B4309))","v":166},30,9.2812808167527122E-4,0.90625]
["73-176","73","K1903","DÉFENSE ET CONSEIL JURIDIQUE",28,23,{"$f":"IF(C4319=\"\",\"\",COUNTIF($B$2:B4319,\"=\"&B4319))","v":176},30,8.1211207146586234E-4,0.8214285714285714]
["73-181","73","K2102","COORDINATION PÉDAGOGIQUE",27,22,{"$f":"IF(C4324=\"\",\"\",COUNTIF($B$2:B4324,\"=\"&B4324))","v":181},30,7.8310806891351001E-4,0.81481481481481477]
["73-196","73","D1213","VENTE EN GROS DE MATÉRIEL ET ÉQUIPEMENT",23,11,{"$f":"IF(C4339=\"\",\"\",COUNTIF($B$2:B4339,\"=\"&B4339))","v":196},20,6.6709205870410114E-4,0.47826086956521741]
["73-206","73","A1412","FABRICATION ET AFFINAGE DE FROMAGES",22,15,{"$f":"IF(C4349=\"\",\"\",COUNTIF($B$2:B4349,\"=\"&B4349))","v":206},20,6.3808805615174892E-4,0.68181818181818177]
["73-216","73","D1503","MANAGEMENT/GESTION DE RAYON PRODUITS NON ALIMENTAIRES",19,18,{"$f":"IF(C4359=\"\",\"\",COUNTIF($B$2:B4359,\"=\"&B4359))","v":216},20,5.5107604849469226E-4,0.94736842105263153]
["73-219","73","B1802","RÉALISATION D'ARTICLES EN CUIR ET MATÉRIAUX SOUPLES (HORS VÊTEMENT)",19,18,{"$f":"IF(C4362=\"\",\"\",COUNTIF($B$2:B4362,\"=\"&B4362))","v":219},20,5.5107604849469226E-4,0.94736842105263153]
["73-235","73","H2603","CONDUITE D'INSTALLATION AUTOMATISÉE DE PRODUCTION ÉLECTRIQUE, ÉLECTRONIQUE ET MICROÉLECTRONIQUE",17,16,{"$f":"IF(C4378=\"\",\"\",COUNTIF($B$2:B4378,\"=\"&B4378))","v":235},20,4.9306804338998783E-4,0.94117647058823528]
["73-239","73","H1101","ASSISTANCE ET SUPPORT TECHNIQUE CLIENT",17,17,{"$f":"IF(C4382=\"\",\"\",COUNTIF($B$2:B4382,\"=\"&B4382))","v":239},20,4.9306804338998783E-4,1]
["73-250","73","N1104","MANOEUVRE ET CONDUITE D'ENGINS LOURDS DE MANUTENTION",14,13,{"$f":"IF(C4393=\"\",\"\",COUNTIF($B$2:B4393,\"=\"&B4393))","v":250},10,4.0605603573293117E-4,0.9285714285714286]
["73-259","73","J1410","PROTHÈSES DENTAIRES",13,13,{"$f":"IF(C4402=\"\",\"\",COUNTIF($B$2:B4402,\"=\"&B4402))","v":259},10,3.770520331805789E-4,1]
["73-271","73","J1306","IMAGERIE MÉDICALE",11,7,{"$f":"IF(C4414=\"\",\"\",COUNTIF($B$2:B4414,\"=\"&B4414))","v":271},10,3.1904402807587446E-4,0.63636363636363635]
["73-279","73","M1808","INFORMATION GÉOGRAPHIQUE",10,8,{"$f":"IF(C4422=\"\",\"\",COUNTIF($B$2:B4422,\"=\"&B4422))","v":279},10,2.9004002552352224E-4,0.8]
["73-291","73","H2601","BOBINAGE ÉLECTRIQUE",9,8,{"$f":"IF(C4434=\"\",\"\",COUNTIF($B$2:B4434,\"=\"&B4434))","v":291},10,2.6103602297117002E-4,0.88888888888888884]
["73-298","73","L1302","PRODUCTION ET ADMINISTRATION SPECTACLE, CINÉMA ET AUDIOVISUEL",8,5,{"$f":"IF(C4441=\"\",\"\",COUNTIF($B$2:B4441,\"=\"&B4441))","v":298},10,2.320320204188178E-4,0.625]
["73-311","73","C1401","GESTION EN BANQUE ET ASSURANCE",7,7,{"$f":"IF(C4454=\"\",\"\",COUNTIF($B$2:B4454,\"=\"&B4454))","v":311},10,2.0302801786646559E-4,1]
["73-314","73","K2502","MANAGEMENT DE SÉCURITÉ PRIVÉE",6,6,{"$f":"IF(C4457=\"\",\"\",COUNTIF($B$2:B4457,\"=\"&B4457))","v":314},10,1.7402401531411334E-4,1]
["73-323","73","H2202","CONDUITE D'ÉQUIPEMENT DE FABRICATION DE L'AMEUBLEMENT ET DU BOIS",6,1,{"$f":"IF(C4466=\"\",\"\",COUNTIF($B$2:B4466,\"=\"&B4466))","v":323},10,1.7402401531411334E-4,0.16666666666666666]
["73-334","73","N1201","AFFRÈTEMENT TRANSPORT",5,4,{"$f":"IF(C4477=\"\",\"\",COUNTIF($B$2:B4477,\"=\"&B4477))","v":334},10,1.4502001276176112E-4,0.8]
["73-342","73","F1402","EXTRACTION SOLIDE",5,1,{"$f":"IF(C4485=\"\",\"\",COUNTIF($B$2:B4485,\"=\"&B4485))","v":342},10,1.4502001276176112E-4,0.2]
["73-354","73","D1210","VENTE EN ANIMALERIE",4,2,{"$f":"IF(C4497=\"\",\"\",COUNTIF($B$2:B4497,\"=\"&B4497))","v":354},0,1.160160102094089E-4,0.5]
["73-366","73","H2505","ENCADREMENT D'ÉQUIPE OU D'ATELIER EN MATÉRIAUX SOUPLES",3,1,{"$f":"IF(C4509=\"\",\"\",COUNTIF($B$2:B4509,\"=\"&B4509))","v":366},0,8.701200765705667E-5,0.33333333333333331]
["73-371","73","K1103","DÉVELOPPEMENT PERSONNEL ET BIEN-ÊTRE DE LA PERSONNE",3,2,{"$f":"IF(C4514=\"\",\"\",COUNTIF($B$2:B4514,\"=\"&B4514))","v":371},0,8.701200765705667E-5,0.66666666666666663]
["73-386","73","D1501","ANIMATION DE VENTE",2,2,{"$f":"IF(C4529=\"\",\"\",COUNTIF($B$2:B4529,\"=\"&B4529))","v":386},0,5.8008005104704451E-5,1]
["73-396","73","N2102","PILOTAGE ET NAVIGATION TECHNIQUE AÉRIENNE",1,1,{"$f":"IF(C4539=\"\",\"\",COUNTIF($B$2:B4539,\"=\"&B4539))","v":396},0,2.9004002552352226E-5,1]
["73-406","73","K2402","RECHERCHE EN SCIENCES DE L'UNIVERS, DE LA MATIÈRE ET DU VIVANT",1,1,{"$f":"IF(C4549=\"\",\"\",COUNTIF($B$2:B4549,\"=\"&B4549))","v":406},0,2.9004002552352226E-5,1]
["73-409","73","J1407","ORTHOPTIQUE",1,1,{"$f":"IF(C4552=\"\",\"\",COUNTIF($B$2:B4552,\"=\"&B4552))","v":409},0,2.9004002552352226E-5,1]
["73-425","73","C1203","RELATION CLIENTS BANQUE/FINANCE",1,1,{"$f":"IF(C4568=\"\",\"\",COUNTIF($B$2:B4568,\"=\"&B4568))","v":425},0,2.9004002552352226E-5,1]
["73-429","73","D1201","ACHAT VENTE D'OBJETS D'ART, ANCIENS OU D'OCCASION",1,1,{"$f":"IF(C4572=\"\",\"\",COUNTIF($B$2:B4572,\"=\"&B4572))","v":429},0,2.9004002552352226E-5,1]
["74-2","74","G1803","SERVICE EN RESTAURATION",1889,552,{"$f":"IF(C4583=\"\",\"\",COUNTIF($B$2:B4583,\"=\"&B4583))","v":2},1890,3.7782266936016162E-2,0.29221810481736371]
["74-11","74","G1203","ANIMATION DE LOISIRS AUPRÈS D'ENFANTS OU D'ADOLESCENTS",774,386,{"$f":"IF(C4592=\"\",\"\",COUNTIF($B$2:B4592,\"=\"&B4592))","v":11},770,1.5480928855731343E-2,0.49870801033591733]
["74-17","74","K1303","ASSISTANCE AUPRÈS D'ENFANTS",672,531,{"$f":"IF(C4598=\"\",\"\",COUNTIF($B$2:B4598,\"=\"&B4598))","v":17},670,1.3440806448386904E-2,0.7901785714285714]
["74-27","74","N4105","CONDUITE ET LIVRAISON PAR TOURNÉES SUR COURTE DISTANCE",495,297,{"$f":"IF(C4608=\"\",\"\",COUNTIF($B$2:B4608,\"=\"&B4608))","v":27},500,9.900594035642139E-3,0.6]
["74-43","74","M1603","DISTRIBUTION DE DOCUMENTS",344,43,{"$f":"IF(C4624=\"\",\"\",COUNTIF($B$2:B4624,\"=\"&B4624))","v":43},340,6.880412824769486E-3,0.125]
["74-46","74","J1301","PERSONNEL POLYVALENT DES SERVICES HOSPITALIERS",320,77,{"$f":"IF(C4627=\"\",\"\",COUNTIF($B$2:B4627,\"=\"&B4627))","v":46},320,6.4003840230413825E-3,0.24062500000000001]
["74-59","74","D1202","COIFFURE",243,191,{"$f":"IF(C4640=\"\",\"\",COUNTIF($B$2:B4640,\"=\"&B4640))","v":59},240,4.8602916174970501E-3,0.78600823045267487]
["74-71","74","F1202","DIRECTION DE CHANTIER DU BTP",192,173,{"$f":"IF(C4652=\"\",\"\",COUNTIF($B$2:B4652,\"=\"&B4652))","v":71},190,3.8402304138248295E-3,0.90104166666666663]
["74-79","74","M1501","ASSISTANAT EN RESSOURCES HUMAINES",166,110,{"$f":"IF(C4660=\"\",\"\",COUNTIF($B$2:B4660,\"=\"&B4660))","v":79},170,3.3201992119527173E-3,0.66265060240963858]
["74-86","74","M1605","ASSISTANAT TECHNIQUE ET ADMINISTRATIF",150,93,{"$f":"IF(C4667=\"\",\"\",COUNTIF($B$2:B4667,\"=\"&B4667))","v":86},150,3.000180010800648E-3,0.62]
["74-100","74","D1107","VENTE EN GROS DE PRODUITS FRAIS",124,112,{"$f":"IF(C4681=\"\",\"\",COUNTIF($B$2:B4681,\"=\"&B4681))","v":100},120,2.4801488089285359E-3,0.90322580645161288]
["74-102","74","H1206","MANAGEMENT ET INGÉNIERIE ÉTUDES, RECHERCHE ET DÉVELOPPEMENT INDUSTRIEL",123,118,{"$f":"IF(C4683=\"\",\"\",COUNTIF($B$2:B4683,\"=\"&B4683))","v":102},120,2.4601476088565314E-3,0.95934959349593496]
["74-115","74","K2106","ENSEIGNEMENT DES ÉCOLES",94,32,{"$f":"IF(C4696=\"\",\"\",COUNTIF($B$2:B4696,\"=\"&B4696))","v":115},90,1.8801128067684062E-3,0.34042553191489361]
["74-122","74","H2907","CONDUITE D'INSTALLATION DE PRODUCTION DES MÉTAUX",87,39,{"$f":"IF(C4703=\"\",\"\",COUNTIF($B$2:B4703,\"=\"&B4703))","v":122},90,1.7401044062643758E-3,0.44827586206896552]
["74-129","74","I1302","INSTALLATION ET MAINTENANCE D'AUTOMATISMES",78,68,{"$f":"IF(C4710=\"\",\"\",COUNTIF($B$2:B4710,\"=\"&B4710))","v":129},80,1.5600936056163371E-3,0.87179487179487181]
["74-144","74","K1802","DÉVELOPPEMENT LOCAL",66,54,{"$f":"IF(C4725=\"\",\"\",COUNTIF($B$2:B4725,\"=\"&B4725))","v":144},70,1.320079204752285E-3,0.81818181818181823]
["74-154","74","M1707","STRATÉGIE COMMERCIALE",60,54,{"$f":"IF(C4735=\"\",\"\",COUNTIF($B$2:B4735,\"=\"&B4735))","v":154},60,1.2000720043202592E-3,0.9]
["74-159","74","I1401","MAINTENANCE INFORMATIQUE ET BUREAUTIQUE",59,45,{"$f":"IF(C4740=\"\",\"\",COUNTIF($B$2:B4740,\"=\"&B4740))","v":159},60,1.1800708042482549E-3,0.76271186440677963]
["74-174","74","D1204","LOCATION DE VÉHICULES OU DE MATÉRIEL DE LOISIRS",47,11,{"$f":"IF(C4755=\"\",\"\",COUNTIF($B$2:B4755,\"=\"&B4755))","v":174},50,9.4005640338420309E-4,0.23404255319148937]
["74-177","74","K2109","ENSEIGNEMENT TECHNIQUE ET PROFESSIONNEL",46,30,{"$f":"IF(C4758=\"\",\"\",COUNTIF($B$2:B4758,\"=\"&B4758))","v":177},50,9.200552033121987E-4,0.65217391304347827]
["74-188","74","M1801","ADMINISTRATION DE SYSTÈMES D'INFORMATION",42,36,{"$f":"IF(C4769=\"\",\"\",COUNTIF($B$2:B4769,\"=\"&B4769))","v":188},40,8.4005040302418147E-4,0.8571428571428571]
["74-197","74","D1508","ENCADREMENT DU PERSONNEL DE CAISSES",40,33,{"$f":"IF(C4778=\"\",\"\",COUNTIF($B$2:B4778,\"=\"&B4778))","v":197},40,8.0004800288017281E-4,0.82499999999999996]
["74-213","74","M1204","CONTRÔLE DE GESTION",33,26,{"$f":"IF(C4794=\"\",\"\",COUNTIF($B$2:B4794,\"=\"&B4794))","v":213},30,6.6003960237614252E-4,0.78787878787878785]
["74-217","74","J1102","MÉDECINE GÉNÉRALISTE ET SPÉCIALISÉE",32,26,{"$f":"IF(C4798=\"\",\"\",COUNTIF($B$2:B4798,\"=\"&B4798))","v":217},30,6.4003840230413825E-4,0.8125]
["74-229","74","H1401","MANAGEMENT ET INGÉNIERIE GESTION INDUSTRIELLE ET LOGISTIQUE",28,23,{"$f":"IF(C4810=\"\",\"\",COUNTIF($B$2:B4810,\"=\"&B4810))","v":229},30,5.6003360201612102E-4,0.8214285714285714]
["74-232","74","K1601","GESTION DE L'INFORMATION ET DE LA DOCUMENTATION",27,13,{"$f":"IF(C4813=\"\",\"\",COUNTIF($B$2:B4813,\"=\"&B4813))","v":232},30,5.4003240194411663E-4,0.48148148148148145]
["74-249","74","H3401","CONDUITE DE TRAITEMENT D'ABRASION DE SURFACE",23,13,{"$f":"IF(C4830=\"\",\"\",COUNTIF($B$2:B4830,\"=\"&B4830))","v":249},20,4.6002760165609935E-4,0.56521739130434778]
["74-251","74","H2503","PILOTAGE D'UNITÉ ÉLÉMENTAIRE DE PRODUCTION MÉCANIQUE OU DE TRAVAIL DES MÉTAUX",23,21,{"$f":"IF(C4832=\"\",\"\",COUNTIF($B$2:B4832,\"=\"&B4832))","v":251},20,4.6002760165609935E-4,0.91304347826086951]
["74-269","74","D1504","DIRECTION DE MAGASIN DE GRANDE DISTRIBUTION",19,19,{"$f":"IF(C4850=\"\",\"\",COUNTIF($B$2:B4850,\"=\"&B4850))","v":269},20,3.8002280136808207E-4,1]
["74-276","74","E1104","CONCEPTION DE CONTENUS MULTIMÉDIAS",18,16,{"$f":"IF(C4857=\"\",\"\",COUNTIF($B$2:B4857,\"=\"&B4857))","v":276},20,3.6002160129607779E-4,0.88888888888888884]
["74-280","74","F1108","MÉTRÉ DE LA CONSTRUCTION",17,16,{"$f":"IF(C4861=\"\",\"\",COUNTIF($B$2:B4861,\"=\"&B4861))","v":280},20,3.4002040122407346E-4,0.94117647058823528]
["74-292","74","N1302","DIRECTION DE SITE LOGISTIQUE",14,11,{"$f":"IF(C4873=\"\",\"\",COUNTIF($B$2:B4873,\"=\"&B4873))","v":292},10,2.8001680100806051E-4,0.7857142857142857]
["74-305","74","D1509","MANAGEMENT DE DÉPARTEMENT EN GRANDE DISTRIBUTION",13,11,{"$f":"IF(C4886=\"\",\"\",COUNTIF($B$2:B4886,\"=\"&B4886))","v":305},10,2.6001560093605618E-4,0.84615384615384615]
["74-312","74","H2203","CONDUITE D'INSTALLATION DE PRODUCTION DE PANNEAUX BOIS",11,10,{"$f":"IF(C4893=\"\",\"\",COUNTIF($B$2:B4893,\"=\"&B4893))","v":312},10,2.2001320079204754E-4,0.90909090909090906]
["74-320","74","K2502","MANAGEMENT DE SÉCURITÉ PRIVÉE",10,8,{"$f":"IF(C4901=\"\",\"\",COUNTIF($B$2:B4901,\"=\"&B4901))","v":320},10,2.000120007200432E-4,0.8]
["74-332","74","A1408","ÉLEVAGE D'ANIMAUX SAUVAGES OU DE COMPAGNIE",9,9,{"$f":"IF(C4913=\"\",\"\",COUNTIF($B$2:B4913,\"=\"&B4913))","v":332},10,1.800108006480389E-4,1]
["74-344","74","M1804","ÉTUDES ET DÉVELOPPEMENT DE RÉSEAUX DE TÉLÉCOMS",7,4,{"$f":"IF(C4925=\"\",\"\",COUNTIF($B$2:B4925,\"=\"&B4925))","v":344},10,1.4000840050403025E-4,0.5714285714285714]
["74-349","74","H2904","CONDUITE D'ÉQUIPEMENT DE DÉFORMATION DES MÉTAUX",7,3,{"$f":"IF(C4930=\"\",\"\",COUNTIF($B$2:B4930,\"=\"&B4930))","v":349},10,{"$f":"E4930/SUMIF(B:B,B4930,E:E)","v":1.4000840050403025E-4},0.42857142857142855]
["74-355","74","J1407","ORTHOPTIQUE",6,5,{"$f":"IF(C4936=\"\",\"\",COUNTIF($B$2:B4936,\"=\"&B4936))","v":355},10,1.2000720043202592E-4,0.83333333333333337]
["74-364","74","H3403","CONDUITE DE TRAITEMENT THERMIQUE",5,4,{"$f":"IF(C4945=\"\",\"\",COUNTIF($B$2:B4945,\"=\"&B4945))","v":364},10,1.000060003600216E-4,0.8]
["74-380","74","A1302","CONTRÔLE ET DIAGNOSTIC TECHNIQUE EN AGRICULTURE",4,4,{"$f":"IF(C4961=\"\",\"\",COUNTIF($B$2:B4961,\"=\"&B4961))","v":380},0,8.0004800288017281E-5,1]
["74-387","74","I1201","ENTRETIEN D'AFFICHAGE ET MOBILIER URBAIN",3,3,{"$f":"IF(C4968=\"\",\"\",COUNTIF($B$2:B4968,\"=\"&B4968))","v":387},0,6.000360021601296E-5,1]
["74-393","74","K1402","CONSEIL EN SANTÉ PUBLIQUE",3,2,{"$f":"IF(C4974=\"\",\"\",COUNTIF($B$2:B4974,\"=\"&B4974))","v":393},0,6.000360021601296E-5,0.66666666666666663]
["74-407","74","L1101","ANIMATION MUSICALE ET SCÉNIQUE",2,1,{"$f":"IF(C4988=\"\",\"\",COUNTIF($B$2:B4988,\"=\"&B4988))","v":407},0,4.000240014400864E-5,0.5]
["74-418","74","E1203","PRODUCTION EN LABORATOIRE PHOTOGRAPHIQUE",2,".",{"$f":"IF(C4999=\"\",\"\",COUNTIF($B$2:B4999,\"=\"&B4999))","v":418},0,4.000240014400864E-5,0]
["74-423","74","A1409","ÉLEVAGE DE LAPINS ET VOLAILLES",2,".",{"$f":"IF(C5004=\"\",\"\",COUNTIF($B$2:B5004,\"=\"&B5004))","v":423},0,4.000240014400864E-5,0]
["74-430","74","B1302","DÉCORATION D'OBJETS D'ART ET ARTISANAUX",2,".",{"$f":"IF(C5011=\"\",\"\",COUNTIF($B$2:B5011,\"=\"&B5011))","v":430},0,4.000240014400864E-5,0]
["74-447","74","J1103","MÉDECINE DENTAIRE",1,1,{"$f":"IF(C5028=\"\",\"\",COUNTIF($B$2:B5028,\"=\"&B5028))","v":447},0,2.000120007200432E-5,1]
["74-455","74","H2410","MISE EN FORME, REPASSAGE ET FINITIONS EN INDUSTRIE TEXTILE",1,".",{"$f":"IF(C5036=\"\",\"\",COUNTIF($B$2:B5036,\"=\"&B5036))","v":455},0,2.000120007200432E-5,0]
["74-462","74","C1301","FRONT OFFICE MARCHÉS FINANCIERS",1,1,{"$f":"IF(C5043=\"\",\"\",COUNTIF($B$2:B5043,\"=\"&B5043))","v":462},0,2.000120007200432E-5,1]
["84-10","84","D1401","ASSISTANAT COMMERCIAL",7597,5420,{"$f":"IF(C5056=\"\",\"\",COUNTIF($B$2:B5056,\"=\"&B5056))","v":10},7600,1.6115073119201056E-2,0.71343951559826246]
["84-12","84","D1507","MISE EN RAYON LIBRE-SERVICE",6874,4272,{"$f":"IF(C5058=\"\",\"\",COUNTIF($B$2:B5058,\"=\"&B5058))","v":12},6870,{"$f":"E5058/SUMIF(B:B,B5058,E:E)","v":1.4581415377305259E-2},0.62147221414023857]
["84-30","84","D1212","VENTE EN DÉCORATION ET ÉQUIPEMENT DU FOYER",3867,2686,{"$f":"IF(C5076=\"\",\"\",COUNTIF($B$2:B5076,\"=\"&B5076))","v":30},3870,8.2028416153679725E-3,0.69459529350918026]
["84-33","84","F1602","ÉLECTRICITÉ BÂTIMENT",3616,1868,{"$f":"IF(C5079=\"\",\"\",COUNTIF($B$2:B5079,\"=\"&B5079))","v":33},3620,7.6704099511690164E-3,0.5165929203539823]
["84-41","84","H2102","CONDUITE D'ÉQUIPEMENT DE PRODUCTION ALIMENTAIRE",3159,1448,{"$f":"IF(C5087=\"\",\"\",COUNTIF($B$2:B5087,\"=\"&B5087))","v":41},3160,6.7010024988227107E-3,0.45837290281734727]
["84-53","84","H2206","RÉALISATION DE MENUISERIE BOIS ET TONNELLERIE",2270,1133,{"$f":"IF(C5099=\"\",\"\",COUNTIF($B$2:B5099,\"=\"&B5099))","v":53},2270,4.8152186363809918E-3,0.49911894273127755]
["84-66","84","D1208","SOINS ESTHÉTIQUES ET CORPORELS",1997,1140,{"$f":"IF(C5112=\"\",\"\",COUNTIF($B$2:B5112,\"=\"&B5112))","v":66},2000,4.2361196550012511E-3,0.57085628442663994]
["84-73","84","M1602","OPÉRATIONS ADMINISTRATIVES",1733,589,{"$f":"IF(C5119=\"\",\"\",COUNTIF($B$2:B5119,\"=\"&B5119))","v":73},1730,3.6761118488318322E-3,0.33987305251009808]
["84-85","84","H3301","CONDUITE D'ÉQUIPEMENT DE CONDITIONNEMENT",1505,825,{"$f":"IF(C5131=\"\",\"\",COUNTIF($B$2:B5131,\"=\"&B5131))","v":85},1510,3.1924687435036974E-3,0.54817275747508309]
["84-95","84","F1610","POSE ET RESTAURATION DE COUVERTURES",1305,695,{"$f":"IF(C5141=\"\",\"\",COUNTIF($B$2:B5141,\"=\"&B5141))","v":95},1310,2.7682204054965613E-3,0.53256704980842917]
["84-105","84","G1502","PERSONNEL POLYVALENT D'HÔTELLERIE",1182,238,{"$f":"IF(C5151=\"\",\"\",COUNTIF($B$2:B5151,\"=\"&B5151))","v":105},1180,2.5073076776221731E-3,0.20135363790186125]
["84-114","84","F1503","RÉALISATION - INSTALLATION D'OSSATURES BOIS",1049,567,{"$f":"IF(C5160=\"\",\"\",COUNTIF($B$2:B5160,\"=\"&B5160))","v":114},1050,2.2251825328474277E-3,0.54051477597712105]
["84-116","84","K1403","MANAGEMENT DE STRUCTURE DE SANTÉ, SOCIALE OU PÉNITENTIAIRE",1005,795,{"$f":"IF(C5162=\"\",\"\",COUNTIF($B$2:B5162,\"=\"&B5162))","v":116},1010,2.1318478984858578E-3,0.79104477611940294]
["84-128","84","K1203","ENCADREMENT TECHNIQUE EN INSERTION PROFESSIONNELLE",865,554,{"$f":"IF(C5174=\"\",\"\",COUNTIF($B$2:B5174,\"=\"&B5174))","v":128},870,1.8348740618808626E-3,0.64046242774566475]
["84-139","84","F1502","MONTAGE DE STRUCTURES MÉTALLIQUES",772,302,{"$f":"IF(C5185=\"\",\"\",COUNTIF($B$2:B5185,\"=\"&B5185))","v":139},{"$f":"ROUND(E5185,-1)","v":770},1.6375985847075444E-3,{"$f":"IF(OR(F5185=\"\",F5185=\".\"),0,F5185/E5185)","v":0.39119170984455959}]
["84-148","84","D1107","VENTE EN GROS DE PRODUITS FRAIS",720,695,{"$f":"IF(C5194=\"\",\"\",COUNTIF($B$2:B5194,\"=\"&B5194))","v":148},720,1.5272940168256891E-3,0.96527777777777779]
["84-158","84","I1402","RÉPARATION DE BIENS ÉLECTRODOMESTIQUES ET MULTIMÉDIA",685,608,{"$f":"IF(C5204=\"\",\"\",COUNTIF($B$2:B5204,\"=\"&B5204))","v":158},690,1.4530505576744403E-3,0.88759124087591246]
["84-168","84","M1101","ACHATS",619,400,{"$f":"IF(C5214=\"\",\"\",COUNTIF($B$2:B5214,\"=\"&B5214))","v":168},620,1.3130486061320855E-3,0.64620355411954766]
["84-180","84","I1305","INSTALLATION ET MAINTENANCE ÉLECTRONIQUE",538,402,{"$f":"IF(C5226=\"\",\"\",COUNTIF($B$2:B5226,\"=\"&B5226))","v":180},540,1.1412280292391955E-3,0.74721189591078063]
["84-183","84","K2109","ENSEIGNEMENT TECHNIQUE ET PROFESSIONNEL",528,324,{"$f":"IF(C5229=\"\",\"\",COUNTIF($B$2:B5229,\"=\"&B5229))","v":183},530,1.1200156123388387E-3,0.61363636363636365]
["84-191","84","F1107","MESURES TOPOGRAPHIQUES",478,329,{"$f":"IF(C5237=\"\",\"\",COUNTIF($B$2:B5237,\"=\"&B5237))","v":191},480,1.0139535278370546E-3,0.68828451882845187]
["84-202","84","H1403","INTERVENTION TECHNIQUE EN GESTION INDUSTRIELLE ET LOGISTIQUE",439,293,{"$f":"IF(C5248=\"\",\"\",COUNTIF($B$2:B5248,\"=\"&B5248))","v":202},440,9.3122510192566316E-4,0.66742596810933941]
["84-211","84","M1802","EXPERTISE ET SUPPORT EN SYSTÈMES D'INFORMATION",418,400,{"$f":"IF(C5257=\"\",\"\",COUNTIF($B$2:B5257,\"=\"&B5257))","v":211},420,8.8667902643491396E-4,0.9569377990430622]
["84-223","84","K1601","GESTION DE L'INFORMATION ET DE LA DOCUMENTATION",361,218,{"$f":"IF(C5269=\"\",\"\",COUNTIF($B$2:B5269,\"=\"&B5269))","v":223},360,7.6576825010288025E-4,0.60387811634349031]
["84-231","84","A1301","CONSEIL ET ASSISTANCE TECHNIQUE EN AGRICULTURE ET ENVIRONNEMENT NATUREL",340,217,{"$f":"IF(C5277=\"\",\"\",COUNTIF($B$2:B5277,\"=\"&B5277))","v":231},340,7.2122217461213095E-4,0.63823529411764701]
["84-243","84","M1606","SAISIE DE DONNÉES",300,70,{"$f":"IF(C5289=\"\",\"\",COUNTIF($B$2:B5289,\"=\"&B5289))","v":243},300,6.3637250701070378E-4,0.23333333333333334]
["84-256","84","N4104","COURSES ET LIVRAISONS EXPRESS",256,120,{"$f":"IF(C5302=\"\",\"\",COUNTIF($B$2:B5302,\"=\"&B5302))","v":256},260,5.4303787264913385E-4,0.46875]
["84-263","84","A1407","ÉLEVAGE BOVIN OU ÉQUIN",240,174,{"$f":"IF(C5309=\"\",\"\",COUNTIF($B$2:B5309,\"=\"&B5309))","v":263},240,5.0909800560856302E-4,0.72499999999999998]
["84-271","84","M1804","ÉTUDES ET DÉVELOPPEMENT DE RÉSEAUX DE TÉLÉCOMS",223,188,{"$f":"IF(C5317=\"\",\"\",COUNTIF($B$2:B5317,\"=\"&B5317))","v":271},220,4.7303689687795648E-4,0.84304932735426008]
["84-279","84","K1404","MISE EN OEUVRE ET PILOTAGE DE LA POLITIQUE DES POUVOIRS PUBLICS",218,167,{"$f":"IF(C5325=\"\",\"\",COUNTIF($B$2:B5325,\"=\"&B5325))","v":279},220,4.6243068842777811E-4,0.76605504587155959]
["84-286","84","I1501","INTERVENTION EN GRANDE HAUTEUR",205,69,{"$f":"IF(C5332=\"\",\"\",COUNTIF($B$2:B5332,\"=\"&B5332))","v":286},210,4.3485454645731428E-4,0.33658536585365856]
["84-300","84","A1302","CONTRÔLE ET DIAGNOSTIC TECHNIQUE EN AGRICULTURE",176,97,{"$f":"IF(C5346=\"\",\"\",COUNTIF($B$2:B5346,\"=\"&B5346))","v":300},180,3.7333853744627956E-4,0.55113636363636365]
["84-311","84","N1102","DÉMÉNAGEMENT",155,86,{"$f":"IF(C5357=\"\",\"\",COUNTIF($B$2:B5357,\"=\"&B5357))","v":311},160,3.2879246195553031E-4,0.55483870967741933]
["84-315","84","M1706","PROMOTION DES VENTES",152,53,{"$f":"IF(C5361=\"\",\"\",COUNTIF($B$2:B5361,\"=\"&B5361))","v":315},150,3.2242873688542327E-4,0.34868421052631576]
["84-331","84","E1104","CONCEPTION DE CONTENUS MULTIMÉDIAS",128,108,{"$f":"IF(C5377=\"\",\"\",COUNTIF($B$2:B5377,\"=\"&B5377))","v":331},{"$f":"ROUND(E5377,-1)","v":130},2.7151893632456692E-4,{"$f":"IF(OR(F5377=\"\",F5377=\".\"),0,F5377/E5377)","v":0.84375}]
["84-338","84","A1413","FERMENTATION DE BOISSONS ALCOOLISÉES",116,79,{"$f":"IF(C5384=\"\",\"\",COUNTIF($B$2:B5384,\"=\"&B5384))","v":338},120,2.460640360441388E-4,0.68103448275862066]
["84-344","84","A1408","ÉLEVAGE D'ANIMAUX SAUVAGES OU DE COMPAGNIE",109,49,{"$f":"IF(C5390=\"\",\"\",COUNTIF($B$2:B5390,\"=\"&B5390))","v":344},110,2.3121534421388906E-4,0.44954128440366975]
["84-354","84","H2204","ENCADREMENT DES INDUSTRIES DE L'AMEUBLEMENT ET DU BOIS",89,72,{"$f":"IF(C5400=\"\",\"\",COUNTIF($B$2:B5400,\"=\"&B5400))","v":354},90,1.8879051041317544E-4,0.8089887640449438]
["84-369","84","H3203","FABRICATION DE PIÈCES EN MATÉRIAUX COMPOSITES",71,37,{"$f":"IF(C5415=\"\",\"\",COUNTIF($B$2:B5415,\"=\"&B5415))","v":369},70,1.5060815999253324E-4,0.52112676056338025]
["84-374","84","J1104","SUIVI DE LA GROSSESSE ET DE L'ACCOUCHEMENT",65,27,{"$f":"IF(C5420=\"\",\"\",COUNTIF($B$2:B5420,\"=\"&B5420))","v":374},70,1.3788070985231915E-4,0.41538461538461541]
["84-381","84","H2415","CONTRÔLE EN INDUSTRIE DU CUIR ET DU TEXTILE",59,33,{"$f":"IF(C5427=\"\",\"\",COUNTIF($B$2:B5427,\"=\"&B5427))","v":381},60,1.2515325971210507E-4,0.55932203389830504]
["84-388","84","H2406","CONDUITE DE MACHINE DE TRAITEMENT TEXTILE",55,44,{"$f":"IF(C5434=\"\",\"\",COUNTIF($B$2:B5434,\"=\"&B5434))","v":388},60,1.1666829295196236E-4,0.8]
["84-406","84","J1103","MÉDECINE DENTAIRE",42,42,{"$f":"IF(C5452=\"\",\"\",COUNTIF($B$2:B5452,\"=\"&B5452))","v":406},40,8.9092150981498523E-5,1]
["84-413","84","A1411","ÉLEVAGE PORCIN",37,34,{"$f":"IF(C5459=\"\",\"\",COUNTIF($B$2:B5459,\"=\"&B5459))","v":413},40,7.8485942531320127E-5,0.91891891891891897]
["84-417","84","L1504","ÉCLAIRAGE SPECTACLE",35,30,{"$f":"IF(C5463=\"\",\"\",COUNTIF($B$2:B5463,\"=\"&B5463))","v":417},40,7.4243459151248774E-5,0.8571428571428571]
["84-429","84","L1510","FILMS D'ANIMATION ET EFFETS SPÉCIAUX",28,23,{"$f":"IF(C5475=\"\",\"\",COUNTIF($B$2:B5475,\"=\"&B5475))","v":429},30,5.9394767320999018E-5,0.8214285714285714]
["84-442","84","N4401","CIRCULATION DU RÉSEAU FERRÉ",22,20,{"$f":"IF(C5488=\"\",\"\",COUNTIF($B$2:B5488,\"=\"&B5488))","v":442},20,4.6667317180784945E-5,0.90909090909090906]
["84-449","84","L1503","DÉCOR ET ACCESSOIRES SPECTACLE",19,3,{"$f":"IF(C5495=\"\",\"\",COUNTIF($B$2:B5495,\"=\"&B5495))","v":449},20,4.0303592110677909E-5,0.15789473684210525]
["84-457","84","N2203","EXPLOITATION DES PISTES AÉROPORTUAIRES",16,7,{"$f":"IF(C5503=\"\",\"\",COUNTIF($B$2:B5503,\"=\"&B5503))","v":457},20,3.3939867040570865E-5,0.4375]
["84-469","84","A1404","AQUACULTURE",13,3,{"$f":"IF(C5515=\"\",\"\",COUNTIF($B$2:B5515,\"=\"&B5515))","v":469},10,2.7576141970463832E-5,0.23076923076923078]
["84-476","84","K1706","SÉCURITÉ PUBLIQUE",11,11,{"$f":"IF(C5522=\"\",\"\",COUNTIF($B$2:B5522,\"=\"&B5522))","v":476},10,2.3333658590392473E-5,1]
["84-489","84","B1604","RÉPARATION - MONTAGE EN SYSTÈMES HORLOGERS",7,4,{"$f":"IF(C5535=\"\",\"\",COUNTIF($B$2:B5535,\"=\"&B5535))","v":489},10,1.4848691830249754E-5,0.5714285714285714]
["84-492","84","K1405","REPRÉSENTATION DE L'ÉTAT SUR LE TERRITOIRE NATIONAL OU INTERNATIONAL",6,5,{"$f":"IF(C5538=\"\",\"\",COUNTIF($B$2:B5538,\"=\"&B5538))","v":492},10,1.2727450140214076E-5,0.83333333333333337]
["84-501","84","E1105","COORDINATION D'ÉDITION",5,3,{"$f":"IF(C5547=\"\",\"\",COUNTIF($B$2:B5547,\"=\"&B5547))","v":501},10,1.0606208450178396E-5,0.6]
["84-512","84","M1809","INFORMATION MÉTÉOROLOGIQUE",3,2,{"$f":"IF(C5558=\"\",\"\",COUNTIF($B$2:B5558,\"=\"&B5558))","v":512},0,6.3637250701070381E-6,0.66666666666666663]
["84-520","84","K2603","THANATOPRAXIE",1,1,{"$f":"IF(C5566=\"\",\"\",COUNTIF($B$2:B5566,\"=\"&B5566))","v":520},0,2.1212416900356791E-6,1]
["8401-10","8401","N4101","CONDUITE DE TRANSPORT DE MARCHANDISES SUR LONGUE DISTANCE",215,175,{"$f":"IF(C5578=\"\",\"\",COUNTIF($B$2:B5578,\"=\"&B5578))","v":10},220,1.8911073973084704E-2,0.81395348837209303]
["8401-22","8401","H2909","MONTAGE-ASSEMBLAGE MÉCANIQUE",108,23,{"$f":"IF(C5590=\"\",\"\",COUNTIF($B$2:B5590,\"=\"&B5590))","v":22},110,9.499516228340223E-3,0.21296296296296297]
["8401-27","8401","D1507","MISE EN RAYON LIBRE-SERVICE",101,55,{"$f":"IF(C5595=\"\",\"\",COUNTIF($B$2:B5595,\"=\"&B5595))","v":27},100,8.8838068431700244E-3,0.54455445544554459]
["8401-42","8401","H2913","SOUDAGE MANUEL",63,25,{"$f":"IF(C5610=\"\",\"\",COUNTIF($B$2:B5610,\"=\"&B5610))","v":42},60,5.5413844665317966E-3,0.3968253968253968]
["8401-52","8401","M1501","ASSISTANAT EN RESSOURCES HUMAINES",53,26,{"$f":"IF(C5620=\"\",\"\",COUNTIF($B$2:B5620,\"=\"&B5620))","v":52},50,4.6617996305743691E-3,0.49056603773584906]
["8401-62","8401","K2104","ÉDUCATION ET SURVEILLANCE AU SEIN D'ÉTABLISSEMENTS D'ENSEIGNEMENT",47,45,{"$f":"IF(C5630=\"\",\"\",COUNTIF($B$2:B5630,\"=\"&B5630))","v":62},50,4.1340487289999121E-3,0.95744680851063835]
["8401-65","8401","K2503","SÉCURITÉ ET SURVEILLANCE PRIVÉES",45,22,{"$f":"IF(C5633=\"\",\"\",COUNTIF($B$2:B5633,\"=\"&B5633))","v":65},{"$f":"ROUND(E5633,-1)","v":50},3.9581317618084264E-3,{"$f":"IF(OR(F5633=\"\",F5633=\".\"),0,F5633/E5633)","v":0.48888888888888887}]
["8401-81","8401","N1303","INTERVENTION TECHNIQUE D'EXPLOITATION LOGISTIQUE",34,25,{"$f":"IF(C5649=\"\",\"\",COUNTIF($B$2:B5649,\"=\"&B5649))","v":81},30,2.9905884422552556E-3,0.73529411764705888]
["8401-85","8401","K1701","PERSONNEL DE LA DÉFENSE",31,31,{"$f":"IF(C5653=\"\",\"\",COUNTIF($B$2:B5653,\"=\"&B5653))","v":85},30,2.7267129914680271E-3,1]
["8401-96","8401","F1610","POSE ET RESTAURATION DE COUVERTURES",26,11,{"$f":"IF(C5664=\"\",\"\",COUNTIF($B$2:B5664,\"=\"&B5664))","v":96},30,2.2869205734893129E-3,0.42307692307692307]
["8401-110","8401","M1608","SECRÉTARIAT COMPTABLE",21,14,{"$f":"IF(C5678=\"\",\"\",COUNTIF($B$2:B5678,\"=\"&B5678))","v":110},20,1.8471281555105989E-3,0.66666666666666663]
["8401-117","8401","K2501","GARDIENNAGE DE LOCAUX",19,16,{"$f":"IF(C5685=\"\",\"\",COUNTIF($B$2:B5685,\"=\"&B5685))","v":117},20,1.6712111883191135E-3,0.84210526315789469]
["8401-125","8401","K1203","ENCADREMENT TECHNIQUE EN INSERTION PROFESSIONNELLE",18,13,{"$f":"IF(C5693=\"\",\"\",COUNTIF($B$2:B5693,\"=\"&B5693))","v":125},20,1.5832527047233706E-3,0.72222222222222221]
["8401-137","8401","J1502","COORDINATION DE SERVICES MÉDICAUX OU PARAMÉDICAUX",16,15,{"$f":"IF(C5705=\"\",\"\",COUNTIF($B$2:B5705,\"=\"&B5705))","v":137},20,1.407335737531885E-3,0.9375]
["8401-140","8401","A1302","CONTRÔLE ET DIAGNOSTIC TECHNIQUE EN AGRICULTURE",16,7,{"$f":"IF(C5708=\"\",\"\",COUNTIF($B$2:B5708,\"=\"&B5708))","v":140},20,1.407335737531885E-3,0.4375]
["8401-153","8401","M1204","CONTRÔLE DE GESTION",14,13,{"$f":"IF(C5721=\"\",\"\",COUNTIF($B$2:B5721,\"=\"&B5721))","v":153},10,1.2314187703403993E-3,0.9285714285714286]
["8401-160","8401","N4203","INTERVENTION TECHNIQUE D'EXPLOITATION DES TRANSPORTS ROUTIERS DE MARCHANDISES",12,11,{"$f":"IF(C5728=\"\",\"\",COUNTIF($B$2:B5728,\"=\"&B5728))","v":160},10,1.0555018031489136E-3,0.91666666666666663]
["8401-169","8401","M1603","DISTRIBUTION DE DOCUMENTS",11,11,{"$f":"IF(C5737=\"\",\"\",COUNTIF($B$2:B5737,\"=\"&B5737))","v":169},10,9.6754331955317089E-4,1]
["8401-180","8401","K1204","MÉDIATION SOCIALE ET FACILITATION DE LA VIE EN SOCIÉTÉ",10,9,{"$f":"IF(C5748=\"\",\"\",COUNTIF($B$2:B5748,\"=\"&B5748))","v":180},10,8.7958483595742805E-4,0.9]
["8401-194","8401","A1402","AIDE AGRICOLE DE PRODUCTION LÉGUMIÈRE OU VÉGÉTALE",9,".",{"$f":"IF(C5762=\"\",\"\",COUNTIF($B$2:B5762,\"=\"&B5762))","v":194},10,{"$f":"E5762/SUMIF(B:B,B5762,E:E)","v":7.9162635236168532E-4},0]
["8401-196","8401","N4102","CONDUITE DE TRANSPORT DE PARTICULIERS",8,4,{"$f":"IF(C5764=\"\",\"\",COUNTIF($B$2:B5764,\"=\"&B5764))","v":196},10,7.0366786876594248E-4,0.5]
["8401-209","8401","H1203","CONCEPTION ET DESSIN PRODUITS MÉCANIQUES",7,7,{"$f":"IF(C5777=\"\",\"\",COUNTIF($B$2:B5777,\"=\"&B5777))","v":209},10,6.1570938517019965E-4,1]
["8401-216","8401","H2802","CONDUITE D'INSTALLATION DE PRODUCTION DE MATÉRIAUX DE CONSTRUCTION",6,2,{"$f":"IF(C5784=\"\",\"\",COUNTIF($B$2:B5784,\"=\"&B5784))","v":216},10,5.2775090157445681E-4,0.33333333333333331]
["8401-228","8401","K1501","APPLICATION DES RÈGLES FINANCIÈRES PUBLIQUES",5,5,{"$f":"IF(C5796=\"\",\"\",COUNTIF($B$2:B5796,\"=\"&B5796))","v":228},10,4.3979241797871402E-4,1]
["8401-238","8401","F1204","QUALITÉ SÉCURITÉ ENVIRONNEMENT ET PROTECTION SANTÉ DU BTP",5,5,{"$f":"IF(C5806=\"\",\"\",COUNTIF($B$2:B5806,\"=\"&B5806))","v":238},10,4.3979241797871402E-4,1]
["8401-248","8401","K1103","DÉVELOPPEMENT PERSONNEL ET BIEN-ÊTRE DE LA PERSONNE",4,4,{"$f":"IF(C5816=\"\",\"\",COUNTIF($B$2:B5816,\"=\"&B5816))","v":248},0,3.5183393438297124E-4,1]
["8401-253","8401","I1202","ENTRETIEN ET SURVEILLANCE DU TRACÉ ROUTIER",4,1,{"$f":"IF(C5821=\"\",\"\",COUNTIF($B$2:B5821,\"=\"&B5821))","v":253},0,3.5183393438297124E-4,0.25]
["8401-268","8401","N1301","CONCEPTION ET ORGANISATION DE LA CHAÎNE LOGISTIQUE",3,3,{"$f":"IF(C5836=\"\",\"\",COUNTIF($B$2:B5836,\"=\"&B5836))","v":268},0,2.638754507872284E-4,1]
["8401-271","8401","J1102","MÉDECINE GÉNÉRALISTE ET SPÉCIALISÉE",3,3,{"$f":"IF(C5839=\"\",\"\",COUNTIF($B$2:B5839,\"=\"&B5839))","v":271},0,2.638754507872284E-4,1]
["8401-282","8401","B1802","RÉALISATION D'ARTICLES EN CUIR ET MATÉRIAUX SOUPLES (HORS VÊTEMENT)",3,1,{"$f":"IF(C5850=\"\",\"\",COUNTIF($B$2:B5850,\"=\"&B5850))","v":282},0,2.638754507872284E-4,0.33333333333333331]
["8401-291","8401","I1503","INTERVENTION EN MILIEUX ET PRODUITS NOCIFS",2,2,{"$f":"IF(C5859=\"\",\"\",COUNTIF($B$2:B5859,\"=\"&B5859))","v":291},0,1.7591696719148562E-4,1]
["8401-301","8401","E1304","FAÇONNAGE ET ROUTAGE",2,1,{"$f":"IF(C5869=\"\",\"\",COUNTIF($B$2:B5869,\"=\"&B5869))","v":301},0,1.7591696719148562E-4,0.5]
["8401-311","8401","K2304","REVALORISATION DE PRODUITS INDUSTRIELS",1,1,{"$f":"IF(C5879=\"\",\"\",COUNTIF($B$2:B5879,\"=\"&B5879))","v":311},0,8.795848359574281E-5,1]
[{"$f":"B5891&\"-\"&G5891","v":"8401-323"},"8401","K1401","CONCEPTION ET PILOTAGE DE LA POLITIQUE DES POUVOIRS PUBLICS",1,1,{"$f":"IF(C5891=\"\",\"\",COUNTIF($B$2:B5891,\"=\"&B5891))","v":323},0,8.795848359574281E-5,1]
["8401-336","8401","G1503","MANAGEMENT DU PERSONNEL D'ÉTAGE",1,1,{"$f":"IF(C5904=\"\",\"\",COUNTIF($B$2:B5904,\"=\"&B5904))","v":336},0,8.795848359574281E-5,1]
["8401-343","8401","F1101","ARCHITECTURE DU BTP ET DU PAYSAGE",1,".",{"$f":"IF(C5911=\"\",\"\",COUNTIF($B$2:B5911,\"=\"&B5911))","v":343},0,8.795848359574281E-5,0]
["8402-1","8402","H3201","CONDUITE D'ÉQUIPEMENT DE FORMAGE DES PLASTIQUES ET CAOUTCHOUCS",148,99,{"$f":"IF(C5923=\"\",\"\",COUNTIF($B$2:B5923,\"=\"&B5923))","v":1},150,6.7734553775743708E-2,0.66891891891891897]
["8402-9","8402","H3301","CONDUITE D'ÉQUIPEMENT DE CONDITIONNEMENT",42,38,{"$f":"IF(C5931=\"\",\"\",COUNTIF($B$2:B5931,\"=\"&B5931))","v":9},40,1.9221967963386728E-2,0.90476190476190477]
["8402-12","8402","D1106","VENTE EN ALIMENTATION",34,24,{"$f":"IF(C5934=\"\",\"\",COUNTIF($B$2:B5934,\"=\"&B5934))","v":12},30,1.5560640732265447E-2,0.70588235294117652]
["8402-26","8402","F1202","DIRECTION DE CHANTIER DU BTP",19,19,{"$f":"IF(C5948=\"\",\"\",COUNTIF($B$2:B5948,\"=\"&B5948))","v":26},20,8.6956521739130436E-3,1]
["8402-32","8402","H2504","ENCADREMENT D'ÉQUIPE EN INDUSTRIE DE TRANSFORMATION",16,15,{"$f":"IF(C5954=\"\",\"\",COUNTIF($B$2:B5954,\"=\"&B5954))","v":32},20,{"$f":"E5954/SUMIF(B:B,B5954,E:E)","v":7.3226544622425633E-3},0.9375]
["8402-45","8402","F1602","ÉLECTRICITÉ BÂTIMENT",13,7,{"$f":"IF(C5967=\"\",\"\",COUNTIF($B$2:B5967,\"=\"&B5967))","v":45},10,5.9496567505720821E-3,0.53846153846153844]
["8402-52","8402","F1604","MONTAGE D'AGENCEMENTS",11,5,{"$f":"IF(C5974=\"\",\"\",COUNTIF($B$2:B5974,\"=\"&B5974))","v":52},10,5.0343249427917619E-3,0.45454545454545453]
["8402-64","8402","G1203","ANIMATION DE LOISIRS AUPRÈS D'ENFANTS OU D'ADOLESCENTS",9,6,{"$f":"IF(C5986=\"\",\"\",COUNTIF($B$2:B5986,\"=\"&B5986))","v":64},10,4.1189931350114417E-3,0.66666666666666663]
["8402-74","8402","H1303","INTERVENTION TECHNIQUE EN HYGIÈNE SÉCURITÉ ENVIRONNEMENT -HSE- INDUSTRIEL",8,8,{"$f":"IF(C5996=\"\",\"\",COUNTIF($B$2:B5996,\"=\"&B5996))","v":74},10,3.6613272311212816E-3,1]
["8402-84","8402","N1201","AFFRÈTEMENT TRANSPORT",6,5,{"$f":"IF(C6006=\"\",\"\",COUNTIF($B$2:B6006,\"=\"&B6006))","v":84},10,2.745995423340961E-3,0.83333333333333337]
["8402-89","8402","I1309","MAINTENANCE ÉLECTRIQUE",6,6,{"$f":"IF(C6011=\"\",\"\",COUNTIF($B$2:B6011,\"=\"&B6011))","v":89},10,2.745995423340961E-3,1]
["8402-104","8402","K2302","MANAGEMENT ET INSPECTION EN ENVIRONNEMENT URBAIN",5,5,{"$f":"IF(C6026=\"\",\"\",COUNTIF($B$2:B6026,\"=\"&B6026))","v":104},10,2.2883295194508009E-3,1]
["8402-114","8402","H2913","SOUDAGE MANUEL",4,3,{"$f":"IF(C6036=\"\",\"\",COUNTIF($B$2:B6036,\"=\"&B6036))","v":114},0,1.8306636155606408E-3,0.75]
["8402-120","8402","F1701","CONSTRUCTION EN BÉTON",4,1,{"$f":"IF(C6042=\"\",\"\",COUNTIF($B$2:B6042,\"=\"&B6042))","v":120},0,1.8306636155606408E-3,0.25]
["8402-127","8402","H2401","ASSEMBLAGE - MONTAGE D'ARTICLES EN CUIRS, PEAUX",4,".",{"$f":"IF(C6049=\"\",\"\",COUNTIF($B$2:B6049,\"=\"&B6049))","v":127},0,1.8306636155606408E-3,0]
["8402-133","8402","K1203","ENCADREMENT TECHNIQUE EN INSERTION PROFESSIONNELLE",3,1,{"$f":"IF(C6055=\"\",\"\",COUNTIF($B$2:B6055,\"=\"&B6055))","v":133},0,1.3729977116704805E-3,0.33333333333333331]
["8402-147","8402","D1504","DIRECTION DE MAGASIN DE GRANDE DISTRIBUTION",3,3,{"$f":"IF(C6069=\"\",\"\",COUNTIF($B$2:B6069,\"=\"&B6069))","v":147},0,1.3729977116704805E-3,1]
["8402-158","8402","M1102","DIRECTION DES ACHATS",2,2,{"$f":"IF(C6080=\"\",\"\",COUNTIF($B$2:B6080,\"=\"&B6080))","v":158},0,9.1533180778032041E-4,1]
["8402-163","8402","J1502","COORDINATION DE SERVICES MÉDICAUX OU PARAMÉDICAUX",2,2,{"$f":"IF(C6085=\"\",\"\",COUNTIF($B$2:B6085,\"=\"&B6085))","v":163},0,9.1533180778032041E-4,1]
["8402-179","8402","B1803","RÉALISATION DE VÊTEMENTS SUR MESURE OU EN PETITE SÉRIE",2,1,{"$f":"IF(C6101=\"\",\"\",COUNTIF($B$2:B6101,\"=\"&B6101))","v":179},0,9.1533180778032041E-4,0.5]
["8402-187","8402","M1402","CONSEIL EN ORGANISATION ET MANAGEMENT D'ENTREPRISE",1,1,{"$f":"IF(C6109=\"\",\"\",COUNTIF($B$2:B6109,\"=\"&B6109))","v":187},0,4.5766590389016021E-4,1]
["8402-195","8402","K1202","ÉDUCATION DE JEUNES ENFANTS",1,".",{"$f":"IF(C6117=\"\",\"\",COUNTIF($B$2:B6117,\"=\"&B6117))","v":195},0,4.5766590389016021E-4,0]
["8402-202","8402","K1303","ASSISTANCE AUPRÈS D'ENFANTS",1,1,{"$f":"IF(C6124=\"\",\"\",COUNTIF($B$2:B6124,\"=\"&B6124))","v":202},0,4.5766590389016021E-4,1]
["8402-215","8402","G1303","VENTE DE VOYAGES",1,".",{"$f":"IF(C6137=\"\",\"\",COUNTIF($B$2:B6137,\"=\"&B6137))","v":215},0,4.5766590389016021E-4,0]
["8402-222","8402","E1108","TRADUCTION, INTERPRÉTARIAT",1,1,{"$f":"IF(C6144=\"\",\"\",COUNTIF($B$2:B6144,\"=\"&B6144))","v":222},0,4.5766590389016021E-4,1]
["8402-231","8402","A1411","ÉLEVAGE PORCIN",1,1,{"$f":"IF(C6153=\"\",\"\",COUNTIF($B$2:B6153,\"=\"&B6153))","v":231},0,4.5766590389016021E-4,1]
["8403-6","8403","N4101","CONDUITE DE TRANSPORT DE MARCHANDISES SUR LONGUE DISTANCE",136,54,{"$f":"IF(C6160=\"\",\"\",COUNTIF($B$2:B6160,\"=\"&B6160))","v":6},140,2.1088540859047916E-2,0.39705882352941174]
["8403-14","8403","M1607","SECRÉTARIAT",102,60,{"$f":"IF(C6168=\"\",\"\",COUNTIF($B$2:B6168,\"=\"&B6168))","v":14},100,1.5816405644285936E-2,0.58823529411764708]
["8403-26","8403","I1203","MAINTENANCE DES BÂTIMENTS ET DES LOCAUX",61,46,{"$f":"IF(C6180=\"\",\"\",COUNTIF($B$2:B6180,\"=\"&B6180))","v":26},60,9.4588308264847258E-3,0.75409836065573765]
["8403-38","8403","G1803","SERVICE EN RESTAURATION",44,32,{"$f":"IF(C6192=\"\",\"\",COUNTIF($B$2:B6192,\"=\"&B6192))","v":38},40,6.8227632191037368E-3,0.72727272727272729]
["8403-43","8403","K1207","INTERVENTION SOCIOÉDUCATIVE",38,25,{"$f":"IF(C6197=\"\",\"\",COUNTIF($B$2:B6197,\"=\"&B6197))","v":43},40,5.8923864164986822E-3,0.65789473684210531]
["8403-58","8403","I1308","MAINTENANCE D'INSTALLATION DE CHAUFFAGE",27,25,{"$f":"IF(C6212=\"\",\"\",COUNTIF($B$2:B6212,\"=\"&B6212))","v":58},30,4.1866956117227478E-3,0.92592592592592593]
["8403-68","8403","H1502","MANAGEMENT ET INGÉNIERIE QUALITÉ INDUSTRIELLE",24,21,{"$f":"IF(C6222=\"\",\"\",COUNTIF($B$2:B6222,\"=\"&B6222))","v":68},20,3.7215072104202201E-3,0.875]
["8403-78","8403","H3303","PRÉPARATION DE MATIÈRES ET PRODUITS INDUSTRIELS (BROYAGE, MÉLANGE, ...)",21,4,{"$f":"IF(C6232=\"\",\"\",COUNTIF($B$2:B6232,\"=\"&B6232))","v":78},20,3.2563188091176928E-3,0.19047619047619047]
["8403-87","8403","F1202","DIRECTION DE CHANTIER DU BTP",19,17,{"$f":"IF(C6241=\"\",\"\",COUNTIF($B$2:B6241,\"=\"&B6241))","v":87},20,2.9461932082493411E-3,0.89473684210526316]
["8403-98","8403","K1206","INTERVENTION SOCIOCULTURELLE",16,8,{"$f":"IF(C6252=\"\",\"\",COUNTIF($B$2:B6252,\"=\"&B6252))","v":98},20,2.4810048069468134E-3,0.5]
["8403-101","8403","H2201","ASSEMBLAGE D'OUVRAGES EN BOIS",16,14,{"$f":"IF(C6255=\"\",\"\",COUNTIF($B$2:B6255,\"=\"&B6255))","v":101},20,2.4810048069468134E-3,0.875]
["8403-112","8403","C1504","TRANSACTION IMMOBILIÈRE",14,14,{"$f":"IF(C6266=\"\",\"\",COUNTIF($B$2:B6266,\"=\"&B6266))","v":112},10,2.1708792060784617E-3,1]
[{"$f":"B6275&\"-\"&G6275","v":"8403-121"},"8403","F1613","TRAVAUX D'ÉTANCHÉITÉ ET D'ISOLATION",12,2,{"$f":"IF(C6275=\"\",\"\",COUNTIF($B$2:B6275,\"=\"&B6275))","v":121},10,1.86075360521011E-3,0.16666666666666666]
["8403-131","8403","K2306","SUPERVISION D'EXPLOITATION ÉCO-INDUSTRIELLE",10,7,{"$f":"IF(C6285=\"\",\"\",COUNTIF($B$2:B6285,\"=\"&B6285))","v":131},10,1.5506280043417584E-3,0.7]
["8403-141","8403","D1213","VENTE EN GROS DE MATÉRIEL ET ÉQUIPEMENT",10,9,{"$f":"IF(C6295=\"\",\"\",COUNTIF($B$2:B6295,\"=\"&B6295))","v":141},10,1.5506280043417584E-3,0.9]
["8403-153","8403","M1606","SAISIE DE DONNÉES",8,1,{"$f":"IF(C6307=\"\",\"\",COUNTIF($B$2:B6307,\"=\"&B6307))","v":153},10,1.2405024034734067E-3,0.125]
["8403-160","8403","K2106","ENSEIGNEMENT DES ÉCOLES",7,3,{"$f":"IF(C6314=\"\",\"\",COUNTIF($B$2:B6314,\"=\"&B6314))","v":160},10,1.0854396030392309E-3,0.42857142857142855]
["8403-173","8403","G1205","PERSONNEL D'ATTRACTIONS OU DE STRUCTURES DE LOISIRS",6,5,{"$f":"IF(C6327=\"\",\"\",COUNTIF($B$2:B6327,\"=\"&B6327))","v":173},10,9.3037680260505502E-4,0.83333333333333337]
["8403-175","8403","D1205","NETTOYAGE D'ARTICLES TEXTILES OU CUIRS",6,4,{"$f":"IF(C6329=\"\",\"\",COUNTIF($B$2:B6329,\"=\"&B6329))","v":175},10,9.3037680260505502E-4,0.66666666666666663]
["8403-184","8403","N1104","MANOEUVRE ET CONDUITE D'ENGINS LOURDS DE MANUTENTION",5,1,{"$f":"IF(C6338=\"\",\"\",COUNTIF($B$2:B6338,\"=\"&B6338))","v":184},10,{"$f":"E6338/SUMIF(B:B,B6338,E:E)","v":7.7531400217087918E-4},0.2]
["8403-196","8403","J1502","COORDINATION DE SERVICES MÉDICAUX OU PARAMÉDICAUX",4,3,{"$f":"IF(C6350=\"\",\"\",COUNTIF($B$2:B6350,\"=\"&B6350))","v":196},0,6.2025120173670335E-4,0.75]
["8403-204","8403","J1504","SOINS INFIRMIERS SPÉCIALISÉS EN BLOC OPÉRATOIRE",4,4,{"$f":"IF(C6358=\"\",\"\",COUNTIF($B$2:B6358,\"=\"&B6358))","v":204},0,6.2025120173670335E-4,1]
["8403-216","8403","F1606","PEINTURE EN BÂTIMENT",4,".",{"$f":"IF(C6370=\"\",\"\",COUNTIF($B$2:B6370,\"=\"&B6370))","v":216},0,6.2025120173670335E-4,0]
["8403-229","8403","J1406","ORTHOPHONIE",3,2,{"$f":"IF(C6383=\"\",\"\",COUNTIF($B$2:B6383,\"=\"&B6383))","v":229},0,4.6518840130252751E-4,0.66666666666666663]
["8403-232","8403","I1202","ENTRETIEN ET SURVEILLANCE DU TRACÉ ROUTIER",3,".",{"$f":"IF(C6386=\"\",\"\",COUNTIF($B$2:B6386,\"=\"&B6386))","v":232},0,4.6518840130252751E-4,0]
["8403-248","8403","N4102","CONDUITE DE TRANSPORT DE PARTICULIERS",2,2,{"$f":"IF(C6402=\"\",\"\",COUNTIF($B$2:B6402,\"=\"&B6402))","v":248},0,{"$f":"E6402/SUMIF(B:B,B6402,E:E)","v":3.1012560086835167E-4},1]
["8403-258","8403","H2413","PRÉPARATION DE FILS, MONTAGE DE MÉTIERS TEXTILES",2,1,{"$f":"IF(C6412=\"\",\"\",COUNTIF($B$2:B6412,\"=\"&B6412))","v":258},0,3.1012560086835167E-4,0.5]
["8403-259","8403","H2404","CONDUITE DE MACHINE DE PRODUCTION ET TRANSFORMATION DES FILS",2,1,{"$f":"IF(C6413=\"\",\"\",COUNTIF($B$2:B6413,\"=\"&B6413))","v":259},0,3.1012560086835167E-4,0.5]
["8403-273","8403","E1303","ENCADREMENT DES INDUSTRIES GRAPHIQUES",2,2,{"$f":"IF(C6427=\"\",\"\",COUNTIF($B$2:B6427,\"=\"&B6427))","v":273},0,3.1012560086835167E-4,1]
["8403-284","8403","F1101","ARCHITECTURE DU BTP ET DU PAYSAGE",2,2,{"$f":"IF(C6438=\"\",\"\",COUNTIF($B$2:B6438,\"=\"&B6438))","v":284},0,3.1012560086835167E-4,1]
["8403-291","8403","K2401","RECHERCHE EN SCIENCES DE L'HOMME ET DE LA SOCIÉTÉ",1,1,{"$f":"IF(C6445=\"\",\"\",COUNTIF($B$2:B6445,\"=\"&B6445))","v":291},0,1.5506280043417584E-4,1]
["8403-302","8403","J1202","PHARMACIE",1,1,{"$f":"IF(C6456=\"\",\"\",COUNTIF($B$2:B6456,\"=\"&B6456))","v":302},0,1.5506280043417584E-4,1]
["8403-311","8403","K2109","ENSEIGNEMENT TECHNIQUE ET PROFESSIONNEL",1,".",{"$f":"IF(C6465=\"\",\"\",COUNTIF($B$2:B6465,\"=\"&B6465))","v":311},{"$f":"ROUND(E6465,-1)","v":0},1.5506280043417584E-4,{"$f":"IF(OR(F6465=\"\",F6465=\".\"),0,F6465/E6465)","v":0}]
["8403-317","8403","F1102","CONCEPTION - AMÉNAGEMENT D'ESPACES INTÉRIEURS",1,".",{"$f":"IF(C6471=\"\",\"\",COUNTIF($B$2:B6471,\"=\"&B6471))","v":317},0,1.5506280043417584E-4,0]
["8403-327","8403","A1301","CONSEIL ET ASSISTANCE TECHNIQUE EN AGRICULTURE ET ENVIRONNEMENT NATUREL",1,1,{"$f":"IF(C6481=\"\",\"\",COUNTIF($B$2:B6481,\"=\"&B6481))","v":327},0,1.5506280043417584E-4,1]
["8404-13","8404","J1404","KINÉSITHÉRAPIE",63,46,{"$f":"IF(C6496=\"\",\"\",COUNTIF($B$2:B6496,\"=\"&B6496))","v":13},60,2.0198781660788714E-2,0.73015873015873012]
["8404-18","8404","F1603","INSTALLATION D'ÉQUIPEMENTS SANITAIRES ET THERMIQUES",36,26,{"$f":"IF(C6501=\"\",\"\",COUNTIF($B$2:B6501,\"=\"&B6501))","v":18},40,1.1542160949022122E-2,0.72222222222222221]
["8404-30","8404","N1101","CONDUITE D'ENGINS DE DÉPLACEMENT DES CHARGES",25,4,{"$f":"IF(C6513=\"\",\"\",COUNTIF($B$2:B6513,\"=\"&B6513))","v":30},30,8.0153895479320291E-3,0.16]
["8404-42","8404","H2605","MONTAGE ET CÂBLAGE ÉLECTRONIQUE",19,3,{"$f":"IF(C6525=\"\",\"\",COUNTIF($B$2:B6525,\"=\"&B6525))","v":42},20,6.0916960564283426E-3,0.15789473684210525]
["8404-50","8404","M1601","ACCUEIL ET RENSEIGNEMENTS",16,3,{"$f":"IF(C6533=\"\",\"\",COUNTIF($B$2:B6533,\"=\"&B6533))","v":50},20,5.129849310676499E-3,0.1875]
["8404-57","8404","A1405","ARBORICULTURE ET VITICULTURE",15,7,{"$f":"IF(C6540=\"\",\"\",COUNTIF($B$2:B6540,\"=\"&B6540))","v":57},20,4.8092337287592175E-3,0.46666666666666667]
["8404-70","8404","F1302","CONDUITE D'ENGINS DE TERRASSEMENT ET DE CARRIÈRE",12,9,{"$f":"IF(C6553=\"\",\"\",COUNTIF($B$2:B6553,\"=\"&B6553))","v":70},10,3.8473869830073742E-3,0.75]
["8404-73","8404","F1610","POSE ET RESTAURATION DE COUVERTURES",11,10,{"$f":"IF(C6556=\"\",\"\",COUNTIF($B$2:B6556,\"=\"&B6556))","v":73},10,3.5267714010900932E-3,0.90909090909090906]
["8404-86","8404","I1309","MAINTENANCE ÉLECTRIQUE",9,3,{"$f":"IF(C6569=\"\",\"\",COUNTIF($B$2:B6569,\"=\"&B6569))","v":86},10,2.8855402372555306E-3,0.33333333333333331]
["8404-93","8404","D1209","VENTE DE VÉGÉTAUX",8,2,{"$f":"IF(C6576=\"\",\"\",COUNTIF($B$2:B6576,\"=\"&B6576))","v":93},10,2.5649246553382495E-3,0.25]
["8404-101","8404","I1308","MAINTENANCE D'INSTALLATION DE CHAUFFAGE",7,7,{"$f":"IF(C6584=\"\",\"\",COUNTIF($B$2:B6584,\"=\"&B6584))","v":101},10,2.2443090734209684E-3,1]
["8404-113","8404","H3303","PRÉPARATION DE MATIÈRES ET PRODUITS INDUSTRIELS (BROYAGE, MÉLANGE, ...)",6,".",{"$f":"IF(C6596=\"\",\"\",COUNTIF($B$2:B6596,\"=\"&B6596))","v":113},10,1.9236934915036871E-3,0]
["8404-125","8404","D1101","BOUCHERIE",5,5,{"$f":"IF(C6608=\"\",\"\",COUNTIF($B$2:B6608,\"=\"&B6608))","v":125},10,1.6030779095864058E-3,1]
["8404-130","8404","M1705","MARKETING",4,4,{"$f":"IF(C6613=\"\",\"\",COUNTIF($B$2:B6613,\"=\"&B6613))","v":130},0,1.2824623276691247E-3,1]
["8404-145","8404","N1302","DIRECTION DE SITE LOGISTIQUE",3,1,{"$f":"IF(C6628=\"\",\"\",COUNTIF($B$2:B6628,\"=\"&B6628))","v":145},0,9.6184674575184356E-4,0.33333333333333331]
["8404-149","8404","H1303","INTERVENTION TECHNIQUE EN HYGIÈNE SÉCURITÉ ENVIRONNEMENT -HSE- INDUSTRIEL",3,1,{"$f":"IF(C6632=\"\",\"\",COUNTIF($B$2:B6632,\"=\"&B6632))","v":149},0,9.6184674575184356E-4,0.33333333333333331]
["8404-156","8404","D1205","NETTOYAGE D'ARTICLES TEXTILES OU CUIRS",3,".",{"$f":"IF(C6639=\"\",\"\",COUNTIF($B$2:B6639,\"=\"&B6639))","v":156},0,9.6184674575184356E-4,0]
["8404-168","8404","I1306","INSTALLATION ET MAINTENANCE EN FROID, CONDITIONNEMENT D'AIR",2,2,{"$f":"IF(C6651=\"\",\"\",COUNTIF($B$2:B6651,\"=\"&B6651))","v":168},0,6.4123116383456237E-4,1]
["8404-174","8404","F1613","TRAVAUX D'ÉTANCHÉITÉ ET D'ISOLATION",2,2,{"$f":"IF(C6657=\"\",\"\",COUNTIF($B$2:B6657,\"=\"&B6657))","v":174},{"$f":"ROUND(E6657,-1)","v":0},6.4123116383456237E-4,{"$f":"IF(OR(F6657=\"\",F6657=\".\"),0,F6657/E6657)","v":1}]
["8404-188","8404","K2306","SUPERVISION D'EXPLOITATION ÉCO-INDUSTRIELLE",1,1,{"$f":"IF(C6671=\"\",\"\",COUNTIF($B$2:B6671,\"=\"&B6671))","v":188},0,3.2061558191728119E-4,1]
["8404-193","8404","K1305","INTERVENTION SOCIALE ET FAMILIALE",1,1,{"$f":"IF(C6676=\"\",\"\",COUNTIF($B$2:B6676,\"=\"&B6676))","v":193},0,3.2061558191728119E-4,1]
["8404-208","8404","H1302","MANAGEMENT ET INGÉNIERIE HYGIÈNE SÉCURITÉ ENVIRONNEMENT -HSE- INDUSTRIELS",1,1,{"$f":"IF(C6691=\"\",\"\",COUNTIF($B$2:B6691,\"=\"&B6691))","v":208},0,3.2061558191728119E-4,1]
["8404-218","8404","E1301","CONDUITE DE MACHINES D'IMPRESSION",1,".",{"$f":"IF(C6701=\"\",\"\",COUNTIF($B$2:B6701,\"=\"&B6701))","v":218},0,3.2061558191728119E-4,0]
["8404-224","8404","A1101","CONDUITE D'ENGINS AGRICOLES ET FORESTIERS",1,1,{"$f":"IF(C6707=\"\",\"\",COUNTIF($B$2:B6707,\"=\"&B6707))","v":224},0,3.2061558191728119E-4,1]
["8405-7","8405","G1605","PLONGE EN RESTAURATION",103,20,{"$f":"IF(C6714=\"\",\"\",COUNTIF($B$2:B6714,\"=\"&B6714))","v":7},100,2.044867976970419E-2,0.1941747572815534]
["8405-23","8405","D1104","PÂTISSERIE, CONFISERIE, CHOCOLATERIE ET GLACERIE",55,28,{"$f":"IF(C6730=\"\",\"\",COUNTIF($B$2:B6730,\"=\"&B6730))","v":23},60,1.0919197935278936E-2,0.50909090909090904]
["8405-27","8405","J1506","SOINS INFIRMIERS GÉNÉRALISTES",49,37,{"$f":"IF(C6734=\"\",\"\",COUNTIF($B$2:B6734,\"=\"&B6734))","v":27},50,9.728012705975779E-3,0.75510204081632648]
["8405-38","8405","D1401","ASSISTANAT COMMERCIAL",39,24,{"$f":"IF(C6745=\"\",\"\",COUNTIF($B$2:B6745,\"=\"&B6745))","v":38},40,7.7427039904705182E-3,0.61538461538461542]
["8405-52","8405","I1304","INSTALLATION ET MAINTENANCE D'ÉQUIPEMENTS INDUSTRIELS ET D'EXPLOITATION",29,20,{"$f":"IF(C6759=\"\",\"\",COUNTIF($B$2:B6759,\"=\"&B6759))","v":52},30,5.7573952749652574E-3,0.68965517241379315]
["8405-59","8405","J1502","COORDINATION DE SERVICES MÉDICAUX OU PARAMÉDICAUX",20,14,{"$f":"IF(C6766=\"\",\"\",COUNTIF($B$2:B6766,\"=\"&B6766))","v":59},20,3.9706174310105225E-3,0.7]
["8405-67","8405","H2903","CONDUITE D'ÉQUIPEMENT D'USINAGE",17,7,{"$f":"IF(C6774=\"\",\"\",COUNTIF($B$2:B6774,\"=\"&B6774))","v":67},20,3.3750248163589439E-3,0.41176470588235292]
["8405-79","8405","D1213","VENTE EN GROS DE MATÉRIEL ET ÉQUIPEMENT",13,10,{"$f":"IF(C6786=\"\",\"\",COUNTIF($B$2:B6786,\"=\"&B6786))","v":79},10,{"$f":"E6786/SUMIF(B:B,B6786,E:E)","v":2.5809013301568394E-3},0.76923076923076927]
["8405-82","8405","D1508","ENCADREMENT DU PERSONNEL DE CAISSES",12,12,{"$f":"IF(C6789=\"\",\"\",COUNTIF($B$2:B6789,\"=\"&B6789))","v":82},10,2.3823704586063135E-3,1]
["8405-95","8405","N4402","EXPLOITATION ET MANOEUVRE DES REMONTÉES MÉCANIQUES",9,".",{"$f":"IF(C6802=\"\",\"\",COUNTIF($B$2:B6802,\"=\"&B6802))","v":95},10,1.7867778439547349E-3,0]
["8405-102","8405","K2111","FORMATION PROFESSIONNELLE",8,4,{"$f":"IF(C6809=\"\",\"\",COUNTIF($B$2:B6809,\"=\"&B6809))","v":102},10,1.5882469724042088E-3,0.5]
["8405-111","8405","M1502","DÉVELOPPEMENT DES RESSOURCES HUMAINES",7,4,{"$f":"IF(C6818=\"\",\"\",COUNTIF($B$2:B6818,\"=\"&B6818))","v":111},10,1.3897161008536827E-3,0.5714285714285714]
["8405-127","8405","M1801","ADMINISTRATION DE SYSTÈMES D'INFORMATION",6,3,{"$f":"IF(C6834=\"\",\"\",COUNTIF($B$2:B6834,\"=\"&B6834))","v":127},10,1.1911852293031567E-3,0.5]
["8405-136","8405","C1501","GÉRANCE IMMOBILIÈRE",6,6,{"$f":"IF(C6843=\"\",\"\",COUNTIF($B$2:B6843,\"=\"&B6843))","v":136},10,1.1911852293031567E-3,1]
["8405-147","8405","F1107","MESURES TOPOGRAPHIQUES",5,5,{"$f":"IF(C6854=\"\",\"\",COUNTIF($B$2:B6854,\"=\"&B6854))","v":147},10,9.9265435775263062E-4,1]
["8405-154","8405","M1206","MANAGEMENT DE GROUPE OU DE SERVICE COMPTABLE",4,3,{"$f":"IF(C6861=\"\",\"\",COUNTIF($B$2:B6861,\"=\"&B6861))","v":154},0,7.9412348620210439E-4,0.75]
["8405-165","8405","F1705","POSE DE CANALISATIONS",4,3,{"$f":"IF(C6872=\"\",\"\",COUNTIF($B$2:B6872,\"=\"&B6872))","v":165},0,7.9412348620210439E-4,0.75]
["8405-170","8405","K2202","LAVAGE DE VITRES",3,3,{"$f":"IF(C6877=\"\",\"\",COUNTIF($B$2:B6877,\"=\"&B6877))","v":170},0,5.9559261465157837E-4,1]
["8405-180","8405","H2205","PREMIÈRE TRANSFORMATION DE BOIS D'OEUVRE",3,3,{"$f":"IF(C6887=\"\",\"\",COUNTIF($B$2:B6887,\"=\"&B6887))","v":180},0,5.9559261465157837E-4,1]
["8405-190","8405","G1404","MANAGEMENT D'ÉTABLISSEMENT DE RESTAURATION COLLECTIVE",3,3,{"$f":"IF(C6897=\"\",\"\",COUNTIF($B$2:B6897,\"=\"&B6897))","v":190},0,5.9559261465157837E-4,1]
["8405-197","8405","N1101","CONDUITE D'ENGINS DE DÉPLACEMENT DES CHARGES",2,1,{"$f":"IF(C6904=\"\",\"\",COUNTIF($B$2:B6904,\"=\"&B6904))","v":197},0,3.9706174310105219E-4,0.5]
["8405-209","8405","I1607","RÉPARATION DE CYCLES, MOTOCYCLES ET MOTOCULTEURS DE LOISIRS",2,".",{"$f":"IF(C6916=\"\",\"\",COUNTIF($B$2:B6916,\"=\"&B6916))","v":209},0,3.9706174310105219E-4,0]
["8405-222","8405","F1701","CONSTRUCTION EN BÉTON",2,1,{"$f":"IF(C6929=\"\",\"\",COUNTIF($B$2:B6929,\"=\"&B6929))","v":222},0,3.9706174310105219E-4,0.5]
["8405-224","8405","E1101","ANIMATION DE SITE MULTIMÉDIA",2,2,{"$f":"IF(C6931=\"\",\"\",COUNTIF($B$2:B6931,\"=\"&B6931))","v":224},0,3.9706174310105219E-4,1]
["8405-233","8405","H1102","MANAGEMENT ET INGÉNIERIE D'AFFAIRES",2,2,{"$f":"IF(C6940=\"\",\"\",COUNTIF($B$2:B6940,\"=\"&B6940))","v":233},0,3.9706174310105219E-4,1]
["8405-243","8405","K2203","MANAGEMENT ET INSPECTION EN PROPRETÉ DE LOCAUX",1,".",{"$f":"IF(C6950=\"\",\"\",COUNTIF($B$2:B6950,\"=\"&B6950))","v":243},0,1.985308715505261E-4,0]
["8405-253","8405","N1303","INTERVENTION TECHNIQUE D'EXPLOITATION LOGISTIQUE",1,".",{"$f":"IF(C6960=\"\",\"\",COUNTIF($B$2:B6960,\"=\"&B6960))","v":253},0,1.985308715505261E-4,0]
["8405-265","8405","M1402","CONSEIL EN ORGANISATION ET MANAGEMENT D'ENTREPRISE",1,1,{"$f":"IF(C6972=\"\",\"\",COUNTIF($B$2:B6972,\"=\"&B6972))","v":265},0,1.985308715505261E-4,1]
["8405-278","8405","F1101","ARCHITECTURE DU BTP ET DU PAYSAGE",1,".",{"$f":"IF(C6985=\"\",\"\",COUNTIF($B$2:B6985,\"=\"&B6985))","v":278},0,1.985308715505261E-4,0]
["8405-285","8405","A1407","ÉLEVAGE BOVIN OU ÉQUIN",1,".",{"$f":"IF(C6992=\"\",\"\",COUNTIF($B$2:B6992,\"=\"&B6992))","v":285},0,1.985308715505261E-4,0]
["8406-9","8406","N1103","MAGASINAGE ET PRÉPARATION DE COMMANDES",145,97,{"$f":"IF(C7004=\"\",\"\",COUNTIF($B$2:B7004,\"=\"&B7004))","v":9},150,2.1574170510340725E-2,0.66896551724137931]
["8406-17","8406","D1401","ASSISTANAT COMMERCIAL",91,62,{"$f":"IF(C7012=\"\",\"\",COUNTIF($B$2:B7012,\"=\"&B7012))","v":17},90,1.3539651837524178E-2,0.68131868131868134]
["8406-20","8406","D1104","PÂTISSERIE, CONFISERIE, CHOCOLATERIE ET GLACERIE",82,68,{"$f":"IF(C7015=\"\",\"\",COUNTIF($B$2:B7015,\"=\"&B7015))","v":20},80,1.2200565392054753E-2,0.82926829268292679]
["8406-38","8406","J1301","PERSONNEL POLYVALENT DES SERVICES HOSPITALIERS",43,9,{"$f":"IF(C7033=\"\",\"\",COUNTIF($B$2:B7033,\"=\"&B7033))","v":38},40,6.397857461687249E-3,0.20930232558139536]
["8406-40","8406","G1703","RÉCEPTION EN HÔTELLERIE",43,33,{"$f":"IF(C7035=\"\",\"\",COUNTIF($B$2:B7035,\"=\"&B7035))","v":40},40,6.397857461687249E-3,0.76744186046511631]
["8406-53","8406","M1602","OPÉRATIONS ADMINISTRATIVES",34,11,{"$f":"IF(C7048=\"\",\"\",COUNTIF($B$2:B7048,\"=\"&B7048))","v":53},30,5.0587710162178249E-3,0.3235294117647059]
["8406-60","8406","H2903","CONDUITE D'ÉQUIPEMENT D'USINAGE",29,16,{"$f":"IF(C7055=\"\",\"\",COUNTIF($B$2:B7055,\"=\"&B7055))","v":60},30,4.3148341020681448E-3,0.55172413793103448]
["8406-72","8406","H2909","MONTAGE-ASSEMBLAGE MÉCANIQUE",23,8,{"$f":"IF(C7067=\"\",\"\",COUNTIF($B$2:B7067,\"=\"&B7067))","v":72},20,3.4221098050885284E-3,0.34782608695652173]
["8406-82","8406","F1202","DIRECTION DE CHANTIER DU BTP",19,17,{"$f":"IF(C7077=\"\",\"\",COUNTIF($B$2:B7077,\"=\"&B7077))","v":82},20,2.8269602737687844E-3,0.89473684210526316]
["8406-92","8406","C1502","GESTION LOCATIVE IMMOBILIÈRE",17,11,{"$f":"IF(C7087=\"\",\"\",COUNTIF($B$2:B7087,\"=\"&B7087))","v":92},20,2.5293855081089125E-3,0.6470588235294118]
["8406-97","8406","M1205","DIRECTION ADMINISTRATIVE ET FINANCIÈRE",15,13,{"$f":"IF(C7092=\"\",\"\",COUNTIF($B$2:B7092,\"=\"&B7092))","v":97},20,2.2318107424490405E-3,0.8666666666666667]
[{"$f":"B7107&\"-\"&G7107","v":"8406-112"},"8406","H2605","MONTAGE ET CÂBLAGE ÉLECTRONIQUE",12,8,{"$f":"IF(C7107=\"\",\"\",COUNTIF($B$2:B7107,\"=\"&B7107))","v":112},10,1.7854485939592323E-3,0.66666666666666663]
["8406-115","8406","G1802","MANAGEMENT DU SERVICE EN RESTAURATION",12,11,{"$f":"IF(C7110=\"\",\"\",COUNTIF($B$2:B7110,\"=\"&B7110))","v":115},10,1.7854485939592323E-3,0.91666666666666663]
["8406-126","8406","M1101","ACHATS",10,4,{"$f":"IF(C7121=\"\",\"\",COUNTIF($B$2:B7121,\"=\"&B7121))","v":126},10,1.4878738282993601E-3,0.4]
["8406-135","8406","N4102","CONDUITE DE TRANSPORT DE PARTICULIERS",9,7,{"$f":"IF(C7130=\"\",\"\",COUNTIF($B$2:B7130,\"=\"&B7130))","v":135},10,1.3390864454694241E-3,0.77777777777777779]
["8406-151","8406","F1705","POSE DE CANALISATIONS",8,6,{"$f":"IF(C7146=\"\",\"\",COUNTIF($B$2:B7146,\"=\"&B7146))","v":151},10,1.1902990626394881E-3,0.75]
["8406-160","8406","G1502","PERSONNEL POLYVALENT D'HÔTELLERIE",7,1,{"$f":"IF(C7155=\"\",\"\",COUNTIF($B$2:B7155,\"=\"&B7155))","v":160},10,1.0415116798095521E-3,0.14285714285714285]
["8406-167","8406","C1109","RÉDACTION ET GESTION EN ASSURANCES",7,7,{"$f":"IF(C7162=\"\",\"\",COUNTIF($B$2:B7162,\"=\"&B7162))","v":167},10,1.0415116798095521E-3,1]
["8406-170","8406","M1707","STRATÉGIE COMMERCIALE",6,6,{"$f":"IF(C7165=\"\",\"\",COUNTIF($B$2:B7165,\"=\"&B7165))","v":170},10,8.9272429697961615E-4,1]
["8406-187","8406","K2501","GARDIENNAGE DE LOCAUX",5,2,{"$f":"IF(C7182=\"\",\"\",COUNTIF($B$2:B7182,\"=\"&B7182))","v":187},10,7.4393691414968005E-4,0.4]
["8406-195","8406","A1412","FABRICATION ET AFFINAGE DE FROMAGES",5,2,{"$f":"IF(C7190=\"\",\"\",COUNTIF($B$2:B7190,\"=\"&B7190))","v":195},10,7.4393691414968005E-4,0.4]
["8406-203","8406","M1204","CONTRÔLE DE GESTION",4,4,{"$f":"IF(C7198=\"\",\"\",COUNTIF($B$2:B7198,\"=\"&B7198))","v":203},0,5.9514953131974406E-4,1]
["8406-210","8406","G1403","GESTION DE STRUCTURE DE LOISIRS OU D'HÉBERGEMENT TOURISTIQUE",4,3,{"$f":"IF(C7205=\"\",\"\",COUNTIF($B$2:B7205,\"=\"&B7205))","v":210},0,5.9514953131974406E-4,0.75]
["8406-223","8406","K1205","INFORMATION SOCIALE",3,1,{"$f":"IF(C7218=\"\",\"\",COUNTIF($B$2:B7218,\"=\"&B7218))","v":223},0,4.4636214848980808E-4,0.33333333333333331]
["8406-235","8406","F1102","CONCEPTION - AMÉNAGEMENT D'ESPACES INTÉRIEURS",3,3,{"$f":"IF(C7230=\"\",\"\",COUNTIF($B$2:B7230,\"=\"&B7230))","v":235},0,4.4636214848980808E-4,1]
["8406-239","8406","D1503","MANAGEMENT/GESTION DE RAYON PRODUITS NON ALIMENTAIRES",3,3,{"$f":"IF(C7234=\"\",\"\",COUNTIF($B$2:B7234,\"=\"&B7234))","v":239},0,{"$f":"E7234/SUMIF(B:B,B7234,E:E)","v":4.4636214848980808E-4},1]
["8406-246","8406","N4204","INTERVENTION TECHNIQUE D'EXPLOITATION DES TRANSPORTS ROUTIERS DE PERSONNES",2,2,{"$f":"IF(C7241=\"\",\"\",COUNTIF($B$2:B7241,\"=\"&B7241))","v":246},0,2.9757476565987203E-4,1]
["8406-264","8406","H1401","MANAGEMENT ET INGÉNIERIE GESTION INDUSTRIELLE ET LOGISTIQUE",2,1,{"$f":"IF(C7259=\"\",\"\",COUNTIF($B$2:B7259,\"=\"&B7259))","v":264},0,2.9757476565987203E-4,0.5]
["8406-266","8406","G1303","VENTE DE VOYAGES",2,2,{"$f":"IF(C7261=\"\",\"\",COUNTIF($B$2:B7261,\"=\"&B7261))","v":266},0,2.9757476565987203E-4,1]
["8406-278","8406","K2101","CONSEIL EN FORMATION",1,1,{"$f":"IF(C7273=\"\",\"\",COUNTIF($B$2:B7273,\"=\"&B7273))","v":278},0,1.4878738282993602E-4,1]
["8406-283","8406","K2103","DIRECTION D'ÉTABLISSEMENT ET D'ENSEIGNEMENT",1,1,{"$f":"IF(C7278=\"\",\"\",COUNTIF($B$2:B7278,\"=\"&B7278))","v":283},0,1.4878738282993602E-4,1]
["8406-298","8406","G1102","PROMOTION DU TOURISME LOCAL",1,1,{"$f":"IF(C7293=\"\",\"\",COUNTIF($B$2:B7293,\"=\"&B7293))","v":298},0,1.4878738282993602E-4,1]
["8406-308","8406","E1104","CONCEPTION DE CONTENUS MULTIMÉDIAS",1,".",{"$f":"IF(C7303=\"\",\"\",COUNTIF($B$2:B7303,\"=\"&B7303))","v":308},0,1.4878738282993602E-4,0]
["8406-318","8406","C1503","MANAGEMENT DE PROJET IMMOBILIER",1,1,{"$f":"IF(C7313=\"\",\"\",COUNTIF($B$2:B7313,\"=\"&B7313))","v":318},0,1.4878738282993602E-4,1]
["8407-3","8407","G1803","SERVICE EN RESTAURATION",618,252,{"$f":"IF(C7316=\"\",\"\",COUNTIF($B$2:B7316,\"=\"&B7316))","v":3},620,2.7920845757657901E-2,0.40776699029126212]
["8407-19","8407","D1401","ASSISTANAT COMMERCIAL",263,179,{"$f":"IF(C7332=\"\",\"\",COUNTIF($B$2:B7332,\"=\"&B7332))","v":19},260,1.1882172223728201E-2,0.68060836501901145]
["8407-23","8407","F1602","ÉLECTRICITÉ BÂTIMENT",228,83,{"$f":"IF(C7336=\"\",\"\",COUNTIF($B$2:B7336,\"=\"&B7336))","v":23},230,1.0300894551368935E-2,0.36403508771929827]
["8407-38","8407","G1605","PLONGE EN RESTAURATION",162,65,{"$f":"IF(C7351=\"\",\"\",COUNTIF($B$2:B7351,\"=\"&B7351))","v":38},160,7.3190566549200323E-3,0.40123456790123457]
["8407-43","8407","K1201","ACTION SOCIALE",151,99,{"$f":"IF(C7356=\"\",\"\",COUNTIF($B$2:B7356,\"=\"&B7356))","v":43},150,6.8220836721785486E-3,0.6556291390728477]
["8407-55","8407","M1805","ÉTUDES ET DÉVELOPPEMENT INFORMATIQUE",114,108,{"$f":"IF(C7368=\"\",\"\",COUNTIF($B$2:B7368,\"=\"&B7368))","v":55},110,5.1504472756844673E-3,0.94736842105263153]
["8407-63","8407","F1104","DESSIN BTP ET PAYSAGE",102,91,{"$f":"IF(C7376=\"\",\"\",COUNTIF($B$2:B7376,\"=\"&B7376))","v":63},100,4.608294930875576E-3,0.89215686274509809]
["8407-75","8407","D1202","COIFFURE",89,76,{"$f":"IF(C7388=\"\",\"\",COUNTIF($B$2:B7388,\"=\"&B7388))","v":75},90,4.0209632239992773E-3,0.8539325842696629]
["8407-82","8407","F1701","CONSTRUCTION EN BÉTON",78,28,{"$f":"IF(C7395=\"\",\"\",COUNTIF($B$2:B7395,\"=\"&B7395))","v":82},80,3.5239902412577935E-3,0.35897435897435898]
["8407-95","8407","K2106","ENSEIGNEMENT DES ÉCOLES",59,16,{"$f":"IF(C7408=\"\",\"\",COUNTIF($B$2:B7408,\"=\"&B7408))","v":95},60,2.6655823619770487E-3,0.2711864406779661]
["8407-97","8407","D1502","MANAGEMENT/GESTION DE RAYON PRODUITS ALIMENTAIRES",57,56,{"$f":"IF(C7410=\"\",\"\",COUNTIF($B$2:B7410,\"=\"&B7410))","v":97},60,2.5752236378422336E-3,0.98245614035087714]
["8407-115","8407","G1204","ÉDUCATION EN ACTIVITÉS SPORTIVES",43,20,{"$f":"IF(C7428=\"\",\"\",COUNTIF($B$2:B7428,\"=\"&B7428))","v":115},40,1.9427125688985271E-3,0.46511627906976744]
["8407-118","8407","H3301","CONDUITE D'ÉQUIPEMENT DE CONDITIONNEMENT",41,19,{"$f":"IF(C7431=\"\",\"\",COUNTIF($B$2:B7431,\"=\"&B7431))","v":118},40,1.8523538447637118E-3,0.46341463414634149]
["8407-126","8407","H1203","CONCEPTION ET DESSIN PRODUITS MÉCANIQUES",38,32,{"$f":"IF(C7439=\"\",\"\",COUNTIF($B$2:B7439,\"=\"&B7439))","v":126},40,1.716815758561489E-3,0.84210526315789469]
["8407-138","8407","K1305","INTERVENTION SOCIALE ET FAMILIALE",33,26,{"$f":"IF(C7451=\"\",\"\",COUNTIF($B$2:B7451,\"=\"&B7451))","v":138},30,1.4909189482244511E-3,0.78787878787878785]
["8407-151","8407","C1201","ACCUEIL ET SERVICES BANCAIRES",31,10,{"$f":"IF(C7464=\"\",\"\",COUNTIF($B$2:B7464,\"=\"&B7464))","v":151},30,1.4005602240896359E-3,0.32258064516129031]
["8407-154","8407","J1406","ORTHOPHONIE",30,28,{"$f":"IF(C7467=\"\",\"\",COUNTIF($B$2:B7467,\"=\"&B7467))","v":154},30,1.3553808620222283E-3,0.93333333333333335]
["8407-170","8407","J1307","PRÉPARATION EN PHARMACIE",25,15,{"$f":"IF(C7483=\"\",\"\",COUNTIF($B$2:B7483,\"=\"&B7483))","v":170},30,1.1294840516851902E-3,0.6]
["8407-180","8407","K1707","SURVEILLANCE MUNICIPALE",22,7,{"$f":"IF(C7493=\"\",\"\",COUNTIF($B$2:B7493,\"=\"&B7493))","v":180},20,9.9394596548296743E-4,0.31818181818181818]
["8407-190","8407","M1503","MANAGEMENT DES RESSOURCES HUMAINES",20,14,{"$f":"IF(C7503=\"\",\"\",COUNTIF($B$2:B7503,\"=\"&B7503))","v":190},20,9.0358724134815215E-4,0.7]
["8407-195","8407","I1301","INSTALLATION ET MAINTENANCE D'ASCENSEURS",18,14,{"$f":"IF(C7508=\"\",\"\",COUNTIF($B$2:B7508,\"=\"&B7508))","v":195},20,8.1322851721333698E-4,0.77777777777777779]
["8407-206","8407","A1303","INGÉNIERIE EN AGRICULTURE ET ENVIRONNEMENT NATUREL",16,14,{"$f":"IF(C7519=\"\",\"\",COUNTIF($B$2:B7519,\"=\"&B7519))","v":206},20,7.228697930785217E-4,0.875]
["8407-213","8407","D1508","ENCADREMENT DU PERSONNEL DE CAISSES",15,11,{"$f":"IF(C7526=\"\",\"\",COUNTIF($B$2:B7526,\"=\"&B7526))","v":213},20,6.7769043101111417E-4,0.73333333333333328]
["8407-224","8407","H2402","ASSEMBLAGE - MONTAGE DE VÊTEMENTS ET PRODUITS TEXTILES",13,8,{"$f":"IF(C7537=\"\",\"\",COUNTIF($B$2:B7537,\"=\"&B7537))","v":224},10,5.8733170687629889E-4,0.61538461538461542]
["8407-229","8407","J1202","PHARMACIE",12,9,{"$f":"IF(C7542=\"\",\"\",COUNTIF($B$2:B7542,\"=\"&B7542))","v":229},10,5.4215234480889125E-4,0.75]
["8407-239","8407","K1705","SÉCURITÉ CIVILE ET SECOURS",11,".",{"$f":"IF(C7552=\"\",\"\",COUNTIF($B$2:B7552,\"=\"&B7552))","v":239},10,4.9697298274148372E-4,0]
["8407-249","8407","H3401","CONDUITE DE TRAITEMENT D'ABRASION DE SURFACE",10,7,{"$f":"IF(C7562=\"\",\"\",COUNTIF($B$2:B7562,\"=\"&B7562))","v":249},10,4.5179362067407608E-4,0.7]
["8407-265","8407","K2502","MANAGEMENT DE SÉCURITÉ PRIVÉE",8,6,{"$f":"IF(C7578=\"\",\"\",COUNTIF($B$2:B7578,\"=\"&B7578))","v":265},10,3.6143489653926085E-4,0.75]
["8407-268","8407","H1202","CONCEPTION ET DESSIN DE PRODUITS ÉLECTRIQUES ET ÉLECTRONIQUES",8,7,{"$f":"IF(C7581=\"\",\"\",COUNTIF($B$2:B7581,\"=\"&B7581))","v":268},10,3.6143489653926085E-4,0.875]
["8407-281","8407","K1601","GESTION DE L'INFORMATION ET DE LA DOCUMENTATION",7,4,{"$f":"IF(C7594=\"\",\"\",COUNTIF($B$2:B7594,\"=\"&B7594))","v":281},10,3.1625553447185326E-4,0.5714285714285714]
["8407-293","8407","K2103","DIRECTION D'ÉTABLISSEMENT ET D'ENSEIGNEMENT",6,2,{"$f":"IF(C7606=\"\",\"\",COUNTIF($B$2:B7606,\"=\"&B7606))","v":293},10,2.7107617240444562E-4,0.33333333333333331]
["8407-301","8407","F1105","ÉTUDES GÉOLOGIQUES",6,6,{"$f":"IF(C7614=\"\",\"\",COUNTIF($B$2:B7614,\"=\"&B7614))","v":301},10,2.7107617240444562E-4,1]
["8407-308","8407","B1803","RÉALISATION DE VÊTEMENTS SUR MESURE OU EN PETITE SÉRIE",5,2,{"$f":"IF(C7621=\"\",\"\",COUNTIF($B$2:B7621,\"=\"&B7621))","v":308},10,2.2589681033703804E-4,0.4]
["8407-322","8407","D1207","RETOUCHES EN HABILLEMENT",4,2,{"$f":"IF(C7635=\"\",\"\",COUNTIF($B$2:B7635,\"=\"&B7635))","v":322},0,1.8071744826963042E-4,0.5]
["8407-324","8407","N3103","NAVIGATION FLUVIALE",3,".",{"$f":"IF(C7637=\"\",\"\",COUNTIF($B$2:B7637,\"=\"&B7637))","v":324},0,1.3553808620222281E-4,0]
["8407-337","8407","L1504","ÉCLAIRAGE SPECTACLE",3,1,{"$f":"IF(C7650=\"\",\"\",COUNTIF($B$2:B7650,\"=\"&B7650))","v":337},0,1.3553808620222281E-4,0.33333333333333331]
["8407-344","8407","E1304","FAÇONNAGE ET ROUTAGE",3,2,{"$f":"IF(C7657=\"\",\"\",COUNTIF($B$2:B7657,\"=\"&B7657))","v":344},0,1.3553808620222281E-4,0.66666666666666663]
["8407-356","8407","L1509","RÉGIE GÉNÉRALE",2,1,{"$f":"IF(C7669=\"\",\"\",COUNTIF($B$2:B7669,\"=\"&B7669))","v":356},0,9.0358724134815212E-5,0.5]
["8407-364","8407","H2409","COUPE CUIR, TEXTILE ET MATÉRIAUX SOUPLES",2,1,{"$f":"IF(C7677=\"\",\"\",COUNTIF($B$2:B7677,\"=\"&B7677))","v":364},0,9.0358724134815212E-5,0.5]
["8407-376","8407","N4202","DIRECTION D'EXPLOITATION DES TRANSPORTS ROUTIERS DE PERSONNES",1,1,{"$f":"IF(C7689=\"\",\"\",COUNTIF($B$2:B7689,\"=\"&B7689))","v":376},0,4.5179362067407606E-5,1]
["8407-381","8407","K1602","GESTION DE PATRIMOINE CULTUREL",1,1,{"$f":"IF(C7694=\"\",\"\",COUNTIF($B$2:B7694,\"=\"&B7694))","v":381},0,4.5179362067407606E-5,1]
["8407-396","8407","G1302","OPTIMISATION DE PRODUITS TOURISTIQUES",1,1,{"$f":"IF(C7709=\"\",\"\",COUNTIF($B$2:B7709,\"=\"&B7709))","v":396},0,4.5179362067407606E-5,1]
["8407-400","8407","G1101","ACCUEIL TOURISTIQUE",1,".",{"$f":"IF(C7713=\"\",\"\",COUNTIF($B$2:B7713,\"=\"&B7713))","v":400},0,4.5179362067407606E-5,0]
["8408-1","8408","G1602","PERSONNEL DE CUISINE",937,197,{"$f":"IF(C7729=\"\",\"\",COUNTIF($B$2:B7729,\"=\"&B7729))","v":1},940,6.1414432719407483E-2,0.21024546424759871]
["8408-4","8408","D1507","MISE EN RAYON LIBRE-SERVICE",374,281,{"$f":"IF(C7732=\"\",\"\",COUNTIF($B$2:B7732,\"=\"&B7732))","v":4},370,2.4513338139870222E-2,0.75133689839572193]
["8408-14","8408","G1603","PERSONNEL POLYVALENT EN RESTAURATION",214,85,{"$f":"IF(C7742=\"\",\"\",COUNTIF($B$2:B7742,\"=\"&B7742))","v":14},210,1.4026348561316118E-2,0.39719626168224298]
["8408-24","8408","N1105","MANUTENTION MANUELLE DE CHARGES",157,93,{"$f":"IF(C7752=\"\",\"\",COUNTIF($B$2:B7752,\"=\"&B7752))","v":24},160,1.0290358523956216E-2,0.59235668789808915]
["8408-39","8408","D1505","PERSONNEL DE CAISSE",114,45,{"$f":"IF(C7767=\"\",\"\",COUNTIF($B$2:B7767,\"=\"&B7767))","v":39},110,7.4719800747198011E-3,0.39473684210526316]
["8408-44","8408","H2206","RÉALISATION DE MENUISERIE BOIS ET TONNELLERIE",105,69,{"$f":"IF(C7772=\"\",\"\",COUNTIF($B$2:B7772,\"=\"&B7772))","v":44},110,6.8820869109261322E-3,0.65714285714285714]
["8408-56","8408","H3302","OPÉRATIONS MANUELLES D'ASSEMBLAGE, TRI OU EMBALLAGE",78,42,{"$f":"IF(C7784=\"\",\"\",COUNTIF($B$2:B7784,\"=\"&B7784))","v":56},80,5.1124074195451272E-3,0.53846153846153844]
["8408-58","8408","G1802","MANAGEMENT DU SERVICE EN RESTAURATION",75,17,{"$f":"IF(C7786=\"\",\"\",COUNTIF($B$2:B7786,\"=\"&B7786))","v":58},80,4.9157763649472375E-3,0.22666666666666666]
["8408-76","8408","F1301","CONDUITE DE GRUE",47,24,{"$f":"IF(C7804=\"\",\"\",COUNTIF($B$2:B7804,\"=\"&B7804))","v":76},50,3.0805531887002687E-3,0.51063829787234039]
[{"$f":"B7811&\"-\"&G7811","v":"8408-83"},"8408","K2303","NETTOYAGE DES ESPACES URBAINS",39,30,{"$f":"IF(C7811=\"\",\"\",COUNTIF($B$2:B7811,\"=\"&B7811))","v":83},40,2.5562037097725636E-3,0.76923076923076927]
["8408-87","8408","K1201","ACTION SOCIALE",35,15,{"$f":"IF(C7815=\"\",\"\",COUNTIF($B$2:B7815,\"=\"&B7815))","v":87},40,2.2940289703087106E-3,0.42857142857142855]
["8408-99","8408","K1707","SURVEILLANCE MUNICIPALE",30,15,{"$f":"IF(C7827=\"\",\"\",COUNTIF($B$2:B7827,\"=\"&B7827))","v":99},30,1.9663105459788951E-3,0.5]
["8408-112","8408","N1301","CONCEPTION ET ORGANISATION DE LA CHAÎNE LOGISTIQUE",24,21,{"$f":"IF(C7840=\"\",\"\",COUNTIF($B$2:B7840,\"=\"&B7840))","v":112},20,1.573048436783116E-3,0.875]
["8408-119","8408","E1103","COMMUNICATION",22,20,{"$f":"IF(C7847=\"\",\"\",COUNTIF($B$2:B7847,\"=\"&B7847))","v":119},20,1.4419610670511895E-3,0.90909090909090906]
["8408-127","8408","M1605","ASSISTANAT TECHNIQUE ET ADMINISTRATIF",20,15,{"$f":"IF(C7855=\"\",\"\",COUNTIF($B$2:B7855,\"=\"&B7855))","v":127},20,1.3108736973192633E-3,0.75]
["8408-135","8408","M1603","DISTRIBUTION DE DOCUMENTS",19,13,{"$f":"IF(C7863=\"\",\"\",COUNTIF($B$2:B7863,\"=\"&B7863))","v":135},20,1.2453300124533001E-3,0.68421052631578949]
["8408-152","8408","C1504","TRANSACTION IMMOBILIÈRE",16,11,{"$f":"IF(C7880=\"\",\"\",COUNTIF($B$2:B7880,\"=\"&B7880))","v":152},20,1.0486989578554107E-3,0.6875]
["8408-155","8408","N4204","INTERVENTION TECHNIQUE D'EXPLOITATION DES TRANSPORTS ROUTIERS DE PERSONNES",16,14,{"$f":"IF(C7883=\"\",\"\",COUNTIF($B$2:B7883,\"=\"&B7883))","v":155},20,1.0486989578554107E-3,0.875]
["8408-162","8408","I1401","MAINTENANCE INFORMATIQUE ET BUREAUTIQUE",15,15,{"$f":"IF(C7890=\"\",\"\",COUNTIF($B$2:B7890,\"=\"&B7890))","v":162},20,9.8315527298944755E-4,1]
["8408-171","8408","H1503","INTERVENTION TECHNIQUE EN LABORATOIRE D'ANALYSE INDUSTRIELLE",14,5,{"$f":"IF(C7899=\"\",\"\",COUNTIF($B$2:B7899,\"=\"&B7899))","v":171},10,9.176115881234843E-4,0.35714285714285715]
["8408-187","8408","G1404","MANAGEMENT D'ÉTABLISSEMENT DE RESTAURATION COLLECTIVE",11,8,{"$f":"IF(C7915=\"\",\"\",COUNTIF($B$2:B7915,\"=\"&B7915))","v":187},10,7.2098053352559477E-4,0.72727272727272729]
["8408-196","8408","M1704","MANAGEMENT RELATION CLIENTÈLE",10,9,{"$f":"IF(C7924=\"\",\"\",COUNTIF($B$2:B7924,\"=\"&B7924))","v":196},10,6.5543684865963163E-4,0.9]
["8408-207","8408","K2102","COORDINATION PÉDAGOGIQUE",9,7,{"$f":"IF(C7935=\"\",\"\",COUNTIF($B$2:B7935,\"=\"&B7935))","v":207},10,5.8989316379366849E-4,0.77777777777777779]
["8408-214","8408","H1208","INTERVENTION TECHNIQUE EN ÉTUDES ET CONCEPTION EN AUTOMATISME",8,8,{"$f":"IF(C7942=\"\",\"\",COUNTIF($B$2:B7942,\"=\"&B7942))","v":214},10,5.2434947892770535E-4,1]
["8408-225","8408","I1503","INTERVENTION EN MILIEUX ET PRODUITS NOCIFS",8,8,{"$f":"IF(C7953=\"\",\"\",COUNTIF($B$2:B7953,\"=\"&B7953))","v":225},10,5.2434947892770535E-4,1]
["8408-230","8408","D1403","RELATION COMMERCIALE AUPRÈS DE PARTICULIERS",7,4,{"$f":"IF(C7958=\"\",\"\",COUNTIF($B$2:B7958,\"=\"&B7958))","v":230},10,4.5880579406174215E-4,0.5714285714285714]
["8408-240","8408","D1501","ANIMATION DE VENTE",6,5,{"$f":"IF(C7968=\"\",\"\",COUNTIF($B$2:B7968,\"=\"&B7968))","v":240},10,3.9326210919577901E-4,0.83333333333333337]
["8408-250","8408","K1305","INTERVENTION SOCIALE ET FAMILIALE",6,3,{"$f":"IF(C7978=\"\",\"\",COUNTIF($B$2:B7978,\"=\"&B7978))","v":250},10,3.9326210919577901E-4,0.5]
["8408-262","8408","K2203","MANAGEMENT ET INSPECTION EN PROPRETÉ DE LOCAUX",5,4,{"$f":"IF(C7990=\"\",\"\",COUNTIF($B$2:B7990,\"=\"&B7990))","v":262},10,3.2771842432981581E-4,0.8]
["8408-269","8408","G1205","PERSONNEL D'ATTRACTIONS OU DE STRUCTURES DE LOISIRS",4,".",{"$f":"IF(C7997=\"\",\"\",COUNTIF($B$2:B7997,\"=\"&B7997))","v":269},0,2.6217473946385267E-4,0]
["8408-282","8408","D1508","ENCADREMENT DU PERSONNEL DE CAISSES",3,".",{"$f":"IF(C8010=\"\",\"\",COUNTIF($B$2:B8010,\"=\"&B8010))","v":282},0,1.966310545978895E-4,0]
["8408-284","8408","E1107","ORGANISATION D'ÉVÈNEMENTIEL",3,2,{"$f":"IF(C8012=\"\",\"\",COUNTIF($B$2:B8012,\"=\"&B8012))","v":284},0,1.966310545978895E-4,0.66666666666666663]
["8408-302","8408","H2201","ASSEMBLAGE D'OUVRAGES EN BOIS",2,".",{"$f":"IF(C8030=\"\",\"\",COUNTIF($B$2:B8030,\"=\"&B8030))","v":302},0,1.3108736973192634E-4,0]
["8408-305","8408","K1704","MANAGEMENT DE LA SÉCURITÉ PUBLIQUE",2,1,{"$f":"IF(C8033=\"\",\"\",COUNTIF($B$2:B8033,\"=\"&B8033))","v":305},0,1.3108736973192634E-4,0.5]
["8408-313","8408","A1410","ÉLEVAGE OVIN OU CAPRIN",2,1,{"$f":"IF(C8041=\"\",\"\",COUNTIF($B$2:B8041,\"=\"&B8041))","v":313},0,1.3108736973192634E-4,0.5]
["8408-325","8408","J1402","DIÉTÉTIQUE",2,1,{"$f":"IF(C8053=\"\",\"\",COUNTIF($B$2:B8053,\"=\"&B8053))","v":325},0,1.3108736973192634E-4,0.5]
["8408-332","8408","H2605","MONTAGE ET CÂBLAGE ÉLECTRONIQUE",1,".",{"$f":"IF(C8060=\"\",\"\",COUNTIF($B$2:B8060,\"=\"&B8060))","v":332},0,6.5543684865963168E-5,0]
["8408-345","8408","E1104","CONCEPTION DE CONTENUS MULTIMÉDIAS",1,1,{"$f":"IF(C8073=\"\",\"\",COUNTIF($B$2:B8073,\"=\"&B8073))","v":345},0,6.5543684865963168E-5,1]
["8408-357","8408","A1302","CONTRÔLE ET DIAGNOSTIC TECHNIQUE EN AGRICULTURE",1,1,{"$f":"IF(C8085=\"\",\"\",COUNTIF($B$2:B8085,\"=\"&B8085))","v":357},0,6.5543684865963168E-5,1]
["8408-367","8408","M1606","SAISIE DE DONNÉES",1,".",{"$f":"IF(C8095=\"\",\"\",COUNTIF($B$2:B8095,\"=\"&B8095))","v":367},0,6.5543684865963168E-5,0]
["8408-377","8408","J1405","OPTIQUE - LUNETTERIE",1,1,{"$f":"IF(C8105=\"\",\"\",COUNTIF($B$2:B8105,\"=\"&B8105))","v":377},0,6.5543684865963168E-5,1]
["8409-7","8409","G1703","RÉCEPTION EN HÔTELLERIE",93,8,{"$f":"IF(C8114=\"\",\"\",COUNTIF($B$2:B8114,\"=\"&B8114))","v":7},90,2.448657187993681E-2,8.6021505376344093E-2]
["8409-9","8409","K1304","SERVICES DOMESTIQUES",82,19,{"$f":"IF(C8116=\"\",\"\",COUNTIF($B$2:B8116,\"=\"&B8116))","v":9},80,2.1590310689836755E-2,0.23170731707317074]
["8409-22","8409","G1502","PERSONNEL POLYVALENT D'HÔTELLERIE",44,".",{"$f":"IF(C8129=\"\",\"\",COUNTIF($B$2:B8129,\"=\"&B8129))","v":22},{"$f":"ROUND(E8129,-1)","v":40},1.1585044760400211E-2,{"$f":"IF(OR(F8129=\"\",F8129=\".\"),0,F8129/E8129)","v":0}]
["8409-29","8409","J1304","AIDE EN PUÉRICULTURE",35,5,{"$f":"IF(C8136=\"\",\"\",COUNTIF($B$2:B8136,\"=\"&B8136))","v":29},40,9.2153765139547129E-3,0.14285714285714285]
["8409-41","8409","H2301","CONDUITE D'ÉQUIPEMENT DE PRODUCTION CHIMIQUE OU PHARMACEUTIQUE",26,2,{"$f":"IF(C8148=\"\",\"\",COUNTIF($B$2:B8148,\"=\"&B8148))","v":41},30,6.8457082675092151E-3,7.6923076923076927E-2]
["8409-51","8409","J1305","CONDUITE DE VÉHICULES SANITAIRES",18,9,{"$f":"IF(C8158=\"\",\"\",COUNTIF($B$2:B8158,\"=\"&B8158))","v":51},20,4.7393364928909956E-3,0.5]
["8409-61","8409","I1304","INSTALLATION ET MAINTENANCE D'ÉQUIPEMENTS INDUSTRIELS ET D'EXPLOITATION",13,11,{"$f":"IF(C8168=\"\",\"\",COUNTIF($B$2:B8168,\"=\"&B8168))","v":61},10,3.4228541337546076E-3,0.84615384615384615]
["8409-66","8409","N4105","CONDUITE ET LIVRAISON PAR TOURNÉES SUR COURTE DISTANCE",12,2,{"$f":"IF(C8173=\"\",\"\",COUNTIF($B$2:B8173,\"=\"&B8173))","v":66},10,3.1595576619273301E-3,0.16666666666666666]
["8409-77","8409","A1203","AMÉNAGEMENT ET ENTRETIEN DES ESPACES VERTS",9,".",{"$f":"IF(C8184=\"\",\"\",COUNTIF($B$2:B8184,\"=\"&B8184))","v":77},10,2.3696682464454978E-3,0]
["8409-84","8409","A1416","POLYCULTURE, ÉLEVAGE",8,2,{"$f":"IF(C8191=\"\",\"\",COUNTIF($B$2:B8191,\"=\"&B8191))","v":84},10,2.1063717746182199E-3,0.25]
["8409-95","8409","C1102","CONSEIL CLIENTÈLE EN ASSURANCES",7,5,{"$f":"IF(C8202=\"\",\"\",COUNTIF($B$2:B8202,\"=\"&B8202))","v":95},10,1.8430753027909425E-3,0.7142857142857143]
["8409-104","8409","F1401","EXTRACTION LIQUIDE ET GAZEUSE",6,".",{"$f":"IF(C8211=\"\",\"\",COUNTIF($B$2:B8211,\"=\"&B8211))","v":104},10,1.5797788309636651E-3,0]
["8409-120","8409","H2504","ENCADREMENT D'ÉQUIPE EN INDUSTRIE DE TRANSFORMATION",4,4,{"$f":"IF(C8227=\"\",\"\",COUNTIF($B$2:B8227,\"=\"&B8227))","v":120},0,1.05318588730911E-3,1]
["8409-129","8409","L1101","ANIMATION MUSICALE ET SCÉNIQUE",3,".",{"$f":"IF(C8236=\"\",\"\",COUNTIF($B$2:B8236,\"=\"&B8236))","v":129},0,7.8988941548183253E-4,0]
["8409-136","8409","H2901","AJUSTEMENT ET MONTAGE DE FABRICATION",3,3,{"$f":"IF(C8243=\"\",\"\",COUNTIF($B$2:B8243,\"=\"&B8243))","v":136},0,7.8988941548183253E-4,1]
["8409-149","8409","F1605","MONTAGE DE RÉSEAUX ÉLECTRIQUES ET TÉLÉCOMS",3,3,{"$f":"IF(C8256=\"\",\"\",COUNTIF($B$2:B8256,\"=\"&B8256))","v":149},0,7.8988941548183253E-4,1]
["8409-156","8409","M1803","DIRECTION DES SYSTÈMES D'INFORMATION",2,2,{"$f":"IF(C8263=\"\",\"\",COUNTIF($B$2:B8263,\"=\"&B8263))","v":156},0,5.2659294365455498E-4,1]
["8409-164","8409","I1310","MAINTENANCE MÉCANIQUE INDUSTRIELLE",2,".",{"$f":"IF(C8271=\"\",\"\",COUNTIF($B$2:B8271,\"=\"&B8271))","v":164},0,5.2659294365455498E-4,0]
["8409-172","8409","K2601","CONDUITE D'OPÉRATIONS FUNÉRAIRES",2,".",{"$f":"IF(C8279=\"\",\"\",COUNTIF($B$2:B8279,\"=\"&B8279))","v":172},0,5.2659294365455498E-4,0]
["8409-179","8409","D1402","RELATION COMMERCIALE GRANDS COMPTES ET ENTREPRISES",2,2,{"$f":"IF(C8286=\"\",\"\",COUNTIF($B$2:B8286,\"=\"&B8286))","v":179},0,5.2659294365455498E-4,1]
["8409-193","8409","M1808","INFORMATION GÉOGRAPHIQUE",1,".",{"$f":"IF(C8300=\"\",\"\",COUNTIF($B$2:B8300,\"=\"&B8300))","v":193},0,2.6329647182727749E-4,0]
["8409-204","8409","N4302","CONTRÔLE DES TRANSPORTS EN COMMUN",1,".",{"$f":"IF(C8311=\"\",\"\",COUNTIF($B$2:B8311,\"=\"&B8311))","v":204},0,2.6329647182727749E-4,0]
["8409-208","8409","H1506","INTERVENTION TECHNIQUE QUALITÉ EN MÉCANIQUE ET TRAVAIL DES MÉTAUX",1,1,{"$f":"IF(C8315=\"\",\"\",COUNTIF($B$2:B8315,\"=\"&B8315))","v":208},0,2.6329647182727749E-4,1]
["8409-224","8409","A1201","BÛCHERONNAGE ET ÉLAGAGE",1,1,{"$f":"IF(C8331=\"\",\"\",COUNTIF($B$2:B8331,\"=\"&B8331))","v":224},0,2.6329647182727749E-4,1]
["8409-231","8409","A1409","ÉLEVAGE DE LAPINS ET VOLAILLES",1,1,{"$f":"IF(C8338=\"\",\"\",COUNTIF($B$2:B8338,\"=\"&B8338))","v":231},0,2.6329647182727749E-4,1]
["8410-1","8410","G1602","PERSONNEL DE CUISINE",1310,102,{"$f":"IF(C8344=\"\",\"\",COUNTIF($B$2:B8344,\"=\"&B8344))","v":1},1310,0.1017159717369361,7.786259541984733E-2]
["8410-11","8410","K1304","SERVICES DOMESTIQUES",231,47,{"$f":"IF(C8354=\"\",\"\",COUNTIF($B$2:B8354,\"=\"&B8354))","v":11},230,1.7936175168879572E-2,0.20346320346320346]
["8410-26","8410","D1102","BOULANGERIE - VIENNOISERIE",120,26,{"$f":"IF(C8369=\"\",\"\",COUNTIF($B$2:B8369,\"=\"&B8369))","v":26},120,9.3174935942231547E-3,0.21666666666666667]
["8410-31","8410","D1301","MANAGEMENT DE MAGASIN DE DÉTAIL",103,17,{"$f":"IF(C8374=\"\",\"\",COUNTIF($B$2:B8374,\"=\"&B8374))","v":31},100,7.9975153350415398E-3,0.1650485436893204]
["8410-45","8410","K1301","ACCOMPAGNEMENT MÉDICOSOCIAL",63,54,{"$f":"IF(C8388=\"\",\"\",COUNTIF($B$2:B8388,\"=\"&B8388))","v":45},60,4.8916841369671558E-3,0.8571428571428571]
["8410-51","8410","D1214","VENTE EN HABILLEMENT ET ACCESSOIRES DE LA PERSONNE",57,23,{"$f":"IF(C8394=\"\",\"\",COUNTIF($B$2:B8394,\"=\"&B8394))","v":51},60,4.425809457255998E-3,0.40350877192982454]
["8410-63","8410","F1202","DIRECTION DE CHANTIER DU BTP",45,39,{"$f":"IF(C8406=\"\",\"\",COUNTIF($B$2:B8406,\"=\"&B8406))","v":63},50,3.4940600978336828E-3,0.8666666666666667]
["8410-70","8410","J1305","CONDUITE DE VÉHICULES SANITAIRES",39,17,{"$f":"IF(C8413=\"\",\"\",COUNTIF($B$2:B8413,\"=\"&B8413))","v":70},40,3.028185418122525E-3,0.4358974358974359]
["8410-74","8410","K2303","NETTOYAGE DES ESPACES URBAINS",37,3,{"$f":"IF(C8417=\"\",\"\",COUNTIF($B$2:B8417,\"=\"&B8417))","v":74},40,2.872893858218806E-3,8.1081081081081086E-2]
["8410-89","8410","H2102","CONDUITE D'ÉQUIPEMENT DE PRODUCTION ALIMENTAIRE",26,13,{"$f":"IF(C8432=\"\",\"\",COUNTIF($B$2:B8432,\"=\"&B8432))","v":89},30,2.0187902787483498E-3,0.5]
["8410-94","8410","H2907","CONDUITE D'INSTALLATION DE PRODUCTION DES MÉTAUX",23,7,{"$f":"IF(C8437=\"\",\"\",COUNTIF($B$2:B8437,\"=\"&B8437))","v":94},20,1.7858529388927711E-3,0.30434782608695654]
["8410-106","8410","G1804","SOMMELLERIE",21,1,{"$f":"IF(C8449=\"\",\"\",COUNTIF($B$2:B8449,\"=\"&B8449))","v":106},{"$f":"ROUND(E8449,-1)","v":20},1.6305613789890519E-3,{"$f":"IF(OR(F8449=\"\",F8449=\".\"),0,F8449/E8449)","v":4.7619047619047616E-2}]
["8410-114","8410","H2909","MONTAGE-ASSEMBLAGE MÉCANIQUE",18,1,{"$f":"IF(C8457=\"\",\"\",COUNTIF($B$2:B8457,\"=\"&B8457))","v":114},20,1.397624039133473E-3,5.5555555555555552E-2]
["8410-126","8410","E1103","COMMUNICATION",16,16,{"$f":"IF(C8469=\"\",\"\",COUNTIF($B$2:B8469,\"=\"&B8469))","v":126},20,1.2423324792297538E-3,1]
["8410-133","8410","F1701","CONSTRUCTION EN BÉTON",14,4,{"$f":"IF(C8476=\"\",\"\",COUNTIF($B$2:B8476,\"=\"&B8476))","v":133},10,1.0870409193260346E-3,0.2857142857142857]
["8410-146","8410","K1403","MANAGEMENT DE STRUCTURE DE SANTÉ, SOCIALE OU PÉNITENTIAIRE",11,10,{"$f":"IF(C8489=\"\",\"\",COUNTIF($B$2:B8489,\"=\"&B8489))","v":146},10,8.5410357947045582E-4,0.90909090909090906]
["8410-149","8410","F1612","TAILLE ET DÉCORATION DE PIERRES",11,9,{"$f":"IF(C8492=\"\",\"\",COUNTIF($B$2:B8492,\"=\"&B8492))","v":149},10,8.5410357947045582E-4,0.81818181818181823]
["8410-162","8410","D1508","ENCADREMENT DU PERSONNEL DE CAISSES",10,4,{"$f":"IF(C8505=\"\",\"\",COUNTIF($B$2:B8505,\"=\"&B8505))","v":162},10,7.7645779951859611E-4,0.4]
["8410-169","8410","K1206","INTERVENTION SOCIOCULTURELLE",9,7,{"$f":"IF(C8512=\"\",\"\",COUNTIF($B$2:B8512,\"=\"&B8512))","v":169},10,6.9881201956673651E-4,0.77777777777777779]
["8410-177","8410","K1404","MISE EN OEUVRE ET PILOTAGE DE LA POLITIQUE DES POUVOIRS PUBLICS",8,7,{"$f":"IF(C8520=\"\",\"\",COUNTIF($B$2:B8520,\"=\"&B8520))","v":177},10,6.2116623961487691E-4,0.875]
["8410-189","8410","M1502","DÉVELOPPEMENT DES RESSOURCES HUMAINES",7,5,{"$f":"IF(C8532=\"\",\"\",COUNTIF($B$2:B8532,\"=\"&B8532))","v":189},10,5.4352045966301731E-4,0.7142857142857143]
["8410-201","8410","D1213","VENTE EN GROS DE MATÉRIEL ET ÉQUIPEMENT",7,7,{"$f":"IF(C8544=\"\",\"\",COUNTIF($B$2:B8544,\"=\"&B8544))","v":201},10,5.4352045966301731E-4,1]
["8410-206","8410","C1102","CONSEIL CLIENTÈLE EN ASSURANCES",6,6,{"$f":"IF(C8549=\"\",\"\",COUNTIF($B$2:B8549,\"=\"&B8549))","v":206},10,4.6587467971115771E-4,1]
["8410-221","8410","K2106","ENSEIGNEMENT DES ÉCOLES",4,1,{"$f":"IF(C8564=\"\",\"\",COUNTIF($B$2:B8564,\"=\"&B8564))","v":221},0,3.1058311980743846E-4,0.25]
["8410-231","8410","H2205","PREMIÈRE TRANSFORMATION DE BOIS D'OEUVRE",4,3,{"$f":"IF(C8574=\"\",\"\",COUNTIF($B$2:B8574,\"=\"&B8574))","v":231},0,3.1058311980743846E-4,0.75]
["8410-237","8410","L1509","RÉGIE GÉNÉRALE",3,1,{"$f":"IF(C8580=\"\",\"\",COUNTIF($B$2:B8580,\"=\"&B8580))","v":237},0,2.3293733985557886E-4,0.33333333333333331]
["8410-246","8410","I1103","SUPERVISION D'ENTRETIEN ET GESTION DE VÉHICULES",3,2,{"$f":"IF(C8589=\"\",\"\",COUNTIF($B$2:B8589,\"=\"&B8589))","v":246},0,2.3293733985557886E-4,0.66666666666666663]
["8410-257","8410","N1301","CONCEPTION ET ORGANISATION DE LA CHAÎNE LOGISTIQUE",2,1,{"$f":"IF(C8600=\"\",\"\",COUNTIF($B$2:B8600,\"=\"&B8600))","v":257},0,1.5529155990371923E-4,0.5]
["8410-264","8410","M1102","DIRECTION DES ACHATS",2,1,{"$f":"IF(C8607=\"\",\"\",COUNTIF($B$2:B8607,\"=\"&B8607))","v":264},0,1.5529155990371923E-4,0.5]
["8410-275","8410","H2403","CONDUITE DE MACHINE DE FABRICATION DE PRODUITS TEXTILES",2,2,{"$f":"IF(C8618=\"\",\"\",COUNTIF($B$2:B8618,\"=\"&B8618))","v":275},0,1.5529155990371923E-4,1]
["8410-289","8410","H2203","CONDUITE D'INSTALLATION DE PRODUCTION DE PANNEAUX BOIS",2,2,{"$f":"IF(C8632=\"\",\"\",COUNTIF($B$2:B8632,\"=\"&B8632))","v":289},0,1.5529155990371923E-4,1]
["8410-290","8410","A1201","BÛCHERONNAGE ET ÉLAGAGE",2,".",{"$f":"IF(C8633=\"\",\"\",COUNTIF($B$2:B8633,\"=\"&B8633))","v":290},0,1.5529155990371923E-4,0]
[{"$f":"B8643&\"-\"&G8643","v":"8410-300"},"8410","K2602","CONSEIL EN SERVICES FUNÉRAIRES",1,1,{"$f":"IF(C8643=\"\",\"\",COUNTIF($B$2:B8643,\"=\"&B8643))","v":300},0,7.7645779951859614E-5,1]
["8410-316","8410","E1402","ÉLABORATION DE PLAN MÉDIA",1,1,{"$f":"IF(C8659=\"\",\"\",COUNTIF($B$2:B8659,\"=\"&B8659))","v":316},0,7.7645779951859614E-5,1]
["8410-319","8410","E1204","PROJECTION CINÉMA",1,".",{"$f":"IF(C8662=\"\",\"\",COUNTIF($B$2:B8662,\"=\"&B8662))","v":319},0,7.7645779951859614E-5,0]
["8410-332","8410","A1403","AIDE D'ÉLEVAGE AGRICOLE ET AQUACOLE",1,1,{"$f":"IF(C8675=\"\",\"\",COUNTIF($B$2:B8675,\"=\"&B8675))","v":332},0,7.7645779951859614E-5,1]
["8411-11","8411","D1507","MISE EN RAYON LIBRE-SERVICE",270,179,{"$f":"IF(C8687=\"\",\"\",COUNTIF($B$2:B8687,\"=\"&B8687))","v":11},270,1.5184747764467691E-2,0.66296296296296298]
["8411-19","8411","G1203","ANIMATION DE LOISIRS AUPRÈS D'ENFANTS OU D'ADOLESCENTS",221,101,{"$f":"IF(C8695=\"\",\"\",COUNTIF($B$2:B8695,\"=\"&B8695))","v":19},220,1.2428997244249479E-2,0.45701357466063347]
[{"$f":"B8707&\"-\"&G8707","v":"8411-31"},"8411","A1203","AMÉNAGEMENT ET ENTRETIEN DES ESPACES VERTS",151,107,{"$f":"IF(C8707=\"\",\"\",COUNTIF($B$2:B8707,\"=\"&B8707))","v":31},150,8.4922107867948932E-3,0.70860927152317876]
["8411-40","8411","N1101","CONDUITE D'ENGINS DE DÉPLACEMENT DES CHARGES",116,58,{"$f":"IF(C8716=\"\",\"\",COUNTIF($B$2:B8716,\"=\"&B8716))","v":40},120,6.5238175580676003E-3,0.5]
["8411-42","8411","M1601","ACCUEIL ET RENSEIGNEMENTS",113,55,{"$f":"IF(C8718=\"\",\"\",COUNTIF($B$2:B8718,\"=\"&B8718))","v":42},110,6.3550981384624039E-3,0.48672566371681414]
["8411-55","8411","M1609","SECRÉTARIAT ET ASSISTANAT MÉDICAL OU MÉDICO-SOCIAL",77,36,{"$f":"IF(C8731=\"\",\"\",COUNTIF($B$2:B8731,\"=\"&B8731))","v":55},80,4.3304651032000452E-3,0.46753246753246752]
["8411-62","8411","J1304","AIDE EN PUÉRICULTURE",71,33,{"$f":"IF(C8738=\"\",\"\",COUNTIF($B$2:B8738,\"=\"&B8738))","v":62},70,3.9930262639896515E-3,0.46478873239436619]
["8411-74","8411","D1202","COIFFURE",61,54,{"$f":"IF(C8750=\"\",\"\",COUNTIF($B$2:B8750,\"=\"&B8750))","v":74},60,3.4306281986389965E-3,0.88524590163934425]
["8411-84","8411","H1203","CONCEPTION ET DESSIN PRODUITS MÉCANIQUES",53,38,{"$f":"IF(C8760=\"\",\"\",COUNTIF($B$2:B8760,\"=\"&B8760))","v":84},50,2.9807097463584726E-3,0.71698113207547165]
["8411-94","8411","I1301","INSTALLATION ET MAINTENANCE D'ASCENSEURS",45,37,{"$f":"IF(C8770=\"\",\"\",COUNTIF($B$2:B8770,\"=\"&B8770))","v":94},50,{"$f":"E8770/SUMIF(B:B,B8770,E:E)","v":2.5307912940779483E-3},0.82222222222222219]
["8411-99","8411","H1502","MANAGEMENT ET INGÉNIERIE QUALITÉ INDUSTRIELLE",42,36,{"$f":"IF(C8775=\"\",\"\",COUNTIF($B$2:B8775,\"=\"&B8775))","v":99},40,2.3620718744727519E-3,0.8571428571428571]
["8411-114","8411","K1305","INTERVENTION SOCIALE ET FAMILIALE",38,26,{"$f":"IF(C8790=\"\",\"\",COUNTIF($B$2:B8790,\"=\"&B8790))","v":114},40,2.1371126483324897E-3,0.68421052631578949]
["8411-117","8411","F1608","POSE DE REVÊTEMENTS RIGIDES",37,24,{"$f":"IF(C8793=\"\",\"\",COUNTIF($B$2:B8793,\"=\"&B8793))","v":117},40,2.0808728417974244E-3,0.64864864864864868]
["8411-128","8411","F1502","MONTAGE DE STRUCTURES MÉTALLIQUES",30,17,{"$f":"IF(C8804=\"\",\"\",COUNTIF($B$2:B8804,\"=\"&B8804))","v":128},30,1.6871941960519656E-3,0.56666666666666665]
["8411-137","8411","K2102","COORDINATION PÉDAGOGIQUE",26,21,{"$f":"IF(C8813=\"\",\"\",COUNTIF($B$2:B8813,\"=\"&B8813))","v":137},30,1.4622349699117034E-3,0.80769230769230771]
["8411-147","8411","K1705","SÉCURITÉ CIVILE ET SECOURS",24,".",{"$f":"IF(C8823=\"\",\"\",COUNTIF($B$2:B8823,\"=\"&B8823))","v":147},20,1.3497553568415724E-3,0]
["8411-157","8411","F1706","PRÉFABRICATION EN BÉTON INDUSTRIEL",21,10,{"$f":"IF(C8833=\"\",\"\",COUNTIF($B$2:B8833,\"=\"&B8833))","v":157},{"$f":"ROUND(E8833,-1)","v":20},1.1810359372363759E-3,{"$f":"IF(OR(F8833=\"\",F8833=\".\"),0,F8833/E8833)","v":0.47619047619047616}]
["8411-172","8411","K2203","MANAGEMENT ET INSPECTION EN PROPRETÉ DE LOCAUX",17,10,{"$f":"IF(C8848=\"\",\"\",COUNTIF($B$2:B8848,\"=\"&B8848))","v":172},20,9.5607671109611378E-4,0.58823529411764708]
["8411-177","8411","F1103","CONTRÔLE ET DIAGNOSTIC TECHNIQUE DU BÂTIMENT",16,14,{"$f":"IF(C8853=\"\",\"\",COUNTIF($B$2:B8853,\"=\"&B8853))","v":177},20,8.9983690456104835E-4,0.875]
["8411-189","8411","N1301","CONCEPTION ET ORGANISATION DE LA CHAÎNE LOGISTIQUE",14,12,{"$f":"IF(C8865=\"\",\"\",COUNTIF($B$2:B8865,\"=\"&B8865))","v":189},10,7.8735729149091726E-4,0.8571428571428571]
["8411-201","8411","M1402","CONSEIL EN ORGANISATION ET MANAGEMENT D'ENTREPRISE",13,12,{"$f":"IF(C8877=\"\",\"\",COUNTIF($B$2:B8877,\"=\"&B8877))","v":201},10,7.3111748495585172E-4,0.92307692307692313]
["8411-209","8411","H2906","CONDUITE D'INSTALLATION AUTOMATISÉE OU ROBOTISÉE DE FABRICATION MÉCANIQUE",12,11,{"$f":"IF(C8885=\"\",\"\",COUNTIF($B$2:B8885,\"=\"&B8885))","v":209},10,6.7487767842078618E-4,0.91666666666666663]
["8411-216","8411","M1606","SAISIE DE DONNÉES",11,3,{"$f":"IF(C8892=\"\",\"\",COUNTIF($B$2:B8892,\"=\"&B8892))","v":216},10,6.1863787188572075E-4,0.27272727272727271]
["8411-225","8411","F1108","MÉTRÉ DE LA CONSTRUCTION",11,10,{"$f":"IF(C8901=\"\",\"\",COUNTIF($B$2:B8901,\"=\"&B8901))","v":225},10,6.1863787188572075E-4,0.90909090909090906]
["8411-232","8411","I1305","INSTALLATION ET MAINTENANCE ÉLECTRONIQUE",10,10,{"$f":"IF(C8908=\"\",\"\",COUNTIF($B$2:B8908,\"=\"&B8908))","v":232},10,5.623980653506552E-4,1]
["8411-245","8411","H2209","INTERVENTION TECHNIQUE EN AMEUBLEMENT ET BOIS",9,8,{"$f":"IF(C8921=\"\",\"\",COUNTIF($B$2:B8921,\"=\"&B8921))","v":245},10,5.0615825881558966E-4,0.88888888888888884]
["8411-252","8411","H3404","PEINTURE INDUSTRIELLE",8,6,{"$f":"IF(C8928=\"\",\"\",COUNTIF($B$2:B8928,\"=\"&B8928))","v":252},10,4.4991845228052417E-4,0.75]
["8411-260","8411","M1102","DIRECTION DES ACHATS",7,6,{"$f":"IF(C8936=\"\",\"\",COUNTIF($B$2:B8936,\"=\"&B8936))","v":260},10,3.9367864574545863E-4,0.8571428571428571]
["8411-268","8411","M1701","ADMINISTRATION DES VENTES",6,6,{"$f":"IF(C8944=\"\",\"\",COUNTIF($B$2:B8944,\"=\"&B8944))","v":268},10,3.3743883921039309E-4,1]
["8411-284","8411","M1302","DIRECTION DE PETITE OU MOYENNE ENTREPRISE",5,5,{"$f":"IF(C8960=\"\",\"\",COUNTIF($B$2:B8960,\"=\"&B8960))","v":284},10,2.811990326753276E-4,1]
["8411-289","8411","I1102","MANAGEMENT ET INGÉNIERIE DE MAINTENANCE INDUSTRIELLE",5,5,{"$f":"IF(C8965=\"\",\"\",COUNTIF($B$2:B8965,\"=\"&B8965))","v":289},10,2.811990326753276E-4,1]
["8411-304","8411","K2305","SALUBRITÉ ET TRAITEMENT DE NUISIBLES",4,1,{"$f":"IF(C8980=\"\",\"\",COUNTIF($B$2:B8980,\"=\"&B8980))","v":304},0,2.2495922614026209E-4,0.25]
["8411-314","8411","F1105","ÉTUDES GÉOLOGIQUES",4,4,{"$f":"IF(C8990=\"\",\"\",COUNTIF($B$2:B8990,\"=\"&B8990))","v":314},0,2.2495922614026209E-4,1]
["8411-320","8411","E1107","ORGANISATION D'ÉVÈNEMENTIEL",4,3,{"$f":"IF(C8996=\"\",\"\",COUNTIF($B$2:B8996,\"=\"&B8996))","v":320},0,2.2495922614026209E-4,0.75]
["8411-327","8411","J1201","BIOLOGIE MÉDICALE",3,3,{"$f":"IF(C9003=\"\",\"\",COUNTIF($B$2:B9003,\"=\"&B9003))","v":327},0,1.6871941960519654E-4,1]
["8411-333","8411","A1204","PROTECTION DU PATRIMOINE NATUREL",3,3,{"$f":"IF(C9009=\"\",\"\",COUNTIF($B$2:B9009,\"=\"&B9009))","v":333},0,1.6871941960519654E-4,1]
["8411-343","8411","J1102","MÉDECINE GÉNÉRALISTE ET SPÉCIALISÉE",2,1,{"$f":"IF(C9019=\"\",\"\",COUNTIF($B$2:B9019,\"=\"&B9019))","v":343},0,1.1247961307013104E-4,0.5]
["8411-358","8411","N4402","EXPLOITATION ET MANOEUVRE DES REMONTÉES MÉCANIQUES",1,".",{"$f":"IF(C9034=\"\",\"\",COUNTIF($B$2:B9034,\"=\"&B9034))","v":358},0,5.6239806535065522E-5,0]
["8411-363","8411","L1504","ÉCLAIRAGE SPECTACLE",1,1,{"$f":"IF(C9039=\"\",\"\",COUNTIF($B$2:B9039,\"=\"&B9039))","v":363},0,5.6239806535065522E-5,1]
["8411-373","8411","J1503","SOINS INFIRMIERS SPÉCIALISÉS EN ANESTHÉSIE",1,1,{"$f":"IF(C9049=\"\",\"\",COUNTIF($B$2:B9049,\"=\"&B9049))","v":373},0,5.6239806535065522E-5,1]
["8411-383","8411","H1501","DIRECTION DE LABORATOIRE D'ANALYSE INDUSTRIELLE",1,1,{"$f":"IF(C9059=\"\",\"\",COUNTIF($B$2:B9059,\"=\"&B9059))","v":383},0,5.6239806535065522E-5,1]
["8411-395","8411","E1307","REPROGRAPHIE",1,1,{"$f":"IF(C9071=\"\",\"\",COUNTIF($B$2:B9071,\"=\"&B9071))","v":395},0,5.6239806535065522E-5,1]
["8411-402","8411","A1504","SANTÉ ANIMALE",1,1,{"$f":"IF(C9078=\"\",\"\",COUNTIF($B$2:B9078,\"=\"&B9078))","v":402},0,5.6239806535065522E-5,1]
[{"$f":"B9091&\"-\"&G9091","v":"8412-6"},"8412","G1803","SERVICE EN RESTAURATION",846,413,{"$f":"IF(C9091=\"\",\"\",COUNTIF($B$2:B9091,\"=\"&B9091))","v":6},850,1.9933085151500871E-2,0.48817966903073284]
["8412-18","8412","K1303","ASSISTANCE AUPRÈS D'ENFANTS",558,413,{"$f":"IF(C9103=\"\",\"\",COUNTIF($B$2:B9103,\"=\"&B9103))","v":18},560,1.314735403609632E-2,0.74014336917562729]
["8412-26","8412","I1604","MÉCANIQUE AUTOMOBILE ET ENTRETIEN DE VÉHICULES",384,354,{"$f":"IF(C9111=\"\",\"\",COUNTIF($B$2:B9111,\"=\"&B9111))","v":26},380,9.0476414872060693E-3,0.921875]
["8412-29","8412","I1203","MAINTENANCE DES BÂTIMENTS ET DES LOCAUX",341,172,{"$f":"IF(C9114=\"\",\"\",COUNTIF($B$2:B9114,\"=\"&B9114))","v":29},340,8.034494133169973E-3,0.50439882697947214]
["8412-37","8412","F1602","ÉLECTRICITÉ BÂTIMENT",251,155,{"$f":"IF(C9122=\"\",\"\",COUNTIF($B$2:B9122,\"=\"&B9122))","v":37},250,5.913953159606051E-3,0.61752988047808766]
["8412-49","8412","F1106","INGÉNIERIE ET ÉTUDES DU BTP",213,198,{"$f":"IF(C9134=\"\",\"\",COUNTIF($B$2:B9134,\"=\"&B9134))","v":49},210,5.0186136374346163E-3,0.92957746478873238]
["8412-56","8412","M1605","ASSISTANAT TECHNIQUE ET ADMINISTRATIF",190,140,{"$f":"IF(C9141=\"\",\"\",COUNTIF($B$2:B9141,\"=\"&B9141))","v":56},190,4.4766976108571695E-3,0.73684210526315785]
["8412-69","8412","M1801","ADMINISTRATION DE SYSTÈMES D'INFORMATION",158,155,{"$f":"IF(C9154=\"\",\"\",COUNTIF($B$2:B9154,\"=\"&B9154))","v":69},160,{"$f":"E9154/SUMIF(B:B,B9154,E:E)","v":3.7227274869233305E-3},0.98101265822784811]
["8412-81","8412","M1604","ASSISTANAT DE DIRECTION",139,91,{"$f":"IF(C9166=\"\",\"\",COUNTIF($B$2:B9166,\"=\"&B9166))","v":81},140,3.2750577258376136E-3,0.65467625899280579]
["8412-91","8412","K1403","MANAGEMENT DE STRUCTURE DE SANTÉ, SOCIALE OU PÉNITENTIAIRE",127,95,{"$f":"IF(C9176=\"\",\"\",COUNTIF($B$2:B9176,\"=\"&B9176))","v":91},130,2.9923189293624241E-3,0.74803149606299213]
["8412-101","8412","C1501","GÉRANCE IMMOBILIÈRE",111,77,{"$f":"IF(C9186=\"\",\"\",COUNTIF($B$2:B9186,\"=\"&B9186))","v":101},110,2.6153338673955044E-3,0.69369369369369371]
["8412-110","8412","H2914","RÉALISATION ET MONTAGE EN TUYAUTERIE",99,37,{"$f":"IF(C9195=\"\",\"\",COUNTIF($B$2:B9195,\"=\"&B9195))","v":110},100,2.3325950709203146E-3,0.37373737373737376]
["8412-121","8412","I1302","INSTALLATION ET MAINTENANCE D'AUTOMATISMES",88,84,{"$f":"IF(C9206=\"\",\"\",COUNTIF($B$2:B9206,\"=\"&B9206))","v":121},90,2.0734178408180577E-3,0.95454545454545459]
["8412-124","8412","D1301","MANAGEMENT DE MAGASIN DE DÉTAIL",88,80,{"$f":"IF(C9209=\"\",\"\",COUNTIF($B$2:B9209,\"=\"&B9209))","v":124},90,2.0734178408180577E-3,0.90909090909090906]
["8412-139","8412","K1802","DÉVELOPPEMENT LOCAL",73,62,{"$f":"IF(C9224=\"\",\"\",COUNTIF($B$2:B9224,\"=\"&B9224))","v":139},70,1.7199943452240705E-3,0.84931506849315064]
["8412-144","8412","K2301","DISTRIBUTION ET ASSAINISSEMENT D'EAU",68,50,{"$f":"IF(C9229=\"\",\"\",COUNTIF($B$2:B9229,\"=\"&B9229))","v":144},70,1.6021865133594082E-3,0.73529411764705888]
["8412-154","8412","C1502","GESTION LOCATIVE IMMOBILIÈRE",59,49,{"$f":"IF(C9239=\"\",\"\",COUNTIF($B$2:B9239,\"=\"&B9239))","v":154},60,1.390132416003016E-3,0.83050847457627119]
["8412-164","8412","F1611","RÉALISATION ET RESTAURATION DE FAÇADES",54,19,{"$f":"IF(C9249=\"\",\"\",COUNTIF($B$2:B9249,\"=\"&B9249))","v":164},50,1.2723245841383536E-3,0.35185185185185186]
["8412-176","8412","C1503","MANAGEMENT DE PROJET IMMOBILIER",49,36,{"$f":"IF(C9261=\"\",\"\",COUNTIF($B$2:B9261,\"=\"&B9261))","v":176},50,1.1545167522736912E-3,0.73469387755102045]
["8412-183","8412","D1509","MANAGEMENT DE DÉPARTEMENT EN GRANDE DISTRIBUTION",46,44,{"$f":"IF(C9268=\"\",\"\",COUNTIF($B$2:B9268,\"=\"&B9268))","v":183},50,1.0838320531548937E-3,0.95652173913043481]
["8412-196","8412","K1902","COLLABORATION JURIDIQUE",41,34,{"$f":"IF(C9281=\"\",\"\",COUNTIF($B$2:B9281,\"=\"&B9281))","v":196},{"$f":"ROUND(E9281,-1)","v":40},9.6602422129023137E-4,{"$f":"IF(OR(F9281=\"\",F9281=\".\"),0,F9281/E9281)","v":0.82926829268292679}]
[{"$f":"B9283&\"-\"&G9283","v":"8412-198"},"8412","F1107","MESURES TOPOGRAPHIQUES",39,36,{"$f":"IF(C9283=\"\",\"\",COUNTIF($B$2:B9283,\"=\"&B9283))","v":198},40,9.1890108854436646E-4,0.92307692307692313]
["8412-207","8412","F1103","CONTRÔLE ET DIAGNOSTIC TECHNIQUE DU BÂTIMENT",34,29,{"$f":"IF(C9292=\"\",\"\",COUNTIF($B$2:B9292,\"=\"&B9292))","v":207},30,8.0109325667970408E-4,0.8529411764705882]
["8412-223","8412","J1406","ORTHOPHONIE",27,25,{"$f":"IF(C9308=\"\",\"\",COUNTIF($B$2:B9308,\"=\"&B9308))","v":223},30,6.361622920691768E-4,0.92592592592592593]
["8412-232","8412","H1302","MANAGEMENT ET INGÉNIERIE HYGIÈNE SÉCURITÉ ENVIRONNEMENT -HSE- INDUSTRIELS",23,14,{"$f":"IF(C9317=\"\",\"\",COUNTIF($B$2:B9317,\"=\"&B9317))","v":232},20,5.4191602657744687E-4,0.60869565217391308]
["8412-239","8412","M1206","MANAGEMENT DE GROUPE OU DE SERVICE COMPTABLE",20,19,{"$f":"IF(C9324=\"\",\"\",COUNTIF($B$2:B9324,\"=\"&B9324))","v":239},20,4.7123132745864946E-4,0.95]
["8412-252","8412","E1304","FAÇONNAGE ET ROUTAGE",19,19,{"$f":"IF(C9337=\"\",\"\",COUNTIF($B$2:B9337,\"=\"&B9337))","v":252},20,4.47669761085717E-4,1]
["8412-255","8412","K2101","CONSEIL EN FORMATION",18,17,{"$f":"IF(C9340=\"\",\"\",COUNTIF($B$2:B9340,\"=\"&B9340))","v":255},20,4.241081947127845E-4,0.94444444444444442]
["8412-267","8412","F1301","CONDUITE DE GRUE",16,14,{"$f":"IF(C9352=\"\",\"\",COUNTIF($B$2:B9352,\"=\"&B9352))","v":267},20,3.7698506196691953E-4,0.875]
["8412-275","8412","K2102","COORDINATION PÉDAGOGIQUE",14,8,{"$f":"IF(C9360=\"\",\"\",COUNTIF($B$2:B9360,\"=\"&B9360))","v":275},10,3.2986192922105463E-4,0.5714285714285714]
["8412-282","8412","K2601","CONDUITE D'OPÉRATIONS FUNÉRAIRES",12,9,{"$f":"IF(C9367=\"\",\"\",COUNTIF($B$2:B9367,\"=\"&B9367))","v":282},10,2.8273879647518966E-4,0.75]
["8412-296","8412","E1301","CONDUITE DE MACHINES D'IMPRESSION",11,6,{"$f":"IF(C9381=\"\",\"\",COUNTIF($B$2:B9381,\"=\"&B9381))","v":296},10,2.5917723010225721E-4,0.54545454545454541]
["8412-307","8412","I1201","ENTRETIEN D'AFFICHAGE ET MOBILIER URBAIN",9,7,{"$f":"IF(C9392=\"\",\"\",COUNTIF($B$2:B9392,\"=\"&B9392))","v":307},10,2.1205409735639225E-4,0.77777777777777779]
["8412-311","8412","A1303","INGÉNIERIE EN AGRICULTURE ET ENVIRONNEMENT NATUREL",9,7,{"$f":"IF(C9396=\"\",\"\",COUNTIF($B$2:B9396,\"=\"&B9396))","v":311},10,2.1205409735639225E-4,0.77777777777777779]
["8412-327","8412","J1104","SUIVI DE LA GROSSESSE ET DE L'ACCOUCHEMENT",7,3,{"$f":"IF(C9412=\"\",\"\",COUNTIF($B$2:B9412,\"=\"&B9412))","v":327},10,1.6493096461052731E-4,0.42857142857142855]
["8412-330","8412","H2701","PILOTAGE D'INSTALLATION ÉNERGÉTIQUE ET PÉTROCHIMIQUE",7,6,{"$f":"IF(C9415=\"\",\"\",COUNTIF($B$2:B9415,\"=\"&B9415))","v":330},10,1.6493096461052731E-4,0.8571428571428571]
["8412-340","8412","F1706","PRÉFABRICATION EN BÉTON INDUSTRIEL",6,6,{"$f":"IF(C9425=\"\",\"\",COUNTIF($B$2:B9425,\"=\"&B9425))","v":340},10,1.4136939823759483E-4,1]
["8412-350","8412","G1102","PROMOTION DU TOURISME LOCAL",5,3,{"$f":"IF(C9435=\"\",\"\",COUNTIF($B$2:B9435,\"=\"&B9435))","v":350},10,1.1780783186466236E-4,0.6]
["8412-365","8412","H2401","ASSEMBLAGE - MONTAGE D'ARTICLES EN CUIRS, PEAUX",4,2,{"$f":"IF(C9450=\"\",\"\",COUNTIF($B$2:B9450,\"=\"&B9450))","v":365},0,9.4246265491729884E-5,0.5]
["8412-370","8412","E1402","ÉLABORATION DE PLAN MÉDIA",4,3,{"$f":"IF(C9455=\"\",\"\",COUNTIF($B$2:B9455,\"=\"&B9455))","v":370},0,9.4246265491729884E-5,0.75]
["8412-382","8412","B1806","TAPISSERIE - DÉCORATION EN AMEUBLEMENT",3,3,{"$f":"IF(C9467=\"\",\"\",COUNTIF($B$2:B9467,\"=\"&B9467))","v":382},0,7.0684699118797416E-5,1]
["8412-394","8412","L1509","RÉGIE GÉNÉRALE",2,2,{"$f":"IF(C9479=\"\",\"\",COUNTIF($B$2:B9479,\"=\"&B9479))","v":394},0,4.7123132745864942E-5,1]
["8412-402","8412","H2801","CONDUITE D'ÉQUIPEMENT DE TRANSFORMATION DU VERRE",2,2,{"$f":"IF(C9487=\"\",\"\",COUNTIF($B$2:B9487,\"=\"&B9487))","v":402},0,4.7123132745864942E-5,1]
["8412-409","8412","E1303","ENCADREMENT DES INDUSTRIES GRAPHIQUES",2,2,{"$f":"IF(C9494=\"\",\"\",COUNTIF($B$2:B9494,\"=\"&B9494))","v":409},0,4.7123132745864942E-5,1]
["8412-422","8412","N2101","NAVIGATION COMMERCIALE AÉRIENNE",1,1,{"$f":"IF(C9507=\"\",\"\",COUNTIF($B$2:B9507,\"=\"&B9507))","v":422},0,2.3561566372932471E-5,1]
["8412-425","8412","L1304","RÉALISATION CINÉMATOGRAPHIQUE ET AUDIOVISUELLE",1,1,{"$f":"IF(C9510=\"\",\"\",COUNTIF($B$2:B9510,\"=\"&B9510))","v":425},0,2.3561566372932471E-5,1]
["8412-438","8412","H3403","CONDUITE DE TRAITEMENT THERMIQUE",1,1,{"$f":"IF(C9523=\"\",\"\",COUNTIF($B$2:B9523,\"=\"&B9523))","v":438},0,2.3561566372932471E-5,1]
["8412-445","8412","H2415","CONTRÔLE EN INDUSTRIE DU CUIR ET DU TEXTILE",1,1,{"$f":"IF(C9530=\"\",\"\",COUNTIF($B$2:B9530,\"=\"&B9530))","v":445},0,2.3561566372932471E-5,1]
["8413-1","8413","K2204","NETTOYAGE DE LOCAUX",265,173,{"$f":"IF(C9542=\"\",\"\",COUNTIF($B$2:B9542,\"=\"&B9542))","v":1},270,3.7308179642404619E-2,0.65283018867924525]
["8413-9","8413","M1203","COMPTABILITÉ",121,79,{"$f":"IF(C9550=\"\",\"\",COUNTIF($B$2:B9550,\"=\"&B9550))","v":9},120,1.7035055610305504E-2,0.65289256198347112]
["8413-16","8413","F1703","MAÇONNERIE",98,38,{"$f":"IF(C9557=\"\",\"\",COUNTIF($B$2:B9557,\"=\"&B9557))","v":16},100,1.3796987188511897E-2,0.38775510204081631]
["8413-29","8413","I1203","MAINTENANCE DES BÂTIMENTS ET DES LOCAUX",67,27,{"$f":"IF(C9570=\"\",\"\",COUNTIF($B$2:B9570,\"=\"&B9570))","v":29},70,9.4326340982683367E-3,0.40298507462686567]
["8413-41","8413","K1301","ACCOMPAGNEMENT MÉDICOSOCIAL",43,21,{"$f":"IF(C9582=\"\",\"\",COUNTIF($B$2:B9582,\"=\"&B9582))","v":41},40,6.0537800929184853E-3,0.48837209302325579]
["8413-45","8413","D1102","BOULANGERIE - VIENNOISERIE",42,26,{"$f":"IF(C9586=\"\",\"\",COUNTIF($B$2:B9586,\"=\"&B9586))","v":45},40,5.9129945093622412E-3,0.61904761904761907]
["8413-52","8413","D1505","PERSONNEL DE CAISSE",38,14,{"$f":"IF(C9593=\"\",\"\",COUNTIF($B$2:B9593,\"=\"&B9593))","v":52},40,5.3498521751372662E-3,0.36842105263157893]
["8413-70","8413","K2503","SÉCURITÉ ET SURVEILLANCE PRIVÉES",27,13,{"$f":"IF(C9611=\"\",\"\",COUNTIF($B$2:B9611,\"=\"&B9611))","v":70},30,3.8012107560185839E-3,0.48148148148148145]
["8413-72","8413","E1304","FAÇONNAGE ET ROUTAGE",27,6,{"$f":"IF(C9613=\"\",\"\",COUNTIF($B$2:B9613,\"=\"&B9613))","v":72},30,3.8012107560185839E-3,0.22222222222222221]
["8413-84","8413","N4203","INTERVENTION TECHNIQUE D'EXPLOITATION DES TRANSPORTS ROUTIERS DE MARCHANDISES",20,16,{"$f":"IF(C9625=\"\",\"\",COUNTIF($B$2:B9625,\"=\"&B9625))","v":84},20,2.8157116711248768E-3,0.8]
["8413-89","8413","M1101","ACHATS",19,5,{"$f":"IF(C9630=\"\",\"\",COUNTIF($B$2:B9630,\"=\"&B9630))","v":89},20,2.6749260875686331E-3,0.26315789473684209]
["8413-104","8413","G1703","RÉCEPTION EN HÔTELLERIE",16,6,{"$f":"IF(C9645=\"\",\"\",COUNTIF($B$2:B9645,\"=\"&B9645))","v":104},20,2.2525693368999015E-3,0.375]
["8413-114","8413","D1301","MANAGEMENT DE MAGASIN DE DÉTAIL",14,7,{"$f":"IF(C9655=\"\",\"\",COUNTIF($B$2:B9655,\"=\"&B9655))","v":114},10,1.9709981697874136E-3,0.5]
["8413-120","8413","M1608","SECRÉTARIAT COMPTABLE",12,8,{"$f":"IF(C9661=\"\",\"\",COUNTIF($B$2:B9661,\"=\"&B9661))","v":120},10,1.6894270026749261E-3,0.66666666666666663]
["8413-127","8413","H3404","PEINTURE INDUSTRIELLE",12,10,{"$f":"IF(C9668=\"\",\"\",COUNTIF($B$2:B9668,\"=\"&B9668))","v":127},10,1.6894270026749261E-3,0.83333333333333337]
["8413-143","8413","K2601","CONDUITE D'OPÉRATIONS FUNÉRAIRES",9,1,{"$f":"IF(C9684=\"\",\"\",COUNTIF($B$2:B9684,\"=\"&B9684))","v":143},10,1.2670702520061945E-3,0.1111111111111111]
["8413-147","8413","H1503","INTERVENTION TECHNIQUE EN LABORATOIRE D'ANALYSE INDUSTRIELLE",9,6,{"$f":"IF(C9688=\"\",\"\",COUNTIF($B$2:B9688,\"=\"&B9688))","v":147},10,1.2670702520061945E-3,0.66666666666666663]
["8413-158","8413","H1210","INTERVENTION TECHNIQUE EN ÉTUDES, RECHERCHE ET DÉVELOPPEMENT",8,7,{"$f":"IF(C9699=\"\",\"\",COUNTIF($B$2:B9699,\"=\"&B9699))","v":158},10,1.1262846684499507E-3,0.875]
["8413-172","8413","M1401","CONDUITE D'ENQUÊTES",7,".",{"$f":"IF(C9713=\"\",\"\",COUNTIF($B$2:B9713,\"=\"&B9713))","v":172},10,9.8549908489370679E-4,0]
["8413-179","8413","I1301","INSTALLATION ET MAINTENANCE D'ASCENSEURS",7,7,{"$f":"IF(C9720=\"\",\"\",COUNTIF($B$2:B9720,\"=\"&B9720))","v":179},10,9.8549908489370679E-4,1]
["8413-187","8413","H3401","CONDUITE DE TRAITEMENT D'ABRASION DE SURFACE",6,1,{"$f":"IF(C9728=\"\",\"\",COUNTIF($B$2:B9728,\"=\"&B9728))","v":187},10,8.4471350133746305E-4,0.16666666666666666]
["8413-195","8413","K2306","SUPERVISION D'EXPLOITATION ÉCO-INDUSTRIELLE",5,5,{"$f":"IF(C9736=\"\",\"\",COUNTIF($B$2:B9736,\"=\"&B9736))","v":195},10,7.0392791778121921E-4,1]
["8413-202","8413","H2204","ENCADREMENT DES INDUSTRIES DE L'AMEUBLEMENT ET DU BOIS",5,".",{"$f":"IF(C9743=\"\",\"\",COUNTIF($B$2:B9743,\"=\"&B9743))","v":202},10,7.0392791778121921E-4,0]
["8413-215","8413","F1502","MONTAGE DE STRUCTURES MÉTALLIQUES",4,3,{"$f":"IF(C9756=\"\",\"\",COUNTIF($B$2:B9756,\"=\"&B9756))","v":215},0,5.6314233422497537E-4,0.75]
["8413-227","8413","K1404","MISE EN OEUVRE ET PILOTAGE DE LA POLITIQUE DES POUVOIRS PUBLICS",3,2,{"$f":"IF(C9768=\"\",\"\",COUNTIF($B$2:B9768,\"=\"&B9768))","v":227},0,4.2235675066873153E-4,0.66666666666666663]
["8413-235","8413","H3203","FABRICATION DE PIÈCES EN MATÉRIAUX COMPOSITES",3,2,{"$f":"IF(C9776=\"\",\"\",COUNTIF($B$2:B9776,\"=\"&B9776))","v":235},0,4.2235675066873153E-4,0.66666666666666663]
["8413-247","8413","F1104","DESSIN BTP ET PAYSAGE",3,3,{"$f":"IF(C9788=\"\",\"\",COUNTIF($B$2:B9788,\"=\"&B9788))","v":247},0,4.2235675066873153E-4,1]
["8413-256","8413","D1201","ACHAT VENTE D'OBJETS D'ART, ANCIENS OU D'OCCASION",3,2,{"$f":"IF(C9797=\"\",\"\",COUNTIF($B$2:B9797,\"=\"&B9797))","v":256},0,4.2235675066873153E-4,0.66666666666666663]
["8413-267","8413","L1101","ANIMATION MUSICALE ET SCÉNIQUE",2,".",{"$f":"IF(C9808=\"\",\"\",COUNTIF($B$2:B9808,\"=\"&B9808))","v":267},0,2.8157116711248768E-4,0]
["8413-271","8413","J1306","IMAGERIE MÉDICALE",2,".",{"$f":"IF(C9812=\"\",\"\",COUNTIF($B$2:B9812,\"=\"&B9812))","v":271},0,2.8157116711248768E-4,0]
["8413-278","8413","H1401","MANAGEMENT ET INGÉNIERIE GESTION INDUSTRIELLE ET LOGISTIQUE",2,".",{"$f":"IF(C9819=\"\",\"\",COUNTIF($B$2:B9819,\"=\"&B9819))","v":278},0,2.8157116711248768E-4,0]
["8413-290","8413","B1804","RÉALISATION D'OUVRAGES D'ART EN FILS",2,1,{"$f":"IF(C9831=\"\",\"\",COUNTIF($B$2:B9831,\"=\"&B9831))","v":290},0,2.8157116711248768E-4,0.5]
["8413-300","8413","L1302","PRODUCTION ET ADMINISTRATION SPECTACLE, CINÉMA ET AUDIOVISUEL",1,1,{"$f":"IF(C9841=\"\",\"\",COUNTIF($B$2:B9841,\"=\"&B9841))","v":300},0,1.4078558355624384E-4,1]
["8413-310","8413","K2106","ENSEIGNEMENT DES ÉCOLES",1,1,{"$f":"IF(C9851=\"\",\"\",COUNTIF($B$2:B9851,\"=\"&B9851))","v":310},0,1.4078558355624384E-4,1]
["8413-319","8413","H1303","INTERVENTION TECHNIQUE EN HYGIÈNE SÉCURITÉ ENVIRONNEMENT -HSE- INDUSTRIEL",1,1,{"$f":"IF(C9860=\"\",\"\",COUNTIF($B$2:B9860,\"=\"&B9860))","v":319},0,1.4078558355624384E-4,1]
["8413-330","8413","D1206","RÉPARATION D'ARTICLES EN CUIR ET MATÉRIAUX SOUPLES",1,".",{"$f":"IF(C9871=\"\",\"\",COUNTIF($B$2:B9871,\"=\"&B9871))","v":330},0,1.4078558355624384E-4,0]
["8413-342","8413","B1603","RÉALISATION D'OUVRAGES EN BIJOUTERIE, JOAILLERIE ET ORFÈVRERIE",1,1,{"$f":"IF(C9883=\"\",\"\",COUNTIF($B$2:B9883,\"=\"&B9883))","v":342},0,1.4078558355624384E-4,1]
["8414-1","8414","N1103","MAGASINAGE ET PRÉPARATION DE COMMANDES",1066,620,{"$f":"IF(C9885=\"\",\"\",COUNTIF($B$2:B9885,\"=\"&B9885))","v":1},1070,7.7606290040768786E-2,0.58161350844277671]
["8414-10","8414","N4101","CONDUITE DE TRANSPORT DE MARCHANDISES SUR LONGUE DISTANCE",241,170,{"$f":"IF(C9894=\"\",\"\",COUNTIF($B$2:B9894,\"=\"&B9894))","v":10},240,1.7545136866627838E-2,0.70539419087136934]
["8414-20","8414","H2102","CONDUITE D'ÉQUIPEMENT DE PRODUCTION ALIMENTAIRE",172,40,{"$f":"IF(C9904=\"\",\"\",COUNTIF($B$2:B9904,\"=\"&B9904))","v":20},170,1.2521840419336051E-2,0.23255813953488372]
["8414-30","8414","F1704","PRÉPARATION DU GROS OEUVRE ET DES TRAVAUX PUBLICS",121,27,{"$f":"IF(C9914=\"\",\"\",COUNTIF($B$2:B9914,\"=\"&B9914))","v":30},120,8.8089691322073387E-3,0.2231404958677686]
["8414-42","8414","N1303","INTERVENTION TECHNIQUE D'EXPLOITATION LOGISTIQUE",81,37,{"$f":"IF(C9926=\"\",\"\",COUNTIF($B$2:B9926,\"=\"&B9926))","v":42},80,5.8969132207338385E-3,0.4567901234567901]
["8414-49","8414","M1601","ACCUEIL ET RENSEIGNEMENTS",68,26,{"$f":"IF(C9933=\"\",\"\",COUNTIF($B$2:B9933,\"=\"&B9933))","v":49},70,4.9504950495049506E-3,0.38235294117647056]
["8414-62","8414","D1104","PÂTISSERIE, CONFISERIE, CHOCOLATERIE ET GLACERIE",54,52,{"$f":"IF(C9946=\"\",\"\",COUNTIF($B$2:B9946,\"=\"&B9946))","v":62},50,3.9312754804892254E-3,0.96296296296296291]
["8414-74","8414","K2104","ÉDUCATION ET SURVEILLANCE AU SEIN D'ÉTABLISSEMENTS D'ENSEIGNEMENT",43,28,{"$f":"IF(C9958=\"\",\"\",COUNTIF($B$2:B9958,\"=\"&B9958))","v":74},40,3.1304601048340128E-3,0.65116279069767447]
["8414-82","8414","I1306","INSTALLATION ET MAINTENANCE EN FROID, CONDITIONNEMENT D'AIR",38,26,{"$f":"IF(C9966=\"\",\"\",COUNTIF($B$2:B9966,\"=\"&B9966))","v":82},40,2.7664531158998252E-3,0.68421052631578949]
["8414-85","8414","M1502","DÉVELOPPEMENT DES RESSOURCES HUMAINES",35,27,{"$f":"IF(C9969=\"\",\"\",COUNTIF($B$2:B9969,\"=\"&B9969))","v":85},40,2.5480489225393125E-3,0.77142857142857146]
[{"$f":"B9987&\"-\"&G9987","v":"8414-103"},"8414","I1603","MAINTENANCE D'ENGINS DE CHANTIER, LEVAGE, MANUTENTION ET DE MACHINES AGRICOLES",25,18,{"$f":"IF(C9987=\"\",\"\",COUNTIF($B$2:B9987,\"=\"&B9987))","v":103},30,1.8200349446709377E-3,0.72]
["8414-105","8414","G1501","PERSONNEL D'ÉTAGE",25,11,{"$f":"IF(C9989=\"\",\"\",COUNTIF($B$2:B9989,\"=\"&B9989))","v":105},30,1.8200349446709377E-3,0.44]
["8414-118","8414","H1402","MANAGEMENT ET INGÉNIERIE MÉTHODES ET INDUSTRIALISATION",22,21,{"$f":"IF(C10002=\"\",\"\",COUNTIF($B$2:B10002,\"=\"&B10002))","v":118},20,1.6016307513104251E-3,0.95454545454545459]
["8414-125","8414","H3201","CONDUITE D'ÉQUIPEMENT DE FORMAGE DES PLASTIQUES ET CAOUTCHOUCS",21,".",{"$f":"IF(C10009=\"\",\"\",COUNTIF($B$2:B10009,\"=\"&B10009))","v":125},20,1.5288293535235876E-3,0]
["8414-133","8414","H2901","AJUSTEMENT ET MONTAGE DE FABRICATION",20,9,{"$f":"IF(C10017=\"\",\"\",COUNTIF($B$2:B10017,\"=\"&B10017))","v":133},20,1.4560279557367501E-3,0.45]
["8414-150","8414","J1403","ERGOTHÉRAPIE",17,10,{"$f":"IF(C10034=\"\",\"\",COUNTIF($B$2:B10034,\"=\"&B10034))","v":150},20,1.2376237623762376E-3,0.58823529411764708]
["8414-157","8414","F1611","RÉALISATION ET RESTAURATION DE FAÇADES",16,11,{"$f":"IF(C10041=\"\",\"\",COUNTIF($B$2:B10041,\"=\"&B10041))","v":157},20,1.1648223645894002E-3,0.6875]
["8414-162","8414","H1403","INTERVENTION TECHNIQUE EN GESTION INDUSTRIELLE ET LOGISTIQUE",15,6,{"$f":"IF(C10046=\"\",\"\",COUNTIF($B$2:B10046,\"=\"&B10046))","v":162},20,1.0920209668025627E-3,0.4]
["8414-173","8414","A1414","HORTICULTURE ET MARAÎCHAGE",13,1,{"$f":"IF(C10057=\"\",\"\",COUNTIF($B$2:B10057,\"=\"&B10057))","v":173},10,9.464181712288876E-4,7.6923076923076927E-2]
["8414-187","8414","D1502","MANAGEMENT/GESTION DE RAYON PRODUITS ALIMENTAIRES",11,10,{"$f":"IF(C10071=\"\",\"\",COUNTIF($B$2:B10071,\"=\"&B10071))","v":187},10,8.0081537565521253E-4,0.90909090909090906]
["8414-193","8414","K1601","GESTION DE L'INFORMATION ET DE LA DOCUMENTATION",10,8,{"$f":"IF(C10077=\"\",\"\",COUNTIF($B$2:B10077,\"=\"&B10077))","v":193},10,7.2801397786837504E-4,0.8]
["8414-200","8414","N4104","COURSES ET LIVRAISONS EXPRESS",9,4,{"$f":"IF(C10084=\"\",\"\",COUNTIF($B$2:B10084,\"=\"&B10084))","v":200},10,6.5521258008153756E-4,0.44444444444444442]
["8414-216","8414","M1202","AUDIT ET CONTRÔLE COMPTABLES ET FINANCIERS",7,6,{"$f":"IF(C10100=\"\",\"\",COUNTIF($B$2:B10100,\"=\"&B10100))","v":216},10,5.096097845078626E-4,0.8571428571428571]
["8414-225","8414","K2202","LAVAGE DE VITRES",6,6,{"$f":"IF(C10109=\"\",\"\",COUNTIF($B$2:B10109,\"=\"&B10109))","v":225},10,4.3680838672102506E-4,1]
[{"$f":"B10115&\"-\"&G10115","v":"8414-231"},"8414","H3401","CONDUITE DE TRAITEMENT D'ABRASION DE SURFACE",6,2,{"$f":"IF(C10115=\"\",\"\",COUNTIF($B$2:B10115,\"=\"&B10115))","v":231},10,4.3680838672102506E-4,0.33333333333333331]
["8414-236","8414","A1403","AIDE D'ÉLEVAGE AGRICOLE ET AQUACOLE",6,1,{"$f":"IF(C10120=\"\",\"\",COUNTIF($B$2:B10120,\"=\"&B10120))","v":236},10,4.3680838672102506E-4,0.16666666666666666]
["8414-252","8414","D1105","POISSONNERIE",5,2,{"$f":"IF(C10136=\"\",\"\",COUNTIF($B$2:B10136,\"=\"&B10136))","v":252},10,3.6400698893418752E-4,0.4]
["8414-260","8414","H2911","RÉALISATION DE STRUCTURES MÉTALLIQUES",4,2,{"$f":"IF(C10144=\"\",\"\",COUNTIF($B$2:B10144,\"=\"&B10144))","v":260},0,2.9120559114735004E-4,0.5]
["8414-268","8414","M1804","ÉTUDES ET DÉVELOPPEMENT DE RÉSEAUX DE TÉLÉCOMS",3,1,{"$f":"IF(C10152=\"\",\"\",COUNTIF($B$2:B10152,\"=\"&B10152))","v":268},0,2.1840419336051253E-4,0.33333333333333331]
["8414-275","8414","H2604","MONTAGE DE PRODUITS ÉLECTRIQUES ET ÉLECTRONIQUES",3,2,{"$f":"IF(C10159=\"\",\"\",COUNTIF($B$2:B10159,\"=\"&B10159))","v":275},0,2.1840419336051253E-4,0.66666666666666663]
["8414-288","8414","N1104","MANOEUVRE ET CONDUITE D'ENGINS LOURDS DE MANUTENTION",2,".",{"$f":"IF(C10172=\"\",\"\",COUNTIF($B$2:B10172,\"=\"&B10172))","v":288},0,1.4560279557367502E-4,0]
["8414-300","8414","I1201","ENTRETIEN D'AFFICHAGE ET MOBILIER URBAIN",2,".",{"$f":"IF(C10184=\"\",\"\",COUNTIF($B$2:B10184,\"=\"&B10184))","v":300},0,1.4560279557367502E-4,0]
["8414-304","8414","D1501","ANIMATION DE VENTE",2,1,{"$f":"IF(C10188=\"\",\"\",COUNTIF($B$2:B10188,\"=\"&B10188))","v":304},0,1.4560279557367502E-4,0.5]
["8414-311","8414","E1106","JOURNALISME ET INFORMATION MÉDIA",2,2,{"$f":"IF(C10195=\"\",\"\",COUNTIF($B$2:B10195,\"=\"&B10195))","v":311},0,1.4560279557367502E-4,1]
["8414-329","8414","K2602","CONSEIL EN SERVICES FUNÉRAIRES",1,".",{"$f":"IF(C10213=\"\",\"\",COUNTIF($B$2:B10213,\"=\"&B10213))","v":329},0,7.280139778683751E-5,0]
["8414-331","8414","K1504","CONTRÔLE ET INSPECTION DU TRÉSOR PUBLIC",1,1,{"$f":"IF(C10215=\"\",\"\",COUNTIF($B$2:B10215,\"=\"&B10215))","v":331},0,7.280139778683751E-5,1]
["8414-348","8414","H2409","COUPE CUIR, TEXTILE ET MATÉRIAUX SOUPLES",1,".",{"$f":"IF(C10232=\"\",\"\",COUNTIF($B$2:B10232,\"=\"&B10232))","v":348},0,7.280139778683751E-5,0]
["8414-351","8414","E1304","FAÇONNAGE ET ROUTAGE",1,".",{"$f":"IF(C10235=\"\",\"\",COUNTIF($B$2:B10235,\"=\"&B10235))","v":351},0,7.280139778683751E-5,0]
["8414-363","8414","B1302","DÉCORATION D'OBJETS D'ART ET ARTISANAUX",1,".",{"$f":"IF(C10247=\"\",\"\",COUNTIF($B$2:B10247,\"=\"&B10247))","v":363},0,7.280139778683751E-5,0]
["8415-2","8415","K1304","SERVICES DOMESTIQUES",274,212,{"$f":"IF(C10251=\"\",\"\",COUNTIF($B$2:B10251,\"=\"&B10251))","v":2},270,2.9046962790204602E-2,0.77372262773722633]
["8415-18","8415","H2909","MONTAGE-ASSEMBLAGE MÉCANIQUE",128,31,{"$f":"IF(C10267=\"\",\"\",COUNTIF($B$2:B10267,\"=\"&B10267))","v":18},130,1.3569384077175872E-2,0.2421875]
["8415-27","8415","M1607","SECRÉTARIAT",108,56,{"$f":"IF(C10276=\"\",\"\",COUNTIF($B$2:B10276,\"=\"&B10276))","v":27},110,1.1449167815117142E-2,0.51851851851851849]
["8415-38","8415","H2913","SOUDAGE MANUEL",72,14,{"$f":"IF(C10287=\"\",\"\",COUNTIF($B$2:B10287,\"=\"&B10287))","v":38},70,7.6327785434114276E-3,0.19444444444444445]
["8415-41","8415","I1203","MAINTENANCE DES BÂTIMENTS ET DES LOCAUX",70,50,{"$f":"IF(C10290=\"\",\"\",COUNTIF($B$2:B10290,\"=\"&B10290))","v":41},70,7.4207569172055551E-3,0.7142857142857143]
["8415-56","8415","H2301","CONDUITE D'ÉQUIPEMENT DE PRODUCTION CHIMIQUE OU PHARMACEUTIQUE",47,25,{"$f":"IF(C10305=\"\",\"\",COUNTIF($B$2:B10305,\"=\"&B10305))","v":56},{"$f":"ROUND(E10305,-1)","v":50},4.9825082158380151E-3,{"$f":"IF(OR(F10305=\"\",F10305=\".\"),0,F10305/E10305)","v":0.53191489361702127}]
["8415-61","8415","A1401","AIDE AGRICOLE DE PRODUCTION FRUITIÈRE OU VITICOLE",41,2,{"$f":"IF(C10310=\"\",\"\",COUNTIF($B$2:B10310,\"=\"&B10310))","v":61},40,4.3464433372203968E-3,4.878048780487805E-2]
["8415-71","8415","D1211","VENTE EN ARTICLES DE SPORT ET LOISIRS",35,27,{"$f":"IF(C10320=\"\",\"\",COUNTIF($B$2:B10320,\"=\"&B10320))","v":71},40,3.7103784586027776E-3,0.77142857142857146]
["8415-81","8415","G1605","PLONGE EN RESTAURATION",28,20,{"$f":"IF(C10330=\"\",\"\",COUNTIF($B$2:B10330,\"=\"&B10330))","v":81},30,2.9683027668822221E-3,0.7142857142857143]
["8415-93","8415","N4103","CONDUITE DE TRANSPORT EN COMMUN SUR ROUTE",23,23,{"$f":"IF(C10342=\"\",\"\",COUNTIF($B$2:B10342,\"=\"&B10342))","v":93},20,2.4382487013675396E-3,1]
["8415-100","8415","K1206","INTERVENTION SOCIOCULTURELLE",21,13,{"$f":"IF(C10349=\"\",\"\",COUNTIF($B$2:B10349,\"=\"&B10349))","v":100},20,2.2262270751616663E-3,0.61904761904761907]
["8415-113","8415","F1201","CONDUITE DE TRAVAUX DU BTP ET DE TRAVAUX PAYSAGERS",19,18,{"$f":"IF(C10362=\"\",\"\",COUNTIF($B$2:B10362,\"=\"&B10362))","v":113},20,2.0142054489557934E-3,0.94736842105263153]
["8415-115","8415","A1412","FABRICATION ET AFFINAGE DE FROMAGES",19,".",{"$f":"IF(C10364=\"\",\"\",COUNTIF($B$2:B10364,\"=\"&B10364))","v":115},20,2.0142054489557934E-3,0]
["8415-129","8415","K2301","DISTRIBUTION ET ASSAINISSEMENT D'EAU",15,14,{"$f":"IF(C10378=\"\",\"\",COUNTIF($B$2:B10378,\"=\"&B10378))","v":129},20,1.5901621965440475E-3,0.93333333333333335]
["8415-136","8415","D1101","BOUCHERIE",14,11,{"$f":"IF(C10385=\"\",\"\",COUNTIF($B$2:B10385,\"=\"&B10385))","v":136},10,1.4841513834411111E-3,0.7857142857142857]
["8415-144","8415","K2304","REVALORISATION DE PRODUITS INDUSTRIELS",12,7,{"$f":"IF(C10393=\"\",\"\",COUNTIF($B$2:B10393,\"=\"&B10393))","v":144},10,1.2721297572352379E-3,0.58333333333333337]
["8415-156","8415","M1101","ACHATS",10,7,{"$f":"IF(C10405=\"\",\"\",COUNTIF($B$2:B10405,\"=\"&B10405))","v":156},10,1.060108131029365E-3,0.7]
["8415-169","8415","H2401","ASSEMBLAGE - MONTAGE D'ARTICLES EN CUIRS, PEAUX",9,3,{"$f":"IF(C10418=\"\",\"\",COUNTIF($B$2:B10418,\"=\"&B10418))","v":169},10,9.5409731792642845E-4,0.33333333333333331]
["8415-172","8415","D1408","TÉLÉCONSEIL ET TÉLÉVENTE",9,2,{"$f":"IF(C10421=\"\",\"\",COUNTIF($B$2:B10421,\"=\"&B10421))","v":172},10,9.5409731792642845E-4,0.22222222222222221]
["8415-188","8415","I1101","DIRECTION ET INGÉNIERIE EN ENTRETIEN INFRASTRUCTURE ET BÂTI",7,7,{"$f":"IF(C10437=\"\",\"\",COUNTIF($B$2:B10437,\"=\"&B10437))","v":188},10,7.4207569172055554E-4,1]
["8415-198","8415","I1607","RÉPARATION DE CYCLES, MOTOCYCLES ET MOTOCULTEURS DE LOISIRS",6,5,{"$f":"IF(C10447=\"\",\"\",COUNTIF($B$2:B10447,\"=\"&B10447))","v":198},10,6.3606487861761897E-4,0.83333333333333337]
["8415-208","8415","D1107","VENTE EN GROS DE PRODUITS FRAIS",6,2,{"$f":"IF(C10457=\"\",\"\",COUNTIF($B$2:B10457,\"=\"&B10457))","v":208},10,6.3606487861761897E-4,0.33333333333333331]
["8415-213","8415","N4104","COURSES ET LIVRAISONS EXPRESS",5,1,{"$f":"IF(C10462=\"\",\"\",COUNTIF($B$2:B10462,\"=\"&B10462))","v":213},10,5.3005406551468251E-4,0.2]
["8415-224","8415","H3202","RÉGLAGE D'ÉQUIPEMENT DE FORMAGE DES PLASTIQUES ET CAOUTCHOUCS",5,4,{"$f":"IF(C10473=\"\",\"\",COUNTIF($B$2:B10473,\"=\"&B10473))","v":224},10,5.3005406551468251E-4,0.8]
["8415-228","8415","H2207","RÉALISATION DE MEUBLES EN BOIS",5,4,{"$f":"IF(C10477=\"\",\"\",COUNTIF($B$2:B10477,\"=\"&B10477))","v":228},10,5.3005406551468251E-4,0.8]
["8415-244","8415","D1205","NETTOYAGE D'ARTICLES TEXTILES OU CUIRS",4,2,{"$f":"IF(C10493=\"\",\"\",COUNTIF($B$2:B10493,\"=\"&B10493))","v":244},0,4.24043252411746E-4,0.5]
["8415-247","8415","N3203","MANUTENTION PORTUAIRE",3,1,{"$f":"IF(C10496=\"\",\"\",COUNTIF($B$2:B10496,\"=\"&B10496))","v":247},0,3.1803243930880948E-4,0.33333333333333331]
["8415-257","8415","H3402","CONDUITE DE TRAITEMENT PAR DÉPÔT DE SURFACE",3,3,{"$f":"IF(C10506=\"\",\"\",COUNTIF($B$2:B10506,\"=\"&B10506))","v":257},0,3.1803243930880948E-4,1]
["8415-267","8415","F1204","QUALITÉ SÉCURITÉ ENVIRONNEMENT ET PROTECTION SANTÉ DU BTP",3,2,{"$f":"IF(C10516=\"\",\"\",COUNTIF($B$2:B10516,\"=\"&B10516))","v":267},0,3.1803243930880948E-4,0.66666666666666663]
["8415-282","8415","K1707","SURVEILLANCE MUNICIPALE",2,1,{"$f":"IF(C10531=\"\",\"\",COUNTIF($B$2:B10531,\"=\"&B10531))","v":282},0,2.12021626205873E-4,0.5]
["8415-287","8415","I1201","ENTRETIEN D'AFFICHAGE ET MOBILIER URBAIN",2,".",{"$f":"IF(C10536=\"\",\"\",COUNTIF($B$2:B10536,\"=\"&B10536))","v":287},0,2.12021626205873E-4,0]
["8415-299","8415","C1206","GESTION DE CLIENTÈLE BANCAIRE",2,1,{"$f":"IF(C10548=\"\",\"\",COUNTIF($B$2:B10548,\"=\"&B10548))","v":299},0,2.12021626205873E-4,0.5]
["8415-311","8415","L1504","ÉCLAIRAGE SPECTACLE",1,1,{"$f":"IF(C10560=\"\",\"\",COUNTIF($B$2:B10560,\"=\"&B10560))","v":311},0,1.060108131029365E-4,1]
["8415-319","8415","H2910","MOULAGE SABLE",1,1,{"$f":"IF(C10568=\"\",\"\",COUNTIF($B$2:B10568,\"=\"&B10568))","v":319},0,1.060108131029365E-4,1]
["8415-330","8415","E1106","JOURNALISME ET INFORMATION MÉDIA",1,".",{"$f":"IF(C10579=\"\",\"\",COUNTIF($B$2:B10579,\"=\"&B10579))","v":330},0,1.060108131029365E-4,0]
["8416-2","8416","H3302","OPÉRATIONS MANUELLES D'ASSEMBLAGE, TRI OU EMBALLAGE",227,40,{"$f":"IF(C10588=\"\",\"\",COUNTIF($B$2:B10588,\"=\"&B10588))","v":2},230,3.8157673558581275E-2,0.1762114537444934]
["8416-5","8416","K1304","SERVICES DOMESTIQUES",162,101,{"$f":"IF(C10591=\"\",\"\",COUNTIF($B$2:B10591,\"=\"&B10591))","v":5},160,2.7231467473524961E-2,0.62345679012345678]
["8416-18","8416","G1202","ANIMATION D'ACTIVITÉS CULTURELLES OU LUDIQUES",79,2,{"$f":"IF(C10604=\"\",\"\",COUNTIF($B$2:B10604,\"=\"&B10604))","v":18},80,1.3279542780299211E-2,2.5316455696202531E-2]
["8416-25","8416","N4101","CONDUITE DE TRANSPORT DE MARCHANDISES SUR LONGUE DISTANCE",63,12,{"$f":"IF(C10611=\"\",\"\",COUNTIF($B$2:B10611,\"=\"&B10611))","v":25},60,1.059001512859304E-2,0.19047619047619047]
["8416-37","8416","K1303","ASSISTANCE AUPRÈS D'ENFANTS",51,36,{"$f":"IF(C10623=\"\",\"\",COUNTIF($B$2:B10623,\"=\"&B10623))","v":37},50,8.5728693898134145E-3,0.70588235294117652]
["8416-45","8416","H2803","FAÇONNAGE ET ÉMAILLAGE EN INDUSTRIE CÉRAMIQUE",40,".",{"$f":"IF(C10631=\"\",\"\",COUNTIF($B$2:B10631,\"=\"&B10631))","v":45},40,6.7238191292654228E-3,0]
["8416-57","8416","D1202","COIFFURE",30,17,{"$f":"IF(C10643=\"\",\"\",COUNTIF($B$2:B10643,\"=\"&B10643))","v":57},30,5.0428643469490669E-3,0.56666666666666665]
["8416-62","8416","K2111","FORMATION PROFESSIONNELLE",26,23,{"$f":"IF(C10648=\"\",\"\",COUNTIF($B$2:B10648,\"=\"&B10648))","v":62},30,4.3704824340225247E-3,0.88461538461538458]
["8416-77","8416","M1601","ACCUEIL ET RENSEIGNEMENTS",17,5,{"$f":"IF(C10663=\"\",\"\",COUNTIF($B$2:B10663,\"=\"&B10663))","v":77},20,2.8576231299378045E-3,0.29411764705882354]
["8416-81","8416","M1502","DÉVELOPPEMENT DES RESSOURCES HUMAINES",15,10,{"$f":"IF(C10667=\"\",\"\",COUNTIF($B$2:B10667,\"=\"&B10667))","v":81},20,2.5214321734745334E-3,0.66666666666666663]
["8416-97","8416","M1202","AUDIT ET CONTRÔLE COMPTABLES ET FINANCIERS",12,12,{"$f":"IF(C10683=\"\",\"\",COUNTIF($B$2:B10683,\"=\"&B10683))","v":97},10,2.017145738779627E-3,1]
["8416-100","8416","H2907","CONDUITE D'INSTALLATION DE PRODUCTION DES MÉTAUX",12,6,{"$f":"IF(C10686=\"\",\"\",COUNTIF($B$2:B10686,\"=\"&B10686))","v":100},10,2.017145738779627E-3,0.5]
["8416-110","8416","D1408","TÉLÉCONSEIL ET TÉLÉVENTE",11,9,{"$f":"IF(C10696=\"\",\"\",COUNTIF($B$2:B10696,\"=\"&B10696))","v":110},10,1.8490502605479913E-3,0.81818181818181823]
["8416-120","8416","M1205","DIRECTION ADMINISTRATIVE ET FINANCIÈRE",9,6,{"$f":"IF(C10706=\"\",\"\",COUNTIF($B$2:B10706,\"=\"&B10706))","v":120},10,1.5128593040847202E-3,0.66666666666666663]
["8416-135","8416","H2410","MISE EN FORME, REPASSAGE ET FINITIONS EN INDUSTRIE TEXTILE",8,4,{"$f":"IF(C10721=\"\",\"\",COUNTIF($B$2:B10721,\"=\"&B10721))","v":135},10,1.3447638258530846E-3,0.5]
["8416-140","8416","F1106","INGÉNIERIE ET ÉTUDES DU BTP",8,6,{"$f":"IF(C10726=\"\",\"\",COUNTIF($B$2:B10726,\"=\"&B10726))","v":140},10,1.3447638258530846E-3,0.75]
["8416-150","8416","G1204","ÉDUCATION EN ACTIVITÉS SPORTIVES",7,3,{"$f":"IF(C10736=\"\",\"\",COUNTIF($B$2:B10736,\"=\"&B10736))","v":150},10,1.1766683476214491E-3,0.42857142857142855]
["8416-156","8416","H1206","MANAGEMENT ET INGÉNIERIE ÉTUDES, RECHERCHE ET DÉVELOPPEMENT INDUSTRIEL",6,5,{"$f":"IF(C10742=\"\",\"\",COUNTIF($B$2:B10742,\"=\"&B10742))","v":156},10,1.0085728693898135E-3,0.83333333333333337]
["8416-172","8416","I1101","DIRECTION ET INGÉNIERIE EN ENTRETIEN INFRASTRUCTURE ET BÂTI",5,5,{"$f":"IF(C10758=\"\",\"\",COUNTIF($B$2:B10758,\"=\"&B10758))","v":172},10,8.4047739115817785E-4,1]
["8416-179","8416","M1801","ADMINISTRATION DE SYSTÈMES D'INFORMATION",4,4,{"$f":"IF(C10765=\"\",\"\",COUNTIF($B$2:B10765,\"=\"&B10765))","v":179},0,6.723819129265423E-4,1]
["8416-188","8416","I1401","MAINTENANCE INFORMATIQUE ET BUREAUTIQUE",4,4,{"$f":"IF(C10774=\"\",\"\",COUNTIF($B$2:B10774,\"=\"&B10774))","v":188},0,6.723819129265423E-4,1]
["8416-194","8416","F1702","CONSTRUCTION DE ROUTES ET VOIES",4,3,{"$f":"IF(C10780=\"\",\"\",COUNTIF($B$2:B10780,\"=\"&B10780))","v":194},0,6.723819129265423E-4,0.75]
["8416-208","8416","K2112","ORIENTATION SCOLAIRE ET PROFESSIONNELLE",3,3,{"$f":"IF(C10794=\"\",\"\",COUNTIF($B$2:B10794,\"=\"&B10794))","v":208},0,5.0428643469490675E-4,1]
["8416-215","8416","H2204","ENCADREMENT DES INDUSTRIES DE L'AMEUBLEMENT ET DU BOIS",3,3,{"$f":"IF(C10801=\"\",\"\",COUNTIF($B$2:B10801,\"=\"&B10801))","v":215},0,5.0428643469490675E-4,1]
["8416-223","8416","A1403","AIDE D'ÉLEVAGE AGRICOLE ET AQUACOLE",3,1,{"$f":"IF(C10809=\"\",\"\",COUNTIF($B$2:B10809,\"=\"&B10809))","v":223},0,5.0428643469490675E-4,0.33333333333333331]
["8416-231","8416","K1802","DÉVELOPPEMENT LOCAL",2,1,{"$f":"IF(C10817=\"\",\"\",COUNTIF($B$2:B10817,\"=\"&B10817))","v":231},{"$f":"ROUND(E10817,-1)","v":0},3.3619095646327115E-4,{"$f":"IF(OR(F10817=\"\",F10817=\".\"),0,F10817/E10817)","v":0.5}]
["8416-248","8416","D1501","ANIMATION DE VENTE",2,".",{"$f":"IF(C10834=\"\",\"\",COUNTIF($B$2:B10834,\"=\"&B10834))","v":248},0,3.3619095646327115E-4,0]
["8416-251","8416","D1105","POISSONNERIE",2,2,{"$f":"IF(C10837=\"\",\"\",COUNTIF($B$2:B10837,\"=\"&B10837))","v":251},0,3.3619095646327115E-4,1]
["8416-258","8416","M1701","ADMINISTRATION DES VENTES",1,1,{"$f":"IF(C10844=\"\",\"\",COUNTIF($B$2:B10844,\"=\"&B10844))","v":258},0,1.6809547823163558E-4,1]
["8416-267","8416","K1103","DÉVELOPPEMENT PERSONNEL ET BIEN-ÊTRE DE LA PERSONNE",1,1,{"$f":"IF(C10853=\"\",\"\",COUNTIF($B$2:B10853,\"=\"&B10853))","v":267},0,1.6809547823163558E-4,1]
["8416-283","8416","G1201","ACCOMPAGNEMENT DE VOYAGES, D'ACTIVITÉS CULTURELLES OU SPORTIVES",1,1,{"$f":"IF(C10869=\"\",\"\",COUNTIF($B$2:B10869,\"=\"&B10869))","v":283},0,1.6809547823163558E-4,1]
["8416-292","8416","D1210","VENTE EN ANIMALERIE",1,".",{"$f":"IF(C10878=\"\",\"\",COUNTIF($B$2:B10878,\"=\"&B10878))","v":292},0,1.6809547823163558E-4,0]
["8417-1","8417","K2503","SÉCURITÉ ET SURVEILLANCE PRIVÉES",368,283,{"$f":"IF(C10889=\"\",\"\",COUNTIF($B$2:B10889,\"=\"&B10889))","v":1},370,3.8365304420350292E-2,0.76902173913043481]
["8417-4","8417","K1303","ASSISTANCE AUPRÈS D'ENFANTS",247,224,{"$f":"IF(C10892=\"\",\"\",COUNTIF($B$2:B10892,\"=\"&B10892))","v":4},250,2.5750625521267723E-2,0.90688259109311742]
["8417-19","8417","D1507","MISE EN RAYON LIBRE-SERVICE",131,73,{"$f":"IF(C10907=\"\",\"\",COUNTIF($B$2:B10907,\"=\"&B10907))","v":19},130,1.365721434528774E-2,0.5572519083969466]
["8417-24","8417","F1603","INSTALLATION D'ÉQUIPEMENTS SANITAIRES ET THERMIQUES",115,48,{"$f":"IF(C10912=\"\",\"\",COUNTIF($B$2:B10912,\"=\"&B10912))","v":24},120,1.1989157631359467E-2,0.41739130434782606]
["8417-34","8417","M1607","SECRÉTARIAT",81,41,{"$f":"IF(C10922=\"\",\"\",COUNTIF($B$2:B10922,\"=\"&B10922))","v":34},80,8.4445371142618849E-3,0.50617283950617287]
["8417-44","8417","H2206","RÉALISATION DE MENUISERIE BOIS ET TONNELLERIE",68,33,{"$f":"IF(C10932=\"\",\"\",COUNTIF($B$2:B10932,\"=\"&B10932))","v":44},70,7.0892410341951628E-3,0.48529411764705882]
["8417-53","8417","F1604","MONTAGE D'AGENCEMENTS",51,16,{"$f":"IF(C10941=\"\",\"\",COUNTIF($B$2:B10941,\"=\"&B10941))","v":53},50,5.3169307756463719E-3,0.31372549019607843]
["8417-64","8417","F1202","DIRECTION DE CHANTIER DU BTP",38,37,{"$f":"IF(C10952=\"\",\"\",COUNTIF($B$2:B10952,\"=\"&B10952))","v":64},40,3.9616346955796498E-3,0.97368421052631582]
["8417-76","8417","N1303","INTERVENTION TECHNIQUE D'EXPLOITATION LOGISTIQUE",26,12,{"$f":"IF(C10964=\"\",\"\",COUNTIF($B$2:B10964,\"=\"&B10964))","v":76},30,2.7105921601334446E-3,0.46153846153846156]
["8417-78","8417","I1307","INSTALLATION ET MAINTENANCE TÉLÉCOMS ET COURANTS FAIBLES",26,13,{"$f":"IF(C10966=\"\",\"\",COUNTIF($B$2:B10966,\"=\"&B10966))","v":78},30,2.7105921601334446E-3,0.5]
["8417-96","8417","M1502","DÉVELOPPEMENT DES RESSOURCES HUMAINES",20,13,{"$f":"IF(C10984=\"\",\"\",COUNTIF($B$2:B10984,\"=\"&B10984))","v":96},20,2.0850708924103419E-3,0.65]
["8417-97","8417","H2209","INTERVENTION TECHNIQUE EN AMEUBLEMENT ET BOIS",20,20,{"$f":"IF(C10985=\"\",\"\",COUNTIF($B$2:B10985,\"=\"&B10985))","v":97},20,2.0850708924103419E-3,1]
["8417-107","8417","A1401","AIDE AGRICOLE DE PRODUCTION FRUITIÈRE OU VITICOLE",19,".",{"$f":"IF(C10995=\"\",\"\",COUNTIF($B$2:B10995,\"=\"&B10995))","v":107},20,1.9808173477898249E-3,0]
["8417-119","8417","K1207","INTERVENTION SOCIOÉDUCATIVE",16,10,{"$f":"IF(C11007=\"\",\"\",COUNTIF($B$2:B11007,\"=\"&B11007))","v":119},20,1.6680567139282735E-3,0.625]
["8417-126","8417","H3404","PEINTURE INDUSTRIELLE",15,11,{"$f":"IF(C11014=\"\",\"\",COUNTIF($B$2:B11014,\"=\"&B11014))","v":126},20,1.5638031693077565E-3,0.73333333333333328]
["8417-139","8417","A1202","ENTRETIEN DES ESPACES NATURELS",13,4,{"$f":"IF(C11027=\"\",\"\",COUNTIF($B$2:B11027,\"=\"&B11027))","v":139},10,1.3552960800667223E-3,0.30769230769230771]
["8417-151","8417","B1802","RÉALISATION D'ARTICLES EN CUIR ET MATÉRIAUX SOUPLES (HORS VÊTEMENT)",11,4,{"$f":"IF(C11039=\"\",\"\",COUNTIF($B$2:B11039,\"=\"&B11039))","v":151},10,1.1467889908256881E-3,0.36363636363636365]
["8417-159","8417","H1504","INTERVENTION TECHNIQUE EN CONTRÔLE ESSAI QUALITÉ EN ÉLECTRICITÉ ET ÉLECTRONIQUE",10,10,{"$f":"IF(C11047=\"\",\"\",COUNTIF($B$2:B11047,\"=\"&B11047))","v":159},10,1.0425354462051709E-3,1]
["8417-171","8417","A1201","BÛCHERONNAGE ET ÉLAGAGE",9,9,{"$f":"IF(C11059=\"\",\"\",COUNTIF($B$2:B11059,\"=\"&B11059))","v":171},10,9.3828190158465384E-4,1]
["8417-180","8417","H1403","INTERVENTION TECHNIQUE EN GESTION INDUSTRIELLE ET LOGISTIQUE",8,5,{"$f":"IF(C11068=\"\",\"\",COUNTIF($B$2:B11068,\"=\"&B11068))","v":180},10,8.3402835696413675E-4,0.625]
["8417-182","8417","N4203","INTERVENTION TECHNIQUE D'EXPLOITATION DES TRANSPORTS ROUTIERS DE MARCHANDISES",7,7,{"$f":"IF(C11070=\"\",\"\",COUNTIF($B$2:B11070,\"=\"&B11070))","v":182},10,7.2977481234361965E-4,1]
["8417-195","8417","F1101","ARCHITECTURE DU BTP ET DU PAYSAGE",7,6,{"$f":"IF(C11083=\"\",\"\",COUNTIF($B$2:B11083,\"=\"&B11083))","v":195},10,7.2977481234361965E-4,0.8571428571428571]
["8417-207","8417","D1203","HYDROTHÉRAPIE",6,".",{"$f":"IF(C11095=\"\",\"\",COUNTIF($B$2:B11095,\"=\"&B11095))","v":207},10,6.2552126772310256E-4,0]
["8417-214","8417","K2201","BLANCHISSERIE INDUSTRIELLE",5,1,{"$f":"IF(C11102=\"\",\"\",COUNTIF($B$2:B11102,\"=\"&B11102))","v":214},10,5.2126772310258547E-4,0.2]
["8417-224","8417","G1205","PERSONNEL D'ATTRACTIONS OU DE STRUCTURES DE LOISIRS",5,4,{"$f":"IF(C11112=\"\",\"\",COUNTIF($B$2:B11112,\"=\"&B11112))","v":224},10,5.2126772310258547E-4,0.8]
["8417-234","8417","K2306","SUPERVISION D'EXPLOITATION ÉCO-INDUSTRIELLE",4,3,{"$f":"IF(C11122=\"\",\"\",COUNTIF($B$2:B11122,\"=\"&B11122))","v":234},0,4.1701417848206837E-4,0.75]
["8417-239","8417","I1301","INSTALLATION ET MAINTENANCE D'ASCENSEURS",4,4,{"$f":"IF(C11127=\"\",\"\",COUNTIF($B$2:B11127,\"=\"&B11127))","v":239},0,4.1701417848206837E-4,1]
["8417-250","8417","J1404","KINÉSITHÉRAPIE",3,2,{"$f":"IF(C11138=\"\",\"\",COUNTIF($B$2:B11138,\"=\"&B11138))","v":250},0,{"$f":"E11138/SUMIF(B:B,B11138,E:E)","v":3.1276063386155128E-4},0.66666666666666663]
["8417-257","8417","H1303","INTERVENTION TECHNIQUE EN HYGIÈNE SÉCURITÉ ENVIRONNEMENT -HSE- INDUSTRIEL",3,3,{"$f":"IF(C11145=\"\",\"\",COUNTIF($B$2:B11145,\"=\"&B11145))","v":257},0,3.1276063386155128E-4,1]
["8417-268","8417","N1104","MANOEUVRE ET CONDUITE D'ENGINS LOURDS DE MANUTENTION",2,1,{"$f":"IF(C11156=\"\",\"\",COUNTIF($B$2:B11156,\"=\"&B11156))","v":268},0,2.0850708924103419E-4,0.5]
["8417-277","8417","K1903","DÉFENSE ET CONSEIL JURIDIQUE",2,".",{"$f":"IF(C11165=\"\",\"\",COUNTIF($B$2:B11165,\"=\"&B11165))","v":277},0,2.0850708924103419E-4,0]
["8417-293","8417","D1501","ANIMATION DE VENTE",2,2,{"$f":"IF(C11181=\"\",\"\",COUNTIF($B$2:B11181,\"=\"&B11181))","v":293},0,2.0850708924103419E-4,1]
["8417-302","8417","A1402","AIDE AGRICOLE DE PRODUCTION LÉGUMIÈRE OU VÉGÉTALE",2,1,{"$f":"IF(C11190=\"\",\"\",COUNTIF($B$2:B11190,\"=\"&B11190))","v":302},0,2.0850708924103419E-4,0.5]
["8417-308","8417","M1102","DIRECTION DES ACHATS",1,".",{"$f":"IF(C11196=\"\",\"\",COUNTIF($B$2:B11196,\"=\"&B11196))","v":308},0,1.0425354462051709E-4,0]
["8417-322","8417","H2406","CONDUITE DE MACHINE DE TRAITEMENT TEXTILE",1,1,{"$f":"IF(C11210=\"\",\"\",COUNTIF($B$2:B11210,\"=\"&B11210))","v":322},0,1.0425354462051709E-4,1]
["8417-325","8417","G1402","MANAGEMENT D'HÔTEL-RESTAURANT",1,".",{"$f":"IF(C11213=\"\",\"\",COUNTIF($B$2:B11213,\"=\"&B11213))","v":325},0,1.0425354462051709E-4,0]
["8417-337","8417","A1405","ARBORICULTURE ET VITICULTURE",1,".",{"$f":"IF(C11225=\"\",\"\",COUNTIF($B$2:B11225,\"=\"&B11225))","v":337},0,1.0425354462051709E-4,0]
["8419-6","8419","K1302","ASSISTANCE AUPRÈS D'ADULTES",70,49,{"$f":"IF(C11233=\"\",\"\",COUNTIF($B$2:B11233,\"=\"&B11233))","v":6},70,2.9991431019708654E-2,0.7]
["8419-13","8419","M1203","COMPTABILITÉ",39,20,{"$f":"IF(C11240=\"\",\"\",COUNTIF($B$2:B11240,\"=\"&B11240))","v":13},40,1.6709511568123392E-2,0.51282051282051277]
["8419-26","8419","H1404","INTERVENTION TECHNIQUE EN MÉTHODES ET INDUSTRIALISATION",23,20,{"$f":"IF(C11253=\"\",\"\",COUNTIF($B$2:B11253,\"=\"&B11253))","v":26},20,9.8543273350471302E-3,0.86956521739130432]
["8419-38","8419","G1605","PLONGE EN RESTAURATION",16,11,{"$f":"IF(C11265=\"\",\"\",COUNTIF($B$2:B11265,\"=\"&B11265))","v":38},{"$f":"ROUND(E11265,-1)","v":20},6.8551842330762643E-3,{"$f":"IF(OR(F11265=\"\",F11265=\".\"),0,F11265/E11265)","v":0.6875}]
["8419-42","8419","K1203","ENCADREMENT TECHNIQUE EN INSERTION PROFESSIONNELLE",14,9,{"$f":"IF(C11269=\"\",\"\",COUNTIF($B$2:B11269,\"=\"&B11269))","v":42},10,5.9982862039417309E-3,0.6428571428571429]
["8419-58","8419","F1603","INSTALLATION D'ÉQUIPEMENTS SANITAIRES ET THERMIQUES",11,7,{"$f":"IF(C11285=\"\",\"\",COUNTIF($B$2:B11285,\"=\"&B11285))","v":58},10,4.7129391602399318E-3,0.63636363636363635]
["8419-67","8419","H2206","RÉALISATION DE MENUISERIE BOIS ET TONNELLERIE",9,4,{"$f":"IF(C11294=\"\",\"\",COUNTIF($B$2:B11294,\"=\"&B11294))","v":67},10,3.8560411311053984E-3,0.44444444444444442]
["8419-69","8419","D1505","PERSONNEL DE CAISSE",9,5,{"$f":"IF(C11296=\"\",\"\",COUNTIF($B$2:B11296,\"=\"&B11296))","v":69},10,3.8560411311053984E-3,0.55555555555555558]
["8419-81","8419","K1202","ÉDUCATION DE JEUNES ENFANTS",7,6,{"$f":"IF(C11308=\"\",\"\",COUNTIF($B$2:B11308,\"=\"&B11308))","v":81},10,2.9991431019708655E-3,0.8571428571428571]
["8419-96","8419","M1502","DÉVELOPPEMENT DES RESSOURCES HUMAINES",5,3,{"$f":"IF(C11323=\"\",\"\",COUNTIF($B$2:B11323,\"=\"&B11323))","v":96},10,2.1422450728363325E-3,0.6]
["8419-101","8419","J1307","PRÉPARATION EN PHARMACIE",5,3,{"$f":"IF(C11328=\"\",\"\",COUNTIF($B$2:B11328,\"=\"&B11328))","v":101},10,2.1422450728363325E-3,0.6]
["8419-115","8419","J1412","RÉÉDUCATION EN PSYCHOMOTRICITÉ",4,1,{"$f":"IF(C11342=\"\",\"\",COUNTIF($B$2:B11342,\"=\"&B11342))","v":115},0,1.7137960582690661E-3,0.25]
["8419-121","8419","G1801","CAFÉ, BAR BRASSERIE",4,4,{"$f":"IF(C11348=\"\",\"\",COUNTIF($B$2:B11348,\"=\"&B11348))","v":121},0,1.7137960582690661E-3,1]
["8419-133","8419","I1308","MAINTENANCE D'INSTALLATION DE CHAUFFAGE",3,3,{"$f":"IF(C11360=\"\",\"\",COUNTIF($B$2:B11360,\"=\"&B11360))","v":133},0,1.2853470437017994E-3,1]
["8419-140","8419","H1101","ASSISTANCE ET SUPPORT TECHNIQUE CLIENT",3,3,{"$f":"IF(C11367=\"\",\"\",COUNTIF($B$2:B11367,\"=\"&B11367))","v":140},0,1.2853470437017994E-3,1]
["8419-144","8419","E1306","PRÉPRESSE",3,3,{"$f":"IF(C11371=\"\",\"\",COUNTIF($B$2:B11371,\"=\"&B11371))","v":144},0,1.2853470437017994E-3,1]
["8419-159","8419","K1101","ACCOMPAGNEMENT ET MÉDIATION FAMILIALE",2,".",{"$f":"IF(C11386=\"\",\"\",COUNTIF($B$2:B11386,\"=\"&B11386))","v":159},0,8.5689802913453304E-4,0]
["8419-164","8419","H2907","CONDUITE D'INSTALLATION DE PRODUCTION DES MÉTAUX",2,2,{"$f":"IF(C11391=\"\",\"\",COUNTIF($B$2:B11391,\"=\"&B11391))","v":164},0,8.5689802913453304E-4,1]
["8419-174","8419","D1502","MANAGEMENT/GESTION DE RAYON PRODUITS ALIMENTAIRES",2,2,{"$f":"IF(C11401=\"\",\"\",COUNTIF($B$2:B11401,\"=\"&B11401))","v":174},0,8.5689802913453304E-4,1]
["8419-189","8419","L1201","DANSE",1,".",{"$f":"IF(C11416=\"\",\"\",COUNTIF($B$2:B11416,\"=\"&B11416))","v":189},0,4.2844901456726652E-4,0]
["8419-196","8419","K1902","COLLABORATION JURIDIQUE",1,1,{"$f":"IF(C11423=\"\",\"\",COUNTIF($B$2:B11423,\"=\"&B11423))","v":196},0,4.2844901456726652E-4,1]
["8419-203","8419","I1305","INSTALLATION ET MAINTENANCE ÉLECTRONIQUE",1,".",{"$f":"IF(C11430=\"\",\"\",COUNTIF($B$2:B11430,\"=\"&B11430))","v":203},0,4.2844901456726652E-4,0]
["8419-216","8419","F1705","POSE DE CANALISATIONS",1,1,{"$f":"IF(C11443=\"\",\"\",COUNTIF($B$2:B11443,\"=\"&B11443))","v":216},0,4.2844901456726652E-4,1]
["8419-228","8419","C1205","CONSEIL EN GESTION DE PATRIMOINE FINANCIER",1,1,{"$f":"IF(C11455=\"\",\"\",COUNTIF($B$2:B11455,\"=\"&B11455))","v":228},0,4.2844901456726652E-4,1]
[{"$f":"B11459&\"-\"&G11459","v":"8419-232"},"8419","A1410","ÉLEVAGE OVIN OU CAPRIN",1,1,{"$f":"IF(C11459=\"\",\"\",COUNTIF($B$2:B11459,\"=\"&B11459))","v":232},0,4.2844901456726652E-4,1]
["8420-7","8420","J1506","SOINS INFIRMIERS GÉNÉRALISTES",143,46,{"$f":"IF(C11466=\"\",\"\",COUNTIF($B$2:B11466,\"=\"&B11466))","v":7},140,2.4604267033723332E-2,0.32167832167832167]
["8420-15","8420","K2204","NETTOYAGE DE LOCAUX",95,47,{"$f":"IF(C11474=\"\",\"\",COUNTIF($B$2:B11474,\"=\"&B11474))","v":15},100,1.6345492085340675E-2,0.49473684210526314]
["8420-27","8420","I1604","MÉCANIQUE AUTOMOBILE ET ENTRETIEN DE VÉHICULES",67,46,{"$f":"IF(C11486=\"\",\"\",COUNTIF($B$2:B11486,\"=\"&B11486))","v":27},70,1.1527873365450792E-2,0.68656716417910446]
["8420-40","8420","F1606","PEINTURE EN BÂTIMENT",38,11,{"$f":"IF(C11499=\"\",\"\",COUNTIF($B$2:B11499,\"=\"&B11499))","v":40},40,6.5381968341362701E-3,0.28947368421052633]
["8420-52","8420","D1104","PÂTISSERIE, CONFISERIE, CHOCOLATERIE ET GLACERIE",29,16,{"$f":"IF(C11511=\"\",\"\",COUNTIF($B$2:B11511,\"=\"&B11511))","v":52},30,4.9896765313145221E-3,0.55172413793103448]
["8420-59","8420","K2503","SÉCURITÉ ET SURVEILLANCE PRIVÉES",22,1,{"$f":"IF(C11518=\"\",\"\",COUNTIF($B$2:B11518,\"=\"&B11518))","v":59},20,3.7852718513420509E-3,4.5454545454545456E-2]
["8420-69","8420","D1209","VENTE DE VÉGÉTAUX",17,4,{"$f":"IF(C11528=\"\",\"\",COUNTIF($B$2:B11528,\"=\"&B11528))","v":69},20,2.9249827942188574E-3,0.23529411764705882]
["8420-75","8420","K1801","CONSEIL EN EMPLOI ET INSERTION SOCIOPROFESSIONNELLE",14,9,{"$f":"IF(C11534=\"\",\"\",COUNTIF($B$2:B11534,\"=\"&B11534))","v":75},10,2.4088093599449415E-3,0.6428571428571429]
["8420-84","8420","N4102","CONDUITE DE TRANSPORT DE PARTICULIERS",12,8,{"$f":"IF(C11543=\"\",\"\",COUNTIF($B$2:B11543,\"=\"&B11543))","v":84},10,2.0646937370956643E-3,0.66666666666666663]
["8420-95","8420","J1304","AIDE EN PUÉRICULTURE",11,3,{"$f":"IF(C11554=\"\",\"\",COUNTIF($B$2:B11554,\"=\"&B11554))","v":95},10,1.8926359256710254E-3,0.27272727272727271]
["8420-102","8420","J1303","ASSISTANCE MÉDICO-TECHNIQUE",9,8,{"$f":"IF(C11561=\"\",\"\",COUNTIF($B$2:B11561,\"=\"&B11561))","v":102},10,1.5485203028217482E-3,0.88888888888888884]
["8420-113","8420","H2205","PREMIÈRE TRANSFORMATION DE BOIS D'OEUVRE",8,2,{"$f":"IF(C11572=\"\",\"\",COUNTIF($B$2:B11572,\"=\"&B11572))","v":113},10,1.3764624913971094E-3,0.25]
["8420-127","8420","D1508","ENCADREMENT DU PERSONNEL DE CAISSES",7,7,{"$f":"IF(C11586=\"\",\"\",COUNTIF($B$2:B11586,\"=\"&B11586))","v":127},10,{"$f":"E11586/SUMIF(B:B,B11586,E:E)","v":1.2044046799724708E-3},1]
[{"$f":"B11587&\"-\"&G11587","v":"8420-128"},"8420","C1502","GESTION LOCATIVE IMMOBILIÈRE",7,5,{"$f":"IF(C11587=\"\",\"\",COUNTIF($B$2:B11587,\"=\"&B11587))","v":128},10,1.2044046799724708E-3,0.7142857142857143]
["8420-138","8420","H2902","CHAUDRONNERIE - TÔLERIE",6,1,{"$f":"IF(C11597=\"\",\"\",COUNTIF($B$2:B11597,\"=\"&B11597))","v":138},10,1.0323468685478321E-3,0.16666666666666666]
["8420-150","8420","F1201","CONDUITE DE TRAVAUX DU BTP ET DE TRAVAUX PAYSAGERS",5,4,{"$f":"IF(C11609=\"\",\"\",COUNTIF($B$2:B11609,\"=\"&B11609))","v":150},10,8.6028905712319341E-4,0.8]
["8420-157","8420","K1902","COLLABORATION JURIDIQUE",4,3,{"$f":"IF(C11616=\"\",\"\",COUNTIF($B$2:B11616,\"=\"&B11616))","v":157},0,6.8823124569855469E-4,0.75]
["8420-170","8420","B1803","RÉALISATION DE VÊTEMENTS SUR MESURE OU EN PETITE SÉRIE",4,".",{"$f":"IF(C11629=\"\",\"\",COUNTIF($B$2:B11629,\"=\"&B11629))","v":170},0,6.8823124569855469E-4,0]
["8420-182","8420","H3302","OPÉRATIONS MANUELLES D'ASSEMBLAGE, TRI OU EMBALLAGE",3,1,{"$f":"IF(C11641=\"\",\"\",COUNTIF($B$2:B11641,\"=\"&B11641))","v":182},0,5.1617343427391607E-4,0.33333333333333331]
["8420-190","8420","D1501","ANIMATION DE VENTE",3,1,{"$f":"IF(C11649=\"\",\"\",COUNTIF($B$2:B11649,\"=\"&B11649))","v":190},{"$f":"ROUND(E11649,-1)","v":0},5.1617343427391607E-4,{"$f":"IF(OR(F11649=\"\",F11649=\".\"),0,F11649/E11649)","v":0.33333333333333331}]
["8420-201","8420","M1803","DIRECTION DES SYSTÈMES D'INFORMATION",2,2,{"$f":"IF(C11660=\"\",\"\",COUNTIF($B$2:B11660,\"=\"&B11660))","v":201},0,3.4411562284927734E-4,1]
["8420-210","8420","K2112","ORIENTATION SCOLAIRE ET PROFESSIONNELLE",2,".",{"$f":"IF(C11669=\"\",\"\",COUNTIF($B$2:B11669,\"=\"&B11669))","v":210},0,3.4411562284927734E-4,0]
["8420-213","8420","J1402","DIÉTÉTIQUE",2,2,{"$f":"IF(C11672=\"\",\"\",COUNTIF($B$2:B11672,\"=\"&B11672))","v":213},0,3.4411562284927734E-4,1]
["8420-226","8420","F1605","MONTAGE DE RÉSEAUX ÉLECTRIQUES ET TÉLÉCOMS",2,".",{"$f":"IF(C11685=\"\",\"\",COUNTIF($B$2:B11685,\"=\"&B11685))","v":226},0,3.4411562284927734E-4,0]
["8420-233","8420","A1501","AIDE AUX SOINS ANIMAUX",2,2,{"$f":"IF(C11692=\"\",\"\",COUNTIF($B$2:B11692,\"=\"&B11692))","v":233},0,3.4411562284927734E-4,1]
["8420-245","8420","L1103","PRÉSENTATION DE SPECTACLES OU D'ÉMISSIONS",1,1,{"$f":"IF(C11704=\"\",\"\",COUNTIF($B$2:B11704,\"=\"&B11704))","v":245},0,1.7205781142463867E-4,1]
["8420-253","8420","I1201","ENTRETIEN D'AFFICHAGE ET MOBILIER URBAIN",1,1,{"$f":"IF(C11712=\"\",\"\",COUNTIF($B$2:B11712,\"=\"&B11712))","v":253},0,1.7205781142463867E-4,1]
["8420-265","8420","G1404","MANAGEMENT D'ÉTABLISSEMENT DE RESTAURATION COLLECTIVE",1,1,{"$f":"IF(C11724=\"\",\"\",COUNTIF($B$2:B11724,\"=\"&B11724))","v":265},0,1.7205781142463867E-4,1]
["8420-274","8420","E1106","JOURNALISME ET INFORMATION MÉDIA",1,1,{"$f":"IF(C11733=\"\",\"\",COUNTIF($B$2:B11733,\"=\"&B11733))","v":274},0,1.7205781142463867E-4,1]
["8421-3","8421","N1103","MAGASINAGE ET PRÉPARATION DE COMMANDES",330,109,{"$f":"IF(C11744=\"\",\"\",COUNTIF($B$2:B11744,\"=\"&B11744))","v":3},330,3.5687249918892612E-2,0.33030303030303032]
["8421-7","8421","K1302","ASSISTANCE AUPRÈS D'ADULTES",189,135,{"$f":"IF(C11748=\"\",\"\",COUNTIF($B$2:B11748,\"=\"&B11748))","v":7},190,2.0439061317183951E-2,0.7142857142857143]
["8421-23","8421","N1105","MANUTENTION MANUELLE DE CHARGES",104,23,{"$f":"IF(C11764=\"\",\"\",COUNTIF($B$2:B11764,\"=\"&B11764))","v":23},100,1.1246890883529793E-2,0.22115384615384615]
["8421-26","8421","D1401","ASSISTANAT COMMERCIAL",94,47,{"$f":"IF(C11767=\"\",\"\",COUNTIF($B$2:B11767,\"=\"&B11767))","v":26},90,1.0165459067805775E-2,0.5]
["8421-36","8421","N4105","CONDUITE ET LIVRAISON PAR TOURNÉES SUR COURTE DISTANCE",67,45,{"$f":"IF(C11777=\"\",\"\",COUNTIF($B$2:B11777,\"=\"&B11777))","v":36},{"$f":"ROUND(E11777,-1)","v":70},7.2455931653509246E-3,{"$f":"IF(OR(F11777=\"\",F11777=\".\"),0,F11777/E11777)","v":0.67164179104477617}]
["8421-46","8421","A1203","AMÉNAGEMENT ET ENTRETIEN DES ESPACES VERTS",51,21,{"$f":"IF(C11787=\"\",\"\",COUNTIF($B$2:B11787,\"=\"&B11787))","v":46},50,5.5153022601924949E-3,0.41176470588235292]
["8421-61","8421","K2111","FORMATION PROFESSIONNELLE",38,26,{"$f":"IF(C11802=\"\",\"\",COUNTIF($B$2:B11802,\"=\"&B11802))","v":61},40,4.1094408997512707E-3,0.68421052631578949]
["8421-66","8421","F1610","POSE ET RESTAURATION DE COUVERTURES",37,9,{"$f":"IF(C11807=\"\",\"\",COUNTIF($B$2:B11807,\"=\"&B11807))","v":66},40,4.0012977181788688E-3,0.24324324324324326]
["8421-78","8421","K2107","ENSEIGNEMENT GÉNÉRAL DU SECOND DEGRÉ",32,10,{"$f":"IF(C11819=\"\",\"\",COUNTIF($B$2:B11819,\"=\"&B11819))","v":78},30,3.4605818103168595E-3,0.3125]
["8421-90","8421","H2909","MONTAGE-ASSEMBLAGE MÉCANIQUE",26,8,{"$f":"IF(C11831=\"\",\"\",COUNTIF($B$2:B11831,\"=\"&B11831))","v":90},30,2.8117227208824484E-3,0.30769230769230771]
["8421-98","8421","G1802","MANAGEMENT DU SERVICE EN RESTAURATION",23,20,{"$f":"IF(C11839=\"\",\"\",COUNTIF($B$2:B11839,\"=\"&B11839))","v":98},20,2.4872931761652428E-3,0.86956521739130432]
["8421-105","8421","J1307","PRÉPARATION EN PHARMACIE",20,13,{"$f":"IF(C11846=\"\",\"\",COUNTIF($B$2:B11846,\"=\"&B11846))","v":105},20,2.1628636314480372E-3,0.65]
["8421-114","8421","D1408","TÉLÉCONSEIL ET TÉLÉVENTE",18,2,{"$f":"IF(C11855=\"\",\"\",COUNTIF($B$2:B11855,\"=\"&B11855))","v":114},20,1.9465772683032335E-3,0.1111111111111111]
["8421-121","8421","G1202","ANIMATION D'ACTIVITÉS CULTURELLES OU LUDIQUES",17,7,{"$f":"IF(C11862=\"\",\"\",COUNTIF($B$2:B11862,\"=\"&B11862))","v":121},20,1.8384340867308316E-3,0.41176470588235292]
["8421-134","8421","F1104","DESSIN BTP ET PAYSAGE",14,13,{"$f":"IF(C11875=\"\",\"\",COUNTIF($B$2:B11875,\"=\"&B11875))","v":134},10,1.514004542013626E-3,0.9285714285714286]
["8421-141","8421","H2804","PILOTAGE DE CENTRALE À BÉTON PRÊT À L'EMPLOI, CIMENT, ENROBÉS ET GRANULATS",13,1,{"$f":"IF(C11882=\"\",\"\",COUNTIF($B$2:B11882,\"=\"&B11882))","v":141},10,1.4058613604412242E-3,7.6923076923076927E-2]
["8421-149","8421","E1308","INTERVENTION TECHNIQUE EN INDUSTRIE GRAPHIQUE",12,1,{"$f":"IF(C11890=\"\",\"\",COUNTIF($B$2:B11890,\"=\"&B11890))","v":149},10,1.2977181788688223E-3,8.3333333333333329E-2]
["8421-157","8421","H1202","CONCEPTION ET DESSIN DE PRODUITS ÉLECTRIQUES ET ÉLECTRONIQUES",11,7,{"$f":"IF(C11898=\"\",\"\",COUNTIF($B$2:B11898,\"=\"&B11898))","v":157},10,1.1895749972964205E-3,0.63636363636363635]
["8421-174","8421","F1503","RÉALISATION - INSTALLATION D'OSSATURES BOIS",9,3,{"$f":"IF(C11915=\"\",\"\",COUNTIF($B$2:B11915,\"=\"&B11915))","v":174},10,9.7328863415161674E-4,0.33333333333333331]
["8421-177","8421","N1102","DÉMÉNAGEMENT",8,".",{"$f":"IF(C11918=\"\",\"\",COUNTIF($B$2:B11918,\"=\"&B11918))","v":177},10,8.6514545257921488E-4,0]
["8421-189","8421","C1504","TRANSACTION IMMOBILIÈRE",8,7,{"$f":"IF(C11930=\"\",\"\",COUNTIF($B$2:B11930,\"=\"&B11930))","v":189},10,8.6514545257921488E-4,0.875]
["8421-203","8421","G1201","ACCOMPAGNEMENT DE VOYAGES, D'ACTIVITÉS CULTURELLES OU SPORTIVES",6,2,{"$f":"IF(C11944=\"\",\"\",COUNTIF($B$2:B11944,\"=\"&B11944))","v":203},10,6.4885908943441116E-4,0.33333333333333331]
["8421-209","8421","M1602","OPÉRATIONS ADMINISTRATIVES",5,2,{"$f":"IF(C11950=\"\",\"\",COUNTIF($B$2:B11950,\"=\"&B11950))","v":209},10,5.407159078620093E-4,0.4]
["8421-218","8421","H3401","CONDUITE DE TRAITEMENT D'ABRASION DE SURFACE",5,".",{"$f":"IF(C11959=\"\",\"\",COUNTIF($B$2:B11959,\"=\"&B11959))","v":218},10,5.407159078620093E-4,0]
["8421-229","8421","H3404","PEINTURE INDUSTRIELLE",4,2,{"$f":"IF(C11970=\"\",\"\",COUNTIF($B$2:B11970,\"=\"&B11970))","v":229},0,{"$f":"E11970/SUMIF(B:B,B11970,E:E)","v":4.3257272628960744E-4},0.5]
["8421-232","8421","H1204","DESIGN INDUSTRIEL",4,3,{"$f":"IF(C11973=\"\",\"\",COUNTIF($B$2:B11973,\"=\"&B11973))","v":232},0,4.3257272628960744E-4,0.75]
["8421-247","8421","H3402","CONDUITE DE TRAITEMENT PAR DÉPÔT DE SURFACE",3,".",{"$f":"IF(C11988=\"\",\"\",COUNTIF($B$2:B11988,\"=\"&B11988))","v":247},0,3.2442954471720558E-4,0]
["8421-252","8421","H1209","INTERVENTION TECHNIQUE EN ÉTUDES ET DÉVELOPPEMENT ÉLECTRONIQUE",3,3,{"$f":"IF(C11993=\"\",\"\",COUNTIF($B$2:B11993,\"=\"&B11993))","v":252},0,3.2442954471720558E-4,1]
["8421-262","8421","B1803","RÉALISATION DE VÊTEMENTS SUR MESURE OU EN PETITE SÉRIE",3,".",{"$f":"IF(C12003=\"\",\"\",COUNTIF($B$2:B12003,\"=\"&B12003))","v":262},0,3.2442954471720558E-4,0]
["8421-272","8421","K2203","MANAGEMENT ET INSPECTION EN PROPRETÉ DE LOCAUX",2,".",{"$f":"IF(C12013=\"\",\"\",COUNTIF($B$2:B12013,\"=\"&B12013))","v":272},0,2.1628636314480372E-4,0]
["8421-284","8421","F1401","EXTRACTION LIQUIDE ET GAZEUSE",2,2,{"$f":"IF(C12025=\"\",\"\",COUNTIF($B$2:B12025,\"=\"&B12025))","v":284},0,2.1628636314480372E-4,1]
["8421-291","8421","D1103","CHARCUTERIE - TRAITEUR",2,2,{"$f":"IF(C12032=\"\",\"\",COUNTIF($B$2:B12032,\"=\"&B12032))","v":291},0,2.1628636314480372E-4,1]
["8421-304","8421","M1102","DIRECTION DES ACHATS",1,1,{"$f":"IF(C12045=\"\",\"\",COUNTIF($B$2:B12045,\"=\"&B12045))","v":304},0,1.0814318157240186E-4,1]
["8421-310","8421","K2105","ENSEIGNEMENT ARTISTIQUE",1,".",{"$f":"IF(C12051=\"\",\"\",COUNTIF($B$2:B12051,\"=\"&B12051))","v":310},0,1.0814318157240186E-4,0]
["8421-324","8421","H2603","CONDUITE D'INSTALLATION AUTOMATISÉE DE PRODUCTION ÉLECTRIQUE, ÉLECTRONIQUE ET MICROÉLECTRONIQUE",1,".",{"$f":"IF(C12065=\"\",\"\",COUNTIF($B$2:B12065,\"=\"&B12065))","v":324},0,1.0814318157240186E-4,0]
["8421-327","8421","H2209","INTERVENTION TECHNIQUE EN AMEUBLEMENT ET BOIS",1,".",{"$f":"IF(C12068=\"\",\"\",COUNTIF($B$2:B12068,\"=\"&B12068))","v":327},0,1.0814318157240186E-4,0]
["8421-335","8421","E1303","ENCADREMENT DES INDUSTRIES GRAPHIQUES",1,".",{"$f":"IF(C12076=\"\",\"\",COUNTIF($B$2:B12076,\"=\"&B12076))","v":335},0,1.0814318157240186E-4,0]
["8426-1","8426","G1401","ASSISTANCE DE DIRECTION D'HÔTEL-RESTAURANT",928,925,{"$f":"IF(C12088=\"\",\"\",COUNTIF($B$2:B12088,\"=\"&B12088))","v":1},930,5.9983194363648115E-2,0.99676724137931039]
["8426-8","8426","G1602","PERSONNEL DE CUISINE",288,231,{"$f":"IF(C12095=\"\",\"\",COUNTIF($B$2:B12095,\"=\"&B12095))","v":8},290,1.8615474112856311E-2,0.80208333333333337]
["8426-21","8426","D1507","MISE EN RAYON LIBRE-SERVICE",167,120,{"$f":"IF(C12108=\"\",\"\",COUNTIF($B$2:B12108,\"=\"&B12108))","v":21},170,1.0794389502940987E-2,0.71856287425149701]
["8426-33","8426","N1105","MANUTENTION MANUELLE DE CHARGES",123,74,{"$f":"IF(C12120=\"\",\"\",COUNTIF($B$2:B12120,\"=\"&B12120))","v":33},120,7.9503587356990497E-3,0.60162601626016265]
["8426-37","8426","D1407","RELATION TECHNICO-COMMERCIALE",93,82,{"$f":"IF(C12124=\"\",\"\",COUNTIF($B$2:B12124,\"=\"&B12124))","v":37},90,6.0112468489431845E-3,0.88172043010752688]
["8426-53","8426","H2902","CHAUDRONNERIE - TÔLERIE",68,32,{"$f":"IF(C12140=\"\",\"\",COUNTIF($B$2:B12140,\"=\"&B12140))","v":53},70,4.3953202766466295E-3,0.47058823529411764]
["8426-62","8426","G1202","ANIMATION D'ACTIVITÉS CULTURELLES OU LUDIQUES",63,26,{"$f":"IF(C12149=\"\",\"\",COUNTIF($B$2:B12149,\"=\"&B12149))","v":62},60,4.0721349621873184E-3,0.41269841269841268]
["8426-73","8426","K1403","MANAGEMENT DE STRUCTURE DE SANTÉ, SOCIALE OU PÉNITENTIAIRE",56,45,{"$f":"IF(C12160=\"\",\"\",COUNTIF($B$2:B12160,\"=\"&B12160))","v":73},60,3.6196755219442826E-3,0.8035714285714286]
["8426-77","8426","H2402","ASSEMBLAGE - MONTAGE DE VÊTEMENTS ET PRODUITS TEXTILES",53,19,{"$f":"IF(C12164=\"\",\"\",COUNTIF($B$2:B12164,\"=\"&B12164))","v":77},50,3.4257643332686965E-3,0.35849056603773582]
["8426-89","8426","H2901","AJUSTEMENT ET MONTAGE DE FABRICATION",45,19,{"$f":"IF(C12176=\"\",\"\",COUNTIF($B$2:B12176,\"=\"&B12176))","v":89},50,2.9086678301337987E-3,0.42222222222222222]
["8426-96","8426","I1302","INSTALLATION ET MAINTENANCE D'AUTOMATISMES",41,25,{"$f":"IF(C12183=\"\",\"\",COUNTIF($B$2:B12183,\"=\"&B12183))","v":96},40,2.65011957856635E-3,0.6097560975609756]
["8426-106","8426","G1703","RÉCEPTION EN HÔTELLERIE",34,22,{"$f":"IF(C12193=\"\",\"\",COUNTIF($B$2:B12193,\"=\"&B12193))","v":106},30,2.1976601383233148E-3,0.6470588235294118]
["8426-116","8426","D1208","SOINS ESTHÉTIQUES ET CORPORELS",31,16,{"$f":"IF(C12203=\"\",\"\",COUNTIF($B$2:B12203,\"=\"&B12203))","v":116},30,2.0037489496477282E-3,0.5161290322580645]
["8426-121","8426","C1109","RÉDACTION ET GESTION EN ASSURANCES",30,10,{"$f":"IF(C12208=\"\",\"\",COUNTIF($B$2:B12208,\"=\"&B12208))","v":121},30,1.9391118867558659E-3,0.33333333333333331]
["8426-132","8426","K1802","DÉVELOPPEMENT LOCAL",26,22,{"$f":"IF(C12219=\"\",\"\",COUNTIF($B$2:B12219,\"=\"&B12219))","v":132},30,1.680563635188417E-3,0.84615384615384615]
["8426-148","8426","G1604","FABRICATION DE CRÊPES OU PIZZAS",22,18,{"$f":"IF(C12235=\"\",\"\",COUNTIF($B$2:B12235,\"=\"&B12235))","v":148},20,1.4220153836209683E-3,0.81818181818181823]
["8426-150","8426","H1208","INTERVENTION TECHNIQUE EN ÉTUDES ET CONCEPTION EN AUTOMATISME",21,20,{"$f":"IF(C12237=\"\",\"\",COUNTIF($B$2:B12237,\"=\"&B12237))","v":150},20,1.357378320729106E-3,0.95238095238095233]
["8426-164","8426","J1410","PROTHÈSES DENTAIRES",18,15,{"$f":"IF(C12251=\"\",\"\",COUNTIF($B$2:B12251,\"=\"&B12251))","v":164},20,1.1634671320535194E-3,0.83333333333333337]
["8426-175","8426","C1202","ANALYSE DE CRÉDITS ET RISQUES BANCAIRES",16,14,{"$f":"IF(C12262=\"\",\"\",COUNTIF($B$2:B12262,\"=\"&B12262))","v":175},20,1.0341930062697951E-3,0.875]
["8426-184","8426","K1404","MISE EN OEUVRE ET PILOTAGE DE LA POLITIQUE DES POUVOIRS PUBLICS",14,8,{"$f":"IF(C12271=\"\",\"\",COUNTIF($B$2:B12271,\"=\"&B12271))","v":184},10,9.0491888048607066E-4,0.5714285714285714]
["8426-191","8426","H2904","CONDUITE D'ÉQUIPEMENT DE DÉFORMATION DES MÉTAUX",13,8,{"$f":"IF(C12278=\"\",\"\",COUNTIF($B$2:B12278,\"=\"&B12278))","v":191},10,8.402818175942085E-4,0.61538461538461542]
[{"$f":"B12291&\"-\"&G12291","v":"8426-204"},"8426","H1202","CONCEPTION ET DESSIN DE PRODUITS ÉLECTRIQUES ET ÉLECTRONIQUES",12,11,{"$f":"IF(C12291=\"\",\"\",COUNTIF($B$2:B12291,\"=\"&B12291))","v":204},10,7.7564475470234633E-4,0.91666666666666663]
["8426-207","8426","K1102","AIDE AUX BÉNÉFICIAIRES D'UNE MESURE DE PROTECTION JURIDIQUE",11,5,{"$f":"IF(C12294=\"\",\"\",COUNTIF($B$2:B12294,\"=\"&B12294))","v":207},10,7.1100769181048416E-4,0.45454545454545453]
["8426-219","8426","H2201","ASSEMBLAGE D'OUVRAGES EN BOIS",10,8,{"$f":"IF(C12306=\"\",\"\",COUNTIF($B$2:B12306,\"=\"&B12306))","v":219},10,6.4637062891862189E-4,0.8]
["8426-227","8426","J1406","ORTHOPHONIE",9,8,{"$f":"IF(C12314=\"\",\"\",COUNTIF($B$2:B12314,\"=\"&B12314))","v":227},10,5.8173356602675972E-4,0.88888888888888884]
["8426-234","8426","J1102","MÉDECINE GÉNÉRALISTE ET SPÉCIALISÉE",8,7,{"$f":"IF(C12321=\"\",\"\",COUNTIF($B$2:B12321,\"=\"&B12321))","v":234},10,5.1709650313489755E-4,0.875]
["8426-248","8426","F1204","QUALITÉ SÉCURITÉ ENVIRONNEMENT ET PROTECTION SANTÉ DU BTP",7,6,{"$f":"IF(C12335=\"\",\"\",COUNTIF($B$2:B12335,\"=\"&B12335))","v":248},10,4.5245944024303533E-4,0.8571428571428571]
["8426-259","8426","J1401","AUDIOPROTHÈSES",6,6,{"$f":"IF(C12346=\"\",\"\",COUNTIF($B$2:B12346,\"=\"&B12346))","v":259},10,3.8782237735117316E-4,1]
["8426-263","8426","H2415","CONTRÔLE EN INDUSTRIE DU CUIR ET DU TEXTILE",6,2,{"$f":"IF(C12350=\"\",\"\",COUNTIF($B$2:B12350,\"=\"&B12350))","v":263},10,3.8782237735117316E-4,0.33333333333333331]
["8426-279","8426","H2406","CONDUITE DE MACHINE DE TRAITEMENT TEXTILE",5,".",{"$f":"IF(C12366=\"\",\"\",COUNTIF($B$2:B12366,\"=\"&B12366))","v":279},10,3.2318531445931094E-4,0]
["8426-282","8426","E1104","CONCEPTION DE CONTENUS MULTIMÉDIAS",5,4,{"$f":"IF(C12369=\"\",\"\",COUNTIF($B$2:B12369,\"=\"&B12369))","v":282},10,3.2318531445931094E-4,0.8]
["8426-299","8426","F1101","ARCHITECTURE DU BTP ET DU PAYSAGE",4,4,{"$f":"IF(C12386=\"\",\"\",COUNTIF($B$2:B12386,\"=\"&B12386))","v":299},0,2.5854825156744878E-4,1]
["8426-302","8426","D1205","NETTOYAGE D'ARTICLES TEXTILES OU CUIRS",4,2,{"$f":"IF(C12389=\"\",\"\",COUNTIF($B$2:B12389,\"=\"&B12389))","v":302},0,2.5854825156744878E-4,0.5]
["8426-317","8426","H2404","CONDUITE DE MACHINE DE PRODUCTION ET TRANSFORMATION DES FILS",3,1,{"$f":"IF(C12404=\"\",\"\",COUNTIF($B$2:B12404,\"=\"&B12404))","v":317},0,1.9391118867558658E-4,0.33333333333333331]
["8426-322","8426","F1103","CONTRÔLE ET DIAGNOSTIC TECHNIQUE DU BÂTIMENT",3,3,{"$f":"IF(C12409=\"\",\"\",COUNTIF($B$2:B12409,\"=\"&B12409))","v":322},0,1.9391118867558658E-4,1]
["8426-336","8426","L1401","SPORTIF PROFESSIONNEL",2,2,{"$f":"IF(C12423=\"\",\"\",COUNTIF($B$2:B12423,\"=\"&B12423))","v":336},0,1.2927412578372439E-4,1]
["8426-342","8426","H2801","CONDUITE D'ÉQUIPEMENT DE TRANSFORMATION DU VERRE",2,".",{"$f":"IF(C12429=\"\",\"\",COUNTIF($B$2:B12429,\"=\"&B12429))","v":342},0,1.2927412578372439E-4,0]
["8426-354","8426","M1401","CONDUITE D'ENQUÊTES",1,".",{"$f":"IF(C12441=\"\",\"\",COUNTIF($B$2:B12441,\"=\"&B12441))","v":354},0,6.4637062891862194E-5,0]
["8426-365","8426","H2908","MODELAGE DE MATÉRIAUX NON MÉTALLIQUES",1,1,{"$f":"IF(C12452=\"\",\"\",COUNTIF($B$2:B12452,\"=\"&B12452))","v":365},0,6.4637062891862194E-5,1]
["8426-374","8426","G1404","MANAGEMENT D'ÉTABLISSEMENT DE RESTAURATION COLLECTIVE",1,".",{"$f":"IF(C12461=\"\",\"\",COUNTIF($B$2:B12461,\"=\"&B12461))","v":374},0,6.4637062891862194E-5,0]
["8426-380","8426","E1304","FAÇONNAGE ET ROUTAGE",1,1,{"$f":"IF(C12467=\"\",\"\",COUNTIF($B$2:B12467,\"=\"&B12467))","v":380},0,6.4637062891862194E-5,1]
["8426-385","8426","A1403","AIDE D'ÉLEVAGE AGRICOLE ET AQUACOLE",1,".",{"$f":"IF(C12472=\"\",\"\",COUNTIF($B$2:B12472,\"=\"&B12472))","v":385},0,6.4637062891862194E-5,0]
["8427-9","8427","G1203","ANIMATION DE LOISIRS AUPRÈS D'ENFANTS OU D'ADOLESCENTS",70,38,{"$f":"IF(C12484=\"\",\"\",COUNTIF($B$2:B12484,\"=\"&B12484))","v":9},70,2.032520325203252E-2,0.54285714285714282]
["8427-21","8427","D1401","ASSISTANAT COMMERCIAL",32,24,{"$f":"IF(C12496=\"\",\"\",COUNTIF($B$2:B12496,\"=\"&B12496))","v":21},30,9.2915214866434379E-3,0.75]
["8427-29","8427","D1505","PERSONNEL DE CAISSE",25,5,{"$f":"IF(C12504=\"\",\"\",COUNTIF($B$2:B12504,\"=\"&B12504))","v":29},30,7.259001161440186E-3,0.2]
["8427-36","8427","N1105","MANUTENTION MANUELLE DE CHARGES",21,1,{"$f":"IF(C12511=\"\",\"\",COUNTIF($B$2:B12511,\"=\"&B12511))","v":36},20,6.0975609756097563E-3,4.7619047619047616E-2]
["8427-49","8427","F1106","INGÉNIERIE ET ÉTUDES DU BTP",18,17,{"$f":"IF(C12524=\"\",\"\",COUNTIF($B$2:B12524,\"=\"&B12524))","v":49},20,5.2264808362369342E-3,0.94444444444444442]
["8427-61","8427","G1801","CAFÉ, BAR BRASSERIE",12,8,{"$f":"IF(C12536=\"\",\"\",COUNTIF($B$2:B12536,\"=\"&B12536))","v":61},10,3.4843205574912892E-3,0.66666666666666663]
["8427-65","8427","K1801","CONSEIL EN EMPLOI ET INSERTION SOCIOPROFESSIONNELLE",11,8,{"$f":"IF(C12540=\"\",\"\",COUNTIF($B$2:B12540,\"=\"&B12540))","v":65},10,3.193960511033682E-3,0.72727272727272729]
[{"$f":"B12547&\"-\"&G12547","v":"8427-72"},"8427","H1206","MANAGEMENT ET INGÉNIERIE ÉTUDES, RECHERCHE ET DÉVELOPPEMENT INDUSTRIEL",10,10,{"$f":"IF(C12547=\"\",\"\",COUNTIF($B$2:B12547,\"=\"&B12547))","v":72},10,2.9036004645760743E-3,1]
["8427-90","8427","H1404","INTERVENTION TECHNIQUE EN MÉTHODES ET INDUSTRIALISATION",8,7,{"$f":"IF(C12565=\"\",\"\",COUNTIF($B$2:B12565,\"=\"&B12565))","v":90},10,2.3228803716608595E-3,0.875]
["8427-97","8427","I1309","MAINTENANCE ÉLECTRIQUE",7,6,{"$f":"IF(C12572=\"\",\"\",COUNTIF($B$2:B12572,\"=\"&B12572))","v":97},10,2.0325203252032522E-3,0.8571428571428571]
["8427-105","8427","M1705","MARKETING",6,5,{"$f":"IF(C12580=\"\",\"\",COUNTIF($B$2:B12580,\"=\"&B12580))","v":105},10,1.7421602787456446E-3,0.83333333333333337]
["8427-117","8427","K2110","FORMATION EN CONDUITE DE VÉHICULES",5,4,{"$f":"IF(C12592=\"\",\"\",COUNTIF($B$2:B12592,\"=\"&B12592))","v":117},10,1.4518002322880372E-3,0.8]
["8427-124","8427","F1302","CONDUITE D'ENGINS DE TERRASSEMENT ET DE CARRIÈRE",5,1,{"$f":"IF(C12599=\"\",\"\",COUNTIF($B$2:B12599,\"=\"&B12599))","v":124},10,1.4518002322880372E-3,0.2]
["8427-134","8427","M1805","ÉTUDES ET DÉVELOPPEMENT INFORMATIQUE",4,3,{"$f":"IF(C12609=\"\",\"\",COUNTIF($B$2:B12609,\"=\"&B12609))","v":134},{"$f":"ROUND(E12609,-1)","v":0},1.1614401858304297E-3,{"$f":"IF(OR(F12609=\"\",F12609=\".\"),0,F12609/E12609)","v":0.75}]
["8427-140","8427","N4203","INTERVENTION TECHNIQUE D'EXPLOITATION DES TRANSPORTS ROUTIERS DE MARCHANDISES",3,3,{"$f":"IF(C12615=\"\",\"\",COUNTIF($B$2:B12615,\"=\"&B12615))","v":140},0,8.710801393728223E-4,1]
["8427-149","8427","K1201","ACTION SOCIALE",3,".",{"$f":"IF(C12624=\"\",\"\",COUNTIF($B$2:B12624,\"=\"&B12624))","v":149},0,8.710801393728223E-4,0]
["8427-160","8427","G1604","FABRICATION DE CRÊPES OU PIZZAS",3,3,{"$f":"IF(C12635=\"\",\"\",COUNTIF($B$2:B12635,\"=\"&B12635))","v":160},0,8.710801393728223E-4,1]
["8427-167","8427","N4103","CONDUITE DE TRANSPORT EN COMMUN SUR ROUTE",2,2,{"$f":"IF(C12642=\"\",\"\",COUNTIF($B$2:B12642,\"=\"&B12642))","v":167},0,5.8072009291521487E-4,1]
["8427-178","8427","K2102","COORDINATION PÉDAGOGIQUE",2,2,{"$f":"IF(C12653=\"\",\"\",COUNTIF($B$2:B12653,\"=\"&B12653))","v":178},0,5.8072009291521487E-4,1]
["8427-192","8427","F1702","CONSTRUCTION DE ROUTES ET VOIES",2,".",{"$f":"IF(C12667=\"\",\"\",COUNTIF($B$2:B12667,\"=\"&B12667))","v":192},0,5.8072009291521487E-4,0]
["8427-203","8427","N1102","DÉMÉNAGEMENT",1,".",{"$f":"IF(C12678=\"\",\"\",COUNTIF($B$2:B12678,\"=\"&B12678))","v":203},0,2.9036004645760743E-4,0]
["8427-212","8427","L1303","PROMOTION D'ARTISTES ET DE SPECTACLES",1,1,{"$f":"IF(C12687=\"\",\"\",COUNTIF($B$2:B12687,\"=\"&B12687))","v":212},0,2.9036004645760743E-4,1]
["8427-215","8427","K2305","SALUBRITÉ ET TRAITEMENT DE NUISIBLES",1,1,{"$f":"IF(C12690=\"\",\"\",COUNTIF($B$2:B12690,\"=\"&B12690))","v":215},0,2.9036004645760743E-4,1]
["8427-222","8427","J1404","KINÉSITHÉRAPIE",1,".",{"$f":"IF(C12697=\"\",\"\",COUNTIF($B$2:B12697,\"=\"&B12697))","v":222},0,2.9036004645760743E-4,0]
["8427-235","8427","G1703","RÉCEPTION EN HÔTELLERIE",1,".",{"$f":"IF(C12710=\"\",\"\",COUNTIF($B$2:B12710,\"=\"&B12710))","v":235},0,2.9036004645760743E-4,0]
["8427-247","8427","E1103","COMMUNICATION",1,".",{"$f":"IF(C12722=\"\",\"\",COUNTIF($B$2:B12722,\"=\"&B12722))","v":247},0,2.9036004645760743E-4,0]
["8427-255","8427","A1201","BÛCHERONNAGE ET ÉLAGAGE",1,1,{"$f":"IF(C12730=\"\",\"\",COUNTIF($B$2:B12730,\"=\"&B12730))","v":255},0,2.9036004645760743E-4,1]
["8428-12","8428","K2204","NETTOYAGE DE LOCAUX",1001,566,{"$f":"IF(C12742=\"\",\"\",COUNTIF($B$2:B12742,\"=\"&B12742))","v":12},1000,1.6084196995259901E-2,0.56543456543456538]
["8428-21","8428","D1106","VENTE EN ALIMENTATION",654,373,{"$f":"IF(C12751=\"\",\"\",COUNTIF($B$2:B12751,\"=\"&B12751))","v":21},650,1.0508556278621354E-2,0.57033639143730885]
["8428-32","8428","I1401","MAINTENANCE INFORMATIQUE ET BUREAUTIQUE",493,336,{"$f":"IF(C12762=\"\",\"\",COUNTIF($B$2:B12762,\"=\"&B12762))","v":32},490,7.9215875311320003E-3,0.68154158215010141]
["8428-40","8428","J1301","PERSONNEL POLYVALENT DES SERVICES HOSPITALIERS",453,166,{"$f":"IF(C12770=\"\",\"\",COUNTIF($B$2:B12770,\"=\"&B12770))","v":40},450,7.2788623764762595E-3,0.36644591611479027]
["8428-43","8428","J1501","SOINS D'HYGIÈNE, DE CONFORT DU PATIENT",431,308,{"$f":"IF(C12773=\"\",\"\",COUNTIF($B$2:B12773,\"=\"&B12773))","v":43},430,6.9253635414156019E-3,0.71461716937354991]
["8428-55","8428","H1502","MANAGEMENT ET INGÉNIERIE QUALITÉ INDUSTRIELLE",316,170,{"$f":"IF(C12785=\"\",\"\",COUNTIF($B$2:B12785,\"=\"&B12785))","v":55},320,5.0775287217803486E-3,0.53797468354430378]
["8428-65","8428","N4105","CONDUITE ET LIVRAISON PAR TOURNÉES SUR COURTE DISTANCE",264,182,{"$f":"IF(C12795=\"\",\"\",COUNTIF($B$2:B12795,\"=\"&B12795))","v":65},260,4.2419860207278861E-3,0.68939393939393945]
["8428-75","8428","C1206","GESTION DE CLIENTÈLE BANCAIRE",216,110,{"$f":"IF(C12805=\"\",\"\",COUNTIF($B$2:B12805,\"=\"&B12805))","v":75},220,3.4707158351409977E-3,0.5092592592592593]
["8428-84","8428","K2110","FORMATION EN CONDUITE DE VÉHICULES",194,177,{"$f":"IF(C12814=\"\",\"\",COUNTIF($B$2:B12814,\"=\"&B12814))","v":84},190,3.1172170000803405E-3,0.91237113402061853]
["8428-95","8428","H1210","INTERVENTION TECHNIQUE EN ÉTUDES, RECHERCHE ET DÉVELOPPEMENT",169,84,{"$f":"IF(C12825=\"\",\"\",COUNTIF($B$2:B12825,\"=\"&B12825))","v":95},170,2.7155137784205031E-3,0.49704142011834318]
["8428-99","8428","F1613","TRAVAUX D'ÉTANCHÉITÉ ET D'ISOLATION",165,32,{"$f":"IF(C12829=\"\",\"\",COUNTIF($B$2:B12829,\"=\"&B12829))","v":99},170,2.651241262954929E-3,0.19393939393939394]
["8428-115","8428","M1302","DIRECTION DE PETITE OU MOYENNE ENTREPRISE",129,128,{"$f":"IF(C12845=\"\",\"\",COUNTIF($B$2:B12845,\"=\"&B12845))","v":115},130,2.0727886237647624E-3,0.99224806201550386]
["8428-118","8428","G1604","FABRICATION DE CRÊPES OU PIZZAS",127,97,{"$f":"IF(C12848=\"\",\"\",COUNTIF($B$2:B12848,\"=\"&B12848))","v":118},130,2.0406523660319756E-3,0.76377952755905509]
["8428-128","8428","E1103","COMMUNICATION",116,87,{"$f":"IF(C12858=\"\",\"\",COUNTIF($B$2:B12858,\"=\"&B12858))","v":128},120,1.863902948501647E-3,0.75]
["8428-138","8428","J1405","OPTIQUE - LUNETTERIE",107,107,{"$f":"IF(C12868=\"\",\"\",COUNTIF($B$2:B12868,\"=\"&B12868))","v":138},110,1.7192897887041054E-3,1]
["8428-153","8428","H1504","INTERVENTION TECHNIQUE EN CONTRÔLE ESSAI QUALITÉ EN ÉLECTRICITÉ ET ÉLECTRONIQUE",93,64,{"$f":"IF(C12883=\"\",\"\",COUNTIF($B$2:B12883,\"=\"&B12883))","v":153},90,1.4943359845745964E-3,0.68817204301075274]
["8428-163","8428","I1101","DIRECTION ET INGÉNIERIE EN ENTRETIEN INFRASTRUCTURE ET BÂTI",81,71,{"$f":"IF(C12893=\"\",\"\",COUNTIF($B$2:B12893,\"=\"&B12893))","v":163},80,1.3015184381778742E-3,0.87654320987654322]
["8428-170","8428","H2909","MONTAGE-ASSEMBLAGE MÉCANIQUE",76,45,{"$f":"IF(C12900=\"\",\"\",COUNTIF($B$2:B12900,\"=\"&B12900))","v":170},80,1.2211777938459067E-3,0.59210526315789469]
["8428-182","8428","M1603","DISTRIBUTION DE DOCUMENTS",69,18,{"$f":"IF(C12912=\"\",\"\",COUNTIF($B$2:B12912,\"=\"&B12912))","v":182},70,1.1087008917811522E-3,0.2608695652173913]
["8428-190","8428","F1503","RÉALISATION - INSTALLATION D'OSSATURES BOIS",64,15,{"$f":"IF(C12920=\"\",\"\",COUNTIF($B$2:B12920,\"=\"&B12920))","v":190},60,1.0283602474491845E-3,0.234375]
["8428-197","8428","M1503","MANAGEMENT DES RESSOURCES HUMAINES",60,49,{"$f":"IF(C12927=\"\",\"\",COUNTIF($B$2:B12927,\"=\"&B12927))","v":197},60,9.6408773198361053E-4,0.81666666666666665]
["8428-206","8428","F1204","QUALITÉ SÉCURITÉ ENVIRONNEMENT ET PROTECTION SANTÉ DU BTP",56,42,{"$f":"IF(C12936=\"\",\"\",COUNTIF($B$2:B12936,\"=\"&B12936))","v":206},60,8.9981521651803645E-4,0.75]
["8428-213","8428","N1201","AFFRÈTEMENT TRANSPORT",50,43,{"$f":"IF(C12943=\"\",\"\",COUNTIF($B$2:B12943,\"=\"&B12943))","v":213},50,8.0340644331967546E-4,0.86]
["8428-226","8428","C1503","MANAGEMENT DE PROJET IMMOBILIER",43,41,{"$f":"IF(C12956=\"\",\"\",COUNTIF($B$2:B12956,\"=\"&B12956))","v":226},40,6.9092954125492083E-4,0.95348837209302328]
["8428-238","8428","J1504","SOINS INFIRMIERS SPÉCIALISÉS EN BLOC OPÉRATOIRE",38,27,{"$f":"IF(C12968=\"\",\"\",COUNTIF($B$2:B12968,\"=\"&B12968))","v":238},40,6.1058889692295335E-4,0.71052631578947367]
["8428-241","8428","E1205","RÉALISATION DE CONTENUS MULTIMÉDIAS",37,27,{"$f":"IF(C12971=\"\",\"\",COUNTIF($B$2:B12971,\"=\"&B12971))","v":241},40,5.9452076805655983E-4,0.72972972972972971]
["8428-258","8428","N4201","DIRECTION D'EXPLOITATION DES TRANSPORTS ROUTIERS DE MARCHANDISES",27,26,{"$f":"IF(C12988=\"\",\"\",COUNTIF($B$2:B12988,\"=\"&B12988))","v":258},30,4.3383947939262471E-4,0.96296296296296291]
[{"$f":"B12995&\"-\"&G12995","v":"8428-265"},"8428","E1101","ANIMATION DE SITE MULTIMÉDIA",25,18,{"$f":"IF(C12995=\"\",\"\",COUNTIF($B$2:B12995,\"=\"&B12995))","v":265},30,4.0170322165983773E-4,0.72]
["8428-270","8428","K2202","LAVAGE DE VITRES",23,20,{"$f":"IF(C13000=\"\",\"\",COUNTIF($B$2:B13000,\"=\"&B13000))","v":270},20,3.6956696392705069E-4,0.86956521739130432]
["8428-281","8428","J1404","KINÉSITHÉRAPIE",20,19,{"$f":"IF(C13011=\"\",\"\",COUNTIF($B$2:B13011,\"=\"&B13011))","v":281},20,3.2136257732787019E-4,0.95]
["8428-295","8428","H2401","ASSEMBLAGE - MONTAGE D'ARTICLES EN CUIRS, PEAUX",18,18,{"$f":"IF(C13025=\"\",\"\",COUNTIF($B$2:B13025,\"=\"&B13025))","v":295},20,2.8922631959508316E-4,1]
["8428-301","8428","F1401","EXTRACTION LIQUIDE ET GAZEUSE",16,9,{"$f":"IF(C13031=\"\",\"\",COUNTIF($B$2:B13031,\"=\"&B13031))","v":301},20,2.5709006186229612E-4,0.5625]
["8428-308","8428","H2804","PILOTAGE DE CENTRALE À BÉTON PRÊT À L'EMPLOI, CIMENT, ENROBÉS ET GRANULATS",14,7,{"$f":"IF(C13038=\"\",\"\",COUNTIF($B$2:B13038,\"=\"&B13038))","v":308},10,2.2495380412950911E-4,0.5]
["8428-324","8428","L1506","MACHINERIE SPECTACLE",11,10,{"$f":"IF(C13054=\"\",\"\",COUNTIF($B$2:B13054,\"=\"&B13054))","v":324},10,1.7674941753032859E-4,0.90909090909090906]
["8428-333","8428","K2602","CONSEIL EN SERVICES FUNÉRAIRES",9,9,{"$f":"IF(C13063=\"\",\"\",COUNTIF($B$2:B13063,\"=\"&B13063))","v":333},10,1.4461315979754158E-4,1]
["8428-339","8428","E1401","DÉVELOPPEMENT ET PROMOTION PUBLICITAIRE",9,9,{"$f":"IF(C13069=\"\",\"\",COUNTIF($B$2:B13069,\"=\"&B13069))","v":339},10,1.4461315979754158E-4,1]
["8428-344","8428","K1101","ACCOMPAGNEMENT ET MÉDIATION FAMILIALE",8,8,{"$f":"IF(C13074=\"\",\"\",COUNTIF($B$2:B13074,\"=\"&B13074))","v":344},10,1.2854503093114806E-4,1]
["8428-358","8428","I1502","INTERVENTION EN MILIEU SUBAQUATIQUE",6,6,{"$f":"IF(C13088=\"\",\"\",COUNTIF($B$2:B13088,\"=\"&B13088))","v":358},10,9.6408773198361053E-5,1]
["8428-364","8428","D1506","MARCHANDISAGE",6,5,{"$f":"IF(C13094=\"\",\"\",COUNTIF($B$2:B13094,\"=\"&B13094))","v":364},10,9.6408773198361053E-5,0.83333333333333337]
["8428-376","8428","H2604","MONTAGE DE PRODUITS ÉLECTRIQUES ET ÉLECTRONIQUES",5,2,{"$f":"IF(C13106=\"\",\"\",COUNTIF($B$2:B13106,\"=\"&B13106))","v":376},10,8.0340644331967548E-5,0.4]
["8428-383","8428","F1102","CONCEPTION - AMÉNAGEMENT D'ESPACES INTÉRIEURS",5,1,{"$f":"IF(C13113=\"\",\"\",COUNTIF($B$2:B13113,\"=\"&B13113))","v":383},10,8.0340644331967548E-5,0.2]
["8428-396","8428","H2906","CONDUITE D'INSTALLATION AUTOMATISÉE OU ROBOTISÉE DE FABRICATION MÉCANIQUE",4,3,{"$f":"IF(C13126=\"\",\"\",COUNTIF($B$2:B13126,\"=\"&B13126))","v":396},0,6.4272515465574031E-5,0.75]
["8428-402","8428","B1501","FABRICATION ET RÉPARATION D'INSTRUMENTS DE MUSIQUE",4,3,{"$f":"IF(C13132=\"\",\"\",COUNTIF($B$2:B13132,\"=\"&B13132))","v":402},0,6.4272515465574031E-5,0.75]
["8428-416","8428","A1504","SANTÉ ANIMALE",3,1,{"$f":"IF(C13146=\"\",\"\",COUNTIF($B$2:B13146,\"=\"&B13146))","v":416},0,4.8204386599180526E-5,0.33333333333333331]
["8428-419","8428","N2102","PILOTAGE ET NAVIGATION TECHNIQUE AÉRIENNE",2,2,{"$f":"IF(C13149=\"\",\"\",COUNTIF($B$2:B13149,\"=\"&B13149))","v":419},0,3.2136257732787015E-5,1]
["8428-437","8428","A1405","ARBORICULTURE ET VITICULTURE",2,2,{"$f":"IF(C13167=\"\",\"\",COUNTIF($B$2:B13167,\"=\"&B13167))","v":437},0,3.2136257732787015E-5,1]
["8428-439","8428","N4402","EXPLOITATION ET MANOEUVRE DES REMONTÉES MÉCANIQUES",1,1,{"$f":"IF(C13169=\"\",\"\",COUNTIF($B$2:B13169,\"=\"&B13169))","v":439},0,1.6068128866393508E-5,1]
["8428-456","8428","H2410","MISE EN FORME, REPASSAGE ET FINITIONS EN INDUSTRIE TEXTILE",1,".",{"$f":"IF(C13186=\"\",\"\",COUNTIF($B$2:B13186,\"=\"&B13186))","v":456},0,{"$f":"E13186/SUMIF(B:B,B13186,E:E)","v":1.6068128866393508E-5},0]
["8428-459","8428","F1105","ÉTUDES GÉOLOGIQUES",1,1,{"$f":"IF(C13189=\"\",\"\",COUNTIF($B$2:B13189,\"=\"&B13189))","v":459},0,1.6068128866393508E-5,1]
["8430-2","8430","N4101","CONDUITE DE TRANSPORT DE MARCHANDISES SUR LONGUE DISTANCE",877,760,{"$f":"IF(C13201=\"\",\"\",COUNTIF($B$2:B13201,\"=\"&B13201))","v":2},880,5.4289959143246254E-2,0.86659064994298751]
["8430-6","8430","K1302","ASSISTANCE AUPRÈS D'ADULTES",509,478,{"$f":"IF(C13205=\"\",\"\",COUNTIF($B$2:B13205,\"=\"&B13205))","v":6},510,3.1509223721678845E-2,0.93909626719056971]
["8430-22","8430","A1203","AMÉNAGEMENT ET ENTRETIEN DES ESPACES VERTS",139,110,{"$f":"IF(C13221=\"\",\"\",COUNTIF($B$2:B13221,\"=\"&B13221))","v":22},140,8.6046799554289951E-3,0.79136690647482011]
["8430-31","8430","F1704","PRÉPARATION DU GROS OEUVRE ET DES TRAVAUX PUBLICS",100,39,{"$f":"IF(C13230=\"\",\"\",COUNTIF($B$2:B13230,\"=\"&B13230))","v":31},100,6.1904172341215799E-3,0.39]
["8430-42","8430","I1203","MAINTENANCE DES BÂTIMENTS ET DES LOCAUX",84,53,{"$f":"IF(C13241=\"\",\"\",COUNTIF($B$2:B13241,\"=\"&B13241))","v":42},80,5.1999504766621274E-3,0.63095238095238093]
["8430-45","8430","J1304","AIDE EN PUÉRICULTURE",73,42,{"$f":"IF(C13244=\"\",\"\",COUNTIF($B$2:B13244,\"=\"&B13244))","v":45},70,4.5190045809087535E-3,0.57534246575342463]
["8430-60","8430","N4102","CONDUITE DE TRANSPORT DE PARTICULIERS",54,53,{"$f":"IF(C13259=\"\",\"\",COUNTIF($B$2:B13259,\"=\"&B13259))","v":60},50,3.3428253064256533E-3,0.98148148148148151]
["8430-65","8430","F1202","DIRECTION DE CHANTIER DU BTP",52,49,{"$f":"IF(C13264=\"\",\"\",COUNTIF($B$2:B13264,\"=\"&B13264))","v":65},50,3.2190169617432214E-3,0.94230769230769229]
["8430-75","8430","I1503","INTERVENTION EN MILIEUX ET PRODUITS NOCIFS",47,47,{"$f":"IF(C13274=\"\",\"\",COUNTIF($B$2:B13274,\"=\"&B13274))","v":75},50,2.9094961000371423E-3,1]
["8430-90","8430","K1104","PSYCHOLOGIE",40,31,{"$f":"IF(C13289=\"\",\"\",COUNTIF($B$2:B13289,\"=\"&B13289))","v":90},40,2.4761668936486318E-3,0.77500000000000002]
["8430-100","8430","G1801","CAFÉ, BAR BRASSERIE",35,32,{"$f":"IF(C13299=\"\",\"\",COUNTIF($B$2:B13299,\"=\"&B13299))","v":100},40,2.1666460319425531E-3,0.91428571428571426]
["8430-101","8430","F1302","CONDUITE D'ENGINS DE TERRASSEMENT ET DE CARRIÈRE",35,32,{"$f":"IF(C13300=\"\",\"\",COUNTIF($B$2:B13300,\"=\"&B13300))","v":101},40,2.1666460319425531E-3,0.91428571428571426]
["8430-117","8430","H1404","INTERVENTION TECHNIQUE EN MÉTHODES ET INDUSTRIALISATION",30,24,{"$f":"IF(C13316=\"\",\"\",COUNTIF($B$2:B13316,\"=\"&B13316))","v":117},30,1.8571251702364738E-3,0.8]
["8430-119","8430","G1605","PLONGE EN RESTAURATION",30,21,{"$f":"IF(C13318=\"\",\"\",COUNTIF($B$2:B13318,\"=\"&B13318))","v":119},30,1.8571251702364738E-3,0.7]
["8430-133","8430","H1102","MANAGEMENT ET INGÉNIERIE D'AFFAIRES",25,24,{"$f":"IF(C13332=\"\",\"\",COUNTIF($B$2:B13332,\"=\"&B13332))","v":133},30,1.547604308530395E-3,0.96]
["8430-144","8430","A1301","CONSEIL ET ASSISTANCE TECHNIQUE EN AGRICULTURE ET ENVIRONNEMENT NATUREL",22,".",{"$f":"IF(C13343=\"\",\"\",COUNTIF($B$2:B13343,\"=\"&B13343))","v":144},20,1.3618917915067476E-3,0]
["8430-153","8430","F1611","RÉALISATION ET RESTAURATION DE FAÇADES",19,7,{"$f":"IF(C13352=\"\",\"\",COUNTIF($B$2:B13352,\"=\"&B13352))","v":153},20,1.1761792744831002E-3,0.36842105263157893]
["8430-160","8430","C1109","RÉDACTION ET GESTION EN ASSURANCES",18,18,{"$f":"IF(C13359=\"\",\"\",COUNTIF($B$2:B13359,\"=\"&B13359))","v":160},20,1.1142751021418844E-3,1]
["8430-173","8430","J1102","MÉDECINE GÉNÉRALISTE ET SPÉCIALISÉE",16,16,{"$f":"IF(C13372=\"\",\"\",COUNTIF($B$2:B13372,\"=\"&B13372))","v":173},20,9.9046675745945276E-4,1]
["8430-176","8430","F1606","PEINTURE EN BÂTIMENT",16,12,{"$f":"IF(C13375=\"\",\"\",COUNTIF($B$2:B13375,\"=\"&B13375))","v":176},20,9.9046675745945276E-4,0.75]
["8430-188","8430","H2402","ASSEMBLAGE - MONTAGE DE VÊTEMENTS ET PRODUITS TEXTILES",14,".",{"$f":"IF(C13387=\"\",\"\",COUNTIF($B$2:B13387,\"=\"&B13387))","v":188},10,8.6665841277702119E-4,0]
["8430-196","8430","D1406","MANAGEMENT EN FORCE DE VENTE",13,12,{"$f":"IF(C13395=\"\",\"\",COUNTIF($B$2:B13395,\"=\"&B13395))","v":196},10,8.0475424043580535E-4,0.92307692307692313]
["8430-208","8430","H3201","CONDUITE D'ÉQUIPEMENT DE FORMAGE DES PLASTIQUES ET CAOUTCHOUCS",11,4,{"$f":"IF(C13407=\"\",\"\",COUNTIF($B$2:B13407,\"=\"&B13407))","v":208},10,6.8094589575337379E-4,0.36363636363636365]
["8430-217","8430","H2914","RÉALISATION ET MONTAGE EN TUYAUTERIE",10,9,{"$f":"IF(C13416=\"\",\"\",COUNTIF($B$2:B13416,\"=\"&B13416))","v":217},10,6.1904172341215795E-4,0.9]
["8430-228","8430","H2904","CONDUITE D'ÉQUIPEMENT DE DÉFORMATION DES MÉTAUX",9,8,{"$f":"IF(C13427=\"\",\"\",COUNTIF($B$2:B13427,\"=\"&B13427))","v":228},10,5.5713755107094222E-4,0.88888888888888884]
["8430-232","8430","K1301","ACCOMPAGNEMENT MÉDICOSOCIAL",8,5,{"$f":"IF(C13431=\"\",\"\",COUNTIF($B$2:B13431,\"=\"&B13431))","v":232},10,4.9523337872972638E-4,0.625]
["8430-248","8430","K2102","COORDINATION PÉDAGOGIQUE",6,6,{"$f":"IF(C13447=\"\",\"\",COUNTIF($B$2:B13447,\"=\"&B13447))","v":248},10,3.7142503404729481E-4,1]
["8430-251","8430","I1607","RÉPARATION DE CYCLES, MOTOCYCLES ET MOTOCULTEURS DE LOISIRS",6,6,{"$f":"IF(C13450=\"\",\"\",COUNTIF($B$2:B13450,\"=\"&B13450))","v":251},10,3.7142503404729481E-4,1]
["8430-261","8430","F1706","PRÉFABRICATION EN BÉTON INDUSTRIEL",5,5,{"$f":"IF(C13460=\"\",\"\",COUNTIF($B$2:B13460,\"=\"&B13460))","v":261},10,3.0952086170607897E-4,1]
["8430-271","8430","H2403","CONDUITE DE MACHINE DE FABRICATION DE PRODUITS TEXTILES",4,2,{"$f":"IF(C13470=\"\",\"\",COUNTIF($B$2:B13470,\"=\"&B13470))","v":271},0,2.4761668936486319E-4,0.5]
["8430-280","8430","K2601","CONDUITE D'OPÉRATIONS FUNÉRAIRES",3,3,{"$f":"IF(C13479=\"\",\"\",COUNTIF($B$2:B13479,\"=\"&B13479))","v":280},0,1.8571251702364741E-4,1]
["8430-291","8430","E1104","CONCEPTION DE CONTENUS MULTIMÉDIAS",3,2,{"$f":"IF(C13490=\"\",\"\",COUNTIF($B$2:B13490,\"=\"&B13490))","v":291},0,1.8571251702364741E-4,0.66666666666666663]
["8430-303","8430","K2101","CONSEIL EN FORMATION",2,2,{"$f":"IF(C13502=\"\",\"\",COUNTIF($B$2:B13502,\"=\"&B13502))","v":303},0,1.2380834468243159E-4,1]
["8430-315","8430","F1105","ÉTUDES GÉOLOGIQUES",2,2,{"$f":"IF(C13514=\"\",\"\",COUNTIF($B$2:B13514,\"=\"&B13514))","v":315},0,1.2380834468243159E-4,1]
["8430-323","8430","A1501","AIDE AUX SOINS ANIMAUX",2,1,{"$f":"IF(C13522=\"\",\"\",COUNTIF($B$2:B13522,\"=\"&B13522))","v":323},0,1.2380834468243159E-4,0.5]
["8430-334","8430","K1402","CONSEIL EN SANTÉ PUBLIQUE",1,".",{"$f":"IF(C13533=\"\",\"\",COUNTIF($B$2:B13533,\"=\"&B13533))","v":334},0,6.1904172341215797E-5,0]
["8430-343","8430","H2805","PILOTAGE D'INSTALLATION DE PRODUCTION VERRIÈRE",1,1,{"$f":"IF(C13542=\"\",\"\",COUNTIF($B$2:B13542,\"=\"&B13542))","v":343},0,6.1904172341215797E-5,1]
["8430-349","8430","H2101","ABATTAGE ET DÉCOUPE DES VIANDES",1,".",{"$f":"IF(C13548=\"\",\"\",COUNTIF($B$2:B13548,\"=\"&B13548))","v":349},0,6.1904172341215797E-5,0]
["8430-363","8430","C1301","FRONT OFFICE MARCHÉS FINANCIERS",1,".",{"$f":"IF(C13562=\"\",\"\",COUNTIF($B$2:B13562,\"=\"&B13562))","v":363},0,6.1904172341215797E-5,0]
["8430-366","8430","B1806","TAPISSERIE - DÉCORATION EN AMEUBLEMENT",1,1,{"$f":"IF(C13565=\"\",\"\",COUNTIF($B$2:B13565,\"=\"&B13565))","v":366},0,6.1904172341215797E-5,1]
["8431-7","8431","A1401","AIDE AGRICOLE DE PRODUCTION FRUITIÈRE OU VITICOLE",228,1,{"$f":"IF(C13577=\"\",\"\",COUNTIF($B$2:B13577,\"=\"&B13577))","v":7},230,1.88929400066291E-2,4.3859649122807015E-3]
["8431-15","8431","I1304","INSTALLATION ET MAINTENANCE D'ÉQUIPEMENTS INDUSTRIELS ET D'EXPLOITATION",179,158,{"$f":"IF(C13585=\"\",\"\",COUNTIF($B$2:B13585,\"=\"&B13585))","v":15},180,1.4832615180643023E-2,0.88268156424581001]
["8431-22","8431","H2909","MONTAGE-ASSEMBLAGE MÉCANIQUE",146,87,{"$f":"IF(C13592=\"\",\"\",COUNTIF($B$2:B13592,\"=\"&B13592))","v":22},150,1.2098110705999338E-2,0.59589041095890416]
["8431-31","8431","F1603","INSTALLATION D'ÉQUIPEMENTS SANITAIRES ET THERMIQUES",107,81,{"$f":"IF(C13601=\"\",\"\",COUNTIF($B$2:B13601,\"=\"&B13601))","v":31},110,8.8664235996022533E-3,0.7570093457943925]
["8431-47","8431","D1505","PERSONNEL DE CAISSE",64,41,{"$f":"IF(C13617=\"\",\"\",COUNTIF($B$2:B13617,\"=\"&B13617))","v":47},60,5.3032814053695721E-3,0.640625]
["8431-51","8431","M1805","ÉTUDES ET DÉVELOPPEMENT INFORMATIQUE",60,56,{"$f":"IF(C13621=\"\",\"\",COUNTIF($B$2:B13621,\"=\"&B13621))","v":51},60,4.9718263175339743E-3,0.93333333333333335]
["8431-67","8431","K2110","FORMATION EN CONDUITE DE VÉHICULES",43,36,{"$f":"IF(C13637=\"\",\"\",COUNTIF($B$2:B13637,\"=\"&B13637))","v":67},40,3.5631421942326816E-3,0.83720930232558144]
["8431-76","8431","N1303","INTERVENTION TECHNIQUE D'EXPLOITATION LOGISTIQUE",39,30,{"$f":"IF(C13646=\"\",\"\",COUNTIF($B$2:B13646,\"=\"&B13646))","v":76},40,3.231687106397083E-3,0.76923076923076927]
["8431-83","8431","H2602","CÂBLAGE ÉLECTRIQUE ET ÉLECTROMÉCANIQUE",36,3,{"$f":"IF(C13653=\"\",\"\",COUNTIF($B$2:B13653,\"=\"&B13653))","v":83},40,2.9830957905203847E-3,8.3333333333333329E-2]
["8431-90","8431","H2902","CHAUDRONNERIE - TÔLERIE",33,24,{"$f":"IF(C13660=\"\",\"\",COUNTIF($B$2:B13660,\"=\"&B13660))","v":90},30,2.7345044746436859E-3,0.72727272727272729]
["8431-105","8431","K1203","ENCADREMENT TECHNIQUE EN INSERTION PROFESSIONNELLE",25,13,{"$f":"IF(C13675=\"\",\"\",COUNTIF($B$2:B13675,\"=\"&B13675))","v":105},30,2.0715942989724891E-3,0.52]
["8431-110","8431","F1705","POSE DE CANALISATIONS",24,10,{"$f":"IF(C13680=\"\",\"\",COUNTIF($B$2:B13680,\"=\"&B13680))","v":110},20,1.9887305270135896E-3,0.41666666666666669]
["8431-120","8431","K1206","INTERVENTION SOCIOCULTURELLE",21,14,{"$f":"IF(C13690=\"\",\"\",COUNTIF($B$2:B13690,\"=\"&B13690))","v":120},20,1.7401392111368909E-3,0.66666666666666663]
["8431-126","8431","M1205","DIRECTION ADMINISTRATIVE ET FINANCIÈRE",20,17,{"$f":"IF(C13696=\"\",\"\",COUNTIF($B$2:B13696,\"=\"&B13696))","v":126},20,1.6572754391779914E-3,0.85]
["8431-142","8431","F1608","POSE DE REVÊTEMENTS RIGIDES",17,12,{"$f":"IF(C13712=\"\",\"\",COUNTIF($B$2:B13712,\"=\"&B13712))","v":142},20,1.4086841233012927E-3,0.70588235294117652]
["8431-149","8431","F1502","MONTAGE DE STRUCTURES MÉTALLIQUES",16,4,{"$f":"IF(C13719=\"\",\"\",COUNTIF($B$2:B13719,\"=\"&B13719))","v":149},20,1.325820351342393E-3,0.25]
["8431-158","8431","K1104","PSYCHOLOGIE",14,11,{"$f":"IF(C13728=\"\",\"\",COUNTIF($B$2:B13728,\"=\"&B13728))","v":158},10,1.1600928074245939E-3,0.7857142857142857]
["8431-164","8431","K1801","CONSEIL EN EMPLOI ET INSERTION SOCIOPROFESSIONNELLE",13,8,{"$f":"IF(C13734=\"\",\"\",COUNTIF($B$2:B13734,\"=\"&B13734))","v":164},10,1.0772290354656945E-3,0.61538461538461542]
["8431-178","8431","C1103","COURTAGE EN ASSURANCES",12,12,{"$f":"IF(C13748=\"\",\"\",COUNTIF($B$2:B13748,\"=\"&B13748))","v":178},10,9.9436526350679482E-4,1]
["8431-189","8431","H2201","ASSEMBLAGE D'OUVRAGES EN BOIS",10,8,{"$f":"IF(C13759=\"\",\"\",COUNTIF($B$2:B13759,\"=\"&B13759))","v":189},10,8.2863771958899572E-4,0.8]
["8431-198","8431","F1107","MESURES TOPOGRAPHIQUES",9,9,{"$f":"IF(C13768=\"\",\"\",COUNTIF($B$2:B13768,\"=\"&B13768))","v":198},10,7.4577394763009617E-4,1]
["8431-201","8431","M1402","CONSEIL EN ORGANISATION ET MANAGEMENT D'ENTREPRISE",8,6,{"$f":"IF(C13771=\"\",\"\",COUNTIF($B$2:B13771,\"=\"&B13771))","v":201},10,6.6291017567119651E-4,0.75]
["8431-218","8431","N4102","CONDUITE DE TRANSPORT DE PARTICULIERS",7,1,{"$f":"IF(C13788=\"\",\"\",COUNTIF($B$2:B13788,\"=\"&B13788))","v":218},10,5.8004640371229696E-4,0.14285714285714285]
["8431-221","8431","M1403","ÉTUDES ET PROSPECTIVES SOCIO-ÉCONOMIQUES",7,7,{"$f":"IF(C13791=\"\",\"\",COUNTIF($B$2:B13791,\"=\"&B13791))","v":221},10,5.8004640371229696E-4,1]
["8431-237","8431","J1410","PROTHÈSES DENTAIRES",6,5,{"$f":"IF(C13807=\"\",\"\",COUNTIF($B$2:B13807,\"=\"&B13807))","v":237},10,4.9718263175339741E-4,0.83333333333333337]
["8431-241","8431","G1101","ACCUEIL TOURISTIQUE",6,1,{"$f":"IF(C13811=\"\",\"\",COUNTIF($B$2:B13811,\"=\"&B13811))","v":241},10,4.9718263175339741E-4,0.16666666666666666]
["8431-253","8431","J1403","ERGOTHÉRAPIE",5,5,{"$f":"IF(C13823=\"\",\"\",COUNTIF($B$2:B13823,\"=\"&B13823))","v":253},10,4.1431885979449786E-4,1]
["8431-262","8431","L1203","ART DRAMATIQUE",4,".",{"$f":"IF(C13832=\"\",\"\",COUNTIF($B$2:B13832,\"=\"&B13832))","v":262},0,3.3145508783559825E-4,0]
["8431-273","8431","N1302","DIRECTION DE SITE LOGISTIQUE",3,3,{"$f":"IF(C13843=\"\",\"\",COUNTIF($B$2:B13843,\"=\"&B13843))","v":273},0,2.485913158766987E-4,1]
["8431-281","8431","H2209","INTERVENTION TECHNIQUE EN AMEUBLEMENT ET BOIS",3,1,{"$f":"IF(C13851=\"\",\"\",COUNTIF($B$2:B13851,\"=\"&B13851))","v":281},0,2.485913158766987E-4,0.33333333333333331]
["8431-293","8431","L1302","PRODUCTION ET ADMINISTRATION SPECTACLE, CINÉMA ET AUDIOVISUEL",2,1,{"$f":"IF(C13863=\"\",\"\",COUNTIF($B$2:B13863,\"=\"&B13863))","v":293},0,1.6572754391779913E-4,0.5]
["8431-296","8431","K2102","COORDINATION PÉDAGOGIQUE",2,1,{"$f":"IF(C13866=\"\",\"\",COUNTIF($B$2:B13866,\"=\"&B13866))","v":296},0,1.6572754391779913E-4,0.5]
["8431-306","8431","H1302","MANAGEMENT ET INGÉNIERIE HYGIÈNE SÉCURITÉ ENVIRONNEMENT -HSE- INDUSTRIELS",2,2,{"$f":"IF(C13876=\"\",\"\",COUNTIF($B$2:B13876,\"=\"&B13876))","v":306},0,1.6572754391779913E-4,1]
["8431-316","8431","A1407","ÉLEVAGE BOVIN OU ÉQUIN",2,".",{"$f":"IF(C13886=\"\",\"\",COUNTIF($B$2:B13886,\"=\"&B13886))","v":316},0,1.6572754391779913E-4,0]
["8431-325","8431","K2501","GARDIENNAGE DE LOCAUX",1,1,{"$f":"IF(C13895=\"\",\"\",COUNTIF($B$2:B13895,\"=\"&B13895))","v":325},0,8.2863771958899564E-5,1]
["8431-336","8431","I1301","INSTALLATION ET MAINTENANCE D'ASCENSEURS",1,".",{"$f":"IF(C13906=\"\",\"\",COUNTIF($B$2:B13906,\"=\"&B13906))","v":336},0,8.2863771958899564E-5,0]
["8431-348","8431","E1308","INTERVENTION TECHNIQUE EN INDUSTRIE GRAPHIQUE",1,1,{"$f":"IF(C13918=\"\",\"\",COUNTIF($B$2:B13918,\"=\"&B13918))","v":348},0,8.2863771958899564E-5,1]
["8431-354","8431","D1206","RÉPARATION D'ARTICLES EN CUIR ET MATÉRIAUX SOUPLES",1,".",{"$f":"IF(C13924=\"\",\"\",COUNTIF($B$2:B13924,\"=\"&B13924))","v":354},0,8.2863771958899564E-5,0]
["8432-5","8432","K1304","SERVICES DOMESTIQUES",469,396,{"$f":"IF(C13938=\"\",\"\",COUNTIF($B$2:B13938,\"=\"&B13938))","v":5},470,3.2589813077617956E-2,0.84434968017057566]
["8432-6","8432","D1403","RELATION COMMERCIALE AUPRÈS DE PARTICULIERS",445,418,{"$f":"IF(C13939=\"\",\"\",COUNTIF($B$2:B13939,\"=\"&B13939))","v":6},450,3.09221040928358E-2,0.93932584269662922]
["8432-16","8432","G1803","SERVICE EN RESTAURATION",205,155,{"$f":"IF(C13949=\"\",\"\",COUNTIF($B$2:B13949,\"=\"&B13949))","v":16},210,1.4245014245014245E-2,0.75609756097560976]
["8432-28","8432","K2104","ÉDUCATION ET SURVEILLANCE AU SEIN D'ÉTABLISSEMENTS D'ENSEIGNEMENT",132,124,{"$f":"IF(C13961=\"\",\"\",COUNTIF($B$2:B13961,\"=\"&B13961))","v":28},130,9.1723994163018553E-3,0.93939393939393945]
["8432-35","8432","D1402","RELATION COMMERCIALE GRANDS COMPTES ET ENTREPRISES",113,105,{"$f":"IF(C13968=\"\",\"\",COUNTIF($B$2:B13968,\"=\"&B13968))","v":35},110,7.8521298033493152E-3,0.92920353982300885]
["8432-48","8432","K1301","ACCOMPAGNEMENT MÉDICOSOCIAL",74,20,{"$f":"IF(C13981=\"\",\"\",COUNTIF($B$2:B13981,\"=\"&B13981))","v":48},70,5.1421027030783125E-3,0.27027027027027029]
["8432-60","8432","M1501","ASSISTANAT EN RESSOURCES HUMAINES",58,30,{"$f":"IF(C13993=\"\",\"\",COUNTIF($B$2:B13993,\"=\"&B13993))","v":60},60,4.0302967132235428E-3,0.51724137931034486]
["8432-68","8432","F1604","MONTAGE D'AGENCEMENTS",48,23,{"$f":"IF(C14001=\"\",\"\",COUNTIF($B$2:B14001,\"=\"&B14001))","v":68},50,3.335417969564311E-3,0.47916666666666669]
["8432-75","8432","H2909","MONTAGE-ASSEMBLAGE MÉCANIQUE",41,5,{"$f":"IF(C14008=\"\",\"\",COUNTIF($B$2:B14008,\"=\"&B14008))","v":75},40,2.8490028490028491E-3,0.12195121951219512]
["8432-84","8432","H2905","CONDUITE D'ÉQUIPEMENT DE FORMAGE ET DÉCOUPAGE DES MATÉRIAUX",35,11,{"$f":"IF(C14017=\"\",\"\",COUNTIF($B$2:B14017,\"=\"&B14017))","v":84},{"$f":"ROUND(E14017,-1)","v":40},2.4320756028073103E-3,{"$f":"IF(OR(F14017=\"\",F14017=\".\"),0,F14017/E14017)","v":0.31428571428571428}]
["8432-91","8432","K1403","MANAGEMENT DE STRUCTURE DE SANTÉ, SOCIALE OU PÉNITENTIAIRE",32,25,{"$f":"IF(C14024=\"\",\"\",COUNTIF($B$2:B14024,\"=\"&B14024))","v":91},30,2.2236119797095408E-3,0.78125]
["8432-104","8432","K1801","CONSEIL EN EMPLOI ET INSERTION SOCIOPROFESSIONNELLE",28,15,{"$f":"IF(C14037=\"\",\"\",COUNTIF($B$2:B14037,\"=\"&B14037))","v":104},30,1.9456604822458482E-3,0.5357142857142857]
["8432-116","8432","D1104","PÂTISSERIE, CONFISERIE, CHOCOLATERIE ET GLACERIE",25,21,{"$f":"IF(C14049=\"\",\"\",COUNTIF($B$2:B14049,\"=\"&B14049))","v":116},30,1.7371968591480787E-3,0.84]
["8432-119","8432","C1502","GESTION LOCATIVE IMMOBILIÈRE",24,18,{"$f":"IF(C14052=\"\",\"\",COUNTIF($B$2:B14052,\"=\"&B14052))","v":119},20,1.6677089847821555E-3,0.75]
["8432-136","8432","F1701","CONSTRUCTION EN BÉTON",20,4,{"$f":"IF(C14069=\"\",\"\",COUNTIF($B$2:B14069,\"=\"&B14069))","v":136},20,1.3897574873184629E-3,0.2]
["8432-143","8432","K1305","INTERVENTION SOCIALE ET FAMILIALE",17,7,{"$f":"IF(C14076=\"\",\"\",COUNTIF($B$2:B14076,\"=\"&B14076))","v":143},20,1.1812938642206934E-3,0.41176470588235292]
["8432-148","8432","M1802","EXPERTISE ET SUPPORT EN SYSTÈMES D'INFORMATION",16,16,{"$f":"IF(C14081=\"\",\"\",COUNTIF($B$2:B14081,\"=\"&B14081))","v":148},{"$f":"ROUND(E14081,-1)","v":20},1.1118059898547704E-3,{"$f":"IF(OR(F14081=\"\",F14081=\".\"),0,F14081/E14081)","v":1}]
["8432-159","8432","K2301","DISTRIBUTION ET ASSAINISSEMENT D'EAU",15,7,{"$f":"IF(C14092=\"\",\"\",COUNTIF($B$2:B14092,\"=\"&B14092))","v":159},20,1.0423181154888472E-3,0.46666666666666667]
["8432-173","8432","H1401","MANAGEMENT ET INGÉNIERIE GESTION INDUSTRIELLE ET LOGISTIQUE",13,10,{"$f":"IF(C14106=\"\",\"\",COUNTIF($B$2:B14106,\"=\"&B14106))","v":173},10,9.0334236675700087E-4,0.76923076923076927]
["8432-179","8432","K1202","ÉDUCATION DE JEUNES ENFANTS",12,8,{"$f":"IF(C14112=\"\",\"\",COUNTIF($B$2:B14112,\"=\"&B14112))","v":179},10,8.3385449239107776E-4,0.66666666666666663]
["8432-191","8432","K2601","CONDUITE D'OPÉRATIONS FUNÉRAIRES",11,2,{"$f":"IF(C14124=\"\",\"\",COUNTIF($B$2:B14124,\"=\"&B14124))","v":191},10,7.6436661802515465E-4,0.18181818181818182]
["8432-202","8432","J1306","IMAGERIE MÉDICALE",10,7,{"$f":"IF(C14135=\"\",\"\",COUNTIF($B$2:B14135,\"=\"&B14135))","v":202},10,6.9487874365923143E-4,0.7]
["8432-211","8432","K2109","ENSEIGNEMENT TECHNIQUE ET PROFESSIONNEL",9,8,{"$f":"IF(C14144=\"\",\"\",COUNTIF($B$2:B14144,\"=\"&B14144))","v":211},10,6.2539086929330832E-4,0.88888888888888884]
["8432-217","8432","A1409","ÉLEVAGE DE LAPINS ET VOLAILLES",9,".",{"$f":"IF(C14150=\"\",\"\",COUNTIF($B$2:B14150,\"=\"&B14150))","v":217},10,6.2539086929330832E-4,0]
["8432-231","8432","C1302","GESTION BACK ET MIDDLE-OFFICE MARCHÉS FINANCIERS",8,".",{"$f":"IF(C14164=\"\",\"\",COUNTIF($B$2:B14164,\"=\"&B14164))","v":231},10,5.5590299492738521E-4,0]
["8432-234","8432","M1403","ÉTUDES ET PROSPECTIVES SOCIO-ÉCONOMIQUES",7,5,{"$f":"IF(C14167=\"\",\"\",COUNTIF($B$2:B14167,\"=\"&B14167))","v":234},10,4.8641512056146204E-4,0.7142857142857143]
["8432-246","8432","I1201","ENTRETIEN D'AFFICHAGE ET MOBILIER URBAIN",6,2,{"$f":"IF(C14179=\"\",\"\",COUNTIF($B$2:B14179,\"=\"&B14179))","v":246},10,4.1692724619553888E-4,0.33333333333333331]
["8432-254","8432","I1602","MAINTENANCE D'AÉRONEFS",5,4,{"$f":"IF(C14187=\"\",\"\",COUNTIF($B$2:B14187,\"=\"&B14187))","v":254},10,3.4743937182961571E-4,0.8]
["8432-261","8432","H2505","ENCADREMENT D'ÉQUIPE OU D'ATELIER EN MATÉRIAUX SOUPLES",5,4,{"$f":"IF(C14194=\"\",\"\",COUNTIF($B$2:B14194,\"=\"&B14194))","v":261},10,3.4743937182961571E-4,0.8]
["8432-274","8432","M1302","DIRECTION DE PETITE OU MOYENNE ENTREPRISE",4,4,{"$f":"IF(C14207=\"\",\"\",COUNTIF($B$2:B14207,\"=\"&B14207))","v":274},0,2.779514974636926E-4,1]
["8432-286","8432","F1609","POSE DE REVÊTEMENTS SOUPLES",4,3,{"$f":"IF(C14219=\"\",\"\",COUNTIF($B$2:B14219,\"=\"&B14219))","v":286},0,2.779514974636926E-4,0.75]
["8432-290","8432","E1104","CONCEPTION DE CONTENUS MULTIMÉDIAS",4,3,{"$f":"IF(C14223=\"\",\"\",COUNTIF($B$2:B14223,\"=\"&B14223))","v":290},0,2.779514974636926E-4,0.75]
["8432-306","8432","N1102","DÉMÉNAGEMENT",2,1,{"$f":"IF(C14239=\"\",\"\",COUNTIF($B$2:B14239,\"=\"&B14239))","v":306},0,1.389757487318463E-4,0.5]
["8432-309","8432","L1203","ART DRAMATIQUE",2,".",{"$f":"IF(C14242=\"\",\"\",COUNTIF($B$2:B14242,\"=\"&B14242))","v":309},0,1.389757487318463E-4,0]
["8432-317","8432","H2914","RÉALISATION ET MONTAGE EN TUYAUTERIE",2,2,{"$f":"IF(C14250=\"\",\"\",COUNTIF($B$2:B14250,\"=\"&B14250))","v":317},0,1.389757487318463E-4,1]
["8432-334","8432","B1301","DÉCORATION D'ESPACES DE VENTE ET D'EXPOSITION",2,".",{"$f":"IF(C14267=\"\",\"\",COUNTIF($B$2:B14267,\"=\"&B14267))","v":334},0,1.389757487318463E-4,0]
["8432-337","8432","N3103","NAVIGATION FLUVIALE",1,1,{"$f":"IF(C14270=\"\",\"\",COUNTIF($B$2:B14270,\"=\"&B14270))","v":337},0,6.9487874365923151E-5,1]
["8432-349","8432","K2402","RECHERCHE EN SCIENCES DE L'UNIVERS, DE LA MATIÈRE ET DU VIVANT",1,1,{"$f":"IF(C14282=\"\",\"\",COUNTIF($B$2:B14282,\"=\"&B14282))","v":349},0,6.9487874365923151E-5,1]
["8432-363","8432","I1103","SUPERVISION D'ENTRETIEN ET GESTION DE VÉHICULES",1,1,{"$f":"IF(C14296=\"\",\"\",COUNTIF($B$2:B14296,\"=\"&B14296))","v":363},0,6.9487874365923151E-5,1]
["8432-369","8432","H2204","ENCADREMENT DES INDUSTRIES DE L'AMEUBLEMENT ET DU BOIS",1,1,{"$f":"IF(C14302=\"\",\"\",COUNTIF($B$2:B14302,\"=\"&B14302))","v":369},0,6.9487874365923151E-5,1]
["8432-378","8432","E1307","REPROGRAPHIE",1,1,{"$f":"IF(C14311=\"\",\"\",COUNTIF($B$2:B14311,\"=\"&B14311))","v":378},0,6.9487874365923151E-5,1]
["8432-385","8432","C1104","DIRECTION D'EXPLOITATION EN ASSURANCES",1,1,{"$f":"IF(C14318=\"\",\"\",COUNTIF($B$2:B14318,\"=\"&B14318))","v":385},0,6.9487874365923151E-5,1]
["8435-6","8435","N1103","MAGASINAGE ET PRÉPARATION DE COMMANDES",85,20,{"$f":"IF(C14325=\"\",\"\",COUNTIF($B$2:B14325,\"=\"&B14325))","v":6},90,3.0797101449275364E-2,0.23529411764705882]
["8435-21","8435","A1416","POLYCULTURE, ÉLEVAGE",35,2,{"$f":"IF(C14340=\"\",\"\",COUNTIF($B$2:B14340,\"=\"&B14340))","v":21},40,1.2681159420289856E-2,5.7142857142857141E-2]
["8435-26","8435","G1203","ANIMATION DE LOISIRS AUPRÈS D'ENFANTS OU D'ADOLESCENTS",29,9,{"$f":"IF(C14345=\"\",\"\",COUNTIF($B$2:B14345,\"=\"&B14345))","v":26},30,1.0507246376811594E-2,0.31034482758620691]
["8435-36","8435","F1607","POSE DE FERMETURES MENUISÉES",21,11,{"$f":"IF(C14355=\"\",\"\",COUNTIF($B$2:B14355,\"=\"&B14355))","v":36},20,7.6086956521739134E-3,0.52380952380952384]
["8435-51","8435","D1202","COIFFURE",14,11,{"$f":"IF(C14370=\"\",\"\",COUNTIF($B$2:B14370,\"=\"&B14370))","v":51},10,5.0724637681159417E-3,0.7857142857142857]
["8435-58","8435","N1101","CONDUITE D'ENGINS DE DÉPLACEMENT DES CHARGES",11,1,{"$f":"IF(C14377=\"\",\"\",COUNTIF($B$2:B14377,\"=\"&B14377))","v":58},10,3.9855072463768114E-3,9.0909090909090912E-2]
["8435-65","8435","G1601","MANAGEMENT DU PERSONNEL DE CUISINE",10,4,{"$f":"IF(C14384=\"\",\"\",COUNTIF($B$2:B14384,\"=\"&B14384))","v":65},10,3.6231884057971015E-3,0.4]
["8435-78","8435","N4102","CONDUITE DE TRANSPORT DE PARTICULIERS",7,5,{"$f":"IF(C14397=\"\",\"\",COUNTIF($B$2:B14397,\"=\"&B14397))","v":78},10,2.5362318840579708E-3,0.7142857142857143]
["8435-90","8435","J1303","ASSISTANCE MÉDICO-TECHNIQUE",6,2,{"$f":"IF(C14409=\"\",\"\",COUNTIF($B$2:B14409,\"=\"&B14409))","v":90},10,2.1739130434782609E-3,0.33333333333333331]
["8435-94","8435","H1503","INTERVENTION TECHNIQUE EN LABORATOIRE D'ANALYSE INDUSTRIELLE",6,2,{"$f":"IF(C14413=\"\",\"\",COUNTIF($B$2:B14413,\"=\"&B14413))","v":94},10,2.1739130434782609E-3,0.33333333333333331]
["8435-101","8435","K1305","INTERVENTION SOCIALE ET FAMILIALE",5,1,{"$f":"IF(C14420=\"\",\"\",COUNTIF($B$2:B14420,\"=\"&B14420))","v":101},10,1.8115942028985507E-3,0.2]
["8435-109","8435","M1701","ADMINISTRATION DES VENTES",4,2,{"$f":"IF(C14428=\"\",\"\",COUNTIF($B$2:B14428,\"=\"&B14428))","v":109},0,1.4492753623188406E-3,0.5]
["8435-126","8435","D1104","PÂTISSERIE, CONFISERIE, CHOCOLATERIE ET GLACERIE",4,3,{"$f":"IF(C14445=\"\",\"\",COUNTIF($B$2:B14445,\"=\"&B14445))","v":126},0,1.4492753623188406E-3,0.75]
["8435-134","8435","H2911","RÉALISATION DE STRUCTURES MÉTALLIQUES",3,1,{"$f":"IF(C14453=\"\",\"\",COUNTIF($B$2:B14453,\"=\"&B14453))","v":134},0,1.0869565217391304E-3,0.33333333333333331]
["8435-146","8435","B1806","TAPISSERIE - DÉCORATION EN AMEUBLEMENT",3,3,{"$f":"IF(C14465=\"\",\"\",COUNTIF($B$2:B14465,\"=\"&B14465))","v":146},{"$f":"ROUND(E14465,-1)","v":0},1.0869565217391304E-3,{"$f":"IF(OR(F14465=\"\",F14465=\".\"),0,F14465/E14465)","v":1}]
["8435-149","8435","N4103","CONDUITE DE TRANSPORT EN COMMUN SUR ROUTE",2,1,{"$f":"IF(C14468=\"\",\"\",COUNTIF($B$2:B14468,\"=\"&B14468))","v":149},0,7.246376811594203E-4,0.5]
["8435-157","8435","K2302","MANAGEMENT ET INSPECTION EN ENVIRONNEMENT URBAIN",2,2,{"$f":"IF(C14476=\"\",\"\",COUNTIF($B$2:B14476,\"=\"&B14476))","v":157},0,7.246376811594203E-4,1]
["8435-169","8435","H3203","FABRICATION DE PIÈCES EN MATÉRIAUX COMPOSITES",2,".",{"$f":"IF(C14488=\"\",\"\",COUNTIF($B$2:B14488,\"=\"&B14488))","v":169},0,7.246376811594203E-4,0]
["8435-178","8435","D1213","VENTE EN GROS DE MATÉRIEL ET ÉQUIPEMENT",2,".",{"$f":"IF(C14497=\"\",\"\",COUNTIF($B$2:B14497,\"=\"&B14497))","v":178},0,7.246376811594203E-4,0]
["8435-189","8435","M1806","CONSEIL ET MAÎTRISE D'OUVRAGE EN SYSTÈMES D'INFORMATION",1,1,{"$f":"IF(C14508=\"\",\"\",COUNTIF($B$2:B14508,\"=\"&B14508))","v":189},0,3.6231884057971015E-4,1]
["8435-203","8435","J1202","PHARMACIE",1,1,{"$f":"IF(C14522=\"\",\"\",COUNTIF($B$2:B14522,\"=\"&B14522))","v":203},0,3.6231884057971015E-4,1]
["8435-209","8435","H3401","CONDUITE DE TRAITEMENT D'ABRASION DE SURFACE",1,".",{"$f":"IF(C14528=\"\",\"\",COUNTIF($B$2:B14528,\"=\"&B14528))","v":209},0,3.6231884057971015E-4,0]
["8435-221","8435","G1403","GESTION DE STRUCTURE DE LOISIRS OU D'HÉBERGEMENT TOURISTIQUE",1,".",{"$f":"IF(C14540=\"\",\"\",COUNTIF($B$2:B14540,\"=\"&B14540))","v":221},0,3.6231884057971015E-4,0]
["8435-222","8435","G1102","PROMOTION DU TOURISME LOCAL",1,1,{"$f":"IF(C14541=\"\",\"\",COUNTIF($B$2:B14541,\"=\"&B14541))","v":222},0,3.6231884057971015E-4,1]
["8435-232","8435","D1509","MANAGEMENT DE DÉPARTEMENT EN GRANDE DISTRIBUTION",1,1,{"$f":"IF(C14551=\"\",\"\",COUNTIF($B$2:B14551,\"=\"&B14551))","v":232},0,3.6231884057971015E-4,1]
["8436-1","8436","J1506","SOINS INFIRMIERS GÉNÉRALISTES",130,74,{"$f":"IF(C14560=\"\",\"\",COUNTIF($B$2:B14560,\"=\"&B14560))","v":1},130,5.3169734151329244E-2,0.56923076923076921]
["8436-12","8436","N1103","MAGASINAGE ET PRÉPARATION DE COMMANDES",36,18,{"$f":"IF(C14571=\"\",\"\",COUNTIF($B$2:B14571,\"=\"&B14571))","v":12},40,1.4723926380368098E-2,0.5]
["8436-24","8436","K1104","PSYCHOLOGIE",23,13,{"$f":"IF(C14583=\"\",\"\",COUNTIF($B$2:B14583,\"=\"&B14583))","v":24},20,9.4069529652351744E-3,0.56521739130434778]
[{"$f":"B14595&\"-\"&G14595","v":"8436-36"},"8436","D1401","ASSISTANAT COMMERCIAL",17,10,{"$f":"IF(C14595=\"\",\"\",COUNTIF($B$2:B14595,\"=\"&B14595))","v":36},20,6.9529652351738242E-3,0.58823529411764708]
["8436-44","8436","D1101","BOUCHERIE",15,15,{"$f":"IF(C14603=\"\",\"\",COUNTIF($B$2:B14603,\"=\"&B14603))","v":44},20,6.1349693251533744E-3,1]
["8436-55","8436","M1501","ASSISTANAT EN RESSOURCES HUMAINES",12,4,{"$f":"IF(C14614=\"\",\"\",COUNTIF($B$2:B14614,\"=\"&B14614))","v":55},10,4.9079754601226997E-3,0.33333333333333331]
["8436-64","8436","A1410","ÉLEVAGE OVIN OU CAPRIN",10,".",{"$f":"IF(C14623=\"\",\"\",COUNTIF($B$2:B14623,\"=\"&B14623))","v":64},10,4.0899795501022499E-3,0]
["8436-67","8436","I1604","MÉCANIQUE AUTOMOBILE ET ENTRETIEN DE VÉHICULES",9,8,{"$f":"IF(C14626=\"\",\"\",COUNTIF($B$2:B14626,\"=\"&B14626))","v":67},10,3.6809815950920245E-3,0.88888888888888884]
["8436-84","8436","H3404","PEINTURE INDUSTRIELLE",7,6,{"$f":"IF(C14643=\"\",\"\",COUNTIF($B$2:B14643,\"=\"&B14643))","v":84},10,2.8629856850715747E-3,0.8571428571428571]
["8436-87","8436","F1606","PEINTURE EN BÂTIMENT",7,".",{"$f":"IF(C14646=\"\",\"\",COUNTIF($B$2:B14646,\"=\"&B14646))","v":87},10,2.8629856850715747E-3,0]
["8436-99","8436","H1203","CONCEPTION ET DESSIN PRODUITS MÉCANIQUES",6,6,{"$f":"IF(C14658=\"\",\"\",COUNTIF($B$2:B14658,\"=\"&B14658))","v":99},10,{"$f":"E14658/SUMIF(B:B,B14658,E:E)","v":2.4539877300613498E-3},1]
["8436-107","8436","M1204","CONTRÔLE DE GESTION",5,3,{"$f":"IF(C14666=\"\",\"\",COUNTIF($B$2:B14666,\"=\"&B14666))","v":107},10,2.0449897750511249E-3,0.6]
["8436-119","8436","C1102","CONSEIL CLIENTÈLE EN ASSURANCES",5,3,{"$f":"IF(C14678=\"\",\"\",COUNTIF($B$2:B14678,\"=\"&B14678))","v":119},10,2.0449897750511249E-3,0.6]
["8436-128","8436","J1404","KINÉSITHÉRAPIE",4,2,{"$f":"IF(C14687=\"\",\"\",COUNTIF($B$2:B14687,\"=\"&B14687))","v":128},0,1.6359918200408998E-3,0.5]
["8436-139","8436","B1806","TAPISSERIE - DÉCORATION EN AMEUBLEMENT",4,3,{"$f":"IF(C14698=\"\",\"\",COUNTIF($B$2:B14698,\"=\"&B14698))","v":139},0,1.6359918200408998E-3,0.75]
["8436-143","8436","M1805","ÉTUDES ET DÉVELOPPEMENT INFORMATIQUE",3,1,{"$f":"IF(C14702=\"\",\"\",COUNTIF($B$2:B14702,\"=\"&B14702))","v":143},0,1.2269938650306749E-3,0.33333333333333331]
["8436-159","8436","H2403","CONDUITE DE MACHINE DE FABRICATION DE PRODUITS TEXTILES",3,3,{"$f":"IF(C14718=\"\",\"\",COUNTIF($B$2:B14718,\"=\"&B14718))","v":159},0,1.2269938650306749E-3,1]
["8436-168","8436","A1414","HORTICULTURE ET MARAÎCHAGE",3,".",{"$f":"IF(C14727=\"\",\"\",COUNTIF($B$2:B14727,\"=\"&B14727))","v":168},0,1.2269938650306749E-3,0]
["8436-175","8436","K2202","LAVAGE DE VITRES",2,".",{"$f":"IF(C14734=\"\",\"\",COUNTIF($B$2:B14734,\"=\"&B14734))","v":175},0,8.1799591002044991E-4,0]
["8436-182","8436","I1103","SUPERVISION D'ENTRETIEN ET GESTION DE VÉHICULES",2,2,{"$f":"IF(C14741=\"\",\"\",COUNTIF($B$2:B14741,\"=\"&B14741))","v":182},0,8.1799591002044991E-4,1]
["8436-197","8436","D1205","NETTOYAGE D'ARTICLES TEXTILES OU CUIRS",2,".",{"$f":"IF(C14756=\"\",\"\",COUNTIF($B$2:B14756,\"=\"&B14756))","v":197},0,8.1799591002044991E-4,0]
["8436-207","8436","K2501","GARDIENNAGE DE LOCAUX",1,1,{"$f":"IF(C14766=\"\",\"\",COUNTIF($B$2:B14766,\"=\"&B14766))","v":207},0,4.0899795501022495E-4,1]
["8436-212","8436","J1305","CONDUITE DE VÉHICULES SANITAIRES",1,".",{"$f":"IF(C14771=\"\",\"\",COUNTIF($B$2:B14771,\"=\"&B14771))","v":212},0,4.0899795501022495E-4,0]
["8436-218","8436","H2912","RÉGLAGE D'ÉQUIPEMENT DE PRODUCTION INDUSTRIELLE",1,1,{"$f":"IF(C14777=\"\",\"\",COUNTIF($B$2:B14777,\"=\"&B14777))","v":218},0,4.0899795501022495E-4,1]
["8436-234","8436","F1610","POSE ET RESTAURATION DE COUVERTURES",1,".",{"$f":"IF(C14793=\"\",\"\",COUNTIF($B$2:B14793,\"=\"&B14793))","v":234},0,4.0899795501022495E-4,0]
["8436-241","8436","D1214","VENTE EN HABILLEMENT ET ACCESSOIRES DE LA PERSONNE",1,1,{"$f":"IF(C14800=\"\",\"\",COUNTIF($B$2:B14800,\"=\"&B14800))","v":241},0,4.0899795501022495E-4,1]
["8437-3","8437","D1403","RELATION COMMERCIALE AUPRÈS DE PARTICULIERS",115,115,{"$f":"IF(C14809=\"\",\"\",COUNTIF($B$2:B14809,\"=\"&B14809))","v":3},120,3.4003548196333527E-2,1]
["8437-9","8437","I1304","INSTALLATION ET MAINTENANCE D'ÉQUIPEMENTS INDUSTRIELS ET D'EXPLOITATION",76,75,{"$f":"IF(C14815=\"\",\"\",COUNTIF($B$2:B14815,\"=\"&B14815))","v":9},80,2.247191011235955E-2,0.98684210526315785]
["8437-23","8437","D1505","PERSONNEL DE CAISSE",42,31,{"$f":"IF(C14829=\"\",\"\",COUNTIF($B$2:B14829,\"=\"&B14829))","v":23},40,1.2418687167356593E-2,0.73809523809523814]
["8437-30","8437","N1105","MANUTENTION MANUELLE DE CHARGES",29,19,{"$f":"IF(C14836=\"\",\"\",COUNTIF($B$2:B14836,\"=\"&B14836))","v":30},30,8.5748078060319342E-3,0.65517241379310343]
["8437-38","8437","H2206","RÉALISATION DE MENUISERIE BOIS ET TONNELLERIE",23,19,{"$f":"IF(C14844=\"\",\"\",COUNTIF($B$2:B14844,\"=\"&B14844))","v":38},20,6.8007096392667058E-3,0.82608695652173914]
["8437-46","8437","F1610","POSE ET RESTAURATION DE COUVERTURES",18,17,{"$f":"IF(C14852=\"\",\"\",COUNTIF($B$2:B14852,\"=\"&B14852))","v":46},20,5.3222945002956833E-3,0.94444444444444442]
["8437-63","8437","F1603","INSTALLATION D'ÉQUIPEMENTS SANITAIRES ET THERMIQUES",13,11,{"$f":"IF(C14869=\"\",\"\",COUNTIF($B$2:B14869,\"=\"&B14869))","v":63},10,3.84387936132466E-3,0.84615384615384615]
["8437-66","8437","I1301","INSTALLATION ET MAINTENANCE D'ASCENSEURS",12,6,{"$f":"IF(C14872=\"\",\"\",COUNTIF($B$2:B14872,\"=\"&B14872))","v":66},10,3.5481963335304554E-3,0.5]
["8437-78","8437","M1601","ACCUEIL ET RENSEIGNEMENTS",9,5,{"$f":"IF(C14884=\"\",\"\",COUNTIF($B$2:B14884,\"=\"&B14884))","v":78},10,2.6611472501478417E-3,0.55555555555555558]
["8437-92","8437","M1608","SECRÉTARIAT COMPTABLE",8,7,{"$f":"IF(C14898=\"\",\"\",COUNTIF($B$2:B14898,\"=\"&B14898))","v":92},10,2.3654642223536371E-3,0.875]
["8437-98","8437","H2905","CONDUITE D'ÉQUIPEMENT DE FORMAGE ET DÉCOUPAGE DES MATÉRIAUX",8,2,{"$f":"IF(C14904=\"\",\"\",COUNTIF($B$2:B14904,\"=\"&B14904))","v":98},10,2.3654642223536371E-3,0.25]
["8437-107","8437","H2803","FAÇONNAGE ET ÉMAILLAGE EN INDUSTRIE CÉRAMIQUE",7,1,{"$f":"IF(C14913=\"\",\"\",COUNTIF($B$2:B14913,\"=\"&B14913))","v":107},{"$f":"ROUND(E14913,-1)","v":10},2.0697811945594325E-3,{"$f":"IF(OR(F14913=\"\",F14913=\".\"),0,F14913/E14913)","v":0.14285714285714285}]
["8437-118","8437","M1602","OPÉRATIONS ADMINISTRATIVES",5,3,{"$f":"IF(C14924=\"\",\"\",COUNTIF($B$2:B14924,\"=\"&B14924))","v":118},10,1.4784151389710231E-3,0.6]
["8437-126","8437","F1605","MONTAGE DE RÉSEAUX ÉLECTRIQUES ET TÉLÉCOMS",5,5,{"$f":"IF(C14932=\"\",\"\",COUNTIF($B$2:B14932,\"=\"&B14932))","v":126},10,1.4784151389710231E-3,1]
["8437-138","8437","H3403","CONDUITE DE TRAITEMENT THERMIQUE",4,4,{"$f":"IF(C14944=\"\",\"\",COUNTIF($B$2:B14944,\"=\"&B14944))","v":138},0,1.1827321111768185E-3,1]
["8437-141","8437","H1504","INTERVENTION TECHNIQUE EN CONTRÔLE ESSAI QUALITÉ EN ÉLECTRICITÉ ET ÉLECTRONIQUE",4,4,{"$f":"IF(C14947=\"\",\"\",COUNTIF($B$2:B14947,\"=\"&B14947))","v":141},0,1.1827321111768185E-3,1]
["8437-155","8437","K2306","SUPERVISION D'EXPLOITATION ÉCO-INDUSTRIELLE",3,3,{"$f":"IF(C14961=\"\",\"\",COUNTIF($B$2:B14961,\"=\"&B14961))","v":155},0,8.8704908338261385E-4,1]
["8437-161","8437","I1202","ENTRETIEN ET SURVEILLANCE DU TRACÉ ROUTIER",3,3,{"$f":"IF(C14967=\"\",\"\",COUNTIF($B$2:B14967,\"=\"&B14967))","v":161},0,8.8704908338261385E-4,1]
["8437-170","8437","F1501","MONTAGE DE STRUCTURES ET DE CHARPENTES BOIS",3,3,{"$f":"IF(C14976=\"\",\"\",COUNTIF($B$2:B14976,\"=\"&B14976))","v":170},0,8.8704908338261385E-4,1]
["8437-181","8437","M1503","MANAGEMENT DES RESSOURCES HUMAINES",2,2,{"$f":"IF(C14987=\"\",\"\",COUNTIF($B$2:B14987,\"=\"&B14987))","v":181},0,5.9136605558840927E-4,1]
["8437-193","8437","H1207","RÉDACTION TECHNIQUE",2,2,{"$f":"IF(C14999=\"\",\"\",COUNTIF($B$2:B14999,\"=\"&B14999))","v":193},0,5.9136605558840927E-4,1]
["8437-199","8437","E1302","CONDUITE DE MACHINES DE FAÇONNAGE ROUTAGE",2,2,{"$f":"IF(C15005=\"\",\"\",COUNTIF($B$2:B15005,\"=\"&B15005))","v":199},0,5.9136605558840927E-4,1]
["8437-213","8437","K1404","MISE EN OEUVRE ET PILOTAGE DE LA POLITIQUE DES POUVOIRS PUBLICS",1,1,{"$f":"IF(C15019=\"\",\"\",COUNTIF($B$2:B15019,\"=\"&B15019))","v":213},0,2.9568302779420464E-4,1]
["8437-224","8437","H2209","INTERVENTION TECHNIQUE EN AMEUBLEMENT ET BOIS",1,1,{"$f":"IF(C15030=\"\",\"\",COUNTIF($B$2:B15030,\"=\"&B15030))","v":224},0,2.9568302779420464E-4,1]
["8437-233","8437","D1508","ENCADREMENT DU PERSONNEL DE CAISSES",1,1,{"$f":"IF(C15039=\"\",\"\",COUNTIF($B$2:B15039,\"=\"&B15039))","v":233},0,2.9568302779420464E-4,1]
["8437-236","8437","C1502","GESTION LOCATIVE IMMOBILIÈRE",1,1,{"$f":"IF(C15042=\"\",\"\",COUNTIF($B$2:B15042,\"=\"&B15042))","v":236},0,{"$f":"E15042/SUMIF(B:B,B15042,E:E)","v":2.9568302779420464E-4},1]
["8437-243","8437","A1303","INGÉNIERIE EN AGRICULTURE ET ENVIRONNEMENT NATUREL",1,1,{"$f":"IF(C15049=\"\",\"\",COUNTIF($B$2:B15049,\"=\"&B15049))","v":243},0,2.9568302779420464E-4,1]
["8438-13","8438","I1203","MAINTENANCE DES BÂTIMENTS ET DES LOCAUX",56,43,{"$f":"IF(C15062=\"\",\"\",COUNTIF($B$2:B15062,\"=\"&B15062))","v":13},60,1.806451612903226E-2,0.7678571428571429]
["8438-25","8438","K2204","NETTOYAGE DE LOCAUX",36,17,{"$f":"IF(C15074=\"\",\"\",COUNTIF($B$2:B15074,\"=\"&B15074))","v":25},40,1.1612903225806452E-2,0.47222222222222221]
["8438-29","8438","D1208","SOINS ESTHÉTIQUES ET CORPORELS",33,26,{"$f":"IF(C15078=\"\",\"\",COUNTIF($B$2:B15078,\"=\"&B15078))","v":29},30,1.064516129032258E-2,0.78787878787878785]
["8438-45","8438","M1609","SECRÉTARIAT ET ASSISTANAT MÉDICAL OU MÉDICO-SOCIAL",19,13,{"$f":"IF(C15094=\"\",\"\",COUNTIF($B$2:B15094,\"=\"&B15094))","v":45},20,6.1290322580645163E-3,0.68421052631578949]
["8438-54","8438","C1502","GESTION LOCATIVE IMMOBILIÈRE",17,13,{"$f":"IF(C15103=\"\",\"\",COUNTIF($B$2:B15103,\"=\"&B15103))","v":54},20,5.4838709677419353E-3,0.76470588235294112]
["8438-65","8438","M1603","DISTRIBUTION DE DOCUMENTS",12,10,{"$f":"IF(C15114=\"\",\"\",COUNTIF($B$2:B15114,\"=\"&B15114))","v":65},10,3.8709677419354839E-3,0.83333333333333337]
["8438-69","8438","K1305","INTERVENTION SOCIALE ET FAMILIALE",11,5,{"$f":"IF(C15118=\"\",\"\",COUNTIF($B$2:B15118,\"=\"&B15118))","v":69},10,3.5483870967741938E-3,0.45454545454545453]
["8438-81","8438","K2501","GARDIENNAGE DE LOCAUX",9,8,{"$f":"IF(C15130=\"\",\"\",COUNTIF($B$2:B15130,\"=\"&B15130))","v":81},10,2.9032258064516131E-3,0.88888888888888884]
["8438-88","8438","F1301","CONDUITE DE GRUE",9,".",{"$f":"IF(C15137=\"\",\"\",COUNTIF($B$2:B15137,\"=\"&B15137))","v":88},10,2.9032258064516131E-3,0]
["8438-98","8438","I1309","MAINTENANCE ÉLECTRIQUE",7,3,{"$f":"IF(C15147=\"\",\"\",COUNTIF($B$2:B15147,\"=\"&B15147))","v":98},10,2.2580645161290325E-3,0.42857142857142855]
["8438-104","8438","C1206","GESTION DE CLIENTÈLE BANCAIRE",7,6,{"$f":"IF(C15153=\"\",\"\",COUNTIF($B$2:B15153,\"=\"&B15153))","v":104},10,2.2580645161290325E-3,0.8571428571428571]
["8438-113","8438","D1407","RELATION TECHNICO-COMMERCIALE",6,4,{"$f":"IF(C15162=\"\",\"\",COUNTIF($B$2:B15162,\"=\"&B15162))","v":113},10,1.9354838709677419E-3,0.66666666666666663]
["8438-124","8438","G1202","ANIMATION D'ACTIVITÉS CULTURELLES OU LUDIQUES",5,3,{"$f":"IF(C15173=\"\",\"\",COUNTIF($B$2:B15173,\"=\"&B15173))","v":124},10,1.6129032258064516E-3,0.6]
["8438-138","8438","H2804","PILOTAGE DE CENTRALE À BÉTON PRÊT À L'EMPLOI, CIMENT, ENROBÉS ET GRANULATS",4,3,{"$f":"IF(C15187=\"\",\"\",COUNTIF($B$2:B15187,\"=\"&B15187))","v":138},0,1.2903225806451613E-3,0.75]
["8438-144","8438","F1104","DESSIN BTP ET PAYSAGE",4,3,{"$f":"IF(C15193=\"\",\"\",COUNTIF($B$2:B15193,\"=\"&B15193))","v":144},0,1.2903225806451613E-3,0.75]
["8438-156","8438","I1305","INSTALLATION ET MAINTENANCE ÉLECTRONIQUE",3,3,{"$f":"IF(C15205=\"\",\"\",COUNTIF($B$2:B15205,\"=\"&B15205))","v":156},0,9.6774193548387097E-4,1]
["8438-167","8438","K1204","MÉDIATION SOCIALE ET FACILITATION DE LA VIE EN SOCIÉTÉ",2,1,{"$f":"IF(C15216=\"\",\"\",COUNTIF($B$2:B15216,\"=\"&B15216))","v":167},0,6.4516129032258064E-4,0.5]
["8438-176","8438","H2909","MONTAGE-ASSEMBLAGE MÉCANIQUE",2,".",{"$f":"IF(C15225=\"\",\"\",COUNTIF($B$2:B15225,\"=\"&B15225))","v":176},0,6.4516129032258064E-4,0]
["8438-182","8438","G1303","VENTE DE VOYAGES",2,2,{"$f":"IF(C15231=\"\",\"\",COUNTIF($B$2:B15231,\"=\"&B15231))","v":182},0,6.4516129032258064E-4,1]
["8438-196","8438","N1302","DIRECTION DE SITE LOGISTIQUE",1,1,{"$f":"IF(C15245=\"\",\"\",COUNTIF($B$2:B15245,\"=\"&B15245))","v":196},0,3.2258064516129032E-4,1]
["8438-199","8438","N1104","MANOEUVRE ET CONDUITE D'ENGINS LOURDS DE MANUTENTION",1,".",{"$f":"IF(C15248=\"\",\"\",COUNTIF($B$2:B15248,\"=\"&B15248))","v":199},0,3.2258064516129032E-4,0]
["8438-211","8438","J1407","ORTHOPTIQUE",1,1,{"$f":"IF(C15260=\"\",\"\",COUNTIF($B$2:B15260,\"=\"&B15260))","v":211},0,3.2258064516129032E-4,1]
["8438-219","8438","H3404","PEINTURE INDUSTRIELLE",1,1,{"$f":"IF(C15268=\"\",\"\",COUNTIF($B$2:B15268,\"=\"&B15268))","v":219},0,3.2258064516129032E-4,1]
["8438-230","8438","H1403","INTERVENTION TECHNIQUE EN GESTION INDUSTRIELLE ET LOGISTIQUE",1,1,{"$f":"IF(C15279=\"\",\"\",COUNTIF($B$2:B15279,\"=\"&B15279))","v":230},0,3.2258064516129032E-4,1]
["8438-239","8438","D1503","MANAGEMENT/GESTION DE RAYON PRODUITS NON ALIMENTAIRES",1,1,{"$f":"IF(C15288=\"\",\"\",COUNTIF($B$2:B15288,\"=\"&B15288))","v":239},0,3.2258064516129032E-4,1]
["8439-4","8439","K2503","SÉCURITÉ ET SURVEILLANCE PRIVÉES",301,254,{"$f":"IF(C15300=\"\",\"\",COUNTIF($B$2:B15300,\"=\"&B15300))","v":4},300,3.5863219349457881E-2,0.84385382059800662]
["8439-8","8439","M1607","SECRÉTARIAT",166,96,{"$f":"IF(C15304=\"\",\"\",COUNTIF($B$2:B15304,\"=\"&B15304))","v":8},170,1.9778386750863814E-2,0.57831325301204817]
["8439-24","8439","N1105","MANUTENTION MANUELLE DE CHARGES",87,19,{"$f":"IF(C15320=\"\",\"\",COUNTIF($B$2:B15320,\"=\"&B15320))","v":24},90,1.0365781007982843E-2,0.21839080459770116]
["8439-27","8439","D1106","VENTE EN ALIMENTATION",84,70,{"$f":"IF(C15323=\"\",\"\",COUNTIF($B$2:B15323,\"=\"&B15323))","v":27},80,1.0008340283569641E-2,0.83333333333333337]
["8439-44","8439","N4103","CONDUITE DE TRANSPORT EN COMMUN SUR ROUTE",48,47,{"$f":"IF(C15340=\"\",\"\",COUNTIF($B$2:B15340,\"=\"&B15340))","v":44},50,5.7190515906112233E-3,0.97916666666666663]
["8439-47","8439","J1307","PRÉPARATION EN PHARMACIE",41,38,{"$f":"IF(C15343=\"\",\"\",COUNTIF($B$2:B15343,\"=\"&B15343))","v":47},40,4.8850232336470865E-3,0.92682926829268297]
["8439-62","8439","H2902","CHAUDRONNERIE - TÔLERIE",30,26,{"$f":"IF(C15358=\"\",\"\",COUNTIF($B$2:B15358,\"=\"&B15358))","v":62},30,3.5744072441320149E-3,0.8666666666666667]
[{"$f":"B15363&\"-\"&G15363","v":"8439-67"},"8439","F1704","PRÉPARATION DU GROS OEUVRE ET DES TRAVAUX PUBLICS",29,17,{"$f":"IF(C15363=\"\",\"\",COUNTIF($B$2:B15363,\"=\"&B15363))","v":67},30,3.4552603359942809E-3,0.58620689655172409]
["8439-81","8439","J1301","PERSONNEL POLYVALENT DES SERVICES HOSPITALIERS",23,4,{"$f":"IF(C15377=\"\",\"\",COUNTIF($B$2:B15377,\"=\"&B15377))","v":81},20,2.7403788871678781E-3,0.17391304347826086]
["8439-87","8439","M1803","DIRECTION DES SYSTÈMES D'INFORMATION",21,21,{"$f":"IF(C15383=\"\",\"\",COUNTIF($B$2:B15383,\"=\"&B15383))","v":87},20,2.5020850708924102E-3,1]
["8439-99","8439","M1802","EXPERTISE ET SUPPORT EN SYSTÈMES D'INFORMATION",18,18,{"$f":"IF(C15395=\"\",\"\",COUNTIF($B$2:B15395,\"=\"&B15395))","v":99},20,2.1446443464792088E-3,1]
["8439-110","8439","G1604","FABRICATION DE CRÊPES OU PIZZAS",16,13,{"$f":"IF(C15406=\"\",\"\",COUNTIF($B$2:B15406,\"=\"&B15406))","v":110},20,1.9063505302037412E-3,0.8125]
["8439-119","8439","M1202","AUDIT ET CONTRÔLE COMPTABLES ET FINANCIERS",14,14,{"$f":"IF(C15415=\"\",\"\",COUNTIF($B$2:B15415,\"=\"&B15415))","v":119},10,1.6680567139282735E-3,1]
["8439-125","8439","D1501","ANIMATION DE VENTE",14,".",{"$f":"IF(C15421=\"\",\"\",COUNTIF($B$2:B15421,\"=\"&B15421))","v":125},10,1.6680567139282735E-3,0]
["8439-130","8439","H3301","CONDUITE D'ÉQUIPEMENT DE CONDITIONNEMENT",13,3,{"$f":"IF(C15426=\"\",\"\",COUNTIF($B$2:B15426,\"=\"&B15426))","v":130},10,{"$f":"E15426/SUMIF(B:B,B15426,E:E)","v":1.5489098057905398E-3},0.23076923076923078]
["8439-140","8439","M1804","ÉTUDES ET DÉVELOPPEMENT DE RÉSEAUX DE TÉLÉCOMS",11,11,{"$f":"IF(C15436=\"\",\"\",COUNTIF($B$2:B15436,\"=\"&B15436))","v":140},10,1.3106159895150721E-3,1]
["8439-155","8439","K1305","INTERVENTION SOCIALE ET FAMILIALE",9,5,{"$f":"IF(C15451=\"\",\"\",COUNTIF($B$2:B15451,\"=\"&B15451))","v":155},10,1.0723221732396044E-3,0.55555555555555558]
["8439-162","8439","C1501","GÉRANCE IMMOBILIÈRE",9,9,{"$f":"IF(C15458=\"\",\"\",COUNTIF($B$2:B15458,\"=\"&B15458))","v":162},10,1.0723221732396044E-3,1]
["8439-169","8439","I1310","MAINTENANCE MÉCANIQUE INDUSTRIELLE",8,6,{"$f":"IF(C15465=\"\",\"\",COUNTIF($B$2:B15465,\"=\"&B15465))","v":169},10,9.5317526510187058E-4,0.75]
["8439-178","8439","H2602","CÂBLAGE ÉLECTRIQUE ET ÉLECTROMÉCANIQUE",7,6,{"$f":"IF(C15474=\"\",\"\",COUNTIF($B$2:B15474,\"=\"&B15474))","v":178},10,8.3402835696413675E-4,0.8571428571428571]
["8439-194","8439","H1503","INTERVENTION TECHNIQUE EN LABORATOIRE D'ANALYSE INDUSTRIELLE",6,3,{"$f":"IF(C15490=\"\",\"\",COUNTIF($B$2:B15490,\"=\"&B15490))","v":194},10,{"$f":"E15490/SUMIF(B:B,B15490,E:E)","v":7.1488144882640291E-4},0.5]
["8439-198","8439","F1702","CONSTRUCTION DE ROUTES ET VOIES",6,6,{"$f":"IF(C15494=\"\",\"\",COUNTIF($B$2:B15494,\"=\"&B15494))","v":198},10,7.1488144882640291E-4,1]
["8439-205","8439","A1414","HORTICULTURE ET MARAÎCHAGE",6,4,{"$f":"IF(C15501=\"\",\"\",COUNTIF($B$2:B15501,\"=\"&B15501))","v":205},10,7.1488144882640291E-4,0.66666666666666663]
["8439-223","8439","J1412","RÉÉDUCATION EN PSYCHOMOTRICITÉ",4,3,{"$f":"IF(C15519=\"\",\"\",COUNTIF($B$2:B15519,\"=\"&B15519))","v":223},0,4.7658763255093529E-4,0.75]
["8439-230","8439","H1506","INTERVENTION TECHNIQUE QUALITÉ EN MÉCANIQUE ET TRAVAIL DES MÉTAUX",4,1,{"$f":"IF(C15526=\"\",\"\",COUNTIF($B$2:B15526,\"=\"&B15526))","v":230},0,4.7658763255093529E-4,0.25]
["8439-238","8439","K1204","MÉDIATION SOCIALE ET FACILITATION DE LA VIE EN SOCIÉTÉ",3,3,{"$f":"IF(C15534=\"\",\"\",COUNTIF($B$2:B15534,\"=\"&B15534))","v":238},0,3.5744072441320146E-4,1]
["8439-250","8439","D1213","VENTE EN GROS DE MATÉRIEL ET ÉQUIPEMENT",3,3,{"$f":"IF(C15546=\"\",\"\",COUNTIF($B$2:B15546,\"=\"&B15546))","v":250},0,3.5744072441320146E-4,1]
["8439-257","8439","L1203","ART DRAMATIQUE",2,".",{"$f":"IF(C15553=\"\",\"\",COUNTIF($B$2:B15553,\"=\"&B15553))","v":257},{"$f":"ROUND(E15553,-1)","v":0},2.3829381627546765E-4,{"$f":"IF(OR(F15553=\"\",F15553=\".\"),0,F15553/E15553)","v":0}]
["8439-267","8439","H2101","ABATTAGE ET DÉCOUPE DES VIANDES",2,".",{"$f":"IF(C15563=\"\",\"\",COUNTIF($B$2:B15563,\"=\"&B15563))","v":267},0,2.3829381627546765E-4,0]
["8439-273","8439","G1302","OPTIMISATION DE PRODUITS TOURISTIQUES",2,1,{"$f":"IF(C15569=\"\",\"\",COUNTIF($B$2:B15569,\"=\"&B15569))","v":273},0,2.3829381627546765E-4,0.5]
["8439-282","8439","N4201","DIRECTION D'EXPLOITATION DES TRANSPORTS ROUTIERS DE MARCHANDISES",1,1,{"$f":"IF(C15578=\"\",\"\",COUNTIF($B$2:B15578,\"=\"&B15578))","v":282},0,1.1914690813773382E-4,1]
["8439-293","8439","K2203","MANAGEMENT ET INSPECTION EN PROPRETÉ DE LOCAUX",1,1,{"$f":"IF(C15589=\"\",\"\",COUNTIF($B$2:B15589,\"=\"&B15589))","v":293},0,1.1914690813773382E-4,1]
["8439-305","8439","H3303","PRÉPARATION DE MATIÈRES ET PRODUITS INDUSTRIELS (BROYAGE, MÉLANGE, ...)",1,".",{"$f":"IF(C15601=\"\",\"\",COUNTIF($B$2:B15601,\"=\"&B15601))","v":305},0,1.1914690813773382E-4,0]
["8439-311","8439","H2401","ASSEMBLAGE - MONTAGE D'ARTICLES EN CUIRS, PEAUX",1,".",{"$f":"IF(C15607=\"\",\"\",COUNTIF($B$2:B15607,\"=\"&B15607))","v":311},0,1.1914690813773382E-4,0]
["8439-325","8439","D1210","VENTE EN ANIMALERIE",1,1,{"$f":"IF(C15621=\"\",\"\",COUNTIF($B$2:B15621,\"=\"&B15621))","v":325},0,1.1914690813773382E-4,1]
["8439-336","8439","A1405","ARBORICULTURE ET VITICULTURE",1,1,{"$f":"IF(C15632=\"\",\"\",COUNTIF($B$2:B15632,\"=\"&B15632))","v":336},0,1.1914690813773382E-4,1]
["8440-8","8440","F1603","INSTALLATION D'ÉQUIPEMENTS SANITAIRES ET THERMIQUES",143,114,{"$f":"IF(C15641=\"\",\"\",COUNTIF($B$2:B15641,\"=\"&B15641))","v":8},140,2.1969580580734369E-2,0.79720279720279719]
["8440-18","8440","G1602","PERSONNEL DE CUISINE",89,74,{"$f":"IF(C15651=\"\",\"\",COUNTIF($B$2:B15651,\"=\"&B15651))","v":18},90,1.3673375326471041E-2,0.8314606741573034]
["8440-19","8440","G1203","ANIMATION DE LOISIRS AUPRÈS D'ENFANTS OU D'ADOLESCENTS",85,45,{"$f":"IF(C15652=\"\",\"\",COUNTIF($B$2:B15652,\"=\"&B15652))","v":19},90,1.3058841603933016E-2,0.52941176470588236]
["8440-31","8440","I1309","MAINTENANCE ÉLECTRIQUE",54,50,{"$f":"IF(C15664=\"\",\"\",COUNTIF($B$2:B15664,\"=\"&B15664))","v":31},50,8.2962052542633283E-3,0.92592592592592593]
["8440-37","8440","M1605","ASSISTANAT TECHNIQUE ET ADMINISTRATIF",45,26,{"$f":"IF(C15670=\"\",\"\",COUNTIF($B$2:B15670,\"=\"&B15670))","v":37},50,6.9135043785527733E-3,0.57777777777777772]
["8440-51","8440","C1503","MANAGEMENT DE PROJET IMMOBILIER",33,33,{"$f":"IF(C15684=\"\",\"\",COUNTIF($B$2:B15684,\"=\"&B15684))","v":51},30,5.0699032109387003E-3,1]
["8440-62","8440","H1203","CONCEPTION ET DESSIN PRODUITS MÉCANIQUES",28,24,{"$f":"IF(C15695=\"\",\"\",COUNTIF($B$2:B15695,\"=\"&B15695))","v":62},30,4.3017360577661699E-3,0.8571428571428571]
["8440-71","8440","H2206","RÉALISATION DE MENUISERIE BOIS ET TONNELLERIE",24,19,{"$f":"IF(C15704=\"\",\"\",COUNTIF($B$2:B15704,\"=\"&B15704))","v":71},20,3.6872023352281457E-3,0.79166666666666663]
["8440-83","8440","F1703","MAÇONNERIE",20,14,{"$f":"IF(C15716=\"\",\"\",COUNTIF($B$2:B15716,\"=\"&B15716))","v":83},20,3.0726686126901215E-3,0.7]
["8440-91","8440","H2605","MONTAGE ET CÂBLAGE ÉLECTRONIQUE",16,8,{"$f":"IF(C15724=\"\",\"\",COUNTIF($B$2:B15724,\"=\"&B15724))","v":91},20,2.4581348901520973E-3,0.5]
["8440-94","8440","D1214","VENTE EN HABILLEMENT ET ACCESSOIRES DE LA PERSONNE",16,3,{"$f":"IF(C15727=\"\",\"\",COUNTIF($B$2:B15727,\"=\"&B15727))","v":94},20,2.4581348901520973E-3,0.1875]
["8440-106","8440","I1305","INSTALLATION ET MAINTENANCE ÉLECTRONIQUE",13,13,{"$f":"IF(C15739=\"\",\"\",COUNTIF($B$2:B15739,\"=\"&B15739))","v":106},10,1.9972345982485788E-3,1]
[{"$f":"B15747&\"-\"&G15747","v":"8440-114"},"8440","N1302","DIRECTION DE SITE LOGISTIQUE",11,11,{"$f":"IF(C15747=\"\",\"\",COUNTIF($B$2:B15747,\"=\"&B15747))","v":114},10,1.6899677369795667E-3,1]
["8440-126","8440","D1402","RELATION COMMERCIALE GRANDS COMPTES ET ENTREPRISES",10,7,{"$f":"IF(C15759=\"\",\"\",COUNTIF($B$2:B15759,\"=\"&B15759))","v":126},10,1.5363343063450607E-3,0.7]
["8440-135","8440","M1205","DIRECTION ADMINISTRATIVE ET FINANCIÈRE",8,8,{"$f":"IF(C15768=\"\",\"\",COUNTIF($B$2:B15768,\"=\"&B15768))","v":135},10,1.2290674450760486E-3,1]
["8440-146","8440","H2902","CHAUDRONNERIE - TÔLERIE",7,6,{"$f":"IF(C15779=\"\",\"\",COUNTIF($B$2:B15779,\"=\"&B15779))","v":146},10,1.0754340144415425E-3,0.8571428571428571]
["8440-150","8440","G1202","ANIMATION D'ACTIVITÉS CULTURELLES OU LUDIQUES",7,4,{"$f":"IF(C15783=\"\",\"\",COUNTIF($B$2:B15783,\"=\"&B15783))","v":150},10,1.0754340144415425E-3,0.5714285714285714]
["8440-162","8440","J1502","COORDINATION DE SERVICES MÉDICAUX OU PARAMÉDICAUX",5,4,{"$f":"IF(C15795=\"\",\"\",COUNTIF($B$2:B15795,\"=\"&B15795))","v":162},10,7.6816715317253037E-4,0.8]
["8440-169","8440","H1503","INTERVENTION TECHNIQUE EN LABORATOIRE D'ANALYSE INDUSTRIELLE",5,4,{"$f":"IF(C15802=\"\",\"\",COUNTIF($B$2:B15802,\"=\"&B15802))","v":169},10,7.6816715317253037E-4,0.8]
["8440-179","8440","M1102","DIRECTION DES ACHATS",4,2,{"$f":"IF(C15812=\"\",\"\",COUNTIF($B$2:B15812,\"=\"&B15812))","v":179},0,6.1453372253802432E-4,0.5]
["8440-189","8440","I1603","MAINTENANCE D'ENGINS DE CHANTIER, LEVAGE, MANUTENTION ET DE MACHINES AGRICOLES",4,4,{"$f":"IF(C15822=\"\",\"\",COUNTIF($B$2:B15822,\"=\"&B15822))","v":189},0,6.1453372253802432E-4,1]
["8440-204","8440","D1101","BOUCHERIE",4,4,{"$f":"IF(C15837=\"\",\"\",COUNTIF($B$2:B15837,\"=\"&B15837))","v":204},0,6.1453372253802432E-4,1]
["8440-214","8440","J1403","ERGOTHÉRAPIE",3,3,{"$f":"IF(C15847=\"\",\"\",COUNTIF($B$2:B15847,\"=\"&B15847))","v":214},0,4.6090029190351821E-4,1]
["8440-221","8440","H1302","MANAGEMENT ET INGÉNIERIE HYGIÈNE SÉCURITÉ ENVIRONNEMENT -HSE- INDUSTRIELS",3,2,{"$f":"IF(C15854=\"\",\"\",COUNTIF($B$2:B15854,\"=\"&B15854))","v":221},0,4.6090029190351821E-4,0.66666666666666663]
["8440-233","8440","K2501","GARDIENNAGE DE LOCAUX",2,2,{"$f":"IF(C15866=\"\",\"\",COUNTIF($B$2:B15866,\"=\"&B15866))","v":233},0,3.0726686126901216E-4,1]
["8440-241","8440","H2803","FAÇONNAGE ET ÉMAILLAGE EN INDUSTRIE CÉRAMIQUE",2,2,{"$f":"IF(C15874=\"\",\"\",COUNTIF($B$2:B15874,\"=\"&B15874))","v":241},0,{"$f":"E15874/SUMIF(B:B,B15874,E:E)","v":3.0726686126901216E-4},1]
["8440-248","8440","F1107","MESURES TOPOGRAPHIQUES",2,2,{"$f":"IF(C15881=\"\",\"\",COUNTIF($B$2:B15881,\"=\"&B15881))","v":248},0,3.0726686126901216E-4,1]
["8440-257","8440","C1108","MANAGEMENT DE GROUPE ET DE SERVICE EN ASSURANCES",2,2,{"$f":"IF(C15890=\"\",\"\",COUNTIF($B$2:B15890,\"=\"&B15890))","v":257},0,3.0726686126901216E-4,1]
["8440-263","8440","M1403","ÉTUDES ET PROSPECTIVES SOCIO-ÉCONOMIQUES",1,1,{"$f":"IF(C15896=\"\",\"\",COUNTIF($B$2:B15896,\"=\"&B15896))","v":263},0,1.5363343063450608E-4,1]
["8440-277","8440","J1412","RÉÉDUCATION EN PSYCHOMOTRICITÉ",1,1,{"$f":"IF(C15910=\"\",\"\",COUNTIF($B$2:B15910,\"=\"&B15910))","v":277},0,1.5363343063450608E-4,1]
["8440-289","8440","H2203","CONDUITE D'INSTALLATION DE PRODUCTION DE PANNEAUX BOIS",1,".",{"$f":"IF(C15922=\"\",\"\",COUNTIF($B$2:B15922,\"=\"&B15922))","v":289},0,1.5363343063450608E-4,0]
["8440-292","8440","H1204","DESIGN INDUSTRIEL",1,1,{"$f":"IF(C15925=\"\",\"\",COUNTIF($B$2:B15925,\"=\"&B15925))","v":292},0,1.5363343063450608E-4,1]
["8440-309","8440","E1108","TRADUCTION, INTERPRÉTARIAT",1,1,{"$f":"IF(C15942=\"\",\"\",COUNTIF($B$2:B15942,\"=\"&B15942))","v":309},0,1.5363343063450608E-4,1]
["8441-3","8441","M1401","CONDUITE D'ENQUÊTES",327,10,{"$f":"IF(C15950=\"\",\"\",COUNTIF($B$2:B15950,\"=\"&B15950))","v":3},330,2.7403000083801223E-2,3.0581039755351681E-2]
["8441-6","8441","M1203","COMPTABILITÉ",256,203,{"$f":"IF(C15953=\"\",\"\",COUNTIF($B$2:B15953,\"=\"&B15953))","v":6},260,2.1453113215452946E-2,0.79296875]
["8441-18","8441","M1805","ÉTUDES ET DÉVELOPPEMENT INFORMATIQUE",166,159,{"$f":"IF(C15965=\"\",\"\",COUNTIF($B$2:B15965,\"=\"&B15965))","v":18},170,1.391100310064527E-2,0.95783132530120485]
["8441-32","8441","D1402","RELATION COMMERCIALE GRANDS COMPTES ET ENTREPRISES",86,86,{"$f":"IF(C15979=\"\",\"\",COUNTIF($B$2:B15979,\"=\"&B15979))","v":32},90,7.2069052208162242E-3,1]
["8441-38","8441","D1106","VENTE EN ALIMENTATION",76,66,{"$f":"IF(C15985=\"\",\"\",COUNTIF($B$2:B15985,\"=\"&B15985))","v":38},80,6.3688929858375931E-3,0.86842105263157898]
["8441-51","8441","J1304","AIDE EN PUÉRICULTURE",62,52,{"$f":"IF(C15998=\"\",\"\",COUNTIF($B$2:B15998,\"=\"&B15998))","v":51},60,5.1956758568675104E-3,0.83870967741935487]
["8441-58","8441","M1810","PRODUCTION ET EXPLOITATION DE SYSTÈMES D'INFORMATION",57,49,{"$f":"IF(C16005=\"\",\"\",COUNTIF($B$2:B16005,\"=\"&B16005))","v":58},60,4.7766697393781948E-3,0.85964912280701755]
["8441-70","8441","M1802","EXPERTISE ET SUPPORT EN SYSTÈMES D'INFORMATION",44,43,{"$f":"IF(C16017=\"\",\"\",COUNTIF($B$2:B16017,\"=\"&B16017))","v":70},40,3.6872538339059752E-3,0.97727272727272729]
["8441-76","8441","I1603","MAINTENANCE D'ENGINS DE CHANTIER, LEVAGE, MANUTENTION ET DE MACHINES AGRICOLES",41,39,{"$f":"IF(C16023=\"\",\"\",COUNTIF($B$2:B16023,\"=\"&B16023))","v":76},40,3.4358501634123859E-3,0.95121951219512191]
["8441-81","8441","M1609","SECRÉTARIAT ET ASSISTANAT MÉDICAL OU MÉDICO-SOCIAL",39,17,{"$f":"IF(C16028=\"\",\"\",COUNTIF($B$2:B16028,\"=\"&B16028))","v":81},40,3.2682477164166597E-3,0.4358974358974359]
["8441-95","8441","F1608","POSE DE REVÊTEMENTS RIGIDES",32,17,{"$f":"IF(C16042=\"\",\"\",COUNTIF($B$2:B16042,\"=\"&B16042))","v":95},30,2.6816391519316183E-3,0.53125]
["8441-101","8441","F1604","MONTAGE D'AGENCEMENTS",31,14,{"$f":"IF(C16048=\"\",\"\",COUNTIF($B$2:B16048,\"=\"&B16048))","v":101},30,2.5978379284337552E-3,0.45161290322580644]
["8441-113","8441","H1504","INTERVENTION TECHNIQUE EN CONTRÔLE ESSAI QUALITÉ EN ÉLECTRICITÉ ET ÉLECTRONIQUE",25,21,{"$f":"IF(C16060=\"\",\"\",COUNTIF($B$2:B16060,\"=\"&B16060))","v":113},30,2.0950305874465765E-3,0.84]
[{"$f":"B16067&\"-\"&G16067","v":"8441-120"},"8441","H1208","INTERVENTION TECHNIQUE EN ÉTUDES ET CONCEPTION EN AUTOMATISME",22,21,{"$f":"IF(C16067=\"\",\"\",COUNTIF($B$2:B16067,\"=\"&B16067))","v":120},20,1.8436269169529876E-3,0.95454545454545459]
["8441-133","8441","H2603","CONDUITE D'INSTALLATION AUTOMATISÉE DE PRODUCTION ÉLECTRIQUE, ÉLECTRONIQUE ET MICROÉLECTRONIQUE",20,6,{"$f":"IF(C16080=\"\",\"\",COUNTIF($B$2:B16080,\"=\"&B16080))","v":133},20,1.6760244699572614E-3,0.3]
["8441-139","8441","M1503","MANAGEMENT DES RESSOURCES HUMAINES",19,14,{"$f":"IF(C16086=\"\",\"\",COUNTIF($B$2:B16086,\"=\"&B16086))","v":139},20,1.5922232464593983E-3,0.73684210526315785]
["8441-153","8441","M1804","ÉTUDES ET DÉVELOPPEMENT DE RÉSEAUX DE TÉLÉCOMS",16,16,{"$f":"IF(C16100=\"\",\"\",COUNTIF($B$2:B16100,\"=\"&B16100))","v":153},20,1.3408195759658092E-3,1]
["8441-164","8441","K1204","MÉDIATION SOCIALE ET FACILITATION DE LA VIE EN SOCIÉTÉ",14,11,{"$f":"IF(C16111=\"\",\"\",COUNTIF($B$2:B16111,\"=\"&B16111))","v":164},10,1.1732171289700829E-3,0.7857142857142857]
["8441-169","8441","K1705","SÉCURITÉ CIVILE ET SECOURS",13,13,{"$f":"IF(C16116=\"\",\"\",COUNTIF($B$2:B16116,\"=\"&B16116))","v":169},10,1.0894159054722198E-3,1]
["8441-176","8441","J1412","RÉÉDUCATION EN PSYCHOMOTRICITÉ",12,11,{"$f":"IF(C16123=\"\",\"\",COUNTIF($B$2:B16123,\"=\"&B16123))","v":176},10,1.0056146819743569E-3,0.91666666666666663]
["8441-193","8441","M1402","CONSEIL EN ORGANISATION ET MANAGEMENT D'ENTREPRISE",10,4,{"$f":"IF(C16140=\"\",\"\",COUNTIF($B$2:B16140,\"=\"&B16140))","v":193},10,8.380122349786307E-4,0.4]
["8441-196","8441","K1305","INTERVENTION SOCIALE ET FAMILIALE",10,10,{"$f":"IF(C16143=\"\",\"\",COUNTIF($B$2:B16143,\"=\"&B16143))","v":196},10,8.380122349786307E-4,1]
["8441-208","8441","H1402","MANAGEMENT ET INGÉNIERIE MÉTHODES ET INDUSTRIALISATION",8,8,{"$f":"IF(C16155=\"\",\"\",COUNTIF($B$2:B16155,\"=\"&B16155))","v":208},10,6.7040978798290458E-4,1]
["8441-221","8441","H2802","CONDUITE D'INSTALLATION DE PRODUCTION DE MATÉRIAUX DE CONSTRUCTION",7,7,{"$f":"IF(C16168=\"\",\"\",COUNTIF($B$2:B16168,\"=\"&B16168))","v":221},10,5.8660856448504147E-4,1]
["8441-228","8441","M1302","DIRECTION DE PETITE OU MOYENNE ENTREPRISE",7,7,{"$f":"IF(C16175=\"\",\"\",COUNTIF($B$2:B16175,\"=\"&B16175))","v":228},10,5.8660856448504147E-4,1]
["8441-237","8441","N1104","MANOEUVRE ET CONDUITE D'ENGINS LOURDS DE MANUTENTION",6,6,{"$f":"IF(C16184=\"\",\"\",COUNTIF($B$2:B16184,\"=\"&B16184))","v":237},10,5.0280734098717846E-4,1]
[{"$f":"B16195&\"-\"&G16195","v":"8441-248"},"8441","I1201","ENTRETIEN D'AFFICHAGE ET MOBILIER URBAIN",5,4,{"$f":"IF(C16195=\"\",\"\",COUNTIF($B$2:B16195,\"=\"&B16195))","v":248},10,4.1900611748931535E-4,0.8]
["8441-252","8441","G1404","MANAGEMENT D'ÉTABLISSEMENT DE RESTAURATION COLLECTIVE",4,4,{"$f":"IF(C16199=\"\",\"\",COUNTIF($B$2:B16199,\"=\"&B16199))","v":252},0,3.3520489399145229E-4,1]
["8441-264","8441","K2306","SUPERVISION D'EXPLOITATION ÉCO-INDUSTRIELLE",4,3,{"$f":"IF(C16211=\"\",\"\",COUNTIF($B$2:B16211,\"=\"&B16211))","v":264},0,3.3520489399145229E-4,0.75]
["8441-271","8441","H2701","PILOTAGE D'INSTALLATION ÉNERGÉTIQUE ET PÉTROCHIMIQUE",3,3,{"$f":"IF(C16218=\"\",\"\",COUNTIF($B$2:B16218,\"=\"&B16218))","v":271},0,2.5140367049358923E-4,1]
["8441-281","8441","L1401","SPORTIF PROFESSIONNEL",3,2,{"$f":"IF(C16228=\"\",\"\",COUNTIF($B$2:B16228,\"=\"&B16228))","v":281},0,2.5140367049358923E-4,0.66666666666666663]
["8441-296","8441","F1107","MESURES TOPOGRAPHIQUES",2,2,{"$f":"IF(C16243=\"\",\"\",COUNTIF($B$2:B16243,\"=\"&B16243))","v":296},0,1.6760244699572614E-4,1]
["8441-306","8441","C1203","RELATION CLIENTS BANQUE/FINANCE",2,2,{"$f":"IF(C16253=\"\",\"\",COUNTIF($B$2:B16253,\"=\"&B16253))","v":306},0,1.6760244699572614E-4,1]
["8441-307","8441","B1805","STYLISME",2,2,{"$f":"IF(C16254=\"\",\"\",COUNTIF($B$2:B16254,\"=\"&B16254))","v":307},0,1.6760244699572614E-4,1]
["8441-323","8441","J1302","ANALYSES MÉDICALES",2,1,{"$f":"IF(C16270=\"\",\"\",COUNTIF($B$2:B16270,\"=\"&B16270))","v":323},0,1.6760244699572614E-4,0.5]
["8441-325","8441","H3301","CONDUITE D'ÉQUIPEMENT DE CONDITIONNEMENT",2,1,{"$f":"IF(C16272=\"\",\"\",COUNTIF($B$2:B16272,\"=\"&B16272))","v":325},0,1.6760244699572614E-4,0.5]
["8441-339","8441","F1101","ARCHITECTURE DU BTP ET DU PAYSAGE",1,".",{"$f":"IF(C16286=\"\",\"\",COUNTIF($B$2:B16286,\"=\"&B16286))","v":339},0,8.3801223497863072E-5,0]
["8441-350","8441","M1808","INFORMATION GÉOGRAPHIQUE",1,1,{"$f":"IF(C16297=\"\",\"\",COUNTIF($B$2:B16297,\"=\"&B16297))","v":350},0,8.3801223497863072E-5,1]
["8441-359","8441","K2112","ORIENTATION SCOLAIRE ET PROFESSIONNELLE",1,".",{"$f":"IF(C16306=\"\",\"\",COUNTIF($B$2:B16306,\"=\"&B16306))","v":359},0,8.3801223497863072E-5,0]
["8442-2","8442","K1302","ASSISTANCE AUPRÈS D'ADULTES",337,303,{"$f":"IF(C16318=\"\",\"\",COUNTIF($B$2:B16318,\"=\"&B16318))","v":2},340,9.4530154277699854E-2,0.89910979228486643]
["8442-10","8442","H2206","RÉALISATION DE MENUISERIE BOIS ET TONNELLERIE",57,38,{"$f":"IF(C16326=\"\",\"\",COUNTIF($B$2:B16326,\"=\"&B16326))","v":10},60,1.5988779803646564E-2,0.66666666666666663]
["8442-13","8442","K1301","ACCOMPAGNEMENT MÉDICOSOCIAL",51,34,{"$f":"IF(C16329=\"\",\"\",COUNTIF($B$2:B16329,\"=\"&B16329))","v":13},50,1.4305750350631136E-2,0.66666666666666663]
["8442-25","8442","G1803","SERVICE EN RESTAURATION",33,32,{"$f":"IF(C16341=\"\",\"\",COUNTIF($B$2:B16341,\"=\"&B16341))","v":25},30,9.2566619915848535E-3,0.96969696969696972]
["8442-33","8442","K1305","INTERVENTION SOCIALE ET FAMILIALE",25,17,{"$f":"IF(C16349=\"\",\"\",COUNTIF($B$2:B16349,\"=\"&B16349))","v":33},30,7.0126227208976155E-3,0.68]
["8442-44","8442","N4105","CONDUITE ET LIVRAISON PAR TOURNÉES SUR COURTE DISTANCE",20,16,{"$f":"IF(C16360=\"\",\"\",COUNTIF($B$2:B16360,\"=\"&B16360))","v":44},20,5.6100981767180924E-3,0.8]
["8442-53","8442","A1405","ARBORICULTURE ET VITICULTURE",16,".",{"$f":"IF(C16369=\"\",\"\",COUNTIF($B$2:B16369,\"=\"&B16369))","v":53},20,4.4880785413744743E-3,0]
["8442-65","8442","F1106","INGÉNIERIE ET ÉTUDES DU BTP",12,12,{"$f":"IF(C16381=\"\",\"\",COUNTIF($B$2:B16381,\"=\"&B16381))","v":65},10,3.3660589060308557E-3,1]
["8442-69","8442","M1501","ASSISTANAT EN RESSOURCES HUMAINES",11,7,{"$f":"IF(C16385=\"\",\"\",COUNTIF($B$2:B16385,\"=\"&B16385))","v":69},{"$f":"ROUND(E16385,-1)","v":10},3.0855539971949507E-3,{"$f":"IF(OR(F16385=\"\",F16385=\".\"),0,F16385/E16385)","v":0.63636363636363635}]
["8442-85","8442","D1212","VENTE EN DÉCORATION ET ÉQUIPEMENT DU FOYER",9,6,{"$f":"IF(C16401=\"\",\"\",COUNTIF($B$2:B16401,\"=\"&B16401))","v":85},10,2.5245441795231417E-3,0.66666666666666663]
["8442-88","8442","I1306","INSTALLATION ET MAINTENANCE EN FROID, CONDITIONNEMENT D'AIR",8,6,{"$f":"IF(C16404=\"\",\"\",COUNTIF($B$2:B16404,\"=\"&B16404))","v":88},10,2.2440392706872371E-3,0.75]
["8442-105","8442","K1802","DÉVELOPPEMENT LOCAL",6,5,{"$f":"IF(C16421=\"\",\"\",COUNTIF($B$2:B16421,\"=\"&B16421))","v":105},10,1.6830294530154279E-3,0.83333333333333337]
["8442-108","8442","I1302","INSTALLATION ET MAINTENANCE D'AUTOMATISMES",6,6,{"$f":"IF(C16424=\"\",\"\",COUNTIF($B$2:B16424,\"=\"&B16424))","v":108},10,1.6830294530154279E-3,1]
["8442-117","8442","K2110","FORMATION EN CONDUITE DE VÉHICULES",5,5,{"$f":"IF(C16433=\"\",\"\",COUNTIF($B$2:B16433,\"=\"&B16433))","v":117},10,1.4025245441795231E-3,1]
["8442-128","8442","N4103","CONDUITE DE TRANSPORT EN COMMUN SUR ROUTE",4,4,{"$f":"IF(C16444=\"\",\"\",COUNTIF($B$2:B16444,\"=\"&B16444))","v":128},0,1.1220196353436186E-3,1]
["8442-142","8442","H2413","PRÉPARATION DE FILS, MONTAGE DE MÉTIERS TEXTILES",4,4,{"$f":"IF(C16458=\"\",\"\",COUNTIF($B$2:B16458,\"=\"&B16458))","v":142},0,1.1220196353436186E-3,1]
["8442-148","8442","K2305","SALUBRITÉ ET TRAITEMENT DE NUISIBLES",3,3,{"$f":"IF(C16464=\"\",\"\",COUNTIF($B$2:B16464,\"=\"&B16464))","v":148},0,8.4151472650771393E-4,1]
["8442-160","8442","H1208","INTERVENTION TECHNIQUE EN ÉTUDES ET CONCEPTION EN AUTOMATISME",3,2,{"$f":"IF(C16476=\"\",\"\",COUNTIF($B$2:B16476,\"=\"&B16476))","v":160},0,8.4151472650771393E-4,0.66666666666666663]
["8442-171","8442","M1803","DIRECTION DES SYSTÈMES D'INFORMATION",2,2,{"$f":"IF(C16487=\"\",\"\",COUNTIF($B$2:B16487,\"=\"&B16487))","v":171},0,5.6100981767180928E-4,1]
["8442-180","8442","J1404","KINÉSITHÉRAPIE",2,2,{"$f":"IF(C16496=\"\",\"\",COUNTIF($B$2:B16496,\"=\"&B16496))","v":180},0,5.6100981767180928E-4,1]
["8442-186","8442","H2803","FAÇONNAGE ET ÉMAILLAGE EN INDUSTRIE CÉRAMIQUE",2,1,{"$f":"IF(C16502=\"\",\"\",COUNTIF($B$2:B16502,\"=\"&B16502))","v":186},0,5.6100981767180928E-4,0.5]
["8442-196","8442","E1306","PRÉPRESSE",2,".",{"$f":"IF(C16512=\"\",\"\",COUNTIF($B$2:B16512,\"=\"&B16512))","v":196},0,5.6100981767180928E-4,0]
["8442-203","8442","A1409","ÉLEVAGE DE LAPINS ET VOLAILLES",2,2,{"$f":"IF(C16519=\"\",\"\",COUNTIF($B$2:B16519,\"=\"&B16519))","v":203},0,5.6100981767180928E-4,1]
["8442-215","8442","M1202","AUDIT ET CONTRÔLE COMPTABLES ET FINANCIERS",1,1,{"$f":"IF(C16531=\"\",\"\",COUNTIF($B$2:B16531,\"=\"&B16531))","v":215},0,2.8050490883590464E-4,1]
["8442-223","8442","K1707","SURVEILLANCE MUNICIPALE",1,1,{"$f":"IF(C16539=\"\",\"\",COUNTIF($B$2:B16539,\"=\"&B16539))","v":223},0,2.8050490883590464E-4,1]
["8442-230","8442","I1310","MAINTENANCE MÉCANIQUE INDUSTRIELLE",1,".",{"$f":"IF(C16546=\"\",\"\",COUNTIF($B$2:B16546,\"=\"&B16546))","v":230},0,2.8050490883590464E-4,0]
["8442-239","8442","H2404","CONDUITE DE MACHINE DE PRODUCTION ET TRANSFORMATION DES FILS",1,".",{"$f":"IF(C16555=\"\",\"\",COUNTIF($B$2:B16555,\"=\"&B16555))","v":239},0,2.8050490883590464E-4,0]
["8442-255","8442","G1201","ACCOMPAGNEMENT DE VOYAGES, D'ACTIVITÉS CULTURELLES OU SPORTIVES",1,1,{"$f":"IF(C16571=\"\",\"\",COUNTIF($B$2:B16571,\"=\"&B16571))","v":255},0,2.8050490883590464E-4,1]
["8442-259","8442","E1402","ÉLABORATION DE PLAN MÉDIA",1,1,{"$f":"IF(C16575=\"\",\"\",COUNTIF($B$2:B16575,\"=\"&B16575))","v":259},0,2.8050490883590464E-4,1]
["8443-1","8443","D1205","NETTOYAGE D'ARTICLES TEXTILES OU CUIRS",554,15,{"$f":"IF(C16591=\"\",\"\",COUNTIF($B$2:B16591,\"=\"&B16591))","v":1},550,4.947312020003572E-2,2.7075812274368231E-2]
["8443-10","8443","G1603","PERSONNEL POLYVALENT EN RESTAURATION",210,169,{"$f":"IF(C16600=\"\",\"\",COUNTIF($B$2:B16600,\"=\"&B16600))","v":10},210,1.875334881228791E-2,0.80476190476190479]
["8443-17","8443","J1506","SOINS INFIRMIERS GÉNÉRALISTES",176,109,{"$f":"IF(C16607=\"\",\"\",COUNTIF($B$2:B16607,\"=\"&B16607))","v":17},180,1.5717092337917484E-2,0.61931818181818177]
["8443-25","8443","I1309","MAINTENANCE ÉLECTRIQUE",118,115,{"$f":"IF(C16615=\"\",\"\",COUNTIF($B$2:B16615,\"=\"&B16615))","v":25},120,1.0537595999285587E-2,0.97457627118644063]
["8443-37","8443","H1206","MANAGEMENT ET INGÉNIERIE ÉTUDES, RECHERCHE ET DÉVELOPPEMENT INDUSTRIEL",78,76,{"$f":"IF(C16627=\"\",\"\",COUNTIF($B$2:B16627,\"=\"&B16627))","v":37},80,6.9655295588497944E-3,0.97435897435897434]
["8443-40","8443","M1806","CONSEIL ET MAÎTRISE D'OUVRAGE EN SYSTÈMES D'INFORMATION",72,72,{"$f":"IF(C16630=\"\",\"\",COUNTIF($B$2:B16630,\"=\"&B16630))","v":40},70,6.4297195927844261E-3,1]
["8443-54","8443","K2107","ENSEIGNEMENT GÉNÉRAL DU SECOND DEGRÉ",48,36,{"$f":"IF(C16644=\"\",\"\",COUNTIF($B$2:B16644,\"=\"&B16644))","v":54},50,4.2864797285229505E-3,0.75]
["8443-60","8443","D1208","SOINS ESTHÉTIQUES ET CORPORELS",46,36,{"$f":"IF(C16650=\"\",\"\",COUNTIF($B$2:B16650,\"=\"&B16650))","v":60},50,4.1078764065011607E-3,0.78260869565217395]
["8443-69","8443","F1703","MAÇONNERIE",38,28,{"$f":"IF(C16659=\"\",\"\",COUNTIF($B$2:B16659,\"=\"&B16659))","v":69},40,3.3934631184140023E-3,0.73684210526315785]
["8443-80","8443","H1404","INTERVENTION TECHNIQUE EN MÉTHODES ET INDUSTRIALISATION",32,30,{"$f":"IF(C16670=\"\",\"\",COUNTIF($B$2:B16670,\"=\"&B16670))","v":80},30,2.8576531523486336E-3,0.9375]
["8443-92","8443","I1606","RÉPARATION DE CARROSSERIE",25,16,{"$f":"IF(C16682=\"\",\"\",COUNTIF($B$2:B16682,\"=\"&B16682))","v":92},30,2.2325415252723701E-3,0.64]
["8443-98","8443","K1206","INTERVENTION SOCIOCULTURELLE",23,19,{"$f":"IF(C16688=\"\",\"\",COUNTIF($B$2:B16688,\"=\"&B16688))","v":98},20,2.0539382032505804E-3,0.82608695652173914]
["8443-112","8443","C1504","TRANSACTION IMMOBILIÈRE",21,19,{"$f":"IF(C16702=\"\",\"\",COUNTIF($B$2:B16702,\"=\"&B16702))","v":112},20,1.8753348812287909E-3,0.90476190476190477]
["8443-123","8443","J1305","CONDUITE DE VÉHICULES SANITAIRES",18,17,{"$f":"IF(C16713=\"\",\"\",COUNTIF($B$2:B16713,\"=\"&B16713))","v":123},20,1.6074298981961065E-3,0.94444444444444442]
["8443-132","8443","J1307","PRÉPARATION EN PHARMACIE",15,11,{"$f":"IF(C16722=\"\",\"\",COUNTIF($B$2:B16722,\"=\"&B16722))","v":132},20,1.339524915163422E-3,0.73333333333333328]
["8443-135","8443","F1704","PRÉPARATION DU GROS OEUVRE ET DES TRAVAUX PUBLICS",15,11,{"$f":"IF(C16725=\"\",\"\",COUNTIF($B$2:B16725,\"=\"&B16725))","v":135},20,1.339524915163422E-3,0.73333333333333328]
["8443-152","8443","N1101","CONDUITE D'ENGINS DE DÉPLACEMENT DES CHARGES",12,6,{"$f":"IF(C16742=\"\",\"\",COUNTIF($B$2:B16742,\"=\"&B16742))","v":152},10,1.0716199321307376E-3,0.5]
["8443-155","8443","G1802","MANAGEMENT DU SERVICE EN RESTAURATION",12,12,{"$f":"IF(C16745=\"\",\"\",COUNTIF($B$2:B16745,\"=\"&B16745))","v":155},10,1.0716199321307376E-3,1]
["8443-171","8443","F1610","POSE ET RESTAURATION DE COUVERTURES",10,10,{"$f":"IF(C16761=\"\",\"\",COUNTIF($B$2:B16761,\"=\"&B16761))","v":171},10,8.9301661010894801E-4,1]
["8443-175","8443","K2502","MANAGEMENT DE SÉCURITÉ PRIVÉE",9,8,{"$f":"IF(C16765=\"\",\"\",COUNTIF($B$2:B16765,\"=\"&B16765))","v":175},10,8.0371494909805326E-4,0.88888888888888884]
["8443-187","8443","F1102","CONCEPTION - AMÉNAGEMENT D'ESPACES INTÉRIEURS",8,7,{"$f":"IF(C16777=\"\",\"\",COUNTIF($B$2:B16777,\"=\"&B16777))","v":187},10,7.1441328808715841E-4,0.875]
["8443-196","8443","I1310","MAINTENANCE MÉCANIQUE INDUSTRIELLE",7,7,{"$f":"IF(C16786=\"\",\"\",COUNTIF($B$2:B16786,\"=\"&B16786))","v":196},10,6.2511162707626366E-4,1]
["8443-207","8443","K1205","INFORMATION SOCIALE",6,6,{"$f":"IF(C16797=\"\",\"\",COUNTIF($B$2:B16797,\"=\"&B16797))","v":207},10,5.3580996606536881E-4,1]
["8443-215","8443","C1502","GESTION LOCATIVE IMMOBILIÈRE",6,5,{"$f":"IF(C16805=\"\",\"\",COUNTIF($B$2:B16805,\"=\"&B16805))","v":215},10,5.3580996606536881E-4,0.83333333333333337]
["8443-227","8443","C1501","GÉRANCE IMMOBILIÈRE",5,4,{"$f":"IF(C16817=\"\",\"\",COUNTIF($B$2:B16817,\"=\"&B16817))","v":227},10,4.4650830505447401E-4,0.8]
["8443-230","8443","A1408","ÉLEVAGE D'ANIMAUX SAUVAGES OU DE COMPAGNIE",5,4,{"$f":"IF(C16820=\"\",\"\",COUNTIF($B$2:B16820,\"=\"&B16820))","v":230},10,4.4650830505447401E-4,0.8]
["8443-243","8443","H3202","RÉGLAGE D'ÉQUIPEMENT DE FORMAGE DES PLASTIQUES ET CAOUTCHOUCS",4,3,{"$f":"IF(C16833=\"\",\"\",COUNTIF($B$2:B16833,\"=\"&B16833))","v":243},{"$f":"ROUND(E16833,-1)","v":0},3.572066440435792E-4,{"$f":"IF(OR(F16833=\"\",F16833=\".\"),0,F16833/E16833)","v":0.75}]
["8443-250","8443","F1611","RÉALISATION ET RESTAURATION DE FAÇADES",4,4,{"$f":"IF(C16840=\"\",\"\",COUNTIF($B$2:B16840,\"=\"&B16840))","v":250},0,3.572066440435792E-4,1]
["8443-259","8443","J1306","IMAGERIE MÉDICALE",3,1,{"$f":"IF(C16849=\"\",\"\",COUNTIF($B$2:B16849,\"=\"&B16849))","v":259},0,2.679049830326844E-4,0.33333333333333331]
["8443-270","8443","D1107","VENTE EN GROS DE PRODUITS FRAIS",3,3,{"$f":"IF(C16860=\"\",\"\",COUNTIF($B$2:B16860,\"=\"&B16860))","v":270},0,2.679049830326844E-4,1]
["8443-284","8443","K1203","ENCADREMENT TECHNIQUE EN INSERTION PROFESSIONNELLE",2,2,{"$f":"IF(C16874=\"\",\"\",COUNTIF($B$2:B16874,\"=\"&B16874))","v":284},0,1.786033220217896E-4,1]
["8443-286","8443","I1202","ENTRETIEN ET SURVEILLANCE DU TRACÉ ROUTIER",2,2,{"$f":"IF(C16876=\"\",\"\",COUNTIF($B$2:B16876,\"=\"&B16876))","v":286},0,1.786033220217896E-4,1]
["8443-302","8443","C1102","CONSEIL CLIENTÈLE EN ASSURANCES",2,2,{"$f":"IF(C16892=\"\",\"\",COUNTIF($B$2:B16892,\"=\"&B16892))","v":302},0,1.786033220217896E-4,1]
["8443-303","8443","B1803","RÉALISATION DE VÊTEMENTS SUR MESURE OU EN PETITE SÉRIE",2,".",{"$f":"IF(C16893=\"\",\"\",COUNTIF($B$2:B16893,\"=\"&B16893))","v":303},0,1.786033220217896E-4,0]
["8443-313","8443","K2108","ENSEIGNEMENT SUPÉRIEUR",1,1,{"$f":"IF(C16903=\"\",\"\",COUNTIF($B$2:B16903,\"=\"&B16903))","v":313},0,8.9301661010894801E-5,1]
["8443-328","8443","H2701","PILOTAGE D'INSTALLATION ÉNERGÉTIQUE ET PÉTROCHIMIQUE",1,1,{"$f":"IF(C16918=\"\",\"\",COUNTIF($B$2:B16918,\"=\"&B16918))","v":328},0,8.9301661010894801E-5,1]
["8443-338","8443","G1301","CONCEPTION DE PRODUITS TOURISTIQUES",1,1,{"$f":"IF(C16928=\"\",\"\",COUNTIF($B$2:B16928,\"=\"&B16928))","v":338},0,8.9301661010894801E-5,1]
["8443-345","8443","E1306","PRÉPRESSE",1,1,{"$f":"IF(C16935=\"\",\"\",COUNTIF($B$2:B16935,\"=\"&B16935))","v":345},0,8.9301661010894801E-5,1]
["8444-5","8444","K2204","NETTOYAGE DE LOCAUX",209,139,{"$f":"IF(C16947=\"\",\"\",COUNTIF($B$2:B16947,\"=\"&B16947))","v":5},210,2.6108682073703936E-2,0.66507177033492826]
["8444-9","8444","N4103","CONDUITE DE TRANSPORT EN COMMUN SUR ROUTE",131,125,{"$f":"IF(C16951=\"\",\"\",COUNTIF($B$2:B16951,\"=\"&B16951))","v":9},130,1.6364772017489069E-2,0.95419847328244278]
["8444-20","8444","H3301","CONDUITE D'ÉQUIPEMENT DE CONDITIONNEMENT",74,25,{"$f":"IF(C16962=\"\",\"\",COUNTIF($B$2:B16962,\"=\"&B16962))","v":20},70,{"$f":"E16962/SUMIF(B:B,B16962,E:E)","v":9.2442223610243596E-3},0.33783783783783783]
["8444-29","8444","K1207","INTERVENTION SOCIOÉDUCATIVE",51,32,{"$f":"IF(C16971=\"\",\"\",COUNTIF($B$2:B16971,\"=\"&B16971))","v":29},50,6.3710181136789508E-3,0.62745098039215685]
["8444-36","8444","H2102","CONDUITE D'ÉQUIPEMENT DE PRODUCTION ALIMENTAIRE",45,7,{"$f":"IF(C16978=\"\",\"\",COUNTIF($B$2:B16978,\"=\"&B16978))","v":36},50,5.6214865708931914E-3,0.15555555555555556]
["8444-49","8444","M1502","DÉVELOPPEMENT DES RESSOURCES HUMAINES",35,34,{"$f":"IF(C16991=\"\",\"\",COUNTIF($B$2:B16991,\"=\"&B16991))","v":49},40,4.3722673329169267E-3,0.97142857142857142]
["8444-61","8444","H2402","ASSEMBLAGE - MONTAGE DE VÊTEMENTS ET PRODUITS TEXTILES",28,16,{"$f":"IF(C17003=\"\",\"\",COUNTIF($B$2:B17003,\"=\"&B17003))","v":61},30,3.4978138663335416E-3,0.5714285714285714]
["8444-64","8444","F1705","POSE DE CANALISATIONS",25,12,{"$f":"IF(C17006=\"\",\"\",COUNTIF($B$2:B17006,\"=\"&B17006))","v":64},30,3.1230480949406619E-3,0.48]
["8444-81","8444","M1602","OPÉRATIONS ADMINISTRATIVES",20,8,{"$f":"IF(C17023=\"\",\"\",COUNTIF($B$2:B17023,\"=\"&B17023))","v":81},20,2.4984384759525295E-3,0.4]
["8444-84","8444","F1606","PEINTURE EN BÂTIMENT",18,8,{"$f":"IF(C17026=\"\",\"\",COUNTIF($B$2:B17026,\"=\"&B17026))","v":84},20,{"$f":"E17026/SUMIF(B:B,B17026,E:E)","v":2.2485946283572768E-3},0.44444444444444442]
["8444-93","8444","A1414","HORTICULTURE ET MARAÎCHAGE",16,5,{"$f":"IF(C17035=\"\",\"\",COUNTIF($B$2:B17035,\"=\"&B17035))","v":93},20,1.9987507807620237E-3,0.3125]
["8444-104","8444","H3202","RÉGLAGE D'ÉQUIPEMENT DE FORMAGE DES PLASTIQUES ET CAOUTCHOUCS",13,13,{"$f":"IF(C17046=\"\",\"\",COUNTIF($B$2:B17046,\"=\"&B17046))","v":104},10,1.6239850093691442E-3,1]
["8444-118","8444","K1104","PSYCHOLOGIE",11,7,{"$f":"IF(C17060=\"\",\"\",COUNTIF($B$2:B17060,\"=\"&B17060))","v":118},10,1.3741411617738913E-3,0.63636363636363635]
["8444-124","8444","H1203","CONCEPTION ET DESSIN PRODUITS MÉCANIQUES",10,9,{"$f":"IF(C17066=\"\",\"\",COUNTIF($B$2:B17066,\"=\"&B17066))","v":124},10,1.2492192379762648E-3,0.9]
["8444-137","8444","K1203","ENCADREMENT TECHNIQUE EN INSERTION PROFESSIONNELLE",8,8,{"$f":"IF(C17079=\"\",\"\",COUNTIF($B$2:B17079,\"=\"&B17079))","v":137},10,9.9937539038101185E-4,1]
["8444-144","8444","A1413","FERMENTATION DE BOISSONS ALCOOLISÉES",8,3,{"$f":"IF(C17086=\"\",\"\",COUNTIF($B$2:B17086,\"=\"&B17086))","v":144},10,9.9937539038101185E-4,0.375]
["8444-156","8444","N4203","INTERVENTION TECHNIQUE D'EXPLOITATION DES TRANSPORTS ROUTIERS DE MARCHANDISES",6,2,{"$f":"IF(C17098=\"\",\"\",COUNTIF($B$2:B17098,\"=\"&B17098))","v":156},10,7.4953154278575894E-4,0.33333333333333331]
["8444-162","8444","I1309","MAINTENANCE ÉLECTRIQUE",6,5,{"$f":"IF(C17104=\"\",\"\",COUNTIF($B$2:B17104,\"=\"&B17104))","v":162},10,7.4953154278575894E-4,0.83333333333333337]
["8444-176","8444","H2406","CONDUITE DE MACHINE DE TRAITEMENT TEXTILE",5,5,{"$f":"IF(C17118=\"\",\"\",COUNTIF($B$2:B17118,\"=\"&B17118))","v":176},10,6.2460961898813238E-4,1]
["8444-181","8444","F1101","ARCHITECTURE DU BTP ET DU PAYSAGE",5,3,{"$f":"IF(C17123=\"\",\"\",COUNTIF($B$2:B17123,\"=\"&B17123))","v":181},10,6.2460961898813238E-4,0.6]
["8444-187","8444","K2202","LAVAGE DE VITRES",4,3,{"$f":"IF(C17129=\"\",\"\",COUNTIF($B$2:B17129,\"=\"&B17129))","v":187},0,4.9968769519050593E-4,0.75]
["8444-199","8444","E1205","RÉALISATION DE CONTENUS MULTIMÉDIAS",4,4,{"$f":"IF(C17141=\"\",\"\",COUNTIF($B$2:B17141,\"=\"&B17141))","v":199},0,4.9968769519050593E-4,1]
["8444-210","8444","I1301","INSTALLATION ET MAINTENANCE D'ASCENSEURS",3,1,{"$f":"IF(C17152=\"\",\"\",COUNTIF($B$2:B17152,\"=\"&B17152))","v":210},0,3.7476577139287947E-4,0.33333333333333331]
["8444-219","8444","G1205","PERSONNEL D'ATTRACTIONS OU DE STRUCTURES DE LOISIRS",3,3,{"$f":"IF(C17161=\"\",\"\",COUNTIF($B$2:B17161,\"=\"&B17161))","v":219},0,3.7476577139287947E-4,1]
["8444-225","8444","N1201","AFFRÈTEMENT TRANSPORT",2,1,{"$f":"IF(C17167=\"\",\"\",COUNTIF($B$2:B17167,\"=\"&B17167))","v":225},0,2.4984384759525296E-4,0.5]
["8444-239","8444","H2403","CONDUITE DE MACHINE DE FABRICATION DE PRODUITS TEXTILES",2,".",{"$f":"IF(C17181=\"\",\"\",COUNTIF($B$2:B17181,\"=\"&B17181))","v":239},0,2.4984384759525296E-4,0]
["8444-251","8444","D1105","POISSONNERIE",2,1,{"$f":"IF(C17193=\"\",\"\",COUNTIF($B$2:B17193,\"=\"&B17193))","v":251},0,2.4984384759525296E-4,0.5]
["8444-254","8444","A1303","INGÉNIERIE EN AGRICULTURE ET ENVIRONNEMENT NATUREL",2,2,{"$f":"IF(C17196=\"\",\"\",COUNTIF($B$2:B17196,\"=\"&B17196))","v":254},0,2.4984384759525296E-4,1]
["8444-262","8444","M1401","CONDUITE D'ENQUÊTES",1,".",{"$f":"IF(C17204=\"\",\"\",COUNTIF($B$2:B17204,\"=\"&B17204))","v":262},0,1.2492192379762648E-4,0]
["8444-279","8444","J1101","MÉDECINE DE PRÉVENTION",1,1,{"$f":"IF(C17221=\"\",\"\",COUNTIF($B$2:B17221,\"=\"&B17221))","v":279},0,1.2492192379762648E-4,1]
["8444-282","8444","H3203","FABRICATION DE PIÈCES EN MATÉRIAUX COMPOSITES",1,".",{"$f":"IF(C17224=\"\",\"\",COUNTIF($B$2:B17224,\"=\"&B17224))","v":282},0,1.2492192379762648E-4,0]
["8444-294","8444","H2204","ENCADREMENT DES INDUSTRIES DE L'AMEUBLEMENT ET DU BOIS",1,1,{"$f":"IF(C17236=\"\",\"\",COUNTIF($B$2:B17236,\"=\"&B17236))","v":294},0,1.2492192379762648E-4,1]
["8444-308","8444","E1101","ANIMATION DE SITE MULTIMÉDIA",1,".",{"$f":"IF(C17250=\"\",\"\",COUNTIF($B$2:B17250,\"=\"&B17250))","v":308},0,1.2492192379762648E-4,0]
["8444-314","8444","C1110","SOUSCRIPTION D'ASSURANCES",1,1,{"$f":"IF(C17256=\"\",\"\",COUNTIF($B$2:B17256,\"=\"&B17256))","v":314},0,1.2492192379762648E-4,1]
["8444-323","8444","A1407","ÉLEVAGE BOVIN OU ÉQUIN",1,".",{"$f":"IF(C17265=\"\",\"\",COUNTIF($B$2:B17265,\"=\"&B17265))","v":323},0,1.2492192379762648E-4,0]
["8445-5","8445","I1307","INSTALLATION ET MAINTENANCE TÉLÉCOMS ET COURANTS FAIBLES",61,29,{"$f":"IF(C17272=\"\",\"\",COUNTIF($B$2:B17272,\"=\"&B17272))","v":5},60,1.8671564126109579E-2,0.47540983606557374]
["8445-13","8445","K1801","CONSEIL EN EMPLOI ET INSERTION SOCIOPROFESSIONNELLE",39,37,{"$f":"IF(C17280=\"\",\"\",COUNTIF($B$2:B17280,\"=\"&B17280))","v":13},40,1.1937557392102846E-2,0.94871794871794868]
["8445-25","8445","G1401","ASSISTANCE DE DIRECTION D'HÔTEL-RESTAURANT",23,21,{"$f":"IF(C17292=\"\",\"\",COUNTIF($B$2:B17292,\"=\"&B17292))","v":25},20,7.0400979491888581E-3,0.91304347826086951]
["8445-32","8445","N4105","CONDUITE ET LIVRAISON PAR TOURNÉES SUR COURTE DISTANCE",18,16,{"$f":"IF(C17299=\"\",\"\",COUNTIF($B$2:B17299,\"=\"&B17299))","v":32},20,5.5096418732782371E-3,0.88888888888888884]
["8445-42","8445","N1303","INTERVENTION TECHNIQUE D'EXPLOITATION LOGISTIQUE",12,9,{"$f":"IF(C17309=\"\",\"\",COUNTIF($B$2:B17309,\"=\"&B17309))","v":42},10,3.6730945821854912E-3,0.75]
["8445-57","8445","F1502","MONTAGE DE STRUCTURES MÉTALLIQUES",10,10,{"$f":"IF(C17324=\"\",\"\",COUNTIF($B$2:B17324,\"=\"&B17324))","v":57},10,3.0609121518212429E-3,1]
["8445-67","8445","H2909","MONTAGE-ASSEMBLAGE MÉCANIQUE",8,8,{"$f":"IF(C17334=\"\",\"\",COUNTIF($B$2:B17334,\"=\"&B17334))","v":67},10,2.4487297214569942E-3,1]
["8445-77","8445","J1502","COORDINATION DE SERVICES MÉDICAUX OU PARAMÉDICAUX",6,4,{"$f":"IF(C17344=\"\",\"\",COUNTIF($B$2:B17344,\"=\"&B17344))","v":77},10,1.8365472910927456E-3,0.66666666666666663]
[{"$f":"B17347&\"-\"&G17347","v":"8445-80"},"8445","D1402","RELATION COMMERCIALE GRANDS COMPTES ET ENTREPRISES",6,4,{"$f":"IF(C17347=\"\",\"\",COUNTIF($B$2:B17347,\"=\"&B17347))","v":80},10,1.8365472910927456E-3,0.66666666666666663]
["8445-96","8445","M1502","DÉVELOPPEMENT DES RESSOURCES HUMAINES",4,4,{"$f":"IF(C17363=\"\",\"\",COUNTIF($B$2:B17363,\"=\"&B17363))","v":96},0,1.2243648607284971E-3,1]
["8445-100","8445","H2903","CONDUITE D'ÉQUIPEMENT D'USINAGE",4,4,{"$f":"IF(C17367=\"\",\"\",COUNTIF($B$2:B17367,\"=\"&B17367))","v":100},0,1.2243648607284971E-3,1]
["8445-111","8445","K1204","MÉDIATION SOCIALE ET FACILITATION DE LA VIE EN SOCIÉTÉ",3,2,{"$f":"IF(C17378=\"\",\"\",COUNTIF($B$2:B17378,\"=\"&B17378))","v":111},0,9.1827364554637281E-4,0.66666666666666663]
["8445-120","8445","H1303","INTERVENTION TECHNIQUE EN HYGIÈNE SÉCURITÉ ENVIRONNEMENT -HSE- INDUSTRIEL",3,3,{"$f":"IF(C17387=\"\",\"\",COUNTIF($B$2:B17387,\"=\"&B17387))","v":120},0,9.1827364554637281E-4,1]
["8445-132","8445","K2104","ÉDUCATION ET SURVEILLANCE AU SEIN D'ÉTABLISSEMENTS D'ENSEIGNEMENT",2,2,{"$f":"IF(C17399=\"\",\"\",COUNTIF($B$2:B17399,\"=\"&B17399))","v":132},0,6.1218243036424854E-4,1]
["8445-140","8445","I1302","INSTALLATION ET MAINTENANCE D'AUTOMATISMES",2,2,{"$f":"IF(C17407=\"\",\"\",COUNTIF($B$2:B17407,\"=\"&B17407))","v":140},0,6.1218243036424854E-4,1]
["8445-152","8445","F1204","QUALITÉ SÉCURITÉ ENVIRONNEMENT ET PROTECTION SANTÉ DU BTP",2,2,{"$f":"IF(C17419=\"\",\"\",COUNTIF($B$2:B17419,\"=\"&B17419))","v":152},0,6.1218243036424854E-4,1]
["8445-155","8445","D1503","MANAGEMENT/GESTION DE RAYON PRODUITS NON ALIMENTAIRES",2,2,{"$f":"IF(C17422=\"\",\"\",COUNTIF($B$2:B17422,\"=\"&B17422))","v":155},0,6.1218243036424854E-4,1]
["8445-163","8445","M1608","SECRÉTARIAT COMPTABLE",1,".",{"$f":"IF(C17430=\"\",\"\",COUNTIF($B$2:B17430,\"=\"&B17430))","v":163},0,3.0609121518212427E-4,0]
["8445-175","8445","J1504","SOINS INFIRMIERS SPÉCIALISÉS EN BLOC OPÉRATOIRE",1,".",{"$f":"IF(C17442=\"\",\"\",COUNTIF($B$2:B17442,\"=\"&B17442))","v":175},0,3.0609121518212427E-4,0]
["8445-184","8445","H2202","CONDUITE D'ÉQUIPEMENT DE FABRICATION DE L'AMEUBLEMENT ET DU BOIS",1,".",{"$f":"IF(C17451=\"\",\"\",COUNTIF($B$2:B17451,\"=\"&B17451))","v":184},0,3.0609121518212427E-4,0]
["8445-195","8445","D1208","SOINS ESTHÉTIQUES ET CORPORELS",1,".",{"$f":"IF(C17462=\"\",\"\",COUNTIF($B$2:B17462,\"=\"&B17462))","v":195},0,3.0609121518212427E-4,0]
["8445-203","8445","A1407","ÉLEVAGE BOVIN OU ÉQUIN",1,1,{"$f":"IF(C17470=\"\",\"\",COUNTIF($B$2:B17470,\"=\"&B17470))","v":203},0,3.0609121518212427E-4,1]
["8446-10","8446","K2104","ÉDUCATION ET SURVEILLANCE AU SEIN D'ÉTABLISSEMENTS D'ENSEIGNEMENT",129,41,{"$f":"IF(C17482=\"\",\"\",COUNTIF($B$2:B17482,\"=\"&B17482))","v":10},130,2.1057786483839373E-2,0.31782945736434109]
["8446-22","8446","D1106","VENTE EN ALIMENTATION",76,59,{"$f":"IF(C17494=\"\",\"\",COUNTIF($B$2:B17494,\"=\"&B17494))","v":22},80,1.2406137773424747E-2,0.77631578947368418]
["8446-23","8446","M1203","COMPTABILITÉ",73,56,{"$f":"IF(C17495=\"\",\"\",COUNTIF($B$2:B17495,\"=\"&B17495))","v":23},70,1.1916421808684297E-2,0.76712328767123283]
["8446-33","8446","H3302","OPÉRATIONS MANUELLES D'ASSEMBLAGE, TRI OU EMBALLAGE",45,23,{"$f":"IF(C17505=\"\",\"\",COUNTIF($B$2:B17505,\"=\"&B17505))","v":33},50,7.3457394711067582E-3,0.51111111111111107]
["8446-42","8446","K1206","INTERVENTION SOCIOCULTURELLE",38,27,{"$f":"IF(C17514=\"\",\"\",COUNTIF($B$2:B17514,\"=\"&B17514))","v":42},40,6.2030688867123736E-3,0.71052631578947367]
["8446-53","8446","D1214","VENTE EN HABILLEMENT ET ACCESSOIRES DE LA PERSONNE",32,23,{"$f":"IF(C17525=\"\",\"\",COUNTIF($B$2:B17525,\"=\"&B17525))","v":53},30,5.2236369572314723E-3,0.71875]
[{"$f":"B17539&\"-\"&G17539","v":"8446-67"},"8446","D1208","SOINS ESTHÉTIQUES ET CORPORELS",22,19,{"$f":"IF(C17539=\"\",\"\",COUNTIF($B$2:B17539,\"=\"&B17539))","v":67},20,3.5912504080966375E-3,0.86363636363636365]
["8446-73","8446","D1202","COIFFURE",21,18,{"$f":"IF(C17545=\"\",\"\",COUNTIF($B$2:B17545,\"=\"&B17545))","v":73},20,3.4280117531831538E-3,0.8571428571428571]
["8446-85","8446","G1801","CAFÉ, BAR BRASSERIE",16,15,{"$f":"IF(C17557=\"\",\"\",COUNTIF($B$2:B17557,\"=\"&B17557))","v":85},20,2.6118184786157361E-3,0.9375]
["8446-96","8446","E1103","COMMUNICATION",13,10,{"$f":"IF(C17568=\"\",\"\",COUNTIF($B$2:B17568,\"=\"&B17568))","v":96},10,2.1221025138752855E-3,0.76923076923076927]
["8446-105","8446","H1102","MANAGEMENT ET INGÉNIERIE D'AFFAIRES",12,6,{"$f":"IF(C17577=\"\",\"\",COUNTIF($B$2:B17577,\"=\"&B17577))","v":105},10,1.9588638589618022E-3,0.5]
["8446-111","8446","H2209","INTERVENTION TECHNIQUE EN AMEUBLEMENT ET BOIS",11,10,{"$f":"IF(C17583=\"\",\"\",COUNTIF($B$2:B17583,\"=\"&B17583))","v":111},10,1.7956252040483187E-3,0.90909090909090906]
["8446-121","8446","M1803","DIRECTION DES SYSTÈMES D'INFORMATION",9,9,{"$f":"IF(C17593=\"\",\"\",COUNTIF($B$2:B17593,\"=\"&B17593))","v":121},10,1.4691478942213516E-3,1]
["8446-128","8446","A1408","ÉLEVAGE D'ANIMAUX SAUVAGES OU DE COMPAGNIE",9,1,{"$f":"IF(C17600=\"\",\"\",COUNTIF($B$2:B17600,\"=\"&B17600))","v":128},10,1.4691478942213516E-3,0.1111111111111111]
["8446-140","8446","J1102","MÉDECINE GÉNÉRALISTE ET SPÉCIALISÉE",7,5,{"$f":"IF(C17612=\"\",\"\",COUNTIF($B$2:B17612,\"=\"&B17612))","v":140},10,1.1426705843943846E-3,0.7142857142857143]
["8446-148","8446","F1608","POSE DE REVÊTEMENTS RIGIDES",7,5,{"$f":"IF(C17620=\"\",\"\",COUNTIF($B$2:B17620,\"=\"&B17620))","v":148},10,1.1426705843943846E-3,0.7142857142857143]
["8446-155","8446","H2907","CONDUITE D'INSTALLATION DE PRODUCTION DES MÉTAUX",6,5,{"$f":"IF(C17627=\"\",\"\",COUNTIF($B$2:B17627,\"=\"&B17627))","v":155},10,9.7943192948090111E-4,0.83333333333333337]
["8446-173","8446","H2202","CONDUITE D'ÉQUIPEMENT DE FABRICATION DE L'AMEUBLEMENT ET DU BOIS",5,4,{"$f":"IF(C17645=\"\",\"\",COUNTIF($B$2:B17645,\"=\"&B17645))","v":173},10,8.1619327456741752E-4,0.8]
["8446-180","8446","A1412","FABRICATION ET AFFINAGE DE FROMAGES",5,3,{"$f":"IF(C17652=\"\",\"\",COUNTIF($B$2:B17652,\"=\"&B17652))","v":180},10,8.1619327456741752E-4,0.6]
["8446-184","8446","M1703","MANAGEMENT ET GESTION DE PRODUIT",4,4,{"$f":"IF(C17656=\"\",\"\",COUNTIF($B$2:B17656,\"=\"&B17656))","v":184},0,6.5295461965393404E-4,1]
["8446-196","8446","I1201","ENTRETIEN D'AFFICHAGE ET MOBILIER URBAIN",4,4,{"$f":"IF(C17668=\"\",\"\",COUNTIF($B$2:B17668,\"=\"&B17668))","v":196},0,6.5295461965393404E-4,1]
["8446-209","8446","M1402","CONSEIL EN ORGANISATION ET MANAGEMENT D'ENTREPRISE",3,3,{"$f":"IF(C17681=\"\",\"\",COUNTIF($B$2:B17681,\"=\"&B17681))","v":209},0,4.8971596474045055E-4,1]
["8446-216","8446","J1406","ORTHOPHONIE",3,2,{"$f":"IF(C17688=\"\",\"\",COUNTIF($B$2:B17688,\"=\"&B17688))","v":216},0,4.8971596474045055E-4,0.66666666666666663]
["8446-223","8446","H2504","ENCADREMENT D'ÉQUIPE EN INDUSTRIE DE TRANSFORMATION",3,3,{"$f":"IF(C17695=\"\",\"\",COUNTIF($B$2:B17695,\"=\"&B17695))","v":223},0,4.8971596474045055E-4,1]
["8446-238","8446","N1201","AFFRÈTEMENT TRANSPORT",2,2,{"$f":"IF(C17710=\"\",\"\",COUNTIF($B$2:B17710,\"=\"&B17710))","v":238},0,3.2647730982696702E-4,1]
["8446-248","8446","H2207","RÉALISATION DE MEUBLES EN BOIS",2,2,{"$f":"IF(C17720=\"\",\"\",COUNTIF($B$2:B17720,\"=\"&B17720))","v":248},0,3.2647730982696702E-4,1]
["8446-253","8446","E1302","CONDUITE DE MACHINES DE FAÇONNAGE ROUTAGE",2,1,{"$f":"IF(C17725=\"\",\"\",COUNTIF($B$2:B17725,\"=\"&B17725))","v":253},0,3.2647730982696702E-4,0.5]
[{"$f":"B17731&\"-\"&G17731","v":"8446-259"},"8446","A1204","PROTECTION DU PATRIMOINE NATUREL",2,2,{"$f":"IF(C17731=\"\",\"\",COUNTIF($B$2:B17731,\"=\"&B17731))","v":259},0,3.2647730982696702E-4,1]
["8446-275","8446","J1306","IMAGERIE MÉDICALE",1,1,{"$f":"IF(C17747=\"\",\"\",COUNTIF($B$2:B17747,\"=\"&B17747))","v":275},0,1.6323865491348351E-4,1]
["8446-282","8446","H2415","CONTRÔLE EN INDUSTRIE DU CUIR ET DU TEXTILE",1,1,{"$f":"IF(C17754=\"\",\"\",COUNTIF($B$2:B17754,\"=\"&B17754))","v":282},0,1.6323865491348351E-4,1]
["8446-291","8446","H1301","INSPECTION DE CONFORMITÉ",1,".",{"$f":"IF(C17763=\"\",\"\",COUNTIF($B$2:B17763,\"=\"&B17763))","v":291},0,1.6323865491348351E-4,0]
["8446-297","8446","F1612","TAILLE ET DÉCORATION DE PIERRES",1,1,{"$f":"IF(C17769=\"\",\"\",COUNTIF($B$2:B17769,\"=\"&B17769))","v":297},0,1.6323865491348351E-4,1]
["8447-1","8447","K1302","ASSISTANCE AUPRÈS D'ADULTES",134,62,{"$f":"IF(C17783=\"\",\"\",COUNTIF($B$2:B17783,\"=\"&B17783))","v":1},130,3.9010189228529842E-2,0.46268656716417911]
["8447-6","8447","D1106","VENTE EN ALIMENTATION",84,73,{"$f":"IF(C17788=\"\",\"\",COUNTIF($B$2:B17788,\"=\"&B17788))","v":6},80,2.4454148471615721E-2,0.86904761904761907]
["8447-21","8447","D1214","VENTE EN HABILLEMENT ET ACCESSOIRES DE LA PERSONNE",40,16,{"$f":"IF(C17803=\"\",\"\",COUNTIF($B$2:B17803,\"=\"&B17803))","v":21},40,1.1644832605531296E-2,0.4]
["8447-24","8447","J1301","PERSONNEL POLYVALENT DES SERVICES HOSPITALIERS",37,17,{"$f":"IF(C17806=\"\",\"\",COUNTIF($B$2:B17806,\"=\"&B17806))","v":24},40,1.0771470160116448E-2,0.45945945945945948]
["8447-41","8447","F1607","POSE DE FERMETURES MENUISÉES",27,9,{"$f":"IF(C17823=\"\",\"\",COUNTIF($B$2:B17823,\"=\"&B17823))","v":41},30,7.8602620087336247E-3,0.33333333333333331]
["8447-44","8447","D1104","PÂTISSERIE, CONFISERIE, CHOCOLATERIE ET GLACERIE",26,24,{"$f":"IF(C17826=\"\",\"\",COUNTIF($B$2:B17826,\"=\"&B17826))","v":44},30,7.5691411935953417E-3,0.92307692307692313]
["8447-60","8447","D1102","BOULANGERIE - VIENNOISERIE",16,13,{"$f":"IF(C17842=\"\",\"\",COUNTIF($B$2:B17842,\"=\"&B17842))","v":60},20,4.6579330422125186E-3,0.8125]
["8447-64","8447","H2907","CONDUITE D'INSTALLATION DE PRODUCTION DES MÉTAUX",14,1,{"$f":"IF(C17846=\"\",\"\",COUNTIF($B$2:B17846,\"=\"&B17846))","v":64},10,4.0756914119359534E-3,7.1428571428571425E-2]
["8447-76","8447","F1302","CONDUITE D'ENGINS DE TERRASSEMENT ET DE CARRIÈRE",12,2,{"$f":"IF(C17858=\"\",\"\",COUNTIF($B$2:B17858,\"=\"&B17858))","v":76},10,{"$f":"E17858/SUMIF(B:B,B17858,E:E)","v":3.4934497816593887E-3},0.16666666666666666]
["8447-89","8447","D1211","VENTE EN ARTICLES DE SPORT ET LOISIRS",10,1,{"$f":"IF(C17871=\"\",\"\",COUNTIF($B$2:B17871,\"=\"&B17871))","v":89},10,2.911208151382824E-3,0.1]
["8447-96","8447","D1203","HYDROTHÉRAPIE",9,".",{"$f":"IF(C17878=\"\",\"\",COUNTIF($B$2:B17878,\"=\"&B17878))","v":96},10,2.6200873362445414E-3,0]
["8447-104","8447","A1416","POLYCULTURE, ÉLEVAGE",8,2,{"$f":"IF(C17886=\"\",\"\",COUNTIF($B$2:B17886,\"=\"&B17886))","v":104},10,2.3289665211062593E-3,0.25]
["8447-116","8447","M1604","ASSISTANAT DE DIRECTION",6,4,{"$f":"IF(C17898=\"\",\"\",COUNTIF($B$2:B17898,\"=\"&B17898))","v":116},10,1.7467248908296944E-3,0.66666666666666663]
["8447-119","8447","J1410","PROTHÈSES DENTAIRES",6,5,{"$f":"IF(C17901=\"\",\"\",COUNTIF($B$2:B17901,\"=\"&B17901))","v":119},10,1.7467248908296944E-3,0.83333333333333337]
["8447-133","8447","K1201","ACTION SOCIALE",5,3,{"$f":"IF(C17915=\"\",\"\",COUNTIF($B$2:B17915,\"=\"&B17915))","v":133},10,1.455604075691412E-3,0.6]
["8447-139","8447","C1206","GESTION DE CLIENTÈLE BANCAIRE",5,".",{"$f":"IF(C17921=\"\",\"\",COUNTIF($B$2:B17921,\"=\"&B17921))","v":139},{"$f":"ROUND(E17921,-1)","v":10},1.455604075691412E-3,{"$f":"IF(OR(F17921=\"\",F17921=\".\"),0,F17921/E17921)","v":0}]
["8447-148","8447","J1304","AIDE EN PUÉRICULTURE",4,1,{"$f":"IF(C17930=\"\",\"\",COUNTIF($B$2:B17930,\"=\"&B17930))","v":148},0,1.1644832605531296E-3,0.25]
["8447-159","8447","F1608","POSE DE REVÊTEMENTS RIGIDES",4,1,{"$f":"IF(C17941=\"\",\"\",COUNTIF($B$2:B17941,\"=\"&B17941))","v":159},0,1.1644832605531296E-3,0.25]
["8447-171","8447","K1902","COLLABORATION JURIDIQUE",3,1,{"$f":"IF(C17953=\"\",\"\",COUNTIF($B$2:B17953,\"=\"&B17953))","v":171},0,8.7336244541484718E-4,0.33333333333333331]
["8447-177","8447","I1402","RÉPARATION DE BIENS ÉLECTRODOMESTIQUES ET MULTIMÉDIA",3,3,{"$f":"IF(C17959=\"\",\"\",COUNTIF($B$2:B17959,\"=\"&B17959))","v":177},0,8.7336244541484718E-4,1]
["8447-191","8447","M1805","ÉTUDES ET DÉVELOPPEMENT INFORMATIQUE",2,1,{"$f":"IF(C17973=\"\",\"\",COUNTIF($B$2:B17973,\"=\"&B17973))","v":191},0,5.8224163027656482E-4,0.5]
["8447-202","8447","J1102","MÉDECINE GÉNÉRALISTE ET SPÉCIALISÉE",2,1,{"$f":"IF(C17984=\"\",\"\",COUNTIF($B$2:B17984,\"=\"&B17984))","v":202},0,5.8224163027656482E-4,0.5]
["8447-207","8447","H2603","CONDUITE D'INSTALLATION AUTOMATISÉE DE PRODUCTION ÉLECTRIQUE, ÉLECTRONIQUE ET MICROÉLECTRONIQUE",2,".",{"$f":"IF(C17989=\"\",\"\",COUNTIF($B$2:B17989,\"=\"&B17989))","v":207},0,5.8224163027656482E-4,0]
["8447-217","8447","D1508","ENCADREMENT DU PERSONNEL DE CAISSES",2,2,{"$f":"IF(C17999=\"\",\"\",COUNTIF($B$2:B17999,\"=\"&B17999))","v":217},0,5.8224163027656482E-4,1]
["8447-227","8447","N1104","MANOEUVRE ET CONDUITE D'ENGINS LOURDS DE MANUTENTION",1,".",{"$f":"IF(C18009=\"\",\"\",COUNTIF($B$2:B18009,\"=\"&B18009))","v":227},0,2.9112081513828241E-4,0]
["8447-234","8447","M1206","MANAGEMENT DE GROUPE OU DE SERVICE COMPTABLE",1,1,{"$f":"IF(C18016=\"\",\"\",COUNTIF($B$2:B18016,\"=\"&B18016))","v":234},0,2.9112081513828241E-4,1]
["8447-246","8447","K1404","MISE EN OEUVRE ET PILOTAGE DE LA POLITIQUE DES POUVOIRS PUBLICS",1,1,{"$f":"IF(C18028=\"\",\"\",COUNTIF($B$2:B18028,\"=\"&B18028))","v":246},0,2.9112081513828241E-4,1]
["8447-250","8447","J1406","ORTHOPHONIE",1,".",{"$f":"IF(C18032=\"\",\"\",COUNTIF($B$2:B18032,\"=\"&B18032))","v":250},0,2.9112081513828241E-4,0]
["8447-261","8447","G1403","GESTION DE STRUCTURE DE LOISIRS OU D'HÉBERGEMENT TOURISTIQUE",1,1,{"$f":"IF(C18043=\"\",\"\",COUNTIF($B$2:B18043,\"=\"&B18043))","v":261},0,2.9112081513828241E-4,1]
["8447-270","8447","D1502","MANAGEMENT/GESTION DE RAYON PRODUITS ALIMENTAIRES",1,1,{"$f":"IF(C18052=\"\",\"\",COUNTIF($B$2:B18052,\"=\"&B18052))","v":270},0,2.9112081513828241E-4,1]
["8448-6","8448","N1103","MAGASINAGE ET PRÉPARATION DE COMMANDES",111,22,{"$f":"IF(C18068=\"\",\"\",COUNTIF($B$2:B18068,\"=\"&B18068))","v":6},110,2.4782317481580711E-2,0.1981981981981982]
["8448-10","8448","G1803","SERVICE EN RESTAURATION",76,40,{"$f":"IF(C18072=\"\",\"\",COUNTIF($B$2:B18072,\"=\"&B18072))","v":10},80,1.6968073230631837E-2,0.52631578947368418]
["8448-22","8448","N4105","CONDUITE ET LIVRAISON PAR TOURNÉES SUR COURTE DISTANCE",48,4,{"$f":"IF(C18084=\"\",\"\",COUNTIF($B$2:B18084,\"=\"&B18084))","v":22},50,1.0716677829872739E-2,8.3333333333333329E-2]
["8448-35","8448","K1801","CONSEIL EN EMPLOI ET INSERTION SOCIOPROFESSIONNELLE",33,23,{"$f":"IF(C18097=\"\",\"\",COUNTIF($B$2:B18097,\"=\"&B18097))","v":35},30,7.367716008037508E-3,0.69696969696969702]
["8448-42","8448","F1602","ÉLECTRICITÉ BÂTIMENT",31,8,{"$f":"IF(C18104=\"\",\"\",COUNTIF($B$2:B18104,\"=\"&B18104))","v":42},30,6.9211877651261444E-3,0.25806451612903225]
["8448-45","8448","D1408","TÉLÉCONSEIL ET TÉLÉVENTE",28,".",{"$f":"IF(C18107=\"\",\"\",COUNTIF($B$2:B18107,\"=\"&B18107))","v":45},30,6.2513954007590977E-3,0]
["8448-54","8448","M1601","ACCUEIL ET RENSEIGNEMENTS",20,9,{"$f":"IF(C18116=\"\",\"\",COUNTIF($B$2:B18116,\"=\"&B18116))","v":54},20,4.4652824291136414E-3,0.45]
["8448-65","8448","A1416","POLYCULTURE, ÉLEVAGE",17,5,{"$f":"IF(C18127=\"\",\"\",COUNTIF($B$2:B18127,\"=\"&B18127))","v":65},20,3.7954900647465951E-3,0.29411764705882354]
["8448-79","8448","K1102","AIDE AUX BÉNÉFICIAIRES D'UNE MESURE DE PROTECTION JURIDIQUE",11,4,{"$f":"IF(C18141=\"\",\"\",COUNTIF($B$2:B18141,\"=\"&B18141))","v":79},10,2.455905336012503E-3,0.36363636363636365]
["8448-85","8448","K1205","INFORMATION SOCIALE",10,7,{"$f":"IF(C18147=\"\",\"\",COUNTIF($B$2:B18147,\"=\"&B18147))","v":85},10,2.2326412145568207E-3,0.7]
["8448-97","8448","M1603","DISTRIBUTION DE DOCUMENTS",8,".",{"$f":"IF(C18159=\"\",\"\",COUNTIF($B$2:B18159,\"=\"&B18159))","v":97},10,1.7861129716454567E-3,0]
["8448-108","8448","I1308","MAINTENANCE D'INSTALLATION DE CHAUFFAGE",7,5,{"$f":"IF(C18170=\"\",\"\",COUNTIF($B$2:B18170,\"=\"&B18170))","v":108},10,1.5628488501897744E-3,0.7142857142857143]
[{"$f":"B18179&\"-\"&G18179","v":"8448-117"},"8448","D1407","RELATION TECHNICO-COMMERCIALE",7,5,{"$f":"IF(C18179=\"\",\"\",COUNTIF($B$2:B18179,\"=\"&B18179))","v":117},10,1.5628488501897744E-3,0.7142857142857143]
["8448-127","8448","D1402","RELATION COMMERCIALE GRANDS COMPTES ET ENTREPRISES",6,3,{"$f":"IF(C18189=\"\",\"\",COUNTIF($B$2:B18189,\"=\"&B18189))","v":127},10,1.3395847287340924E-3,0.5]
["8448-137","8448","H1503","INTERVENTION TECHNIQUE EN LABORATOIRE D'ANALYSE INDUSTRIELLE",5,2,{"$f":"IF(C18199=\"\",\"\",COUNTIF($B$2:B18199,\"=\"&B18199))","v":137},10,1.1163206072784104E-3,0.4]
["8448-140","8448","G1802","MANAGEMENT DU SERVICE EN RESTAURATION",5,4,{"$f":"IF(C18202=\"\",\"\",COUNTIF($B$2:B18202,\"=\"&B18202))","v":140},10,1.1163206072784104E-3,0.8]
["8448-152","8448","I1607","RÉPARATION DE CYCLES, MOTOCYCLES ET MOTOCULTEURS DE LOISIRS",4,3,{"$f":"IF(C18214=\"\",\"\",COUNTIF($B$2:B18214,\"=\"&B18214))","v":152},0,8.9305648582272833E-4,0.75]
["8448-160","8448","H2502","MANAGEMENT ET INGÉNIERIE DE PRODUCTION",4,2,{"$f":"IF(C18222=\"\",\"\",COUNTIF($B$2:B18222,\"=\"&B18222))","v":160},0,8.9305648582272833E-4,0.5]
["8448-171","8448","K2601","CONDUITE D'OPÉRATIONS FUNÉRAIRES",3,".",{"$f":"IF(C18233=\"\",\"\",COUNTIF($B$2:B18233,\"=\"&B18233))","v":171},0,6.6979236436704619E-4,0]
["8448-180","8448","H2910","MOULAGE SABLE",3,".",{"$f":"IF(C18242=\"\",\"\",COUNTIF($B$2:B18242,\"=\"&B18242))","v":180},0,{"$f":"E18242/SUMIF(B:B,B18242,E:E)","v":6.6979236436704619E-4},0]
["8448-186","8448","H2202","CONDUITE D'ÉQUIPEMENT DE FABRICATION DE L'AMEUBLEMENT ET DU BOIS",3,".",{"$f":"IF(C18248=\"\",\"\",COUNTIF($B$2:B18248,\"=\"&B18248))","v":186},0,6.6979236436704619E-4,0]
["8448-200","8448","A1402","AIDE AGRICOLE DE PRODUCTION LÉGUMIÈRE OU VÉGÉTALE",3,3,{"$f":"IF(C18262=\"\",\"\",COUNTIF($B$2:B18262,\"=\"&B18262))","v":200},0,6.6979236436704619E-4,1]
["8448-212","8448","H2904","CONDUITE D'ÉQUIPEMENT DE DÉFORMATION DES MÉTAUX",2,1,{"$f":"IF(C18274=\"\",\"\",COUNTIF($B$2:B18274,\"=\"&B18274))","v":212},0,4.4652824291136416E-4,0.5]
["8448-215","8448","H1303","INTERVENTION TECHNIQUE EN HYGIÈNE SÉCURITÉ ENVIRONNEMENT -HSE- INDUSTRIEL",2,2,{"$f":"IF(C18277=\"\",\"\",COUNTIF($B$2:B18277,\"=\"&B18277))","v":215},0,4.4652824291136416E-4,1]
["8448-232","8448","C1501","GÉRANCE IMMOBILIÈRE",2,2,{"$f":"IF(C18294=\"\",\"\",COUNTIF($B$2:B18294,\"=\"&B18294))","v":232},0,4.4652824291136416E-4,1]
["8448-240","8448","M1402","CONSEIL EN ORGANISATION ET MANAGEMENT D'ENTREPRISE",1,1,{"$f":"IF(C18302=\"\",\"\",COUNTIF($B$2:B18302,\"=\"&B18302))","v":240},0,2.2326412145568208E-4,1]
["8448-248","8448","K2502","MANAGEMENT DE SÉCURITÉ PRIVÉE",1,".",{"$f":"IF(C18310=\"\",\"\",COUNTIF($B$2:B18310,\"=\"&B18310))","v":248},0,2.2326412145568208E-4,0]
["8448-255","8448","K1704","MANAGEMENT DE LA SÉCURITÉ PUBLIQUE",1,1,{"$f":"IF(C18317=\"\",\"\",COUNTIF($B$2:B18317,\"=\"&B18317))","v":255},0,2.2326412145568208E-4,1]
["8448-269","8448","H2601","BOBINAGE ÉLECTRIQUE",1,1,{"$f":"IF(C18331=\"\",\"\",COUNTIF($B$2:B18331,\"=\"&B18331))","v":269},0,2.2326412145568208E-4,1]
["8448-275","8448","H1204","DESIGN INDUSTRIEL",1,".",{"$f":"IF(C18337=\"\",\"\",COUNTIF($B$2:B18337,\"=\"&B18337))","v":275},0,2.2326412145568208E-4,0]
["8448-284","8448","E1401","DÉVELOPPEMENT ET PROMOTION PUBLICITAIRE",1,".",{"$f":"IF(C18346=\"\",\"\",COUNTIF($B$2:B18346,\"=\"&B18346))","v":284},0,2.2326412145568208E-4,0]
["8448-291","8448","D1205","NETTOYAGE D'ARTICLES TEXTILES OU CUIRS",1,".",{"$f":"IF(C18353=\"\",\"\",COUNTIF($B$2:B18353,\"=\"&B18353))","v":291},0,2.2326412145568208E-4,0]
["8449-8","8449","G1603","PERSONNEL POLYVALENT EN RESTAURATION",99,61,{"$f":"IF(C18369=\"\",\"\",COUNTIF($B$2:B18369,\"=\"&B18369))","v":8},{"$f":"ROUND(E18369,-1)","v":100},2.0582120582120583E-2,{"$f":"IF(OR(F18369=\"\",F18369=\".\"),0,F18369/E18369)","v":0.61616161616161613}]
["8449-14","8449","F1603","INSTALLATION D'ÉQUIPEMENTS SANITAIRES ET THERMIQUES",78,33,{"$f":"IF(C18375=\"\",\"\",COUNTIF($B$2:B18375,\"=\"&B18375))","v":14},80,1.6216216216216217E-2,0.42307692307692307]
["8449-19","8449","I1604","MÉCANIQUE AUTOMOBILE ET ENTRETIEN DE VÉHICULES",58,37,{"$f":"IF(C18380=\"\",\"\",COUNTIF($B$2:B18380,\"=\"&B18380))","v":19},60,1.2058212058212059E-2,0.63793103448275867]
["8449-29","8449","D1212","VENTE EN DÉCORATION ET ÉQUIPEMENT DU FOYER",45,33,{"$f":"IF(C18390=\"\",\"\",COUNTIF($B$2:B18390,\"=\"&B18390))","v":29},50,9.355509355509356E-3,0.73333333333333328]
["8449-44","8449","M1601","ACCUEIL ET RENSEIGNEMENTS",32,6,{"$f":"IF(C18405=\"\",\"\",COUNTIF($B$2:B18405,\"=\"&B18405))","v":44},30,6.6528066528066532E-3,0.1875]
["8449-51","8449","D1209","VENTE DE VÉGÉTAUX",26,23,{"$f":"IF(C18412=\"\",\"\",COUNTIF($B$2:B18412,\"=\"&B18412))","v":51},30,5.4054054054054057E-3,0.88461538461538458]
["8449-58","8449","F1606","PEINTURE EN BÂTIMENT",23,5,{"$f":"IF(C18419=\"\",\"\",COUNTIF($B$2:B18419,\"=\"&B18419))","v":58},20,4.781704781704782E-3,0.21739130434782608]
["8449-67","8449","H1502","MANAGEMENT ET INGÉNIERIE QUALITÉ INDUSTRIELLE",19,10,{"$f":"IF(C18428=\"\",\"\",COUNTIF($B$2:B18428,\"=\"&B18428))","v":67},20,3.9501039501039503E-3,0.52631578947368418]
["8449-83","8449","M1608","SECRÉTARIAT COMPTABLE",14,11,{"$f":"IF(C18444=\"\",\"\",COUNTIF($B$2:B18444,\"=\"&B18444))","v":83},10,2.9106029106029108E-3,0.7857142857142857]
["8449-87","8449","K1104","PSYCHOLOGIE",13,11,{"$f":"IF(C18448=\"\",\"\",COUNTIF($B$2:B18448,\"=\"&B18448))","v":87},10,2.7027027027027029E-3,0.84615384615384615]
["8449-98","8449","A1408","ÉLEVAGE D'ANIMAUX SAUVAGES OU DE COMPAGNIE",12,".",{"$f":"IF(C18459=\"\",\"\",COUNTIF($B$2:B18459,\"=\"&B18459))","v":98},10,2.4948024948024949E-3,0]
["8449-107","8449","N4102","CONDUITE DE TRANSPORT DE PARTICULIERS",9,3,{"$f":"IF(C18468=\"\",\"\",COUNTIF($B$2:B18468,\"=\"&B18468))","v":107},10,1.8711018711018712E-3,0.33333333333333331]
["8449-119","8449","H2602","CÂBLAGE ÉLECTRIQUE ET ÉLECTROMÉCANIQUE",8,3,{"$f":"IF(C18480=\"\",\"\",COUNTIF($B$2:B18480,\"=\"&B18480))","v":119},10,1.6632016632016633E-3,0.375]
["8449-127","8449","H3404","PEINTURE INDUSTRIELLE",7,".",{"$f":"IF(C18488=\"\",\"\",COUNTIF($B$2:B18488,\"=\"&B18488))","v":127},10,1.4553014553014554E-3,0]
["8449-139","8449","K1205","INFORMATION SOCIALE",6,4,{"$f":"IF(C18500=\"\",\"\",COUNTIF($B$2:B18500,\"=\"&B18500))","v":139},10,1.2474012474012475E-3,0.66666666666666663]
["8449-146","8449","K1801","CONSEIL EN EMPLOI ET INSERTION SOCIOPROFESSIONNELLE",5,2,{"$f":"IF(C18507=\"\",\"\",COUNTIF($B$2:B18507,\"=\"&B18507))","v":146},10,1.0395010395010396E-3,0.4]
["8449-159","8449","M1102","DIRECTION DES ACHATS",4,4,{"$f":"IF(C18520=\"\",\"\",COUNTIF($B$2:B18520,\"=\"&B18520))","v":159},0,8.3160083160083165E-4,1]
["8449-162","8449","K2306","SUPERVISION D'EXPLOITATION ÉCO-INDUSTRIELLE",4,4,{"$f":"IF(C18523=\"\",\"\",COUNTIF($B$2:B18523,\"=\"&B18523))","v":162},0,8.3160083160083165E-4,1]
["8449-171","8449","H1210","INTERVENTION TECHNIQUE EN ÉTUDES, RECHERCHE ET DÉVELOPPEMENT",4,4,{"$f":"IF(C18532=\"\",\"\",COUNTIF($B$2:B18532,\"=\"&B18532))","v":171},0,8.3160083160083165E-4,1]
["8449-182","8449","K2105","ENSEIGNEMENT ARTISTIQUE",3,2,{"$f":"IF(C18543=\"\",\"\",COUNTIF($B$2:B18543,\"=\"&B18543))","v":182},0,6.2370062370062374E-4,0.66666666666666663]
["8449-190","8449","H3401","CONDUITE DE TRAITEMENT D'ABRASION DE SURFACE",3,2,{"$f":"IF(C18551=\"\",\"\",COUNTIF($B$2:B18551,\"=\"&B18551))","v":190},0,6.2370062370062374E-4,0.66666666666666663]
[{"$f":"B18563&\"-\"&G18563","v":"8449-202"},"8449","A1403","AIDE D'ÉLEVAGE AGRICOLE ET AQUACOLE",3,2,{"$f":"IF(C18563=\"\",\"\",COUNTIF($B$2:B18563,\"=\"&B18563))","v":202},0,6.2370062370062374E-4,0.66666666666666663]
["8449-214","8449","K1206","INTERVENTION SOCIOCULTURELLE",2,1,{"$f":"IF(C18575=\"\",\"\",COUNTIF($B$2:B18575,\"=\"&B18575))","v":214},0,4.1580041580041582E-4,0.5]
["8449-225","8449","H2301","CONDUITE D'ÉQUIPEMENT DE PRODUCTION CHIMIQUE OU PHARMACEUTIQUE",2,2,{"$f":"IF(C18586=\"\",\"\",COUNTIF($B$2:B18586,\"=\"&B18586))","v":225},0,4.1580041580041582E-4,1]
["8449-234","8449","D1508","ENCADREMENT DU PERSONNEL DE CAISSES",2,".",{"$f":"IF(C18595=\"\",\"\",COUNTIF($B$2:B18595,\"=\"&B18595))","v":234},0,4.1580041580041582E-4,0]
["8449-244","8449","N1302","DIRECTION DE SITE LOGISTIQUE",1,1,{"$f":"IF(C18605=\"\",\"\",COUNTIF($B$2:B18605,\"=\"&B18605))","v":244},0,2.0790020790020791E-4,1]
["8449-245","8449","N1104","MANOEUVRE ET CONDUITE D'ENGINS LOURDS DE MANUTENTION",1,1,{"$f":"IF(C18606=\"\",\"\",COUNTIF($B$2:B18606,\"=\"&B18606))","v":245},0,2.0790020790020791E-4,1]
["8449-257","8449","K1707","SURVEILLANCE MUNICIPALE",1,1,{"$f":"IF(C18618=\"\",\"\",COUNTIF($B$2:B18618,\"=\"&B18618))","v":257},0,2.0790020790020791E-4,1]
["8449-263","8449","J1102","MÉDECINE GÉNÉRALISTE ET SPÉCIALISÉE",1,1,{"$f":"IF(C18624=\"\",\"\",COUNTIF($B$2:B18624,\"=\"&B18624))","v":263},0,2.0790020790020791E-4,1]
["8449-277","8449","F1609","POSE DE REVÊTEMENTS SOUPLES",1,1,{"$f":"IF(C18638=\"\",\"\",COUNTIF($B$2:B18638,\"=\"&B18638))","v":277},0,2.0790020790020791E-4,1]
["8449-288","8449","A1413","FERMENTATION DE BOISSONS ALCOOLISÉES",1,".",{"$f":"IF(C18649=\"\",\"\",COUNTIF($B$2:B18649,\"=\"&B18649))","v":288},0,2.0790020790020791E-4,0]
["8450-7","8450","D1507","MISE EN RAYON LIBRE-SERVICE",75,53,{"$f":"IF(C18658=\"\",\"\",COUNTIF($B$2:B18658,\"=\"&B18658))","v":7},80,2.2468544038346316E-2,0.70666666666666667]
["8450-19","8450","D1401","ASSISTANAT COMMERCIAL",39,30,{"$f":"IF(C18670=\"\",\"\",COUNTIF($B$2:B18670,\"=\"&B18670))","v":19},40,1.1683642899940084E-2,0.76923076923076927]
["8450-27","8450","D1505","PERSONNEL DE CAISSE",35,25,{"$f":"IF(C18678=\"\",\"\",COUNTIF($B$2:B18678,\"=\"&B18678))","v":27},40,1.0485320551228281E-2,0.7142857142857143]
["8450-30","8450","H1503","INTERVENTION TECHNIQUE EN LABORATOIRE D'ANALYSE INDUSTRIELLE",33,24,{"$f":"IF(C18681=\"\",\"\",COUNTIF($B$2:B18681,\"=\"&B18681))","v":30},30,9.8861593768723791E-3,0.72727272727272729]
["8450-42","8450","G1502","PERSONNEL POLYVALENT D'HÔTELLERIE",24,7,{"$f":"IF(C18693=\"\",\"\",COUNTIF($B$2:B18693,\"=\"&B18693))","v":42},20,7.1899340922708206E-3,0.29166666666666669]
["8450-55","8450","F1610","POSE ET RESTAURATION DE COUVERTURES",16,15,{"$f":"IF(C18706=\"\",\"\",COUNTIF($B$2:B18706,\"=\"&B18706))","v":55},20,4.793289394847214E-3,0.9375]
["8450-67","8450","F1606","PEINTURE EN BÂTIMENT",13,12,{"$f":"IF(C18718=\"\",\"\",COUNTIF($B$2:B18718,\"=\"&B18718))","v":67},10,3.8945476333133613E-3,0.92307692307692313]
["8450-75","8450","L1401","SPORTIF PROFESSIONNEL",11,11,{"$f":"IF(C18726=\"\",\"\",COUNTIF($B$2:B18726,\"=\"&B18726))","v":75},10,3.2953864589574597E-3,1]
["8450-82","8450","M1805","ÉTUDES ET DÉVELOPPEMENT INFORMATIQUE",10,10,{"$f":"IF(C18733=\"\",\"\",COUNTIF($B$2:B18733,\"=\"&B18733))","v":82},10,2.9958058717795086E-3,1]
["8450-86","8450","D1404","RELATION COMMERCIALE EN VENTE DE VÉHICULES",10,10,{"$f":"IF(C18737=\"\",\"\",COUNTIF($B$2:B18737,\"=\"&B18737))","v":86},10,2.9958058717795086E-3,1]
["8450-98","8450","K1102","AIDE AUX BÉNÉFICIAIRES D'UNE MESURE DE PROTECTION JURIDIQUE",7,2,{"$f":"IF(C18749=\"\",\"\",COUNTIF($B$2:B18749,\"=\"&B18749))","v":98},10,2.097064110245656E-3,0.2857142857142857]
["8450-111","8450","H2101","ABATTAGE ET DÉCOUPE DES VIANDES",6,5,{"$f":"IF(C18762=\"\",\"\",COUNTIF($B$2:B18762,\"=\"&B18762))","v":111},10,1.7974835230677051E-3,0.83333333333333337]
["8450-118","8450","M1704","MANAGEMENT RELATION CLIENTÈLE",5,5,{"$f":"IF(C18769=\"\",\"\",COUNTIF($B$2:B18769,\"=\"&B18769))","v":118},10,1.4979029358897543E-3,1]
["8450-125","8450","H2911","RÉALISATION DE STRUCTURES MÉTALLIQUES",5,4,{"$f":"IF(C18776=\"\",\"\",COUNTIF($B$2:B18776,\"=\"&B18776))","v":125},10,1.4979029358897543E-3,0.8]
["8450-140","8450","H2909","MONTAGE-ASSEMBLAGE MÉCANIQUE",4,2,{"$f":"IF(C18791=\"\",\"\",COUNTIF($B$2:B18791,\"=\"&B18791))","v":140},0,1.1983223487118035E-3,0.5]
["8450-150","8450","A1412","FABRICATION ET AFFINAGE DE FROMAGES",4,1,{"$f":"IF(C18801=\"\",\"\",COUNTIF($B$2:B18801,\"=\"&B18801))","v":150},0,1.1983223487118035E-3,0.25]
["8450-155","8450","M1205","DIRECTION ADMINISTRATIVE ET FINANCIÈRE",3,2,{"$f":"IF(C18806=\"\",\"\",COUNTIF($B$2:B18806,\"=\"&B18806))","v":155},0,8.9874176153385257E-4,0.66666666666666663]
["8450-170","8450","H2502","MANAGEMENT ET INGÉNIERIE DE PRODUCTION",3,3,{"$f":"IF(C18821=\"\",\"\",COUNTIF($B$2:B18821,\"=\"&B18821))","v":170},0,8.9874176153385257E-4,1]
["8450-173","8450","F1103","CONTRÔLE ET DIAGNOSTIC TECHNIQUE DU BÂTIMENT",3,2,{"$f":"IF(C18824=\"\",\"\",COUNTIF($B$2:B18824,\"=\"&B18824))","v":173},0,8.9874176153385257E-4,0.66666666666666663]
["8450-184","8450","K2303","NETTOYAGE DES ESPACES URBAINS",2,1,{"$f":"IF(C18835=\"\",\"\",COUNTIF($B$2:B18835,\"=\"&B18835))","v":184},0,5.9916117435590175E-4,0.5]
["8450-193","8450","J1406","ORTHOPHONIE",2,2,{"$f":"IF(C18844=\"\",\"\",COUNTIF($B$2:B18844,\"=\"&B18844))","v":193},0,5.9916117435590175E-4,1]
["8450-199","8450","H1301","INSPECTION DE CONFORMITÉ",2,".",{"$f":"IF(C18850=\"\",\"\",COUNTIF($B$2:B18850,\"=\"&B18850))","v":199},0,5.9916117435590175E-4,0]
["8450-213","8450","N1303","INTERVENTION TECHNIQUE D'EXPLOITATION LOGISTIQUE",1,1,{"$f":"IF(C18864=\"\",\"\",COUNTIF($B$2:B18864,\"=\"&B18864))","v":213},0,2.9958058717795088E-4,1]
["8450-225","8450","I1502","INTERVENTION EN MILIEU SUBAQUATIQUE",1,1,{"$f":"IF(C18876=\"\",\"\",COUNTIF($B$2:B18876,\"=\"&B18876))","v":225},0,2.9958058717795088E-4,1]
["8450-228","8450","I1309","MAINTENANCE ÉLECTRIQUE",1,1,{"$f":"IF(C18879=\"\",\"\",COUNTIF($B$2:B18879,\"=\"&B18879))","v":228},0,2.9958058717795088E-4,1]
["8450-245","8450","G1404","MANAGEMENT D'ÉTABLISSEMENT DE RESTAURATION COLLECTIVE",1,1,{"$f":"IF(C18896=\"\",\"\",COUNTIF($B$2:B18896,\"=\"&B18896))","v":245},0,2.9958058717795088E-4,1]
["8450-253","8450","F1102","CONCEPTION - AMÉNAGEMENT D'ESPACES INTÉRIEURS",1,1,{"$f":"IF(C18904=\"\",\"\",COUNTIF($B$2:B18904,\"=\"&B18904))","v":253},0,2.9958058717795088E-4,1]
["8450-256","8450","E1107","ORGANISATION D'ÉVÈNEMENTIEL",1,1,{"$f":"IF(C18907=\"\",\"\",COUNTIF($B$2:B18907,\"=\"&B18907))","v":256},0,2.9958058717795088E-4,1]
["8450-268","8450","A1408","ÉLEVAGE D'ANIMAUX SAUVAGES OU DE COMPAGNIE",1,".",{"$f":"IF(C18919=\"\",\"\",COUNTIF($B$2:B18919,\"=\"&B18919))","v":268},0,2.9958058717795088E-4,0]
["8451-12","8451","H2401","ASSEMBLAGE - MONTAGE D'ARTICLES EN CUIRS, PEAUX",28,".",{"$f":"IF(C18933=\"\",\"\",COUNTIF($B$2:B18933,\"=\"&B18933))","v":12},30,1.8193632228719947E-2,0]
["8451-18","8451","N1105","MANUTENTION MANUELLE DE CHARGES",22,7,{"$f":"IF(C18939=\"\",\"\",COUNTIF($B$2:B18939,\"=\"&B18939))","v":18},20,1.4294996751137101E-2,0.31818181818181818]
["8451-31","8451","H2102","CONDUITE D'ÉQUIPEMENT DE PRODUCTION ALIMENTAIRE",16,3,{"$f":"IF(C18952=\"\",\"\",COUNTIF($B$2:B18952,\"=\"&B18952))","v":31},20,1.0396361273554255E-2,0.1875]
["8451-38","8451","K2110","FORMATION EN CONDUITE DE VÉHICULES",11,9,{"$f":"IF(C18959=\"\",\"\",COUNTIF($B$2:B18959,\"=\"&B18959))","v":38},10,7.1474983755685506E-3,0.81818181818181823]
["8451-46","8451","F1201","CONDUITE DE TRAVAUX DU BTP ET DE TRAVAUX PAYSAGERS",9,6,{"$f":"IF(C18967=\"\",\"\",COUNTIF($B$2:B18967,\"=\"&B18967))","v":46},10,5.8479532163742687E-3,0.66666666666666663]
["8451-58","8451","D1104","PÂTISSERIE, CONFISERIE, CHOCOLATERIE ET GLACERIE",7,6,{"$f":"IF(C18979=\"\",\"\",COUNTIF($B$2:B18979,\"=\"&B18979))","v":58},10,4.5484080571799868E-3,0.8571428571428571]
["8451-61","8451","J1404","KINÉSITHÉRAPIE",6,6,{"$f":"IF(C18982=\"\",\"\",COUNTIF($B$2:B18982,\"=\"&B18982))","v":61},10,3.8986354775828458E-3,1]
["8451-75","8451","D1505","PERSONNEL DE CAISSE",5,".",{"$f":"IF(C18996=\"\",\"\",COUNTIF($B$2:B18996,\"=\"&B18996))","v":75},10,3.2488628979857048E-3,0]
["8451-81","8451","K1206","INTERVENTION SOCIOCULTURELLE",4,3,{"$f":"IF(C19002=\"\",\"\",COUNTIF($B$2:B19002,\"=\"&B19002))","v":81},0,2.5990903183885639E-3,0.75]
[{"$f":"B19011&\"-\"&G19011","v":"8451-90"},"8451","M1502","DÉVELOPPEMENT DES RESSOURCES HUMAINES",3,3,{"$f":"IF(C19011=\"\",\"\",COUNTIF($B$2:B19011,\"=\"&B19011))","v":90},0,1.9493177387914229E-3,1]
["8451-106","8451","F1602","ÉLECTRICITÉ BÂTIMENT",3,2,{"$f":"IF(C19027=\"\",\"\",COUNTIF($B$2:B19027,\"=\"&B19027))","v":106},0,1.9493177387914229E-3,0.66666666666666663]
["8451-113","8451","M1609","SECRÉTARIAT ET ASSISTANAT MÉDICAL OU MÉDICO-SOCIAL",2,".",{"$f":"IF(C19034=\"\",\"\",COUNTIF($B$2:B19034,\"=\"&B19034))","v":113},0,1.2995451591942819E-3,0]
["8451-119","8451","K1201","ACTION SOCIALE",2,1,{"$f":"IF(C19040=\"\",\"\",COUNTIF($B$2:B19040,\"=\"&B19040))","v":119},0,1.2995451591942819E-3,0.5]
["8451-133","8451","E1205","RÉALISATION DE CONTENUS MULTIMÉDIAS",2,1,{"$f":"IF(C19054=\"\",\"\",COUNTIF($B$2:B19054,\"=\"&B19054))","v":133},0,1.2995451591942819E-3,0.5]
["8451-144","8451","N4201","DIRECTION D'EXPLOITATION DES TRANSPORTS ROUTIERS DE MARCHANDISES",1,1,{"$f":"IF(C19065=\"\",\"\",COUNTIF($B$2:B19065,\"=\"&B19065))","v":144},0,6.4977257959714096E-4,1]
["8451-149","8451","M1302","DIRECTION DE PETITE OU MOYENNE ENTREPRISE",1,1,{"$f":"IF(C19070=\"\",\"\",COUNTIF($B$2:B19070,\"=\"&B19070))","v":149},0,6.4977257959714096E-4,1]
["8451-156","8451","K1205","INFORMATION SOCIALE",1,".",{"$f":"IF(C19077=\"\",\"\",COUNTIF($B$2:B19077,\"=\"&B19077))","v":156},0,6.4977257959714096E-4,0]
["8451-173","8451","G1503","MANAGEMENT DU PERSONNEL D'ÉTAGE",1,".",{"$f":"IF(C19094=\"\",\"\",COUNTIF($B$2:B19094,\"=\"&B19094))","v":173},0,6.4977257959714096E-4,0]
["8451-176","8451","F1605","MONTAGE DE RÉSEAUX ÉLECTRIQUES ET TÉLÉCOMS",1,1,{"$f":"IF(C19097=\"\",\"\",COUNTIF($B$2:B19097,\"=\"&B19097))","v":176},0,6.4977257959714096E-4,1]
["8453-2","8453","M1203","COMPTABILITÉ",135,98,{"$f":"IF(C19109=\"\",\"\",COUNTIF($B$2:B19109,\"=\"&B19109))","v":2},140,2.9007305543618394E-2,0.72592592592592597]
["8453-15","8453","G1603","PERSONNEL POLYVALENT EN RESTAURATION",65,45,{"$f":"IF(C19122=\"\",\"\",COUNTIF($B$2:B19122,\"=\"&B19122))","v":15},70,1.3966480446927373E-2,0.69230769230769229]
["8453-22","8453","I1604","MÉCANIQUE AUTOMOBILE ET ENTRETIEN DE VÉHICULES",56,39,{"$f":"IF(C19129=\"\",\"\",COUNTIF($B$2:B19129,\"=\"&B19129))","v":22},60,1.2032660077352814E-2,0.6964285714285714]
["8453-31","8453","D1401","ASSISTANAT COMMERCIAL",43,34,{"$f":"IF(C19138=\"\",\"\",COUNTIF($B$2:B19138,\"=\"&B19138))","v":31},40,{"$f":"E19138/SUMIF(B:B,B19138,E:E)","v":9.2393639879673403E-3},0.79069767441860461]
["8453-38","8453","D1212","VENTE EN DÉCORATION ET ÉQUIPEMENT DU FOYER",37,24,{"$f":"IF(C19145=\"\",\"\",COUNTIF($B$2:B19145,\"=\"&B19145))","v":38},40,7.9501504082509673E-3,0.64864864864864868]
["8453-46","8453","G1501","PERSONNEL D'ÉTAGE",29,8,{"$f":"IF(C19153=\"\",\"\",COUNTIF($B$2:B19153,\"=\"&B19153))","v":46},30,6.2311989686291364E-3,0.27586206896551724]
["8453-58","8453","I1203","MAINTENANCE DES BÂTIMENTS ET DES LOCAUX",24,10,{"$f":"IF(C19165=\"\",\"\",COUNTIF($B$2:B19165,\"=\"&B19165))","v":58},20,5.1568543188654919E-3,0.41666666666666669]
["8453-71","8453","H2201","ASSEMBLAGE D'OUVRAGES EN BOIS",18,16,{"$f":"IF(C19178=\"\",\"\",COUNTIF($B$2:B19178,\"=\"&B19178))","v":71},20,3.867640739149119E-3,0.88888888888888884]
["8453-78","8453","H2205","PREMIÈRE TRANSFORMATION DE BOIS D'OEUVRE",15,13,{"$f":"IF(C19185=\"\",\"\",COUNTIF($B$2:B19185,\"=\"&B19185))","v":78},20,3.2230339492909325E-3,0.8666666666666667]
["8453-90","8453","K2111","FORMATION PROFESSIONNELLE",13,8,{"$f":"IF(C19197=\"\",\"\",COUNTIF($B$2:B19197,\"=\"&B19197))","v":90},10,2.7932960893854749E-3,0.61538461538461542]
["8453-100","8453","M1608","SECRÉTARIAT COMPTABLE",11,8,{"$f":"IF(C19207=\"\",\"\",COUNTIF($B$2:B19207,\"=\"&B19207))","v":100},10,2.363558229480017E-3,0.72727272727272729]
["8453-101","8453","A1301","CONSEIL ET ASSISTANCE TECHNIQUE EN AGRICULTURE ET ENVIRONNEMENT NATUREL",11,9,{"$f":"IF(C19208=\"\",\"\",COUNTIF($B$2:B19208,\"=\"&B19208))","v":101},10,2.363558229480017E-3,0.81818181818181823]
["8453-119","8453","F1108","MÉTRÉ DE LA CONSTRUCTION",9,8,{"$f":"IF(C19226=\"\",\"\",COUNTIF($B$2:B19226,\"=\"&B19226))","v":119},10,1.9338203695745595E-3,0.88888888888888884]
["8453-121","8453","B1803","RÉALISATION DE VÊTEMENTS SUR MESURE OU EN PETITE SÉRIE",9,6,{"$f":"IF(C19228=\"\",\"\",COUNTIF($B$2:B19228,\"=\"&B19228))","v":121},10,1.9338203695745595E-3,0.66666666666666663]
["8453-133","8453","M1204","CONTRÔLE DE GESTION",7,3,{"$f":"IF(C19240=\"\",\"\",COUNTIF($B$2:B19240,\"=\"&B19240))","v":133},10,1.5040825096691017E-3,0.42857142857142855]
["8453-144","8453","H2504","ENCADREMENT D'ÉQUIPE EN INDUSTRIE DE TRANSFORMATION",7,6,{"$f":"IF(C19251=\"\",\"\",COUNTIF($B$2:B19251,\"=\"&B19251))","v":144},10,1.5040825096691017E-3,0.8571428571428571]
["8453-153","8453","I1309","MAINTENANCE ÉLECTRIQUE",6,5,{"$f":"IF(C19260=\"\",\"\",COUNTIF($B$2:B19260,\"=\"&B19260))","v":153},10,1.289213579716373E-3,0.83333333333333337]
["8453-163","8453","I1202","ENTRETIEN ET SURVEILLANCE DU TRACÉ ROUTIER",5,".",{"$f":"IF(C19270=\"\",\"\",COUNTIF($B$2:B19270,\"=\"&B19270))","v":163},10,1.0743446497636442E-3,0]
["8453-173","8453","D1502","MANAGEMENT/GESTION DE RAYON PRODUITS ALIMENTAIRES",5,5,{"$f":"IF(C19280=\"\",\"\",COUNTIF($B$2:B19280,\"=\"&B19280))","v":173},10,1.0743446497636442E-3,1]
["8453-176","8453","A1403","AIDE D'ÉLEVAGE AGRICOLE ET AQUACOLE",5,3,{"$f":"IF(C19283=\"\",\"\",COUNTIF($B$2:B19283,\"=\"&B19283))","v":176},10,1.0743446497636442E-3,0.6]
["8453-188","8453","I1305","INSTALLATION ET MAINTENANCE ÉLECTRONIQUE",4,3,{"$f":"IF(C19295=\"\",\"\",COUNTIF($B$2:B19295,\"=\"&B19295))","v":188},0,8.5947571981091536E-4,0.75]
["8453-196","8453","C1102","CONSEIL CLIENTÈLE EN ASSURANCES",4,4,{"$f":"IF(C19303=\"\",\"\",COUNTIF($B$2:B19303,\"=\"&B19303))","v":196},0,8.5947571981091536E-4,1]
["8453-207","8453","J1304","AIDE EN PUÉRICULTURE",3,".",{"$f":"IF(C19314=\"\",\"\",COUNTIF($B$2:B19314,\"=\"&B19314))","v":207},0,6.4460678985818649E-4,0]
["8453-216","8453","H1503","INTERVENTION TECHNIQUE EN LABORATOIRE D'ANALYSE INDUSTRIELLE",3,1,{"$f":"IF(C19323=\"\",\"\",COUNTIF($B$2:B19323,\"=\"&B19323))","v":216},0,6.4460678985818649E-4,0.33333333333333331]
["8453-228","8453","M1704","MANAGEMENT RELATION CLIENTÈLE",2,2,{"$f":"IF(C19335=\"\",\"\",COUNTIF($B$2:B19335,\"=\"&B19335))","v":228},0,4.2973785990545768E-4,1]
["8453-236","8453","K2106","ENSEIGNEMENT DES ÉCOLES",2,2,{"$f":"IF(C19343=\"\",\"\",COUNTIF($B$2:B19343,\"=\"&B19343))","v":236},0,4.2973785990545768E-4,1]
["8453-248","8453","H2209","INTERVENTION TECHNIQUE EN AMEUBLEMENT ET BOIS",2,2,{"$f":"IF(C19355=\"\",\"\",COUNTIF($B$2:B19355,\"=\"&B19355))","v":248},0,4.2973785990545768E-4,1]
["8453-251","8453","F1105","ÉTUDES GÉOLOGIQUES",2,2,{"$f":"IF(C19358=\"\",\"\",COUNTIF($B$2:B19358,\"=\"&B19358))","v":251},0,4.2973785990545768E-4,1]
["8453-268","8453","L1502","COSTUME ET HABILLAGE SPECTACLE",1,1,{"$f":"IF(C19375=\"\",\"\",COUNTIF($B$2:B19375,\"=\"&B19375))","v":268},0,2.1486892995272884E-4,1]
["8453-271","8453","K2203","MANAGEMENT ET INSPECTION EN PROPRETÉ DE LOCAUX",1,".",{"$f":"IF(C19378=\"\",\"\",COUNTIF($B$2:B19378,\"=\"&B19378))","v":271},0,2.1486892995272884E-4,0]
["8453-280","8453","I1101","DIRECTION ET INGÉNIERIE EN ENTRETIEN INFRASTRUCTURE ET BÂTI",1,".",{"$f":"IF(C19387=\"\",\"\",COUNTIF($B$2:B19387,\"=\"&B19387))","v":280},0,2.1486892995272884E-4,0]
["8453-291","8453","G1205","PERSONNEL D'ATTRACTIONS OU DE STRUCTURES DE LOISIRS",1,".",{"$f":"IF(C19398=\"\",\"\",COUNTIF($B$2:B19398,\"=\"&B19398))","v":291},0,2.1486892995272884E-4,0]
["8453-305","8453","B1805","STYLISME",1,1,{"$f":"IF(C19412=\"\",\"\",COUNTIF($B$2:B19412,\"=\"&B19412))","v":305},0,2.1486892995272884E-4,1]
["8453-311","8453","A1201","BÛCHERONNAGE ET ÉLAGAGE",1,".",{"$f":"IF(C19418=\"\",\"\",COUNTIF($B$2:B19418,\"=\"&B19418))","v":311},0,2.1486892995272884E-4,0]
["8454-9","8454","J1301","PERSONNEL POLYVALENT DES SERVICES HOSPITALIERS",90,27,{"$f":"IF(C19427=\"\",\"\",COUNTIF($B$2:B19427,\"=\"&B19427))","v":9},90,2.4684585847504114E-2,0.3]
["8454-16","8454","G1602","PERSONNEL DE CUISINE",60,37,{"$f":"IF(C19434=\"\",\"\",COUNTIF($B$2:B19434,\"=\"&B19434))","v":16},60,1.6456390565002744E-2,0.6166666666666667]
["8454-32","8454","F1603","INSTALLATION D'ÉQUIPEMENTS SANITAIRES ET THERMIQUES",31,25,{"$f":"IF(C19450=\"\",\"\",COUNTIF($B$2:B19450,\"=\"&B19450))","v":32},30,8.5024684585847509E-3,0.80645161290322576]
["8454-38","8454","N1101","CONDUITE D'ENGINS DE DÉPLACEMENT DES CHARGES",22,16,{"$f":"IF(C19456=\"\",\"\",COUNTIF($B$2:B19456,\"=\"&B19456))","v":38},20,6.034009873834339E-3,0.72727272727272729]
["8454-48","8454","G1501","PERSONNEL D'ÉTAGE",18,5,{"$f":"IF(C19466=\"\",\"\",COUNTIF($B$2:B19466,\"=\"&B19466))","v":48},20,4.936917169500823E-3,0.27777777777777779]
["8454-53","8454","E1301","CONDUITE DE MACHINES D'IMPRESSION",16,11,{"$f":"IF(C19471=\"\",\"\",COUNTIF($B$2:B19471,\"=\"&B19471))","v":53},20,4.388370817334065E-3,0.6875]
["8454-68","8454","H2901","AJUSTEMENT ET MONTAGE DE FABRICATION",12,5,{"$f":"IF(C19486=\"\",\"\",COUNTIF($B$2:B19486,\"=\"&B19486))","v":68},10,3.2912781130005485E-3,0.41666666666666669]
["8454-75","8454","H1502","MANAGEMENT ET INGÉNIERIE QUALITÉ INDUSTRIELLE",10,7,{"$f":"IF(C19493=\"\",\"\",COUNTIF($B$2:B19493,\"=\"&B19493))","v":75},10,2.7427317608337905E-3,0.7]
["8454-82","8454","F1608","POSE DE REVÊTEMENTS RIGIDES",9,".",{"$f":"IF(C19500=\"\",\"\",COUNTIF($B$2:B19500,\"=\"&B19500))","v":82},10,2.4684585847504115E-3,0]
["8454-91","8454","H2101","ABATTAGE ET DÉCOUPE DES VIANDES",8,3,{"$f":"IF(C19509=\"\",\"\",COUNTIF($B$2:B19509,\"=\"&B19509))","v":91},10,2.1941854086670325E-3,0.375]
["8454-107","8454","I1101","DIRECTION ET INGÉNIERIE EN ENTRETIEN INFRASTRUCTURE ET BÂTI",6,6,{"$f":"IF(C19525=\"\",\"\",COUNTIF($B$2:B19525,\"=\"&B19525))","v":107},10,1.6456390565002743E-3,1]
["8454-111","8454","G1605","PLONGE EN RESTAURATION",6,4,{"$f":"IF(C19529=\"\",\"\",COUNTIF($B$2:B19529,\"=\"&B19529))","v":111},10,1.6456390565002743E-3,0.66666666666666663]
["8454-123","8454","H2402","ASSEMBLAGE - MONTAGE DE VÊTEMENTS ET PRODUITS TEXTILES",5,3,{"$f":"IF(C19541=\"\",\"\",COUNTIF($B$2:B19541,\"=\"&B19541))","v":123},10,1.3713658804168952E-3,0.6]
["8454-136","8454","I1402","RÉPARATION DE BIENS ÉLECTRODOMESTIQUES ET MULTIMÉDIA",4,4,{"$f":"IF(C19554=\"\",\"\",COUNTIF($B$2:B19554,\"=\"&B19554))","v":136},0,1.0970927043335162E-3,1]
["8454-143","8454","F1601","APPLICATION ET DÉCORATION EN PLÂTRE, STUC ET STAFF",4,4,{"$f":"IF(C19561=\"\",\"\",COUNTIF($B$2:B19561,\"=\"&B19561))","v":143},0,1.0970927043335162E-3,1]
["8454-151","8454","M1705","MARKETING",3,2,{"$f":"IF(C19569=\"\",\"\",COUNTIF($B$2:B19569,\"=\"&B19569))","v":151},0,8.2281952825013713E-4,0.66666666666666663]
["8454-163","8454","G1401","ASSISTANCE DE DIRECTION D'HÔTEL-RESTAURANT",3,3,{"$f":"IF(C19581=\"\",\"\",COUNTIF($B$2:B19581,\"=\"&B19581))","v":163},0,8.2281952825013713E-4,1]
["8454-166","8454","F1103","CONTRÔLE ET DIAGNOSTIC TECHNIQUE DU BÂTIMENT",3,3,{"$f":"IF(C19584=\"\",\"\",COUNTIF($B$2:B19584,\"=\"&B19584))","v":166},0,8.2281952825013713E-4,1]
["8454-180","8454","K1801","CONSEIL EN EMPLOI ET INSERTION SOCIOPROFESSIONNELLE",2,".",{"$f":"IF(C19598=\"\",\"\",COUNTIF($B$2:B19598,\"=\"&B19598))","v":180},0,5.4854635216675812E-4,0]
["8454-186","8454","H2906","CONDUITE D'INSTALLATION AUTOMATISÉE OU ROBOTISÉE DE FABRICATION MÉCANIQUE",2,2,{"$f":"IF(C19604=\"\",\"\",COUNTIF($B$2:B19604,\"=\"&B19604))","v":186},0,5.4854635216675812E-4,1]
["8454-195","8454","G1804","SOMMELLERIE",2,1,{"$f":"IF(C19613=\"\",\"\",COUNTIF($B$2:B19613,\"=\"&B19613))","v":195},0,5.4854635216675812E-4,0.5]
["8454-206","8454","F1108","MÉTRÉ DE LA CONSTRUCTION",2,2,{"$f":"IF(C19624=\"\",\"\",COUNTIF($B$2:B19624,\"=\"&B19624))","v":206},0,5.4854635216675812E-4,1]
["8454-214","8454","N1104","MANOEUVRE ET CONDUITE D'ENGINS LOURDS DE MANUTENTION",1,".",{"$f":"IF(C19632=\"\",\"\",COUNTIF($B$2:B19632,\"=\"&B19632))","v":214},0,2.7427317608337906E-4,0]
["8454-226","8454","K1305","INTERVENTION SOCIALE ET FAMILIALE",1,1,{"$f":"IF(C19644=\"\",\"\",COUNTIF($B$2:B19644,\"=\"&B19644))","v":226},0,2.7427317608337906E-4,1]
["8454-238","8454","H2204","ENCADREMENT DES INDUSTRIES DE L'AMEUBLEMENT ET DU BOIS",1,1,{"$f":"IF(C19656=\"\",\"\",COUNTIF($B$2:B19656,\"=\"&B19656))","v":238},0,2.7427317608337906E-4,1]
["8454-243","8454","H1205","ÉTUDES - MODÈLES EN INDUSTRIE DES MATÉRIAUX SOUPLES",1,".",{"$f":"IF(C19661=\"\",\"\",COUNTIF($B$2:B19661,\"=\"&B19661))","v":243},0,2.7427317608337906E-4,0]
["8454-258","8454","D1210","VENTE EN ANIMALERIE",1,".",{"$f":"IF(C19676=\"\",\"\",COUNTIF($B$2:B19676,\"=\"&B19676))","v":258},0,2.7427317608337906E-4,0]
["8454-268","8454","A1301","CONSEIL ET ASSISTANCE TECHNIQUE EN AGRICULTURE ET ENVIRONNEMENT NATUREL",1,1,{"$f":"IF(C19686=\"\",\"\",COUNTIF($B$2:B19686,\"=\"&B19686))","v":268},0,2.7427317608337906E-4,1]
["8455-10","8455","J1501","SOINS D'HYGIÈNE, DE CONFORT DU PATIENT",43,14,{"$f":"IF(C19696=\"\",\"\",COUNTIF($B$2:B19696,\"=\"&B19696))","v":10},40,2.099609375E-2,0.32558139534883723]
["8455-13","8455","G1803","SERVICE EN RESTAURATION",35,17,{"$f":"IF(C19699=\"\",\"\",COUNTIF($B$2:B19699,\"=\"&B19699))","v":13},40,1.708984375E-2,0.48571428571428571]
[{"$f":"B19715&\"-\"&G19715","v":"8455-29"},"8455","F1606","PEINTURE EN BÂTIMENT",20,6,{"$f":"IF(C19715=\"\",\"\",COUNTIF($B$2:B19715,\"=\"&B19715))","v":29},20,9.765625E-3,0.3]
["8455-33","8455","H2907","CONDUITE D'INSTALLATION DE PRODUCTION DES MÉTAUX",16,5,{"$f":"IF(C19719=\"\",\"\",COUNTIF($B$2:B19719,\"=\"&B19719))","v":33},20,7.8125E-3,0.3125]
["8455-44","8455","N4101","CONDUITE DE TRANSPORT DE MARCHANDISES SUR LONGUE DISTANCE",14,10,{"$f":"IF(C19730=\"\",\"\",COUNTIF($B$2:B19730,\"=\"&B19730))","v":44},10,6.8359375E-3,0.7142857142857143]
["8455-53","8455","F1604","MONTAGE D'AGENCEMENTS",11,3,{"$f":"IF(C19739=\"\",\"\",COUNTIF($B$2:B19739,\"=\"&B19739))","v":53},10,5.37109375E-3,0.27272727272727271]
["8455-65","8455","I1203","MAINTENANCE DES BÂTIMENTS ET DES LOCAUX",7,2,{"$f":"IF(C19751=\"\",\"\",COUNTIF($B$2:B19751,\"=\"&B19751))","v":65},10,3.41796875E-3,0.2857142857142857]
["8455-73","8455","K2107","ENSEIGNEMENT GÉNÉRAL DU SECOND DEGRÉ",6,3,{"$f":"IF(C19759=\"\",\"\",COUNTIF($B$2:B19759,\"=\"&B19759))","v":73},10,2.9296875E-3,0.5]
["8455-85","8455","J1502","COORDINATION DE SERVICES MÉDICAUX OU PARAMÉDICAUX",5,2,{"$f":"IF(C19771=\"\",\"\",COUNTIF($B$2:B19771,\"=\"&B19771))","v":85},10,2.44140625E-3,0.4]
["8455-88","8455","H2201","ASSEMBLAGE D'OUVRAGES EN BOIS",5,1,{"$f":"IF(C19774=\"\",\"\",COUNTIF($B$2:B19774,\"=\"&B19774))","v":88},10,2.44140625E-3,0.2]
["8455-101","8455","M1205","DIRECTION ADMINISTRATIVE ET FINANCIÈRE",4,3,{"$f":"IF(C19787=\"\",\"\",COUNTIF($B$2:B19787,\"=\"&B19787))","v":101},0,1.953125E-3,0.75]
["8455-108","8455","G1802","MANAGEMENT DU SERVICE EN RESTAURATION",4,2,{"$f":"IF(C19794=\"\",\"\",COUNTIF($B$2:B19794,\"=\"&B19794))","v":108},0,1.953125E-3,0.5]
["8455-117","8455","K1204","MÉDIATION SOCIALE ET FACILITATION DE LA VIE EN SOCIÉTÉ",3,3,{"$f":"IF(C19803=\"\",\"\",COUNTIF($B$2:B19803,\"=\"&B19803))","v":117},0,1.46484375E-3,1]
["8455-128","8455","G1703","RÉCEPTION EN HÔTELLERIE",3,".",{"$f":"IF(C19814=\"\",\"\",COUNTIF($B$2:B19814,\"=\"&B19814))","v":128},0,1.46484375E-3,0]
["8455-142","8455","K1104","PSYCHOLOGIE",2,".",{"$f":"IF(C19828=\"\",\"\",COUNTIF($B$2:B19828,\"=\"&B19828))","v":142},0,9.765625E-4,0]
["8455-144","8455","J1103","MÉDECINE DENTAIRE",2,2,{"$f":"IF(C19830=\"\",\"\",COUNTIF($B$2:B19830,\"=\"&B19830))","v":144},0,9.765625E-4,1]
["8455-160","8455","A1501","AIDE AUX SOINS ANIMAUX",2,1,{"$f":"IF(C19846=\"\",\"\",COUNTIF($B$2:B19846,\"=\"&B19846))","v":160},0,9.765625E-4,0.5]
["8455-161","8455","A1408","ÉLEVAGE D'ANIMAUX SAUVAGES OU DE COMPAGNIE",2,1,{"$f":"IF(C19847=\"\",\"\",COUNTIF($B$2:B19847,\"=\"&B19847))","v":161},0,9.765625E-4,0.5]
["8455-176","8455","K1305","INTERVENTION SOCIALE ET FAMILIALE",1,1,{"$f":"IF(C19862=\"\",\"\",COUNTIF($B$2:B19862,\"=\"&B19862))","v":176},0,4.8828125E-4,1]
["8455-186","8455","I1302","INSTALLATION ET MAINTENANCE D'AUTOMATISMES",1,1,{"$f":"IF(C19872=\"\",\"\",COUNTIF($B$2:B19872,\"=\"&B19872))","v":186},0,4.8828125E-4,1]
["8455-196","8455","G1101","ACCUEIL TOURISTIQUE",1,".",{"$f":"IF(C19882=\"\",\"\",COUNTIF($B$2:B19882,\"=\"&B19882))","v":196},0,4.8828125E-4,0]
["8455-201","8455","E1103","COMMUNICATION",1,1,{"$f":"IF(C19887=\"\",\"\",COUNTIF($B$2:B19887,\"=\"&B19887))","v":201},0,4.8828125E-4,1]
["8456-6","8456","K1304","SERVICES DOMESTIQUES",19,4,{"$f":"IF(C19902=\"\",\"\",COUNTIF($B$2:B19902,\"=\"&B19902))","v":6},20,3.1719532554257093E-2,0.21052631578947367]
["8456-9","8456","I1203","MAINTENANCE DES BÂTIMENTS ET DES LOCAUX",16,11,{"$f":"IF(C19905=\"\",\"\",COUNTIF($B$2:B19905,\"=\"&B19905))","v":9},{"$f":"ROUND(E19905,-1)","v":20},2.6711185308848081E-2,{"$f":"IF(OR(F19905=\"\",F19905=\".\"),0,F19905/E19905)","v":0.6875}]
["8456-20","8456","G1605","PLONGE EN RESTAURATION",8,1,{"$f":"IF(C19916=\"\",\"\",COUNTIF($B$2:B19916,\"=\"&B19916))","v":20},10,1.335559265442404E-2,0.125]
["8456-29","8456","D1106","VENTE EN ALIMENTATION",6,5,{"$f":"IF(C19925=\"\",\"\",COUNTIF($B$2:B19925,\"=\"&B19925))","v":29},10,1.001669449081803E-2,0.83333333333333337]
["8456-45","8456","K2304","REVALORISATION DE PRODUITS INDUSTRIELS",3,2,{"$f":"IF(C19941=\"\",\"\",COUNTIF($B$2:B19941,\"=\"&B19941))","v":45},0,5.008347245409015E-3,0.66666666666666663]
["8456-49","8456","J1306","IMAGERIE MÉDICALE",3,3,{"$f":"IF(C19945=\"\",\"\",COUNTIF($B$2:B19945,\"=\"&B19945))","v":49},0,5.008347245409015E-3,1]
["8456-61","8456","K1902","COLLABORATION JURIDIQUE",2,2,{"$f":"IF(C19957=\"\",\"\",COUNTIF($B$2:B19957,\"=\"&B19957))","v":61},0,3.3388981636060101E-3,1]
["8456-64","8456","K1201","ACTION SOCIALE",2,2,{"$f":"IF(C19960=\"\",\"\",COUNTIF($B$2:B19960,\"=\"&B19960))","v":64},0,3.3388981636060101E-3,1]
["8456-81","8456","M1609","SECRÉTARIAT ET ASSISTANAT MÉDICAL OU MÉDICO-SOCIAL",1,".",{"$f":"IF(C19977=\"\",\"\",COUNTIF($B$2:B19977,\"=\"&B19977))","v":81},0,1.6694490818030051E-3,0]
["8456-83","8456","M1401","CONDUITE D'ENQUÊTES",1,".",{"$f":"IF(C19979=\"\",\"\",COUNTIF($B$2:B19979,\"=\"&B19979))","v":83},0,1.6694490818030051E-3,0]
["8456-101","8456","G1202","ANIMATION D'ACTIVITÉS CULTURELLES OU LUDIQUES",1,1,{"$f":"IF(C19997=\"\",\"\",COUNTIF($B$2:B19997,\"=\"&B19997))","v":101},0,1.6694490818030051E-3,1]
["8456-104","8456","F1702","CONSTRUCTION DE ROUTES ET VOIES",1,1,{"$f":"IF(C20000=\"\",\"\",COUNTIF($B$2:B20000,\"=\"&B20000))","v":104},0,1.6694490818030051E-3,1]
["8456-118","8456","A1204","PROTECTION DU PATRIMOINE NATUREL",1,1,{"$f":"IF(C20014=\"\",\"\",COUNTIF($B$2:B20014,\"=\"&B20014))","v":118},0,1.6694490818030051E-3,1]
["8457-5","8457","K2204","NETTOYAGE DE LOCAUX",739,233,{"$f":"IF(C20020=\"\",\"\",COUNTIF($B$2:B20020,\"=\"&B20020))","v":5},740,2.9543455664827696E-2,0.31529093369418132]
["8457-18","8457","F1704","PRÉPARATION DU GROS OEUVRE ET DES TRAVAUX PUBLICS",355,91,{"$f":"IF(C20033=\"\",\"\",COUNTIF($B$2:B20033,\"=\"&B20033))","v":18},{"$f":"ROUND(E20033,-1)","v":360},1.4192052450627648E-2,{"$f":"IF(OR(F20033=\"\",F20033=\".\"),0,F20033/E20033)","v":0.25633802816901408}]
["8457-25","8457","F1603","INSTALLATION D'ÉQUIPEMENTS SANITAIRES ET THERMIQUES",251,126,{"$f":"IF(C20040=\"\",\"\",COUNTIF($B$2:B20040,\"=\"&B20040))","v":25},250,1.0034380746781802E-2,0.50199203187250996]
["8457-37","8457","H3302","OPÉRATIONS MANUELLES D'ASSEMBLAGE, TRI OU EMBALLAGE",176,83,{"$f":"IF(C20052=\"\",\"\",COUNTIF($B$2:B20052,\"=\"&B20052))","v":37},180,7.0360598065083556E-3,0.47159090909090912]
["8457-47","8457","G1605","PLONGE EN RESTAURATION",139,49,{"$f":"IF(C20062=\"\",\"\",COUNTIF($B$2:B20062,\"=\"&B20062))","v":47},140,5.5568881426401213E-3,0.35251798561151076]
["8457-57","8457","D1202","COIFFURE",119,99,{"$f":"IF(C20072=\"\",\"\",COUNTIF($B$2:B20072,\"=\"&B20072))","v":57},120,4.7573358919005358E-3,0.83193277310924374]
["8457-62","8457","D1505","PERSONNEL DE CAISSE",111,41,{"$f":"IF(C20077=\"\",\"\",COUNTIF($B$2:B20077,\"=\"&B20077))","v":62},110,4.4375149916047012E-3,0.36936936936936937]
["8457-68","8457","D1104","PÂTISSERIE, CONFISERIE, CHOCOLATERIE ET GLACERIE",96,90,{"$f":"IF(C20083=\"\",\"\",COUNTIF($B$2:B20083,\"=\"&B20083))","v":68},100,3.837850803550012E-3,0.9375]
["8457-80","8457","H2902","CHAUDRONNERIE - TÔLERIE",79,26,{"$f":"IF(C20095=\"\",\"\",COUNTIF($B$2:B20095,\"=\"&B20095))","v":80},80,3.1582313904213641E-3,0.32911392405063289]
["8457-91","8457","G1204","ÉDUCATION EN ACTIVITÉS SPORTIVES",68,52,{"$f":"IF(C20106=\"\",\"\",COUNTIF($B$2:B20106,\"=\"&B20106))","v":91},70,2.7184776525145918E-3,0.76470588235294112]
["8457-100","8457","K2602","CONSEIL EN SERVICES FUNÉRAIRES",57,53,{"$f":"IF(C20115=\"\",\"\",COUNTIF($B$2:B20115,\"=\"&B20115))","v":100},60,2.2787239146078195E-3,0.92982456140350878]
["8457-106","8457","F1503","RÉALISATION - INSTALLATION D'OSSATURES BOIS",51,12,{"$f":"IF(C20121=\"\",\"\",COUNTIF($B$2:B20121,\"=\"&B20121))","v":106},50,2.038858239385944E-3,0.23529411764705882]
["8457-120","8457","J1302","ANALYSES MÉDICALES",39,18,{"$f":"IF(C20135=\"\",\"\",COUNTIF($B$2:B20135,\"=\"&B20135))","v":120},40,1.5591268889421923E-3,0.46153846153846156]
["8457-131","8457","M1810","PRODUCTION ET EXPLOITATION DE SYSTÈMES D'INFORMATION",35,24,{"$f":"IF(C20146=\"\",\"\",COUNTIF($B$2:B20146,\"=\"&B20146))","v":131},40,1.3992164387942752E-3,0.68571428571428572]
["8457-136","8457","K2601","CONDUITE D'OPÉRATIONS FUNÉRAIRES",33,25,{"$f":"IF(C20151=\"\",\"\",COUNTIF($B$2:B20151,\"=\"&B20151))","v":136},30,1.3192612137203166E-3,0.75757575757575757]
["8457-143","8457","M1205","DIRECTION ADMINISTRATIVE ET FINANCIÈRE",30,21,{"$f":"IF(C20158=\"\",\"\",COUNTIF($B$2:B20158,\"=\"&B20158))","v":143},30,1.1993283761093788E-3,0.7]
["8457-160","8457","J1202","PHARMACIE",25,20,{"$f":"IF(C20175=\"\",\"\",COUNTIF($B$2:B20175,\"=\"&B20175))","v":160},30,9.9944031342448221E-4,0.8]
["8457-168","8457","C1102","CONSEIL CLIENTÈLE EN ASSURANCES",24,23,{"$f":"IF(C20183=\"\",\"\",COUNTIF($B$2:B20183,\"=\"&B20183))","v":168},20,9.5946270088750299E-4,0.95833333333333337]
["8457-175","8457","H2504","ENCADREMENT D'ÉQUIPE EN INDUSTRIE DE TRANSFORMATION",22,17,{"$f":"IF(C20190=\"\",\"\",COUNTIF($B$2:B20190,\"=\"&B20190))","v":175},20,8.7950747581354446E-4,0.77272727272727271]
["8457-188","8457","N1102","DÉMÉNAGEMENT",19,12,{"$f":"IF(C20203=\"\",\"\",COUNTIF($B$2:B20203,\"=\"&B20203))","v":188},20,7.5957463820260649E-4,0.63157894736842102]
["8457-195","8457","J1406","ORTHOPHONIE",18,18,{"$f":"IF(C20210=\"\",\"\",COUNTIF($B$2:B20210,\"=\"&B20210))","v":195},20,7.1959702566562727E-4,1]
["8457-204","8457","K1204","MÉDIATION SOCIALE ET FACILITATION DE LA VIE EN SOCIÉTÉ",17,13,{"$f":"IF(C20219=\"\",\"\",COUNTIF($B$2:B20219,\"=\"&B20219))","v":204},20,6.7961941312864795E-4,0.76470588235294112]
["8457-211","8457","H3404","PEINTURE INDUSTRIELLE",16,12,{"$f":"IF(C20226=\"\",\"\",COUNTIF($B$2:B20226,\"=\"&B20226))","v":211},20,{"$f":"E20226/SUMIF(B:B,B20226,E:E)","v":6.3964180059166863E-4},0.75]
["8457-219","8457","J1507","SOINS INFIRMIERS SPÉCIALISÉS EN PUÉRICULTURE",15,9,{"$f":"IF(C20234=\"\",\"\",COUNTIF($B$2:B20234,\"=\"&B20234))","v":219},20,5.9966418805468941E-4,0.6]
["8457-231","8457","B1803","RÉALISATION DE VÊTEMENTS SUR MESURE OU EN PETITE SÉRIE",14,11,{"$f":"IF(C20246=\"\",\"\",COUNTIF($B$2:B20246,\"=\"&B20246))","v":231},10,5.5968657551771009E-4,0.7857142857142857]
["8457-238","8457","D1406","MANAGEMENT EN FORCE DE VENTE",13,12,{"$f":"IF(C20253=\"\",\"\",COUNTIF($B$2:B20253,\"=\"&B20253))","v":238},10,5.1970896298073077E-4,0.92307692307692313]
["8457-248","8457","M1202","AUDIT ET CONTRÔLE COMPTABLES ET FINANCIERS",11,10,{"$f":"IF(C20263=\"\",\"\",COUNTIF($B$2:B20263,\"=\"&B20263))","v":248},10,4.3975373790677223E-4,0.90909090909090906]
["8457-263","8457","J1402","DIÉTÉTIQUE",9,6,{"$f":"IF(C20278=\"\",\"\",COUNTIF($B$2:B20278,\"=\"&B20278))","v":263},10,3.5979851283281364E-4,0.66666666666666663]
["8457-273","8457","H2605","MONTAGE ET CÂBLAGE ÉLECTRONIQUE",8,3,{"$f":"IF(C20288=\"\",\"\",COUNTIF($B$2:B20288,\"=\"&B20288))","v":273},10,3.1982090029583431E-4,0.375]
["8457-283","8457","H1506","INTERVENTION TECHNIQUE QUALITÉ EN MÉCANIQUE ET TRAVAIL DES MÉTAUX",7,3,{"$f":"IF(C20298=\"\",\"\",COUNTIF($B$2:B20298,\"=\"&B20298))","v":283},10,2.7984328775885504E-4,0.42857142857142855]
["8457-286","8457","A1205","SYLVICULTURE",7,3,{"$f":"IF(C20301=\"\",\"\",COUNTIF($B$2:B20301,\"=\"&B20301))","v":286},10,2.7984328775885504E-4,0.42857142857142855]
["8457-302","8457","A1405","ARBORICULTURE ET VITICULTURE",6,".",{"$f":"IF(C20317=\"\",\"\",COUNTIF($B$2:B20317,\"=\"&B20317))","v":302},10,2.3986567522187575E-4,0]
["8457-306","8457","M1701","ADMINISTRATION DES VENTES",5,5,{"$f":"IF(C20321=\"\",\"\",COUNTIF($B$2:B20321,\"=\"&B20321))","v":306},10,1.9988806268489645E-4,1]
["8457-317","8457","D1509","MANAGEMENT DE DÉPARTEMENT EN GRANDE DISTRIBUTION",5,3,{"$f":"IF(C20332=\"\",\"\",COUNTIF($B$2:B20332,\"=\"&B20332))","v":317},10,1.9988806268489645E-4,0.6]
["8457-326","8457","H1302","MANAGEMENT ET INGÉNIERIE HYGIÈNE SÉCURITÉ ENVIRONNEMENT -HSE- INDUSTRIELS",4,2,{"$f":"IF(C20341=\"\",\"\",COUNTIF($B$2:B20341,\"=\"&B20341))","v":326},0,1.5991045014791716E-4,0.5]
["8457-336","8457","N1104","MANOEUVRE ET CONDUITE D'ENGINS LOURDS DE MANUTENTION",3,2,{"$f":"IF(C20351=\"\",\"\",COUNTIF($B$2:B20351,\"=\"&B20351))","v":336},0,1.1993283761093787E-4,0.66666666666666663]
["8457-346","8457","F1401","EXTRACTION LIQUIDE ET GAZEUSE",3,".",{"$f":"IF(C20361=\"\",\"\",COUNTIF($B$2:B20361,\"=\"&B20361))","v":346},0,1.1993283761093787E-4,0]
["8457-358","8457","J1101","MÉDECINE DE PRÉVENTION",2,".",{"$f":"IF(C20373=\"\",\"\",COUNTIF($B$2:B20373,\"=\"&B20373))","v":358},0,7.9955225073958578E-5,0]
["8457-365","8457","H1207","RÉDACTION TECHNIQUE",2,1,{"$f":"IF(C20380=\"\",\"\",COUNTIF($B$2:B20380,\"=\"&B20380))","v":365},0,7.9955225073958578E-5,0.5]
["8457-369","8457","E1401","DÉVELOPPEMENT ET PROMOTION PUBLICITAIRE",2,2,{"$f":"IF(C20384=\"\",\"\",COUNTIF($B$2:B20384,\"=\"&B20384))","v":369},0,7.9955225073958578E-5,1]
["8457-380","8457","L1101","ANIMATION MUSICALE ET SCÉNIQUE",1,1,{"$f":"IF(C20395=\"\",\"\",COUNTIF($B$2:B20395,\"=\"&B20395))","v":380},0,3.9977612536979289E-5,1]
["8457-389","8457","I1503","INTERVENTION EN MILIEUX ET PRODUITS NOCIFS",1,1,{"$f":"IF(C20404=\"\",\"\",COUNTIF($B$2:B20404,\"=\"&B20404))","v":389},0,3.9977612536979289E-5,1]
["8457-401","8457","E1201","PHOTOGRAPHIE",1,".",{"$f":"IF(C20416=\"\",\"\",COUNTIF($B$2:B20416,\"=\"&B20416))","v":401},0,3.9977612536979289E-5,0]
["8458-1","8458","K1304","SERVICES DOMESTIQUES",185,41,{"$f":"IF(C20424=\"\",\"\",COUNTIF($B$2:B20424,\"=\"&B20424))","v":1},190,4.5746785361028684E-2,0.22162162162162163]
["8458-13","8458","N1103","MAGASINAGE ET PRÉPARATION DE COMMANDES",81,42,{"$f":"IF(C20436=\"\",\"\",COUNTIF($B$2:B20436,\"=\"&B20436))","v":13},80,2.0029673590504452E-2,0.51851851851851849]
["8458-26","8458","N4105","CONDUITE ET LIVRAISON PAR TOURNÉES SUR COURTE DISTANCE",45,20,{"$f":"IF(C20449=\"\",\"\",COUNTIF($B$2:B20449,\"=\"&B20449))","v":26},50,1.112759643916914E-2,0.44444444444444442]
["8458-33","8458","G1703","RÉCEPTION EN HÔTELLERIE",39,21,{"$f":"IF(C20456=\"\",\"\",COUNTIF($B$2:B20456,\"=\"&B20456))","v":33},40,9.6439169139465875E-3,0.53846153846153844]
["8458-36","8458","H2903","CONDUITE D'ÉQUIPEMENT D'USINAGE",37,9,{"$f":"IF(C20459=\"\",\"\",COUNTIF($B$2:B20459,\"=\"&B20459))","v":36},40,9.1493570722057365E-3,0.24324324324324326]
["8458-45","8458","F1603","INSTALLATION D'ÉQUIPEMENTS SANITAIRES ET THERMIQUES",28,24,{"$f":"IF(C20468=\"\",\"\",COUNTIF($B$2:B20468,\"=\"&B20468))","v":45},30,6.923837784371909E-3,0.8571428571428571]
["8458-56","8458","F1610","POSE ET RESTAURATION DE COUVERTURES",20,14,{"$f":"IF(C20479=\"\",\"\",COUNTIF($B$2:B20479,\"=\"&B20479))","v":56},20,4.945598417408506E-3,0.7]
["8458-70","8458","M1501","ASSISTANAT EN RESSOURCES HUMAINES",12,8,{"$f":"IF(C20493=\"\",\"\",COUNTIF($B$2:B20493,\"=\"&B20493))","v":70},10,2.967359050445104E-3,0.66666666666666663]
["8458-81","8458","H2901","AJUSTEMENT ET MONTAGE DE FABRICATION",10,3,{"$f":"IF(C20504=\"\",\"\",COUNTIF($B$2:B20504,\"=\"&B20504))","v":81},10,2.472799208704253E-3,0.3]
["8458-88","8458","H1206","MANAGEMENT ET INGÉNIERIE ÉTUDES, RECHERCHE ET DÉVELOPPEMENT INDUSTRIEL",9,9,{"$f":"IF(C20511=\"\",\"\",COUNTIF($B$2:B20511,\"=\"&B20511))","v":88},10,2.225519287833828E-3,1]
["8458-99","8458","M1707","STRATÉGIE COMMERCIALE",7,7,{"$f":"IF(C20522=\"\",\"\",COUNTIF($B$2:B20522,\"=\"&B20522))","v":99},10,1.7309594460929772E-3,1]
["8458-108","8458","A1402","AIDE AGRICOLE DE PRODUCTION LÉGUMIÈRE OU VÉGÉTALE",7,".",{"$f":"IF(C20531=\"\",\"\",COUNTIF($B$2:B20531,\"=\"&B20531))","v":108},10,1.7309594460929772E-3,0]
["8458-114","8458","H3401","CONDUITE DE TRAITEMENT D'ABRASION DE SURFACE",6,2,{"$f":"IF(C20537=\"\",\"\",COUNTIF($B$2:B20537,\"=\"&B20537))","v":114},10,1.483679525222552E-3,0.33333333333333331]
[{"$f":"B20547&\"-\"&G20547","v":"8458-124"},"8458","K2110","FORMATION EN CONDUITE DE VÉHICULES",5,5,{"$f":"IF(C20547=\"\",\"\",COUNTIF($B$2:B20547,\"=\"&B20547))","v":124},10,1.2363996043521265E-3,1]
["8458-131","8458","F1608","POSE DE REVÊTEMENTS RIGIDES",5,5,{"$f":"IF(C20554=\"\",\"\",COUNTIF($B$2:B20554,\"=\"&B20554))","v":131},10,1.2363996043521265E-3,1]
["8458-143","8458","G1502","PERSONNEL POLYVALENT D'HÔTELLERIE",4,2,{"$f":"IF(C20566=\"\",\"\",COUNTIF($B$2:B20566,\"=\"&B20566))","v":143},0,9.8911968348170125E-4,0.5]
["8458-151","8458","A1501","AIDE AUX SOINS ANIMAUX",4,1,{"$f":"IF(C20574=\"\",\"\",COUNTIF($B$2:B20574,\"=\"&B20574))","v":151},0,9.8911968348170125E-4,0.25]
["8458-158","8458","J1410","PROTHÈSES DENTAIRES",3,1,{"$f":"IF(C20581=\"\",\"\",COUNTIF($B$2:B20581,\"=\"&B20581))","v":158},0,7.4183976261127599E-4,0.33333333333333331]
["8458-176","8458","A1205","SYLVICULTURE",3,".",{"$f":"IF(C20599=\"\",\"\",COUNTIF($B$2:B20599,\"=\"&B20599))","v":176},0,7.4183976261127599E-4,0]
["8458-183","8458","K2501","GARDIENNAGE DE LOCAUX",2,1,{"$f":"IF(C20606=\"\",\"\",COUNTIF($B$2:B20606,\"=\"&B20606))","v":183},0,4.9455984174085062E-4,0.5]
["8458-187","8458","J1404","KINÉSITHÉRAPIE",2,".",{"$f":"IF(C20610=\"\",\"\",COUNTIF($B$2:B20610,\"=\"&B20610))","v":187},0,{"$f":"E20610/SUMIF(B:B,B20610,E:E)","v":4.9455984174085062E-4},0]
["8458-199","8458","H2605","MONTAGE ET CÂBLAGE ÉLECTRONIQUE",2,2,{"$f":"IF(C20622=\"\",\"\",COUNTIF($B$2:B20622,\"=\"&B20622))","v":199},0,4.9455984174085062E-4,1]
["8458-212","8458","F1107","MESURES TOPOGRAPHIQUES",2,2,{"$f":"IF(C20635=\"\",\"\",COUNTIF($B$2:B20635,\"=\"&B20635))","v":212},0,4.9455984174085062E-4,1]
["8458-219","8458","A1414","HORTICULTURE ET MARAÎCHAGE",2,1,{"$f":"IF(C20642=\"\",\"\",COUNTIF($B$2:B20642,\"=\"&B20642))","v":219},0,4.9455984174085062E-4,0.5]
["8458-227","8458","M1704","MANAGEMENT RELATION CLIENTÈLE",1,1,{"$f":"IF(C20650=\"\",\"\",COUNTIF($B$2:B20650,\"=\"&B20650))","v":227},0,2.4727992087042531E-4,1]
["8458-239","8458","I1402","RÉPARATION DE BIENS ÉLECTRODOMESTIQUES ET MULTIMÉDIA",1,1,{"$f":"IF(C20662=\"\",\"\",COUNTIF($B$2:B20662,\"=\"&B20662))","v":239},0,2.4727992087042531E-4,1]
["8458-251","8458","H2201","ASSEMBLAGE D'OUVRAGES EN BOIS",1,1,{"$f":"IF(C20674=\"\",\"\",COUNTIF($B$2:B20674,\"=\"&B20674))","v":251},0,{"$f":"E20674/SUMIF(B:B,B20674,E:E)","v":2.4727992087042531E-4},1]
["8458-256","8458","G1802","MANAGEMENT DU SERVICE EN RESTAURATION",1,1,{"$f":"IF(C20679=\"\",\"\",COUNTIF($B$2:B20679,\"=\"&B20679))","v":256},0,2.4727992087042531E-4,1]
["8458-262","8458","F1605","MONTAGE DE RÉSEAUX ÉLECTRIQUES ET TÉLÉCOMS",1,1,{"$f":"IF(C20685=\"\",\"\",COUNTIF($B$2:B20685,\"=\"&B20685))","v":262},0,2.4727992087042531E-4,1]
["8458-275","8458","C1107","INDEMNISATIONS EN ASSURANCES",1,".",{"$f":"IF(C20698=\"\",\"\",COUNTIF($B$2:B20698,\"=\"&B20698))","v":275},0,2.4727992087042531E-4,0]
["8458-282","8458","A1202","ENTRETIEN DES ESPACES NATURELS",1,1,{"$f":"IF(C20705=\"\",\"\",COUNTIF($B$2:B20705,\"=\"&B20705))","v":282},0,2.4727992087042531E-4,1]
["8459-12","8459","N1103","MAGASINAGE ET PRÉPARATION DE COMMANDES",15,".",{"$f":"IF(C20717=\"\",\"\",COUNTIF($B$2:B20717,\"=\"&B20717))","v":12},20,1.6949152542372881E-2,0]
["8459-18","8459","D1212","VENTE EN DÉCORATION ET ÉQUIPEMENT DU FOYER",11,11,{"$f":"IF(C20723=\"\",\"\",COUNTIF($B$2:B20723,\"=\"&B20723))","v":18},10,1.2429378531073447E-2,1]
["8459-32","8459","G1803","SERVICE EN RESTAURATION",8,".",{"$f":"IF(C20737=\"\",\"\",COUNTIF($B$2:B20737,\"=\"&B20737))","v":32},{"$f":"ROUND(E20737,-1)","v":10},9.0395480225988704E-3,{"$f":"IF(OR(F20737=\"\",F20737=\".\"),0,F20737/E20737)","v":0}]
["8459-37","8459","M1607","SECRÉTARIAT",7,4,{"$f":"IF(C20742=\"\",\"\",COUNTIF($B$2:B20742,\"=\"&B20742))","v":37},10,7.9096045197740109E-3,0.5714285714285714]
["8459-52","8459","G1202","ANIMATION D'ACTIVITÉS CULTURELLES OU LUDIQUES",5,2,{"$f":"IF(C20757=\"\",\"\",COUNTIF($B$2:B20757,\"=\"&B20757))","v":52},10,5.6497175141242938E-3,0.4]
["8459-55","8459","F1606","PEINTURE EN BÂTIMENT",5,4,{"$f":"IF(C20760=\"\",\"\",COUNTIF($B$2:B20760,\"=\"&B20760))","v":55},10,5.6497175141242938E-3,0.8]
["8459-72","8459","M1803","DIRECTION DES SYSTÈMES D'INFORMATION",3,3,{"$f":"IF(C20777=\"\",\"\",COUNTIF($B$2:B20777,\"=\"&B20777))","v":72},0,3.3898305084745762E-3,1]
["8459-75","8459","K1601","GESTION DE L'INFORMATION ET DE LA DOCUMENTATION",3,1,{"$f":"IF(C20780=\"\",\"\",COUNTIF($B$2:B20780,\"=\"&B20780))","v":75},0,3.3898305084745762E-3,0.33333333333333331]
["8459-91","8459","K1305","INTERVENTION SOCIALE ET FAMILIALE",2,".",{"$f":"IF(C20796=\"\",\"\",COUNTIF($B$2:B20796,\"=\"&B20796))","v":91},0,2.2598870056497176E-3,0]
["8459-95","8459","H3203","FABRICATION DE PIÈCES EN MATÉRIAUX COMPOSITES",2,2,{"$f":"IF(C20800=\"\",\"\",COUNTIF($B$2:B20800,\"=\"&B20800))","v":95},0,2.2598870056497176E-3,1]
["8459-106","8459","F1201","CONDUITE DE TRAVAUX DU BTP ET DE TRAVAUX PAYSAGERS",2,2,{"$f":"IF(C20811=\"\",\"\",COUNTIF($B$2:B20811,\"=\"&B20811))","v":106},0,2.2598870056497176E-3,1]
["8459-112","8459","A1101","CONDUITE D'ENGINS AGRICOLES ET FORESTIERS",2,2,{"$f":"IF(C20817=\"\",\"\",COUNTIF($B$2:B20817,\"=\"&B20817))","v":112},0,2.2598870056497176E-3,1]
["8459-113","8459","N4104","COURSES ET LIVRAISONS EXPRESS",1,1,{"$f":"IF(C20818=\"\",\"\",COUNTIF($B$2:B20818,\"=\"&B20818))","v":113},0,1.1299435028248588E-3,1]
["8459-114","8459","N1301","CONCEPTION ET ORGANISATION DE LA CHAÎNE LOGISTIQUE",1,1,{"$f":"IF(C20819=\"\",\"\",COUNTIF($B$2:B20819,\"=\"&B20819))","v":114},0,1.1299435028248588E-3,1]
["8459-115","8459","N1105","MANUTENTION MANUELLE DE CHARGES",1,".",{"$f":"IF(C20820=\"\",\"\",COUNTIF($B$2:B20820,\"=\"&B20820))","v":115},0,1.1299435028248588E-3,0]
["8459-116","8459","M1805","ÉTUDES ET DÉVELOPPEMENT INFORMATIQUE",1,1,{"$f":"IF(C20821=\"\",\"\",COUNTIF($B$2:B20821,\"=\"&B20821))","v":116},0,1.1299435028248588E-3,1]
["8459-117","8459","M1707","STRATÉGIE COMMERCIALE",1,1,{"$f":"IF(C20822=\"\",\"\",COUNTIF($B$2:B20822,\"=\"&B20822))","v":117},0,1.1299435028248588E-3,1]
["8459-118","8459","M1605","ASSISTANAT TECHNIQUE ET ADMINISTRATIF",1,1,{"$f":"IF(C20823=\"\",\"\",COUNTIF($B$2:B20823,\"=\"&B20823))","v":118},0,1.1299435028248588E-3,1]
["8459-119","8459","M1503","MANAGEMENT DES RESSOURCES HUMAINES",1,".",{"$f":"IF(C20824=\"\",\"\",COUNTIF($B$2:B20824,\"=\"&B20824))","v":119},0,1.1299435028248588E-3,0]
["8459-120","8459","M1502","DÉVELOPPEMENT DES RESSOURCES HUMAINES",1,".",{"$f":"IF(C20825=\"\",\"\",COUNTIF($B$2:B20825,\"=\"&B20825))","v":120},0,1.1299435028248588E-3,0]
["8459-121","8459","M1302","DIRECTION DE PETITE OU MOYENNE ENTREPRISE",1,1,{"$f":"IF(C20826=\"\",\"\",COUNTIF($B$2:B20826,\"=\"&B20826))","v":121},0,1.1299435028248588E-3,1]
["8459-122","8459","M1204","CONTRÔLE DE GESTION",1,".",{"$f":"IF(C20827=\"\",\"\",COUNTIF($B$2:B20827,\"=\"&B20827))","v":122},0,1.1299435028248588E-3,0]
["8459-123","8459","M1202","AUDIT ET CONTRÔLE COMPTABLES ET FINANCIERS",1,1,{"$f":"IF(C20828=\"\",\"\",COUNTIF($B$2:B20828,\"=\"&B20828))","v":123},0,1.1299435028248588E-3,1]
["8459-124","8459","L1506","MACHINERIE SPECTACLE",1,1,{"$f":"IF(C20829=\"\",\"\",COUNTIF($B$2:B20829,\"=\"&B20829))","v":124},0,1.1299435028248588E-3,1]
["8459-125","8459","K2302","MANAGEMENT ET INSPECTION EN ENVIRONNEMENT URBAIN",1,1,{"$f":"IF(C20830=\"\",\"\",COUNTIF($B$2:B20830,\"=\"&B20830))","v":125},0,1.1299435028248588E-3,1]
["8459-126","8459","K2301","DISTRIBUTION ET ASSAINISSEMENT D'EAU",1,1,{"$f":"IF(C20831=\"\",\"\",COUNTIF($B$2:B20831,\"=\"&B20831))","v":126},0,1.1299435028248588E-3,1]
["8459-127","8459","K2110","FORMATION EN CONDUITE DE VÉHICULES",1,1,{"$f":"IF(C20832=\"\",\"\",COUNTIF($B$2:B20832,\"=\"&B20832))","v":127},0,1.1299435028248588E-3,1]
["8459-128","8459","K2105","ENSEIGNEMENT ARTISTIQUE",1,1,{"$f":"IF(C20833=\"\",\"\",COUNTIF($B$2:B20833,\"=\"&B20833))","v":128},0,1.1299435028248588E-3,1]
["8459-129","8459","K2102","COORDINATION PÉDAGOGIQUE",1,1,{"$f":"IF(C20834=\"\",\"\",COUNTIF($B$2:B20834,\"=\"&B20834))","v":129},0,1.1299435028248588E-3,1]
["8459-130","8459","K1707","SURVEILLANCE MUNICIPALE",1,1,{"$f":"IF(C20835=\"\",\"\",COUNTIF($B$2:B20835,\"=\"&B20835))","v":130},0,1.1299435028248588E-3,1]
["8459-131","8459","K1403","MANAGEMENT DE STRUCTURE DE SANTÉ, SOCIALE OU PÉNITENTIAIRE",1,1,{"$f":"IF(C20836=\"\",\"\",COUNTIF($B$2:B20836,\"=\"&B20836))","v":131},0,1.1299435028248588E-3,1]
["8459-132","8459","K1206","INTERVENTION SOCIOCULTURELLE",1,".",{"$f":"IF(C20837=\"\",\"\",COUNTIF($B$2:B20837,\"=\"&B20837))","v":132},0,1.1299435028248588E-3,0]
["8459-133","8459","J1505","SOINS INFIRMIERS SPÉCIALISÉS EN PRÉVENTION",1,".",{"$f":"IF(C20838=\"\",\"\",COUNTIF($B$2:B20838,\"=\"&B20838))","v":133},0,1.1299435028248588E-3,0]
["8459-134","8459","J1402","DIÉTÉTIQUE",1,".",{"$f":"IF(C20839=\"\",\"\",COUNTIF($B$2:B20839,\"=\"&B20839))","v":134},0,1.1299435028248588E-3,0]
["8459-135","8459","J1303","ASSISTANCE MÉDICO-TECHNIQUE",1,1,{"$f":"IF(C20840=\"\",\"\",COUNTIF($B$2:B20840,\"=\"&B20840))","v":135},0,1.1299435028248588E-3,1]
["8459-136","8459","I1607","RÉPARATION DE CYCLES, MOTOCYCLES ET MOTOCULTEURS DE LOISIRS",1,1,{"$f":"IF(C20841=\"\",\"\",COUNTIF($B$2:B20841,\"=\"&B20841))","v":136},0,1.1299435028248588E-3,1]
["8459-137","8459","I1101","DIRECTION ET INGÉNIERIE EN ENTRETIEN INFRASTRUCTURE ET BÂTI",1,".",{"$f":"IF(C20842=\"\",\"\",COUNTIF($B$2:B20842,\"=\"&B20842))","v":137},0,1.1299435028248588E-3,0]
["8459-138","8459","H3102","CONDUITE D'INSTALLATION DE PÂTE À PAPIER",1,".",{"$f":"IF(C20843=\"\",\"\",COUNTIF($B$2:B20843,\"=\"&B20843))","v":138},0,1.1299435028248588E-3,0]
["8459-139","8459","H2914","RÉALISATION ET MONTAGE EN TUYAUTERIE",1,".",{"$f":"IF(C20844=\"\",\"\",COUNTIF($B$2:B20844,\"=\"&B20844))","v":139},0,1.1299435028248588E-3,0]
["8459-140","8459","H2909","MONTAGE-ASSEMBLAGE MÉCANIQUE",1,1,{"$f":"IF(C20845=\"\",\"\",COUNTIF($B$2:B20845,\"=\"&B20845))","v":140},0,1.1299435028248588E-3,1]
["8459-141","8459","H2907","CONDUITE D'INSTALLATION DE PRODUCTION DES MÉTAUX",1,1,{"$f":"IF(C20846=\"\",\"\",COUNTIF($B$2:B20846,\"=\"&B20846))","v":141},0,1.1299435028248588E-3,1]
["8459-142","8459","H2603","CONDUITE D'INSTALLATION AUTOMATISÉE DE PRODUCTION ÉLECTRIQUE, ÉLECTRONIQUE ET MICROÉLECTRONIQUE",1,1,{"$f":"IF(C20847=\"\",\"\",COUNTIF($B$2:B20847,\"=\"&B20847))","v":142},0,1.1299435028248588E-3,1]
["8459-143","8459","H2504","ENCADREMENT D'ÉQUIPE EN INDUSTRIE DE TRANSFORMATION",1,1,{"$f":"IF(C20848=\"\",\"\",COUNTIF($B$2:B20848,\"=\"&B20848))","v":143},0,1.1299435028248588E-3,1]
["8459-144","8459","H2413","PRÉPARATION DE FILS, MONTAGE DE MÉTIERS TEXTILES",1,1,{"$f":"IF(C20849=\"\",\"\",COUNTIF($B$2:B20849,\"=\"&B20849))","v":144},0,1.1299435028248588E-3,1]
["8459-145","8459","H2402","ASSEMBLAGE - MONTAGE DE VÊTEMENTS ET PRODUITS TEXTILES",1,".",{"$f":"IF(C20850=\"\",\"\",COUNTIF($B$2:B20850,\"=\"&B20850))","v":145},0,1.1299435028248588E-3,0]
["8459-146","8459","H1404","INTERVENTION TECHNIQUE EN MÉTHODES ET INDUSTRIALISATION",1,1,{"$f":"IF(C20851=\"\",\"\",COUNTIF($B$2:B20851,\"=\"&B20851))","v":146},0,1.1299435028248588E-3,1]
["8459-147","8459","H1301","INSPECTION DE CONFORMITÉ",1,1,{"$f":"IF(C20852=\"\",\"\",COUNTIF($B$2:B20852,\"=\"&B20852))","v":147},0,1.1299435028248588E-3,1]
["8459-148","8459","H1208","INTERVENTION TECHNIQUE EN ÉTUDES ET CONCEPTION EN AUTOMATISME",1,1,{"$f":"IF(C20853=\"\",\"\",COUNTIF($B$2:B20853,\"=\"&B20853))","v":148},0,1.1299435028248588E-3,1]
["8459-149","8459","H1102","MANAGEMENT ET INGÉNIERIE D'AFFAIRES",1,1,{"$f":"IF(C20854=\"\",\"\",COUNTIF($B$2:B20854,\"=\"&B20854))","v":149},0,1.1299435028248588E-3,1]
["8459-150","8459","G1802","MANAGEMENT DU SERVICE EN RESTAURATION",1,".",{"$f":"IF(C20855=\"\",\"\",COUNTIF($B$2:B20855,\"=\"&B20855))","v":150},0,1.1299435028248588E-3,0]
["8459-151","8459","G1703","RÉCEPTION EN HÔTELLERIE",1,1,{"$f":"IF(C20856=\"\",\"\",COUNTIF($B$2:B20856,\"=\"&B20856))","v":151},0,1.1299435028248588E-3,1]
["8459-152","8459","G1403","GESTION DE STRUCTURE DE LOISIRS OU D'HÉBERGEMENT TOURISTIQUE",1,1,{"$f":"IF(C20857=\"\",\"\",COUNTIF($B$2:B20857,\"=\"&B20857))","v":152},0,1.1299435028248588E-3,1]
["8459-153","8459","G1401","ASSISTANCE DE DIRECTION D'HÔTEL-RESTAURANT",1,1,{"$f":"IF(C20858=\"\",\"\",COUNTIF($B$2:B20858,\"=\"&B20858))","v":153},0,1.1299435028248588E-3,1]
["8459-154","8459","G1303","VENTE DE VOYAGES",1,".",{"$f":"IF(C20859=\"\",\"\",COUNTIF($B$2:B20859,\"=\"&B20859))","v":154},0,1.1299435028248588E-3,0]
["8459-155","8459","G1102","PROMOTION DU TOURISME LOCAL",1,1,{"$f":"IF(C20860=\"\",\"\",COUNTIF($B$2:B20860,\"=\"&B20860))","v":155},0,1.1299435028248588E-3,1]
["8459-156","8459","F1704","PRÉPARATION DU GROS OEUVRE ET DES TRAVAUX PUBLICS",1,".",{"$f":"IF(C20861=\"\",\"\",COUNTIF($B$2:B20861,\"=\"&B20861))","v":156},0,1.1299435028248588E-3,0]
["8459-157","8459","F1602","ÉLECTRICITÉ BÂTIMENT",1,".",{"$f":"IF(C20862=\"\",\"\",COUNTIF($B$2:B20862,\"=\"&B20862))","v":157},0,1.1299435028248588E-3,0]
["8459-158","8459","E1205","RÉALISATION DE CONTENUS MULTIMÉDIAS",1,".",{"$f":"IF(C20863=\"\",\"\",COUNTIF($B$2:B20863,\"=\"&B20863))","v":158},0,1.1299435028248588E-3,0]
["8459-159","8459","E1107","ORGANISATION D'ÉVÈNEMENTIEL",1,1,{"$f":"IF(C20864=\"\",\"\",COUNTIF($B$2:B20864,\"=\"&B20864))","v":159},0,1.1299435028248588E-3,1]
["8459-160","8459","E1103","COMMUNICATION",1,1,{"$f":"IF(C20865=\"\",\"\",COUNTIF($B$2:B20865,\"=\"&B20865))","v":160},{"$f":"ROUND(E20865,-1)","v":0},1.1299435028248588E-3,{"$f":"IF(OR(F20865=\"\",F20865=\".\"),0,F20865/E20865)","v":1}]
["8459-161","8459","E1101","ANIMATION DE SITE MULTIMÉDIA",1,".",{"$f":"IF(C20866=\"\",\"\",COUNTIF($B$2:B20866,\"=\"&B20866))","v":161},0,{"$f":"E20866/SUMIF(B:B,B20866,E:E)","v":1.1299435028248588E-3},0]
[{"$f":"B20867&\"-\"&G20867","v":"8459-162"},"8459","D1403","RELATION COMMERCIALE AUPRÈS DE PARTICULIERS",1,1,{"$f":"IF(C20867=\"\",\"\",COUNTIF($B$2:B20867,\"=\"&B20867))","v":162},0,1.1299435028248588E-3,1]
["8459-163","8459","D1402","RELATION COMMERCIALE GRANDS COMPTES ET ENTREPRISES",1,1,{"$f":"IF(C20868=\"\",\"\",COUNTIF($B$2:B20868,\"=\"&B20868))","v":163},0,1.1299435028248588E-3,1]
["8459-164","8459","D1211","VENTE EN ARTICLES DE SPORT ET LOISIRS",1,".",{"$f":"IF(C20869=\"\",\"\",COUNTIF($B$2:B20869,\"=\"&B20869))","v":164},0,1.1299435028248588E-3,0]
["8459-165","8459","D1202","COIFFURE",1,1,{"$f":"IF(C20870=\"\",\"\",COUNTIF($B$2:B20870,\"=\"&B20870))","v":165},0,1.1299435028248588E-3,1]
["8459-166","8459","C1501","GÉRANCE IMMOBILIÈRE",1,1,{"$f":"IF(C20871=\"\",\"\",COUNTIF($B$2:B20871,\"=\"&B20871))","v":166},0,1.1299435028248588E-3,1]
["8459-167","8459","C1201","ACCUEIL ET SERVICES BANCAIRES",1,".",{"$f":"IF(C20872=\"\",\"\",COUNTIF($B$2:B20872,\"=\"&B20872))","v":167},0,1.1299435028248588E-3,0]
["8459-168","8459","A1501","AIDE AUX SOINS ANIMAUX",1,1,{"$f":"IF(C20873=\"\",\"\",COUNTIF($B$2:B20873,\"=\"&B20873))","v":168},0,1.1299435028248588E-3,1]
["8459-169","8459","A1416","POLYCULTURE, ÉLEVAGE",1,1,{"$f":"IF(C20874=\"\",\"\",COUNTIF($B$2:B20874,\"=\"&B20874))","v":169},0,1.1299435028248588E-3,1]
["8459-170","8459","A1412","FABRICATION ET AFFINAGE DE FROMAGES",1,1,{"$f":"IF(C20875=\"\",\"\",COUNTIF($B$2:B20875,\"=\"&B20875))","v":170},0,1.1299435028248588E-3,1]
["8459-171","8459","A1409","ÉLEVAGE DE LAPINS ET VOLAILLES",1,1,{"$f":"IF(C20876=\"\",\"\",COUNTIF($B$2:B20876,\"=\"&B20876))","v":171},0,1.1299435028248588E-3,1]
["8459-172","8459","A1407","ÉLEVAGE BOVIN OU ÉQUIN",1,1,{"$f":"IF(C20877=\"\",\"\",COUNTIF($B$2:B20877,\"=\"&B20877))","v":172},0,1.1299435028248588E-3,1]
["8460-1","8460","G1602","PERSONNEL DE CUISINE",93,50,{"$f":"IF(C20878=\"\",\"\",COUNTIF($B$2:B20878,\"=\"&B20878))","v":1},90,6.4404432132963985E-2,0.5376344086021505]
["8460-2","8460","H2102","CONDUITE D'ÉQUIPEMENT DE PRODUCTION ALIMENTAIRE",73,".",{"$f":"IF(C20879=\"\",\"\",COUNTIF($B$2:B20879,\"=\"&B20879))","v":2},70,5.0554016620498618E-2,0]
["8460-3","8460","K2204","NETTOYAGE DE LOCAUX",61,32,{"$f":"IF(C20880=\"\",\"\",COUNTIF($B$2:B20880,\"=\"&B20880))","v":3},60,4.224376731301939E-2,0.52459016393442626]
["8460-4","8460","G1803","SERVICE EN RESTAURATION",47,13,{"$f":"IF(C20881=\"\",\"\",COUNTIF($B$2:B20881,\"=\"&B20881))","v":4},50,3.254847645429363E-2,0.27659574468085107]
["8460-5","8460","K1304","SERVICES DOMESTIQUES",45,12,{"$f":"IF(C20882=\"\",\"\",COUNTIF($B$2:B20882,\"=\"&B20882))","v":5},50,3.1163434903047092E-2,0.26666666666666666]
["8460-6","8460","D1101","BOUCHERIE",44,40,{"$f":"IF(C20883=\"\",\"\",COUNTIF($B$2:B20883,\"=\"&B20883))","v":6},40,3.0470914127423823E-2,0.90909090909090906]
["8460-7","8460","D1507","MISE EN RAYON LIBRE-SERVICE",32,13,{"$f":"IF(C20884=\"\",\"\",COUNTIF($B$2:B20884,\"=\"&B20884))","v":7},30,2.2160664819944598E-2,0.40625]
["8460-8","8460","H3302","OPÉRATIONS MANUELLES D'ASSEMBLAGE, TRI OU EMBALLAGE",31,20,{"$f":"IF(C20885=\"\",\"\",COUNTIF($B$2:B20885,\"=\"&B20885))","v":8},30,2.1468144044321329E-2,0.64516129032258063]
["8460-9","8460","K1302","ASSISTANCE AUPRÈS D'ADULTES",29,22,{"$f":"IF(C20886=\"\",\"\",COUNTIF($B$2:B20886,\"=\"&B20886))","v":9},30,2.0083102493074791E-2,0.75862068965517238]
["8460-10","8460","J1501","SOINS D'HYGIÈNE, DE CONFORT DU PATIENT",29,18,{"$f":"IF(C20887=\"\",\"\",COUNTIF($B$2:B20887,\"=\"&B20887))","v":10},30,2.0083102493074791E-2,0.62068965517241381]
["8460-11","8460","G1501","PERSONNEL D'ÉTAGE",29,7,{"$f":"IF(C20888=\"\",\"\",COUNTIF($B$2:B20888,\"=\"&B20888))","v":11},30,2.0083102493074791E-2,0.2413793103448276]
["8460-12","8460","J1506","SOINS INFIRMIERS GÉNÉRALISTES",26,21,{"$f":"IF(C20889=\"\",\"\",COUNTIF($B$2:B20889,\"=\"&B20889))","v":12},30,1.8005540166204988E-2,0.80769230769230771]
["8460-13","8460","I1203","MAINTENANCE DES BÂTIMENTS ET DES LOCAUX",26,14,{"$f":"IF(C20890=\"\",\"\",COUNTIF($B$2:B20890,\"=\"&B20890))","v":13},30,1.8005540166204988E-2,0.53846153846153844]
["8460-14","8460","G1605","PLONGE EN RESTAURATION",23,".",{"$f":"IF(C20891=\"\",\"\",COUNTIF($B$2:B20891,\"=\"&B20891))","v":14},20,1.5927977839335181E-2,0]
["8460-15","8460","G1703","RÉCEPTION EN HÔTELLERIE",21,4,{"$f":"IF(C20892=\"\",\"\",COUNTIF($B$2:B20892,\"=\"&B20892))","v":15},20,1.4542936288088643E-2,0.19047619047619047]
["8460-16","8460","N1103","MAGASINAGE ET PRÉPARATION DE COMMANDES",19,10,{"$f":"IF(C20893=\"\",\"\",COUNTIF($B$2:B20893,\"=\"&B20893))","v":16},20,1.3157894736842105E-2,0.52631578947368418]
["8460-17","8460","N4101","CONDUITE DE TRANSPORT DE MARCHANDISES SUR LONGUE DISTANCE",19,3,{"$f":"IF(C20894=\"\",\"\",COUNTIF($B$2:B20894,\"=\"&B20894))","v":17},20,1.3157894736842105E-2,0.15789473684210525]
["8460-18","8460","G1802","MANAGEMENT DU SERVICE EN RESTAURATION",17,5,{"$f":"IF(C20895=\"\",\"\",COUNTIF($B$2:B20895,\"=\"&B20895))","v":18},20,1.1772853185595568E-2,0.29411764705882354]
["8460-19","8460","G1203","ANIMATION DE LOISIRS AUPRÈS D'ENFANTS OU D'ADOLESCENTS",17,2,{"$f":"IF(C20896=\"\",\"\",COUNTIF($B$2:B20896,\"=\"&B20896))","v":19},20,1.1772853185595568E-2,0.11764705882352941]
["8460-20","8460","F1704","PRÉPARATION DU GROS OEUVRE ET DES TRAVAUX PUBLICS",17,4,{"$f":"IF(C20897=\"\",\"\",COUNTIF($B$2:B20897,\"=\"&B20897))","v":20},20,1.1772853185595568E-2,0.23529411764705882]
["8460-21","8460","M1607","SECRÉTARIAT",15,6,{"$f":"IF(C20898=\"\",\"\",COUNTIF($B$2:B20898,\"=\"&B20898))","v":21},20,1.038781163434903E-2,0.4]
["8460-22","8460","F1703","MAÇONNERIE",15,10,{"$f":"IF(C20899=\"\",\"\",COUNTIF($B$2:B20899,\"=\"&B20899))","v":22},20,1.038781163434903E-2,0.66666666666666663]
["8460-23","8460","F1603","INSTALLATION D'ÉQUIPEMENTS SANITAIRES ET THERMIQUES",15,14,{"$f":"IF(C20900=\"\",\"\",COUNTIF($B$2:B20900,\"=\"&B20900))","v":23},20,1.038781163434903E-2,0.93333333333333335]
["8460-24","8460","K2111","FORMATION PROFESSIONNELLE",14,9,{"$f":"IF(C20901=\"\",\"\",COUNTIF($B$2:B20901,\"=\"&B20901))","v":24},10,9.6952908587257611E-3,0.6428571428571429]
["8460-25","8460","J1301","PERSONNEL POLYVALENT DES SERVICES HOSPITALIERS",14,5,{"$f":"IF(C20902=\"\",\"\",COUNTIF($B$2:B20902,\"=\"&B20902))","v":25},10,9.6952908587257611E-3,0.35714285714285715]
["8460-26","8460","H2903","CONDUITE D'ÉQUIPEMENT D'USINAGE",14,8,{"$f":"IF(C20903=\"\",\"\",COUNTIF($B$2:B20903,\"=\"&B20903))","v":26},10,9.6952908587257611E-3,0.5714285714285714]
["8460-27","8460","N4105","CONDUITE ET LIVRAISON PAR TOURNÉES SUR COURTE DISTANCE",13,8,{"$f":"IF(C20904=\"\",\"\",COUNTIF($B$2:B20904,\"=\"&B20904))","v":27},10,9.0027700831024939E-3,0.61538461538461542]
["8460-28","8460","K2104","ÉDUCATION ET SURVEILLANCE AU SEIN D'ÉTABLISSEMENTS D'ENSEIGNEMENT",13,9,{"$f":"IF(C20905=\"\",\"\",COUNTIF($B$2:B20905,\"=\"&B20905))","v":28},10,9.0027700831024939E-3,0.69230769230769229]
["8460-29","8460","K1303","ASSISTANCE AUPRÈS D'ENFANTS",13,6,{"$f":"IF(C20906=\"\",\"\",COUNTIF($B$2:B20906,\"=\"&B20906))","v":29},10,9.0027700831024939E-3,0.46153846153846156]
["8460-30","8460","A1203","AMÉNAGEMENT ET ENTRETIEN DES ESPACES VERTS",13,8,{"$f":"IF(C20907=\"\",\"\",COUNTIF($B$2:B20907,\"=\"&B20907))","v":30},10,9.0027700831024939E-3,0.61538461538461542]
["8460-31","8460","M1203","COMPTABILITÉ",12,9,{"$f":"IF(C20908=\"\",\"\",COUNTIF($B$2:B20908,\"=\"&B20908))","v":31},10,8.3102493074792248E-3,0.75]
["8460-32","8460","F1302","CONDUITE D'ENGINS DE TERRASSEMENT ET DE CARRIÈRE",12,3,{"$f":"IF(C20909=\"\",\"\",COUNTIF($B$2:B20909,\"=\"&B20909))","v":32},10,8.3102493074792248E-3,0.25]
["8460-33","8460","D1212","VENTE EN DÉCORATION ET ÉQUIPEMENT DU FOYER",12,9,{"$f":"IF(C20910=\"\",\"\",COUNTIF($B$2:B20910,\"=\"&B20910))","v":33},10,8.3102493074792248E-3,0.75]
["8460-34","8460","B1603","RÉALISATION D'OUVRAGES EN BIJOUTERIE, JOAILLERIE ET ORFÈVRERIE",12,".",{"$f":"IF(C20911=\"\",\"\",COUNTIF($B$2:B20911,\"=\"&B20911))","v":34},10,8.3102493074792248E-3,0]
["8460-35","8460","G1801","CAFÉ, BAR BRASSERIE",11,3,{"$f":"IF(C20912=\"\",\"\",COUNTIF($B$2:B20912,\"=\"&B20912))","v":35},10,7.6177285318559558E-3,0.27272727272727271]
["8460-36","8460","F1607","POSE DE FERMETURES MENUISÉES",11,7,{"$f":"IF(C20913=\"\",\"\",COUNTIF($B$2:B20913,\"=\"&B20913))","v":36},10,7.6177285318559558E-3,0.63636363636363635]
["8460-37","8460","D1106","VENTE EN ALIMENTATION",11,6,{"$f":"IF(C20914=\"\",\"\",COUNTIF($B$2:B20914,\"=\"&B20914))","v":37},10,7.6177285318559558E-3,0.54545454545454541]
["8460-38","8460","G1603","PERSONNEL POLYVALENT EN RESTAURATION",10,4,{"$f":"IF(C20915=\"\",\"\",COUNTIF($B$2:B20915,\"=\"&B20915))","v":38},10,6.9252077562326868E-3,0.4]
["8460-39","8460","G1601","MANAGEMENT DU PERSONNEL DE CUISINE",10,5,{"$f":"IF(C20916=\"\",\"\",COUNTIF($B$2:B20916,\"=\"&B20916))","v":39},10,6.9252077562326868E-3,0.5]
["8460-40","8460","F1610","POSE ET RESTAURATION DE COUVERTURES",10,7,{"$f":"IF(C20917=\"\",\"\",COUNTIF($B$2:B20917,\"=\"&B20917))","v":40},10,6.9252077562326868E-3,0.7]
["8460-41","8460","D1403","RELATION COMMERCIALE AUPRÈS DE PARTICULIERS",10,6,{"$f":"IF(C20918=\"\",\"\",COUNTIF($B$2:B20918,\"=\"&B20918))","v":41},10,6.9252077562326868E-3,0.6]
["8460-42","8460","D1208","SOINS ESTHÉTIQUES ET CORPORELS",10,2,{"$f":"IF(C20919=\"\",\"\",COUNTIF($B$2:B20919,\"=\"&B20919))","v":42},10,6.9252077562326868E-3,0.2]
["8460-43","8460","K1207","INTERVENTION SOCIOÉDUCATIVE",9,".",{"$f":"IF(C20920=\"\",\"\",COUNTIF($B$2:B20920,\"=\"&B20920))","v":43},10,6.2326869806094186E-3,0]
["8460-44","8460","G1204","ÉDUCATION EN ACTIVITÉS SPORTIVES",9,4,{"$f":"IF(C20921=\"\",\"\",COUNTIF($B$2:B20921,\"=\"&B20921))","v":44},10,6.2326869806094186E-3,0.44444444444444442]
["8460-45","8460","G1202","ANIMATION D'ACTIVITÉS CULTURELLES OU LUDIQUES",9,5,{"$f":"IF(C20922=\"\",\"\",COUNTIF($B$2:B20922,\"=\"&B20922))","v":45},10,6.2326869806094186E-3,0.55555555555555558]
["8460-46","8460","D1202","COIFFURE",9,9,{"$f":"IF(C20923=\"\",\"\",COUNTIF($B$2:B20923,\"=\"&B20923))","v":46},10,6.2326869806094186E-3,1]
["8460-47","8460","D1104","PÂTISSERIE, CONFISERIE, CHOCOLATERIE ET GLACERIE",9,7,{"$f":"IF(C20924=\"\",\"\",COUNTIF($B$2:B20924,\"=\"&B20924))","v":47},10,6.2326869806094186E-3,0.77777777777777779]
["8460-48","8460","K1201","ACTION SOCIALE",8,4,{"$f":"IF(C20925=\"\",\"\",COUNTIF($B$2:B20925,\"=\"&B20925))","v":48},10,5.5401662049861496E-3,0.5]
["8460-49","8460","I1101","DIRECTION ET INGÉNIERIE EN ENTRETIEN INFRASTRUCTURE ET BÂTI",8,8,{"$f":"IF(C20926=\"\",\"\",COUNTIF($B$2:B20926,\"=\"&B20926))","v":49},10,5.5401662049861496E-3,1]
["8460-50","8460","H1404","INTERVENTION TECHNIQUE EN MÉTHODES ET INDUSTRIALISATION",8,5,{"$f":"IF(C20927=\"\",\"\",COUNTIF($B$2:B20927,\"=\"&B20927))","v":50},10,5.5401662049861496E-3,0.625]
["8460-51","8460","F1602","ÉLECTRICITÉ BÂTIMENT",8,5,{"$f":"IF(C20928=\"\",\"\",COUNTIF($B$2:B20928,\"=\"&B20928))","v":51},10,5.5401662049861496E-3,0.625]
["8460-52","8460","F1502","MONTAGE DE STRUCTURES MÉTALLIQUES",8,4,{"$f":"IF(C20929=\"\",\"\",COUNTIF($B$2:B20929,\"=\"&B20929))","v":52},{"$f":"ROUND(E20929,-1)","v":10},5.5401662049861496E-3,{"$f":"IF(OR(F20929=\"\",F20929=\".\"),0,F20929/E20929)","v":0.5}]
["8460-53","8460","D1401","ASSISTANAT COMMERCIAL",8,4,{"$f":"IF(C20930=\"\",\"\",COUNTIF($B$2:B20930,\"=\"&B20930))","v":53},10,{"$f":"E20930/SUMIF(B:B,B20930,E:E)","v":5.5401662049861496E-3},0.5]
[{"$f":"B20931&\"-\"&G20931","v":"8460-54"},"8460","A1416","POLYCULTURE, ÉLEVAGE",8,2,{"$f":"IF(C20931=\"\",\"\",COUNTIF($B$2:B20931,\"=\"&B20931))","v":54},10,5.5401662049861496E-3,0.25]
["8460-55","8460","A1414","HORTICULTURE ET MARAÎCHAGE",8,3,{"$f":"IF(C20932=\"\",\"\",COUNTIF($B$2:B20932,\"=\"&B20932))","v":55},10,5.5401662049861496E-3,0.375]
["8460-56","8460","H1502","MANAGEMENT ET INGÉNIERIE QUALITÉ INDUSTRIELLE",7,6,{"$f":"IF(C20933=\"\",\"\",COUNTIF($B$2:B20933,\"=\"&B20933))","v":56},10,4.8476454293628806E-3,0.8571428571428571]
["8460-57","8460","D1102","BOULANGERIE - VIENNOISERIE",7,6,{"$f":"IF(C20934=\"\",\"\",COUNTIF($B$2:B20934,\"=\"&B20934))","v":57},10,4.8476454293628806E-3,0.8571428571428571]
["8460-58","8460","B1803","RÉALISATION DE VÊTEMENTS SUR MESURE OU EN PETITE SÉRIE",7,".",{"$f":"IF(C20935=\"\",\"\",COUNTIF($B$2:B20935,\"=\"&B20935))","v":58},10,4.8476454293628806E-3,0]
["8460-59","8460","N4103","CONDUITE DE TRANSPORT EN COMMUN SUR ROUTE",6,1,{"$f":"IF(C20936=\"\",\"\",COUNTIF($B$2:B20936,\"=\"&B20936))","v":59},10,4.1551246537396124E-3,0.16666666666666666]
["8460-60","8460","K1206","INTERVENTION SOCIOCULTURELLE",6,5,{"$f":"IF(C20937=\"\",\"\",COUNTIF($B$2:B20937,\"=\"&B20937))","v":60},10,4.1551246537396124E-3,0.83333333333333337]
["8460-61","8460","K1203","ENCADREMENT TECHNIQUE EN INSERTION PROFESSIONNELLE",6,5,{"$f":"IF(C20938=\"\",\"\",COUNTIF($B$2:B20938,\"=\"&B20938))","v":61},10,4.1551246537396124E-3,0.83333333333333337]
["8460-62","8460","I1304","INSTALLATION ET MAINTENANCE D'ÉQUIPEMENTS INDUSTRIELS ET D'EXPLOITATION",6,3,{"$f":"IF(C20939=\"\",\"\",COUNTIF($B$2:B20939,\"=\"&B20939))","v":62},10,4.1551246537396124E-3,0.5]
["8460-63","8460","G1403","GESTION DE STRUCTURE DE LOISIRS OU D'HÉBERGEMENT TOURISTIQUE",6,4,{"$f":"IF(C20940=\"\",\"\",COUNTIF($B$2:B20940,\"=\"&B20940))","v":63},10,4.1551246537396124E-3,0.66666666666666663]
["8460-64","8460","F1702","CONSTRUCTION DE ROUTES ET VOIES",6,1,{"$f":"IF(C20941=\"\",\"\",COUNTIF($B$2:B20941,\"=\"&B20941))","v":64},10,4.1551246537396124E-3,0.16666666666666666]
["8460-65","8460","F1503","RÉALISATION - INSTALLATION D'OSSATURES BOIS",6,5,{"$f":"IF(C20942=\"\",\"\",COUNTIF($B$2:B20942,\"=\"&B20942))","v":65},10,4.1551246537396124E-3,0.83333333333333337]
["8460-66","8460","K2109","ENSEIGNEMENT TECHNIQUE ET PROFESSIONNEL",5,3,{"$f":"IF(C20943=\"\",\"\",COUNTIF($B$2:B20943,\"=\"&B20943))","v":66},10,3.4626038781163434E-3,0.6]
["8460-67","8460","J1303","ASSISTANCE MÉDICO-TECHNIQUE",5,3,{"$f":"IF(C20944=\"\",\"\",COUNTIF($B$2:B20944,\"=\"&B20944))","v":67},10,3.4626038781163434E-3,0.6]
["8460-68","8460","H2603","CONDUITE D'INSTALLATION AUTOMATISÉE DE PRODUCTION ÉLECTRIQUE, ÉLECTRONIQUE ET MICROÉLECTRONIQUE",5,5,{"$f":"IF(C20945=\"\",\"\",COUNTIF($B$2:B20945,\"=\"&B20945))","v":68},10,3.4626038781163434E-3,1]
["8460-69","8460","H2502","MANAGEMENT ET INGÉNIERIE DE PRODUCTION",5,4,{"$f":"IF(C20946=\"\",\"\",COUNTIF($B$2:B20946,\"=\"&B20946))","v":69},10,3.4626038781163434E-3,0.8]
["8460-70","8460","G1101","ACCUEIL TOURISTIQUE",5,".",{"$f":"IF(C20947=\"\",\"\",COUNTIF($B$2:B20947,\"=\"&B20947))","v":70},10,3.4626038781163434E-3,0]
["8460-71","8460","F1104","DESSIN BTP ET PAYSAGE",5,4,{"$f":"IF(C20948=\"\",\"\",COUNTIF($B$2:B20948,\"=\"&B20948))","v":71},10,3.4626038781163434E-3,0.8]
["8460-72","8460","D1505","PERSONNEL DE CAISSE",5,2,{"$f":"IF(C20949=\"\",\"\",COUNTIF($B$2:B20949,\"=\"&B20949))","v":72},10,3.4626038781163434E-3,0.4]
["8460-73","8460","N1105","MANUTENTION MANUELLE DE CHARGES",4,1,{"$f":"IF(C20950=\"\",\"\",COUNTIF($B$2:B20950,\"=\"&B20950))","v":73},0,2.7700831024930748E-3,0.25]
["8460-74","8460","K1202","ÉDUCATION DE JEUNES ENFANTS",4,3,{"$f":"IF(C20951=\"\",\"\",COUNTIF($B$2:B20951,\"=\"&B20951))","v":74},0,2.7700831024930748E-3,0.75]
["8460-75","8460","J1410","PROTHÈSES DENTAIRES",4,4,{"$f":"IF(C20952=\"\",\"\",COUNTIF($B$2:B20952,\"=\"&B20952))","v":75},0,2.7700831024930748E-3,1]
["8460-76","8460","I1607","RÉPARATION DE CYCLES, MOTOCYCLES ET MOTOCULTEURS DE LOISIRS",4,4,{"$f":"IF(C20953=\"\",\"\",COUNTIF($B$2:B20953,\"=\"&B20953))","v":76},0,2.7700831024930748E-3,1]
["8460-77","8460","I1604","MÉCANIQUE AUTOMOBILE ET ENTRETIEN DE VÉHICULES",4,4,{"$f":"IF(C20954=\"\",\"\",COUNTIF($B$2:B20954,\"=\"&B20954))","v":77},0,2.7700831024930748E-3,1]
["8460-78","8460","I1402","RÉPARATION DE BIENS ÉLECTRODOMESTIQUES ET MULTIMÉDIA",4,4,{"$f":"IF(C20955=\"\",\"\",COUNTIF($B$2:B20955,\"=\"&B20955))","v":78},0,2.7700831024930748E-3,1]
["8460-79","8460","H3404","PEINTURE INDUSTRIELLE",4,".",{"$f":"IF(C20956=\"\",\"\",COUNTIF($B$2:B20956,\"=\"&B20956))","v":79},0,2.7700831024930748E-3,0]
["8460-80","8460","M1604","ASSISTANAT DE DIRECTION",4,3,{"$f":"IF(C20957=\"\",\"\",COUNTIF($B$2:B20957,\"=\"&B20957))","v":80},0,2.7700831024930748E-3,0.75]
["8460-81","8460","H2301","CONDUITE D'ÉQUIPEMENT DE PRODUCTION CHIMIQUE OU PHARMACEUTIQUE",4,1,{"$f":"IF(C20958=\"\",\"\",COUNTIF($B$2:B20958,\"=\"&B20958))","v":81},0,2.7700831024930748E-3,0.25]
["8460-82","8460","H2206","RÉALISATION DE MENUISERIE BOIS ET TONNELLERIE",4,1,{"$f":"IF(C20959=\"\",\"\",COUNTIF($B$2:B20959,\"=\"&B20959))","v":82},0,2.7700831024930748E-3,0.25]
["8460-83","8460","N1101","CONDUITE D'ENGINS DE DÉPLACEMENT DES CHARGES",4,1,{"$f":"IF(C20960=\"\",\"\",COUNTIF($B$2:B20960,\"=\"&B20960))","v":83},0,2.7700831024930748E-3,0.25]
["8460-84","8460","H1503","INTERVENTION TECHNIQUE EN LABORATOIRE D'ANALYSE INDUSTRIELLE",4,3,{"$f":"IF(C20961=\"\",\"\",COUNTIF($B$2:B20961,\"=\"&B20961))","v":84},0,2.7700831024930748E-3,0.75]
["8460-85","8460","G1503","MANAGEMENT DU PERSONNEL D'ÉTAGE",4,".",{"$f":"IF(C20962=\"\",\"\",COUNTIF($B$2:B20962,\"=\"&B20962))","v":85},0,2.7700831024930748E-3,0]
["8460-86","8460","G1404","MANAGEMENT D'ÉTABLISSEMENT DE RESTAURATION COLLECTIVE",4,3,{"$f":"IF(C20963=\"\",\"\",COUNTIF($B$2:B20963,\"=\"&B20963))","v":86},0,2.7700831024930748E-3,0.75]
["8460-87","8460","F1606","PEINTURE EN BÂTIMENT",4,2,{"$f":"IF(C20964=\"\",\"\",COUNTIF($B$2:B20964,\"=\"&B20964))","v":87},0,2.7700831024930748E-3,0.5]
["8460-88","8460","E1402","ÉLABORATION DE PLAN MÉDIA",4,".",{"$f":"IF(C20965=\"\",\"\",COUNTIF($B$2:B20965,\"=\"&B20965))","v":88},0,2.7700831024930748E-3,0]
["8460-89","8460","D1301","MANAGEMENT DE MAGASIN DE DÉTAIL",4,4,{"$f":"IF(C20966=\"\",\"\",COUNTIF($B$2:B20966,\"=\"&B20966))","v":89},0,2.7700831024930748E-3,1]
["8460-90","8460","D1209","VENTE DE VÉGÉTAUX",4,".",{"$f":"IF(C20967=\"\",\"\",COUNTIF($B$2:B20967,\"=\"&B20967))","v":90},0,2.7700831024930748E-3,0]
["8460-91","8460","A1205","SYLVICULTURE",4,2,{"$f":"IF(C20968=\"\",\"\",COUNTIF($B$2:B20968,\"=\"&B20968))","v":91},0,2.7700831024930748E-3,0.5]
["8460-92","8460","N4203","INTERVENTION TECHNIQUE D'EXPLOITATION DES TRANSPORTS ROUTIERS DE MARCHANDISES",3,".",{"$f":"IF(C20969=\"\",\"\",COUNTIF($B$2:B20969,\"=\"&B20969))","v":92},0,2.0775623268698062E-3,0]
["8460-93","8460","M1608","SECRÉTARIAT COMPTABLE",3,1,{"$f":"IF(C20970=\"\",\"\",COUNTIF($B$2:B20970,\"=\"&B20970))","v":93},0,2.0775623268698062E-3,0.33333333333333331]
["8460-94","8460","M1602","OPÉRATIONS ADMINISTRATIVES",3,2,{"$f":"IF(C20971=\"\",\"\",COUNTIF($B$2:B20971,\"=\"&B20971))","v":94},0,2.0775623268698062E-3,0.66666666666666663]
["8460-95","8460","M1601","ACCUEIL ET RENSEIGNEMENTS",3,1,{"$f":"IF(C20972=\"\",\"\",COUNTIF($B$2:B20972,\"=\"&B20972))","v":95},0,2.0775623268698062E-3,0.33333333333333331]
["8460-96","8460","K2301","DISTRIBUTION ET ASSAINISSEMENT D'EAU",3,3,{"$f":"IF(C20973=\"\",\"\",COUNTIF($B$2:B20973,\"=\"&B20973))","v":96},0,2.0775623268698062E-3,1]
["8460-97","8460","K2110","FORMATION EN CONDUITE DE VÉHICULES",3,3,{"$f":"IF(C20974=\"\",\"\",COUNTIF($B$2:B20974,\"=\"&B20974))","v":97},0,2.0775623268698062E-3,1]
["8460-98","8460","K1802","DÉVELOPPEMENT LOCAL",3,3,{"$f":"IF(C20975=\"\",\"\",COUNTIF($B$2:B20975,\"=\"&B20975))","v":98},0,2.0775623268698062E-3,1]
["8460-99","8460","K1301","ACCOMPAGNEMENT MÉDICOSOCIAL",3,".",{"$f":"IF(C20976=\"\",\"\",COUNTIF($B$2:B20976,\"=\"&B20976))","v":99},0,2.0775623268698062E-3,0]
["8460-100","8460","K1204","MÉDIATION SOCIALE ET FACILITATION DE LA VIE EN SOCIÉTÉ",3,1,{"$f":"IF(C20977=\"\",\"\",COUNTIF($B$2:B20977,\"=\"&B20977))","v":100},0,2.0775623268698062E-3,0.33333333333333331]
["8460-101","8460","K1104","PSYCHOLOGIE",3,1,{"$f":"IF(C20978=\"\",\"\",COUNTIF($B$2:B20978,\"=\"&B20978))","v":101},0,2.0775623268698062E-3,0.33333333333333331]
["8460-102","8460","J1412","RÉÉDUCATION EN PSYCHOMOTRICITÉ",3,2,{"$f":"IF(C20979=\"\",\"\",COUNTIF($B$2:B20979,\"=\"&B20979))","v":102},0,2.0775623268698062E-3,0.66666666666666663]
["8460-103","8460","I1309","MAINTENANCE ÉLECTRIQUE",3,2,{"$f":"IF(C20980=\"\",\"\",COUNTIF($B$2:B20980,\"=\"&B20980))","v":103},0,2.0775623268698062E-3,0.66666666666666663]
["8460-104","8460","H3301","CONDUITE D'ÉQUIPEMENT DE CONDITIONNEMENT",3,".",{"$f":"IF(C20981=\"\",\"\",COUNTIF($B$2:B20981,\"=\"&B20981))","v":104},0,2.0775623268698062E-3,0]
["8460-105","8460","H2913","SOUDAGE MANUEL",3,".",{"$f":"IF(C20982=\"\",\"\",COUNTIF($B$2:B20982,\"=\"&B20982))","v":105},0,2.0775623268698062E-3,0]
["8460-106","8460","H2911","RÉALISATION DE STRUCTURES MÉTALLIQUES",3,1,{"$f":"IF(C20983=\"\",\"\",COUNTIF($B$2:B20983,\"=\"&B20983))","v":106},0,2.0775623268698062E-3,0.33333333333333331]
["8460-107","8460","H2909","MONTAGE-ASSEMBLAGE MÉCANIQUE",3,".",{"$f":"IF(C20984=\"\",\"\",COUNTIF($B$2:B20984,\"=\"&B20984))","v":107},0,2.0775623268698062E-3,0]
["8460-108","8460","H2504","ENCADREMENT D'ÉQUIPE EN INDUSTRIE DE TRANSFORMATION",3,1,{"$f":"IF(C20985=\"\",\"\",COUNTIF($B$2:B20985,\"=\"&B20985))","v":108},0,2.0775623268698062E-3,0.33333333333333331]
["8460-109","8460","H1303","INTERVENTION TECHNIQUE EN HYGIÈNE SÉCURITÉ ENVIRONNEMENT -HSE- INDUSTRIEL",3,2,{"$f":"IF(C20986=\"\",\"\",COUNTIF($B$2:B20986,\"=\"&B20986))","v":109},0,2.0775623268698062E-3,0.66666666666666663]
["8460-110","8460","H1203","CONCEPTION ET DESSIN PRODUITS MÉCANIQUES",3,3,{"$f":"IF(C20987=\"\",\"\",COUNTIF($B$2:B20987,\"=\"&B20987))","v":110},0,2.0775623268698062E-3,1]
["8460-111","8460","G1502","PERSONNEL POLYVALENT D'HÔTELLERIE",3,".",{"$f":"IF(C20988=\"\",\"\",COUNTIF($B$2:B20988,\"=\"&B20988))","v":111},0,2.0775623268698062E-3,0]
["8460-112","8460","D1214","VENTE EN HABILLEMENT ET ACCESSOIRES DE LA PERSONNE",3,3,{"$f":"IF(C20989=\"\",\"\",COUNTIF($B$2:B20989,\"=\"&B20989))","v":112},0,2.0775623268698062E-3,1]
["8460-113","8460","D1213","VENTE EN GROS DE MATÉRIEL ET ÉQUIPEMENT",3,3,{"$f":"IF(C20990=\"\",\"\",COUNTIF($B$2:B20990,\"=\"&B20990))","v":113},0,2.0775623268698062E-3,1]
["8460-114","8460","D1211","VENTE EN ARTICLES DE SPORT ET LOISIRS",3,1,{"$f":"IF(C20991=\"\",\"\",COUNTIF($B$2:B20991,\"=\"&B20991))","v":114},0,2.0775623268698062E-3,0.33333333333333331]
["8460-115","8460","B1602","RÉALISATION D'OBJETS ARTISTIQUES ET FONCTIONNELS EN VERRE",3,2,{"$f":"IF(C20992=\"\",\"\",COUNTIF($B$2:B20992,\"=\"&B20992))","v":115},0,2.0775623268698062E-3,0.66666666666666663]
["8460-116","8460","A1101","CONDUITE D'ENGINS AGRICOLES ET FORESTIERS",3,".",{"$f":"IF(C20993=\"\",\"\",COUNTIF($B$2:B20993,\"=\"&B20993))","v":116},{"$f":"ROUND(E20993,-1)","v":0},2.0775623268698062E-3,{"$f":"IF(OR(F20993=\"\",F20993=\".\"),0,F20993/E20993)","v":0}]
["8460-117","8460","M1808","INFORMATION GÉOGRAPHIQUE",2,1,{"$f":"IF(C20994=\"\",\"\",COUNTIF($B$2:B20994,\"=\"&B20994))","v":117},0,{"$f":"E20994/SUMIF(B:B,B20994,E:E)","v":1.3850415512465374E-3},0.5]
[{"$f":"B20995&\"-\"&G20995","v":"8460-118"},"8460","M1705","MARKETING",2,1,{"$f":"IF(C20995=\"\",\"\",COUNTIF($B$2:B20995,\"=\"&B20995))","v":118},0,1.3850415512465374E-3,0.5]
["8460-119","8460","M1605","ASSISTANAT TECHNIQUE ET ADMINISTRATIF",2,2,{"$f":"IF(C20996=\"\",\"\",COUNTIF($B$2:B20996,\"=\"&B20996))","v":119},0,1.3850415512465374E-3,1]
["8460-120","8460","M1501","ASSISTANAT EN RESSOURCES HUMAINES",2,2,{"$f":"IF(C20997=\"\",\"\",COUNTIF($B$2:B20997,\"=\"&B20997))","v":120},0,1.3850415512465374E-3,1]
["8460-121","8460","M1205","DIRECTION ADMINISTRATIVE ET FINANCIÈRE",2,2,{"$f":"IF(C20998=\"\",\"\",COUNTIF($B$2:B20998,\"=\"&B20998))","v":121},0,1.3850415512465374E-3,1]
["8460-122","8460","K2503","SÉCURITÉ ET SURVEILLANCE PRIVÉES",2,".",{"$f":"IF(C20999=\"\",\"\",COUNTIF($B$2:B20999,\"=\"&B20999))","v":122},0,1.3850415512465374E-3,0]
["8460-123","8460","K2201","BLANCHISSERIE INDUSTRIELLE",2,".",{"$f":"IF(C21000=\"\",\"\",COUNTIF($B$2:B21000,\"=\"&B21000))","v":123},0,1.3850415512465374E-3,0]
["8460-124","8460","K2106","ENSEIGNEMENT DES ÉCOLES",2,".",{"$f":"IF(C21001=\"\",\"\",COUNTIF($B$2:B21001,\"=\"&B21001))","v":124},0,1.3850415512465374E-3,0]
["8460-125","8460","K2105","ENSEIGNEMENT ARTISTIQUE",2,2,{"$f":"IF(C21002=\"\",\"\",COUNTIF($B$2:B21002,\"=\"&B21002))","v":125},0,1.3850415512465374E-3,1]
["8460-126","8460","J1505","SOINS INFIRMIERS SPÉCIALISÉS EN PRÉVENTION",2,2,{"$f":"IF(C21003=\"\",\"\",COUNTIF($B$2:B21003,\"=\"&B21003))","v":126},0,1.3850415512465374E-3,1]
["8460-127","8460","J1305","CONDUITE DE VÉHICULES SANITAIRES",2,2,{"$f":"IF(C21004=\"\",\"\",COUNTIF($B$2:B21004,\"=\"&B21004))","v":127},0,1.3850415512465374E-3,1]
["8460-128","8460","I1603","MAINTENANCE D'ENGINS DE CHANTIER, LEVAGE, MANUTENTION ET DE MACHINES AGRICOLES",2,".",{"$f":"IF(C21005=\"\",\"\",COUNTIF($B$2:B21005,\"=\"&B21005))","v":128},0,1.3850415512465374E-3,0]
["8460-129","8460","I1401","MAINTENANCE INFORMATIQUE ET BUREAUTIQUE",2,2,{"$f":"IF(C21006=\"\",\"\",COUNTIF($B$2:B21006,\"=\"&B21006))","v":129},0,1.3850415512465374E-3,1]
["8460-130","8460","I1308","MAINTENANCE D'INSTALLATION DE CHAUFFAGE",2,2,{"$f":"IF(C21007=\"\",\"\",COUNTIF($B$2:B21007,\"=\"&B21007))","v":130},0,1.3850415512465374E-3,1]
["8460-131","8460","I1202","ENTRETIEN ET SURVEILLANCE DU TRACÉ ROUTIER",2,".",{"$f":"IF(C21008=\"\",\"\",COUNTIF($B$2:B21008,\"=\"&B21008))","v":131},0,1.3850415512465374E-3,0]
["8460-132","8460","H3402","CONDUITE DE TRAITEMENT PAR DÉPÔT DE SURFACE",2,".",{"$f":"IF(C21009=\"\",\"\",COUNTIF($B$2:B21009,\"=\"&B21009))","v":132},0,1.3850415512465374E-3,0]
["8460-133","8460","H2912","RÉGLAGE D'ÉQUIPEMENT DE PRODUCTION INDUSTRIELLE",2,1,{"$f":"IF(C21010=\"\",\"\",COUNTIF($B$2:B21010,\"=\"&B21010))","v":133},0,1.3850415512465374E-3,0.5]
["8460-134","8460","H2505","ENCADREMENT D'ÉQUIPE OU D'ATELIER EN MATÉRIAUX SOUPLES",2,2,{"$f":"IF(C21011=\"\",\"\",COUNTIF($B$2:B21011,\"=\"&B21011))","v":134},0,1.3850415512465374E-3,1]
["8460-135","8460","H2205","PREMIÈRE TRANSFORMATION DE BOIS D'OEUVRE",2,2,{"$f":"IF(C21012=\"\",\"\",COUNTIF($B$2:B21012,\"=\"&B21012))","v":135},0,1.3850415512465374E-3,1]
["8460-136","8460","H1506","INTERVENTION TECHNIQUE QUALITÉ EN MÉCANIQUE ET TRAVAIL DES MÉTAUX",2,".",{"$f":"IF(C21013=\"\",\"\",COUNTIF($B$2:B21013,\"=\"&B21013))","v":136},0,1.3850415512465374E-3,0]
["8460-137","8460","H1204","DESIGN INDUSTRIEL",2,2,{"$f":"IF(C21014=\"\",\"\",COUNTIF($B$2:B21014,\"=\"&B21014))","v":137},0,1.3850415512465374E-3,1]
["8460-138","8460","G1401","ASSISTANCE DE DIRECTION D'HÔTEL-RESTAURANT",2,".",{"$f":"IF(C21015=\"\",\"\",COUNTIF($B$2:B21015,\"=\"&B21015))","v":138},0,1.3850415512465374E-3,0]
["8460-139","8460","G1303","VENTE DE VOYAGES",2,1,{"$f":"IF(C21016=\"\",\"\",COUNTIF($B$2:B21016,\"=\"&B21016))","v":139},0,1.3850415512465374E-3,0.5]
["8460-140","8460","G1201","ACCOMPAGNEMENT DE VOYAGES, D'ACTIVITÉS CULTURELLES OU SPORTIVES",2,".",{"$f":"IF(C21017=\"\",\"\",COUNTIF($B$2:B21017,\"=\"&B21017))","v":140},0,1.3850415512465374E-3,0]
["8460-141","8460","F1613","TRAVAUX D'ÉTANCHÉITÉ ET D'ISOLATION",2,".",{"$f":"IF(C21018=\"\",\"\",COUNTIF($B$2:B21018,\"=\"&B21018))","v":141},0,1.3850415512465374E-3,0]
["8460-142","8460","F1608","POSE DE REVÊTEMENTS RIGIDES",2,1,{"$f":"IF(C21019=\"\",\"\",COUNTIF($B$2:B21019,\"=\"&B21019))","v":142},0,1.3850415512465374E-3,0.5]
["8460-143","8460","F1604","MONTAGE D'AGENCEMENTS",2,".",{"$f":"IF(C21020=\"\",\"\",COUNTIF($B$2:B21020,\"=\"&B21020))","v":143},0,1.3850415512465374E-3,0]
["8460-144","8460","F1203","DIRECTION ET INGÉNIERIE D'EXPLOITATION DE GISEMENTS ET DE CARRIÈRES",2,1,{"$f":"IF(C21021=\"\",\"\",COUNTIF($B$2:B21021,\"=\"&B21021))","v":144},0,1.3850415512465374E-3,0.5]
["8460-145","8460","F1108","MÉTRÉ DE LA CONSTRUCTION",2,2,{"$f":"IF(C21022=\"\",\"\",COUNTIF($B$2:B21022,\"=\"&B21022))","v":145},0,1.3850415512465374E-3,1]
["8460-146","8460","F1101","ARCHITECTURE DU BTP ET DU PAYSAGE",2,2,{"$f":"IF(C21023=\"\",\"\",COUNTIF($B$2:B21023,\"=\"&B21023))","v":146},0,1.3850415512465374E-3,1]
["8460-147","8460","D1408","TÉLÉCONSEIL ET TÉLÉVENTE",2,2,{"$f":"IF(C21024=\"\",\"\",COUNTIF($B$2:B21024,\"=\"&B21024))","v":147},0,1.3850415512465374E-3,1]
["8460-148","8460","D1407","RELATION TECHNICO-COMMERCIALE",2,2,{"$f":"IF(C21025=\"\",\"\",COUNTIF($B$2:B21025,\"=\"&B21025))","v":148},0,1.3850415512465374E-3,1]
["8460-149","8460","A1201","BÛCHERONNAGE ET ÉLAGAGE",2,".",{"$f":"IF(C21026=\"\",\"\",COUNTIF($B$2:B21026,\"=\"&B21026))","v":149},0,1.3850415512465374E-3,0]
["8460-150","8460","N1303","INTERVENTION TECHNIQUE D'EXPLOITATION LOGISTIQUE",1,1,{"$f":"IF(C21027=\"\",\"\",COUNTIF($B$2:B21027,\"=\"&B21027))","v":150},0,6.925207756232687E-4,1]
["8460-151","8460","N1201","AFFRÈTEMENT TRANSPORT",1,".",{"$f":"IF(C21028=\"\",\"\",COUNTIF($B$2:B21028,\"=\"&B21028))","v":151},0,6.925207756232687E-4,0]
["8460-152","8460","M1805","ÉTUDES ET DÉVELOPPEMENT INFORMATIQUE",1,1,{"$f":"IF(C21029=\"\",\"\",COUNTIF($B$2:B21029,\"=\"&B21029))","v":152},0,6.925207756232687E-4,1]
["8460-153","8460","M1609","SECRÉTARIAT ET ASSISTANAT MÉDICAL OU MÉDICO-SOCIAL",1,".",{"$f":"IF(C21030=\"\",\"\",COUNTIF($B$2:B21030,\"=\"&B21030))","v":153},0,6.925207756232687E-4,0]
["8460-154","8460","M1503","MANAGEMENT DES RESSOURCES HUMAINES",1,1,{"$f":"IF(C21031=\"\",\"\",COUNTIF($B$2:B21031,\"=\"&B21031))","v":154},0,6.925207756232687E-4,1]
["8460-155","8460","M1502","DÉVELOPPEMENT DES RESSOURCES HUMAINES",1,1,{"$f":"IF(C21032=\"\",\"\",COUNTIF($B$2:B21032,\"=\"&B21032))","v":155},0,6.925207756232687E-4,1]
["8460-156","8460","M1403","ÉTUDES ET PROSPECTIVES SOCIO-ÉCONOMIQUES",1,1,{"$f":"IF(C21033=\"\",\"\",COUNTIF($B$2:B21033,\"=\"&B21033))","v":156},0,6.925207756232687E-4,1]
["8460-157","8460","M1101","ACHATS",1,".",{"$f":"IF(C21034=\"\",\"\",COUNTIF($B$2:B21034,\"=\"&B21034))","v":157},0,6.925207756232687E-4,0]
["8460-158","8460","L1302","PRODUCTION ET ADMINISTRATION SPECTACLE, CINÉMA ET AUDIOVISUEL",1,1,{"$f":"IF(C21035=\"\",\"\",COUNTIF($B$2:B21035,\"=\"&B21035))","v":158},0,6.925207756232687E-4,1]
["8460-159","8460","K2305","SALUBRITÉ ET TRAITEMENT DE NUISIBLES",1,".",{"$f":"IF(C21036=\"\",\"\",COUNTIF($B$2:B21036,\"=\"&B21036))","v":159},0,6.925207756232687E-4,0]
["8460-160","8460","K2203","MANAGEMENT ET INSPECTION EN PROPRETÉ DE LOCAUX",1,".",{"$f":"IF(C21037=\"\",\"\",COUNTIF($B$2:B21037,\"=\"&B21037))","v":160},0,6.925207756232687E-4,0]
["8460-161","8460","K2202","LAVAGE DE VITRES",1,1,{"$f":"IF(C21038=\"\",\"\",COUNTIF($B$2:B21038,\"=\"&B21038))","v":161},0,6.925207756232687E-4,1]
["8460-162","8460","K2107","ENSEIGNEMENT GÉNÉRAL DU SECOND DEGRÉ",1,1,{"$f":"IF(C21039=\"\",\"\",COUNTIF($B$2:B21039,\"=\"&B21039))","v":162},0,6.925207756232687E-4,1]
["8460-163","8460","K2103","DIRECTION D'ÉTABLISSEMENT ET D'ENSEIGNEMENT",1,1,{"$f":"IF(C21040=\"\",\"\",COUNTIF($B$2:B21040,\"=\"&B21040))","v":163},0,6.925207756232687E-4,1]
["8460-164","8460","K1404","MISE EN OEUVRE ET PILOTAGE DE LA POLITIQUE DES POUVOIRS PUBLICS",1,1,{"$f":"IF(C21041=\"\",\"\",COUNTIF($B$2:B21041,\"=\"&B21041))","v":164},0,6.925207756232687E-4,1]
["8460-165","8460","K1403","MANAGEMENT DE STRUCTURE DE SANTÉ, SOCIALE OU PÉNITENTIAIRE",1,1,{"$f":"IF(C21042=\"\",\"\",COUNTIF($B$2:B21042,\"=\"&B21042))","v":165},0,6.925207756232687E-4,1]
["8460-166","8460","K1305","INTERVENTION SOCIALE ET FAMILIALE",1,1,{"$f":"IF(C21043=\"\",\"\",COUNTIF($B$2:B21043,\"=\"&B21043))","v":166},0,6.925207756232687E-4,1]
["8460-167","8460","J1507","SOINS INFIRMIERS SPÉCIALISÉS EN PUÉRICULTURE",1,".",{"$f":"IF(C21044=\"\",\"\",COUNTIF($B$2:B21044,\"=\"&B21044))","v":167},0,6.925207756232687E-4,0]
["8460-168","8460","J1404","KINÉSITHÉRAPIE",1,".",{"$f":"IF(C21045=\"\",\"\",COUNTIF($B$2:B21045,\"=\"&B21045))","v":168},0,6.925207756232687E-4,0]
["8460-169","8460","J1307","PRÉPARATION EN PHARMACIE",1,".",{"$f":"IF(C21046=\"\",\"\",COUNTIF($B$2:B21046,\"=\"&B21046))","v":169},0,6.925207756232687E-4,0]
["8460-170","8460","J1306","IMAGERIE MÉDICALE",1,1,{"$f":"IF(C21047=\"\",\"\",COUNTIF($B$2:B21047,\"=\"&B21047))","v":170},0,6.925207756232687E-4,1]
["8460-171","8460","I1310","MAINTENANCE MÉCANIQUE INDUSTRIELLE",1,".",{"$f":"IF(C21048=\"\",\"\",COUNTIF($B$2:B21048,\"=\"&B21048))","v":171},0,6.925207756232687E-4,0]
["8460-172","8460","I1306","INSTALLATION ET MAINTENANCE EN FROID, CONDITIONNEMENT D'AIR",1,1,{"$f":"IF(C21049=\"\",\"\",COUNTIF($B$2:B21049,\"=\"&B21049))","v":172},0,6.925207756232687E-4,1]
["8460-173","8460","I1302","INSTALLATION ET MAINTENANCE D'AUTOMATISMES",1,1,{"$f":"IF(C21050=\"\",\"\",COUNTIF($B$2:B21050,\"=\"&B21050))","v":173},0,6.925207756232687E-4,1]
["8460-174","8460","I1102","MANAGEMENT ET INGÉNIERIE DE MAINTENANCE INDUSTRIELLE",1,1,{"$f":"IF(C21051=\"\",\"\",COUNTIF($B$2:B21051,\"=\"&B21051))","v":174},0,6.925207756232687E-4,1]
["8460-175","8460","H3201","CONDUITE D'ÉQUIPEMENT DE FORMAGE DES PLASTIQUES ET CAOUTCHOUCS",1,".",{"$f":"IF(C21052=\"\",\"\",COUNTIF($B$2:B21052,\"=\"&B21052))","v":175},0,6.925207756232687E-4,0]
["8460-176","8460","H3101","CONDUITE D'ÉQUIPEMENT DE FABRICATION DE PAPIER OU DE CARTON",1,1,{"$f":"IF(C21053=\"\",\"\",COUNTIF($B$2:B21053,\"=\"&B21053))","v":176},0,6.925207756232687E-4,1]
["8460-177","8460","H2906","CONDUITE D'INSTALLATION AUTOMATISÉE OU ROBOTISÉE DE FABRICATION MÉCANIQUE",1,1,{"$f":"IF(C21054=\"\",\"\",COUNTIF($B$2:B21054,\"=\"&B21054))","v":177},0,6.925207756232687E-4,1]
["8460-178","8460","H2905","CONDUITE D'ÉQUIPEMENT DE FORMAGE ET DÉCOUPAGE DES MATÉRIAUX",1,1,{"$f":"IF(C21055=\"\",\"\",COUNTIF($B$2:B21055,\"=\"&B21055))","v":178},0,6.925207756232687E-4,1]
["8460-179","8460","H2901","AJUSTEMENT ET MONTAGE DE FABRICATION",1,1,{"$f":"IF(C21056=\"\",\"\",COUNTIF($B$2:B21056,\"=\"&B21056))","v":179},0,6.925207756232687E-4,1]
["8460-180","8460","H2602","CÂBLAGE ÉLECTRIQUE ET ÉLECTROMÉCANIQUE",1,".",{"$f":"IF(C21057=\"\",\"\",COUNTIF($B$2:B21057,\"=\"&B21057))","v":180},{"$f":"ROUND(E21057,-1)","v":0},6.925207756232687E-4,{"$f":"IF(OR(F21057=\"\",F21057=\".\"),0,F21057/E21057)","v":0}]
["8460-181","8460","H2207","RÉALISATION DE MEUBLES EN BOIS",1,".",{"$f":"IF(C21058=\"\",\"\",COUNTIF($B$2:B21058,\"=\"&B21058))","v":181},0,{"$f":"E21058/SUMIF(B:B,B21058,E:E)","v":6.925207756232687E-4},0]
[{"$f":"B21059&\"-\"&G21059","v":"8460-182"},"8460","H2201","ASSEMBLAGE D'OUVRAGES EN BOIS",1,".",{"$f":"IF(C21059=\"\",\"\",COUNTIF($B$2:B21059,\"=\"&B21059))","v":182},0,6.925207756232687E-4,0]
["8460-183","8460","H1403","INTERVENTION TECHNIQUE EN GESTION INDUSTRIELLE ET LOGISTIQUE",1,1,{"$f":"IF(C21060=\"\",\"\",COUNTIF($B$2:B21060,\"=\"&B21060))","v":183},0,6.925207756232687E-4,1]
["8460-184","8460","H1209","INTERVENTION TECHNIQUE EN ÉTUDES ET DÉVELOPPEMENT ÉLECTRONIQUE",1,1,{"$f":"IF(C21061=\"\",\"\",COUNTIF($B$2:B21061,\"=\"&B21061))","v":184},0,6.925207756232687E-4,1]
["8460-185","8460","H1102","MANAGEMENT ET INGÉNIERIE D'AFFAIRES",1,".",{"$f":"IF(C21062=\"\",\"\",COUNTIF($B$2:B21062,\"=\"&B21062))","v":185},0,6.925207756232687E-4,0]
["8460-186","8460","G1301","CONCEPTION DE PRODUITS TOURISTIQUES",1,".",{"$f":"IF(C21063=\"\",\"\",COUNTIF($B$2:B21063,\"=\"&B21063))","v":186},0,6.925207756232687E-4,0]
["8460-187","8460","F1705","POSE DE CANALISATIONS",1,".",{"$f":"IF(C21064=\"\",\"\",COUNTIF($B$2:B21064,\"=\"&B21064))","v":187},0,6.925207756232687E-4,0]
["8460-188","8460","F1701","CONSTRUCTION EN BÉTON",1,".",{"$f":"IF(C21065=\"\",\"\",COUNTIF($B$2:B21065,\"=\"&B21065))","v":188},0,6.925207756232687E-4,0]
["8460-189","8460","F1611","RÉALISATION ET RESTAURATION DE FAÇADES",1,".",{"$f":"IF(C21066=\"\",\"\",COUNTIF($B$2:B21066,\"=\"&B21066))","v":189},0,6.925207756232687E-4,0]
["8460-190","8460","F1202","DIRECTION DE CHANTIER DU BTP",1,".",{"$f":"IF(C21067=\"\",\"\",COUNTIF($B$2:B21067,\"=\"&B21067))","v":190},0,6.925207756232687E-4,0]
["8460-191","8460","F1201","CONDUITE DE TRAVAUX DU BTP ET DE TRAVAUX PAYSAGERS",1,1,{"$f":"IF(C21068=\"\",\"\",COUNTIF($B$2:B21068,\"=\"&B21068))","v":191},0,6.925207756232687E-4,1]
["8460-192","8460","F1106","INGÉNIERIE ET ÉTUDES DU BTP",1,1,{"$f":"IF(C21069=\"\",\"\",COUNTIF($B$2:B21069,\"=\"&B21069))","v":192},0,6.925207756232687E-4,1]
["8460-193","8460","E1203","PRODUCTION EN LABORATOIRE PHOTOGRAPHIQUE",1,".",{"$f":"IF(C21070=\"\",\"\",COUNTIF($B$2:B21070,\"=\"&B21070))","v":193},0,6.925207756232687E-4,0]
["8460-194","8460","E1103","COMMUNICATION",1,1,{"$f":"IF(C21071=\"\",\"\",COUNTIF($B$2:B21071,\"=\"&B21071))","v":194},0,6.925207756232687E-4,1]
["8460-195","8460","D1501","ANIMATION DE VENTE",1,".",{"$f":"IF(C21072=\"\",\"\",COUNTIF($B$2:B21072,\"=\"&B21072))","v":195},0,6.925207756232687E-4,0]
["8460-196","8460","D1406","MANAGEMENT EN FORCE DE VENTE",1,1,{"$f":"IF(C21073=\"\",\"\",COUNTIF($B$2:B21073,\"=\"&B21073))","v":196},0,6.925207756232687E-4,1]
["8460-197","8460","D1205","NETTOYAGE D'ARTICLES TEXTILES OU CUIRS",1,".",{"$f":"IF(C21074=\"\",\"\",COUNTIF($B$2:B21074,\"=\"&B21074))","v":197},0,6.925207756232687E-4,0]
["8460-198","8460","C1502","GESTION LOCATIVE IMMOBILIÈRE",1,".",{"$f":"IF(C21075=\"\",\"\",COUNTIF($B$2:B21075,\"=\"&B21075))","v":198},0,6.925207756232687E-4,0]
["8460-199","8460","C1102","CONSEIL CLIENTÈLE EN ASSURANCES",1,1,{"$f":"IF(C21076=\"\",\"\",COUNTIF($B$2:B21076,\"=\"&B21076))","v":199},0,6.925207756232687E-4,1]
["8460-200","8460","A1501","AIDE AUX SOINS ANIMAUX",1,".",{"$f":"IF(C21077=\"\",\"\",COUNTIF($B$2:B21077,\"=\"&B21077))","v":200},0,6.925207756232687E-4,0]
["8460-201","8460","A1402","AIDE AGRICOLE DE PRODUCTION LÉGUMIÈRE OU VÉGÉTALE",1,".",{"$f":"IF(C21078=\"\",\"\",COUNTIF($B$2:B21078,\"=\"&B21078))","v":201},0,6.925207756232687E-4,0]
["8461-1","8461","G1602","PERSONNEL DE CUISINE",142,37,{"$f":"IF(C21079=\"\",\"\",COUNTIF($B$2:B21079,\"=\"&B21079))","v":1},140,5.480509455808568E-2,0.26056338028169013]
["8461-2","8461","G1803","SERVICE EN RESTAURATION",139,29,{"$f":"IF(C21080=\"\",\"\",COUNTIF($B$2:B21080,\"=\"&B21080))","v":2},140,5.3647240447703588E-2,0.20863309352517986]
["8461-3","8461","K1304","SERVICES DOMESTIQUES",80,73,{"$f":"IF(C21081=\"\",\"\",COUNTIF($B$2:B21081,\"=\"&B21081))","v":3},80,3.0876109610189117E-2,0.91249999999999998]
["8461-4","8461","G1501","PERSONNEL D'ÉTAGE",70,16,{"$f":"IF(C21082=\"\",\"\",COUNTIF($B$2:B21082,\"=\"&B21082))","v":4},70,2.7016595908915475E-2,0.22857142857142856]
["8461-5","8461","G1603","PERSONNEL POLYVALENT EN RESTAURATION",64,20,{"$f":"IF(C21083=\"\",\"\",COUNTIF($B$2:B21083,\"=\"&B21083))","v":5},60,2.4700887688151294E-2,0.3125]
["8461-6","8461","I1203","MAINTENANCE DES BÂTIMENTS ET DES LOCAUX",57,22,{"$f":"IF(C21084=\"\",\"\",COUNTIF($B$2:B21084,\"=\"&B21084))","v":6},60,2.1999228097259745E-2,0.38596491228070173]
["8461-7","8461","G1203","ANIMATION DE LOISIRS AUPRÈS D'ENFANTS OU D'ADOLESCENTS",51,30,{"$f":"IF(C21085=\"\",\"\",COUNTIF($B$2:B21085,\"=\"&B21085))","v":7},50,1.968351987649556E-2,0.58823529411764708]
["8461-8","8461","G1605","PLONGE EN RESTAURATION",48,9,{"$f":"IF(C21086=\"\",\"\",COUNTIF($B$2:B21086,\"=\"&B21086))","v":8},50,1.8525665766113468E-2,0.1875]
["8461-9","8461","D1106","VENTE EN ALIMENTATION",48,21,{"$f":"IF(C21087=\"\",\"\",COUNTIF($B$2:B21087,\"=\"&B21087))","v":9},50,1.8525665766113468E-2,0.4375]
["8461-10","8461","F1604","MONTAGE D'AGENCEMENTS",47,27,{"$f":"IF(C21088=\"\",\"\",COUNTIF($B$2:B21088,\"=\"&B21088))","v":10},50,1.8139714395986106E-2,0.57446808510638303]
["8461-11","8461","G1703","RÉCEPTION EN HÔTELLERIE",46,21,{"$f":"IF(C21089=\"\",\"\",COUNTIF($B$2:B21089,\"=\"&B21089))","v":11},50,1.7753763025858741E-2,0.45652173913043476]
["8461-12","8461","A1203","AMÉNAGEMENT ET ENTRETIEN DES ESPACES VERTS",45,22,{"$f":"IF(C21090=\"\",\"\",COUNTIF($B$2:B21090,\"=\"&B21090))","v":12},50,1.7367811655731379E-2,0.48888888888888887]
["8461-13","8461","F1603","INSTALLATION D'ÉQUIPEMENTS SANITAIRES ET THERMIQUES",43,13,{"$f":"IF(C21091=\"\",\"\",COUNTIF($B$2:B21091,\"=\"&B21091))","v":13},40,1.6595908915476649E-2,0.30232558139534882]
["8461-14","8461","K2204","NETTOYAGE DE LOCAUX",41,17,{"$f":"IF(C21092=\"\",\"\",COUNTIF($B$2:B21092,\"=\"&B21092))","v":14},40,1.5824006175221922E-2,0.41463414634146339]
["8461-15","8461","F1703","MAÇONNERIE",38,16,{"$f":"IF(C21093=\"\",\"\",COUNTIF($B$2:B21093,\"=\"&B21093))","v":15},40,1.466615206483983E-2,0.42105263157894735]
["8461-16","8461","F1704","PRÉPARATION DU GROS OEUVRE ET DES TRAVAUX PUBLICS",36,5,{"$f":"IF(C21094=\"\",\"\",COUNTIF($B$2:B21094,\"=\"&B21094))","v":16},40,1.3894249324585103E-2,0.1388888888888889]
["8461-17","8461","I1604","MÉCANIQUE AUTOMOBILE ET ENTRETIEN DE VÉHICULES",34,22,{"$f":"IF(C21095=\"\",\"\",COUNTIF($B$2:B21095,\"=\"&B21095))","v":17},30,1.3122346584330374E-2,0.6470588235294118]
["8461-18","8461","D1507","MISE EN RAYON LIBRE-SERVICE",34,8,{"$f":"IF(C21096=\"\",\"\",COUNTIF($B$2:B21096,\"=\"&B21096))","v":18},30,1.3122346584330374E-2,0.23529411764705882]
["8461-19","8461","D1211","VENTE EN ARTICLES DE SPORT ET LOISIRS",32,4,{"$f":"IF(C21097=\"\",\"\",COUNTIF($B$2:B21097,\"=\"&B21097))","v":19},30,1.2350443844075647E-2,0.125]
["8461-20","8461","J1506","SOINS INFIRMIERS GÉNÉRALISTES",31,16,{"$f":"IF(C21098=\"\",\"\",COUNTIF($B$2:B21098,\"=\"&B21098))","v":20},30,1.1964492473948282E-2,0.5161290322580645]
["8461-21","8461","J1501","SOINS D'HYGIÈNE, DE CONFORT DU PATIENT",31,12,{"$f":"IF(C21099=\"\",\"\",COUNTIF($B$2:B21099,\"=\"&B21099))","v":21},30,1.1964492473948282E-2,0.38709677419354838]
["8461-22","8461","D1401","ASSISTANAT COMMERCIAL",30,19,{"$f":"IF(C21100=\"\",\"\",COUNTIF($B$2:B21100,\"=\"&B21100))","v":22},30,1.1578541103820918E-2,0.6333333333333333]
["8461-23","8461","N4101","CONDUITE DE TRANSPORT DE MARCHANDISES SUR LONGUE DISTANCE",29,10,{"$f":"IF(C21101=\"\",\"\",COUNTIF($B$2:B21101,\"=\"&B21101))","v":23},30,1.1192589733693555E-2,0.34482758620689657]
["8461-24","8461","N1103","MAGASINAGE ET PRÉPARATION DE COMMANDES",27,8,{"$f":"IF(C21102=\"\",\"\",COUNTIF($B$2:B21102,\"=\"&B21102))","v":24},30,1.0420686993438826E-2,0.29629629629629628]
["8461-25","8461","F1607","POSE DE FERMETURES MENUISÉES",27,13,{"$f":"IF(C21103=\"\",\"\",COUNTIF($B$2:B21103,\"=\"&B21103))","v":25},30,1.0420686993438826E-2,0.48148148148148145]
["8461-26","8461","K1302","ASSISTANCE AUPRÈS D'ADULTES",26,13,{"$f":"IF(C21104=\"\",\"\",COUNTIF($B$2:B21104,\"=\"&B21104))","v":26},30,1.0034735623311463E-2,0.5]
["8461-27","8461","H2903","CONDUITE D'ÉQUIPEMENT D'USINAGE",26,12,{"$f":"IF(C21105=\"\",\"\",COUNTIF($B$2:B21105,\"=\"&B21105))","v":27},30,1.0034735623311463E-2,0.46153846153846156]
["8461-28","8461","H2206","RÉALISATION DE MENUISERIE BOIS ET TONNELLERIE",26,12,{"$f":"IF(C21106=\"\",\"\",COUNTIF($B$2:B21106,\"=\"&B21106))","v":28},30,1.0034735623311463E-2,0.46153846153846156]
["8461-29","8461","G1801","CAFÉ, BAR BRASSERIE",25,1,{"$f":"IF(C21107=\"\",\"\",COUNTIF($B$2:B21107,\"=\"&B21107))","v":29},30,9.6487842531840992E-3,0.04]
["8461-30","8461","D1102","BOULANGERIE - VIENNOISERIE",25,14,{"$f":"IF(C21108=\"\",\"\",COUNTIF($B$2:B21108,\"=\"&B21108))","v":30},30,9.6487842531840992E-3,0.56000000000000005]
["8461-31","8461","F1606","PEINTURE EN BÂTIMENT",23,8,{"$f":"IF(C21109=\"\",\"\",COUNTIF($B$2:B21109,\"=\"&B21109))","v":31},20,8.8768815129293705E-3,0.34782608695652173]
["8461-32","8461","N1101","CONDUITE D'ENGINS DE DÉPLACEMENT DES CHARGES",22,9,{"$f":"IF(C21110=\"\",\"\",COUNTIF($B$2:B21110,\"=\"&B21110))","v":32},20,8.490930142802007E-3,0.40909090909090912]
["8461-33","8461","I1304","INSTALLATION ET MAINTENANCE D'ÉQUIPEMENTS INDUSTRIELS ET D'EXPLOITATION",21,14,{"$f":"IF(C21111=\"\",\"\",COUNTIF($B$2:B21111,\"=\"&B21111))","v":33},20,8.1049787726746435E-3,0.66666666666666663]
["8461-34","8461","M1607","SECRÉTARIAT",21,9,{"$f":"IF(C21112=\"\",\"\",COUNTIF($B$2:B21112,\"=\"&B21112))","v":34},20,8.1049787726746435E-3,0.42857142857142855]
["8461-35","8461","F1302","CONDUITE D'ENGINS DE TERRASSEMENT ET DE CARRIÈRE",20,6,{"$f":"IF(C21113=\"\",\"\",COUNTIF($B$2:B21113,\"=\"&B21113))","v":35},20,7.7190274025472792E-3,0.3]
["8461-36","8461","J1301","PERSONNEL POLYVALENT DES SERVICES HOSPITALIERS",19,7,{"$f":"IF(C21114=\"\",\"\",COUNTIF($B$2:B21114,\"=\"&B21114))","v":36},20,7.3330760324199148E-3,0.36842105263157893]
["8461-37","8461","H3302","OPÉRATIONS MANUELLES D'ASSEMBLAGE, TRI OU EMBALLAGE",19,8,{"$f":"IF(C21115=\"\",\"\",COUNTIF($B$2:B21115,\"=\"&B21115))","v":37},20,7.3330760324199148E-3,0.42105263157894735]
["8461-38","8461","B1802","RÉALISATION D'ARTICLES EN CUIR ET MATÉRIAUX SOUPLES (HORS VÊTEMENT)",19,".",{"$f":"IF(C21116=\"\",\"\",COUNTIF($B$2:B21116,\"=\"&B21116))","v":38},20,7.3330760324199148E-3,0]
["8461-39","8461","H3301","CONDUITE D'ÉQUIPEMENT DE CONDITIONNEMENT",18,1,{"$f":"IF(C21117=\"\",\"\",COUNTIF($B$2:B21117,\"=\"&B21117))","v":39},20,6.9471246622925514E-3,5.5555555555555552E-2]
["8461-40","8461","F1602","ÉLECTRICITÉ BÂTIMENT",18,4,{"$f":"IF(C21118=\"\",\"\",COUNTIF($B$2:B21118,\"=\"&B21118))","v":40},20,6.9471246622925514E-3,0.22222222222222221]
["8461-41","8461","D1202","COIFFURE",18,16,{"$f":"IF(C21119=\"\",\"\",COUNTIF($B$2:B21119,\"=\"&B21119))","v":41},20,6.9471246622925514E-3,0.88888888888888884]
["8461-42","8461","K1303","ASSISTANCE AUPRÈS D'ENFANTS",17,10,{"$f":"IF(C21120=\"\",\"\",COUNTIF($B$2:B21120,\"=\"&B21120))","v":42},20,6.561173292165187E-3,0.58823529411764708]
["8461-43","8461","G1802","MANAGEMENT DU SERVICE EN RESTAURATION",17,6,{"$f":"IF(C21121=\"\",\"\",COUNTIF($B$2:B21121,\"=\"&B21121))","v":43},{"$f":"ROUND(E21121,-1)","v":20},6.561173292165187E-3,{"$f":"IF(OR(F21121=\"\",F21121=\".\"),0,F21121/E21121)","v":0.35294117647058826}]
["8461-44","8461","D1505","PERSONNEL DE CAISSE",17,4,{"$f":"IF(C21122=\"\",\"\",COUNTIF($B$2:B21122,\"=\"&B21122))","v":44},20,{"$f":"E21122/SUMIF(B:B,B21122,E:E)","v":6.561173292165187E-3},0.23529411764705882]
[{"$f":"B21123&\"-\"&G21123","v":"8461-45"},"8461","H2102","CONDUITE D'ÉQUIPEMENT DE PRODUCTION ALIMENTAIRE",16,2,{"$f":"IF(C21123=\"\",\"\",COUNTIF($B$2:B21123,\"=\"&B21123))","v":45},20,6.1752219220378235E-3,0.125]
["8461-46","8461","H1404","INTERVENTION TECHNIQUE EN MÉTHODES ET INDUSTRIALISATION",16,11,{"$f":"IF(C21124=\"\",\"\",COUNTIF($B$2:B21124,\"=\"&B21124))","v":46},20,6.1752219220378235E-3,0.6875]
["8461-47","8461","G1502","PERSONNEL POLYVALENT D'HÔTELLERIE",16,4,{"$f":"IF(C21125=\"\",\"\",COUNTIF($B$2:B21125,\"=\"&B21125))","v":47},20,6.1752219220378235E-3,0.25]
["8461-48","8461","G1204","ÉDUCATION EN ACTIVITÉS SPORTIVES",16,4,{"$f":"IF(C21126=\"\",\"\",COUNTIF($B$2:B21126,\"=\"&B21126))","v":48},20,6.1752219220378235E-3,0.25]
["8461-49","8461","F1605","MONTAGE DE RÉSEAUX ÉLECTRIQUES ET TÉLÉCOMS",16,7,{"$f":"IF(C21127=\"\",\"\",COUNTIF($B$2:B21127,\"=\"&B21127))","v":49},20,6.1752219220378235E-3,0.4375]
["8461-50","8461","D1104","PÂTISSERIE, CONFISERIE, CHOCOLATERIE ET GLACERIE",16,10,{"$f":"IF(C21128=\"\",\"\",COUNTIF($B$2:B21128,\"=\"&B21128))","v":50},20,6.1752219220378235E-3,0.625]
["8461-51","8461","K2503","SÉCURITÉ ET SURVEILLANCE PRIVÉES",15,2,{"$f":"IF(C21129=\"\",\"\",COUNTIF($B$2:B21129,\"=\"&B21129))","v":51},20,5.7892705519104592E-3,0.13333333333333333]
["8461-52","8461","K1207","INTERVENTION SOCIOÉDUCATIVE",15,2,{"$f":"IF(C21130=\"\",\"\",COUNTIF($B$2:B21130,\"=\"&B21130))","v":52},20,5.7892705519104592E-3,0.13333333333333333]
["8461-53","8461","G1601","MANAGEMENT DU PERSONNEL DE CUISINE",15,5,{"$f":"IF(C21131=\"\",\"\",COUNTIF($B$2:B21131,\"=\"&B21131))","v":53},20,5.7892705519104592E-3,0.33333333333333331]
["8461-54","8461","H2913","SOUDAGE MANUEL",14,2,{"$f":"IF(C21132=\"\",\"\",COUNTIF($B$2:B21132,\"=\"&B21132))","v":54},10,5.4033191817830957E-3,0.14285714285714285]
["8461-55","8461","H2909","MONTAGE-ASSEMBLAGE MÉCANIQUE",14,13,{"$f":"IF(C21133=\"\",\"\",COUNTIF($B$2:B21133,\"=\"&B21133))","v":55},10,5.4033191817830957E-3,0.9285714285714286]
["8461-56","8461","D1212","VENTE EN DÉCORATION ET ÉQUIPEMENT DU FOYER",14,6,{"$f":"IF(C21134=\"\",\"\",COUNTIF($B$2:B21134,\"=\"&B21134))","v":56},10,5.4033191817830957E-3,0.42857142857142855]
["8461-57","8461","M1601","ACCUEIL ET RENSEIGNEMENTS",14,3,{"$f":"IF(C21135=\"\",\"\",COUNTIF($B$2:B21135,\"=\"&B21135))","v":57},10,5.4033191817830957E-3,0.21428571428571427]
["8461-58","8461","A1416","POLYCULTURE, ÉLEVAGE",14,7,{"$f":"IF(C21136=\"\",\"\",COUNTIF($B$2:B21136,\"=\"&B21136))","v":58},10,5.4033191817830957E-3,0.5]
["8461-59","8461","H3404","PEINTURE INDUSTRIELLE",13,5,{"$f":"IF(C21137=\"\",\"\",COUNTIF($B$2:B21137,\"=\"&B21137))","v":59},10,5.0173678116557313E-3,0.38461538461538464]
["8461-60","8461","H2901","AJUSTEMENT ET MONTAGE DE FABRICATION",13,6,{"$f":"IF(C21138=\"\",\"\",COUNTIF($B$2:B21138,\"=\"&B21138))","v":60},10,5.0173678116557313E-3,0.46153846153846156]
["8461-61","8461","G1604","FABRICATION DE CRÊPES OU PIZZAS",13,2,{"$f":"IF(C21139=\"\",\"\",COUNTIF($B$2:B21139,\"=\"&B21139))","v":61},10,5.0173678116557313E-3,0.15384615384615385]
["8461-62","8461","D1403","RELATION COMMERCIALE AUPRÈS DE PARTICULIERS",13,12,{"$f":"IF(C21140=\"\",\"\",COUNTIF($B$2:B21140,\"=\"&B21140))","v":62},10,5.0173678116557313E-3,0.92307692307692313]
["8461-63","8461","D1208","SOINS ESTHÉTIQUES ET CORPORELS",13,6,{"$f":"IF(C21141=\"\",\"\",COUNTIF($B$2:B21141,\"=\"&B21141))","v":63},10,5.0173678116557313E-3,0.46153846153846156]
["8461-64","8461","N4105","CONDUITE ET LIVRAISON PAR TOURNÉES SUR COURTE DISTANCE",12,9,{"$f":"IF(C21142=\"\",\"\",COUNTIF($B$2:B21142,\"=\"&B21142))","v":64},10,4.631416441528367E-3,0.75]
["8461-65","8461","H2602","CÂBLAGE ÉLECTRIQUE ET ÉLECTROMÉCANIQUE",12,4,{"$f":"IF(C21143=\"\",\"\",COUNTIF($B$2:B21143,\"=\"&B21143))","v":65},10,4.631416441528367E-3,0.33333333333333331]
["8461-66","8461","G1202","ANIMATION D'ACTIVITÉS CULTURELLES OU LUDIQUES",12,4,{"$f":"IF(C21144=\"\",\"\",COUNTIF($B$2:B21144,\"=\"&B21144))","v":66},10,4.631416441528367E-3,0.33333333333333331]
["8461-67","8461","F1613","TRAVAUX D'ÉTANCHÉITÉ ET D'ISOLATION",12,6,{"$f":"IF(C21145=\"\",\"\",COUNTIF($B$2:B21145,\"=\"&B21145))","v":67},10,4.631416441528367E-3,0.5]
["8461-68","8461","D1101","BOUCHERIE",12,11,{"$f":"IF(C21146=\"\",\"\",COUNTIF($B$2:B21146,\"=\"&B21146))","v":68},10,4.631416441528367E-3,0.91666666666666663]
["8461-69","8461","M1203","COMPTABILITÉ",11,5,{"$f":"IF(C21147=\"\",\"\",COUNTIF($B$2:B21147,\"=\"&B21147))","v":69},10,4.2454650714010035E-3,0.45454545454545453]
["8461-70","8461","H1502","MANAGEMENT ET INGÉNIERIE QUALITÉ INDUSTRIELLE",11,7,{"$f":"IF(C21148=\"\",\"\",COUNTIF($B$2:B21148,\"=\"&B21148))","v":70},10,4.2454650714010035E-3,0.63636363636363635]
["8461-71","8461","F1610","POSE ET RESTAURATION DE COUVERTURES",11,8,{"$f":"IF(C21149=\"\",\"\",COUNTIF($B$2:B21149,\"=\"&B21149))","v":71},10,4.2454650714010035E-3,0.72727272727272729]
["8461-72","8461","H2902","CHAUDRONNERIE - TÔLERIE",10,4,{"$f":"IF(C21150=\"\",\"\",COUNTIF($B$2:B21150,\"=\"&B21150))","v":72},10,3.8595137012736396E-3,0.4]
["8461-73","8461","A1407","ÉLEVAGE BOVIN OU ÉQUIN",10,9,{"$f":"IF(C21151=\"\",\"\",COUNTIF($B$2:B21151,\"=\"&B21151))","v":73},10,3.8595137012736396E-3,0.9]
["8461-74","8461","A1302","CONTRÔLE ET DIAGNOSTIC TECHNIQUE EN AGRICULTURE",10,5,{"$f":"IF(C21152=\"\",\"\",COUNTIF($B$2:B21152,\"=\"&B21152))","v":74},10,3.8595137012736396E-3,0.5]
["8461-75","8461","N1105","MANUTENTION MANUELLE DE CHARGES",9,".",{"$f":"IF(C21153=\"\",\"\",COUNTIF($B$2:B21153,\"=\"&B21153))","v":75},10,3.4735623311462757E-3,0]
["8461-76","8461","K2104","ÉDUCATION ET SURVEILLANCE AU SEIN D'ÉTABLISSEMENTS D'ENSEIGNEMENT",9,6,{"$f":"IF(C21154=\"\",\"\",COUNTIF($B$2:B21154,\"=\"&B21154))","v":76},10,3.4735623311462757E-3,0.66666666666666663]
["8461-77","8461","I1606","RÉPARATION DE CARROSSERIE",9,5,{"$f":"IF(C21155=\"\",\"\",COUNTIF($B$2:B21155,\"=\"&B21155))","v":77},10,3.4735623311462757E-3,0.55555555555555558]
["8461-78","8461","H1506","INTERVENTION TECHNIQUE QUALITÉ EN MÉCANIQUE ET TRAVAIL DES MÉTAUX",9,5,{"$f":"IF(C21156=\"\",\"\",COUNTIF($B$2:B21156,\"=\"&B21156))","v":78},10,3.4735623311462757E-3,0.55555555555555558]
["8461-79","8461","D1214","VENTE EN HABILLEMENT ET ACCESSOIRES DE LA PERSONNE",9,1,{"$f":"IF(C21157=\"\",\"\",COUNTIF($B$2:B21157,\"=\"&B21157))","v":79},10,3.4735623311462757E-3,0.1111111111111111]
["8461-80","8461","N4104","COURSES ET LIVRAISONS EXPRESS",8,".",{"$f":"IF(C21158=\"\",\"\",COUNTIF($B$2:B21158,\"=\"&B21158))","v":80},10,3.0876109610189118E-3,0]
["8461-81","8461","M1605","ASSISTANAT TECHNIQUE ET ADMINISTRATIF",8,3,{"$f":"IF(C21159=\"\",\"\",COUNTIF($B$2:B21159,\"=\"&B21159))","v":81},10,3.0876109610189118E-3,0.375]
["8461-82","8461","M1602","OPÉRATIONS ADMINISTRATIVES",8,4,{"$f":"IF(C21160=\"\",\"\",COUNTIF($B$2:B21160,\"=\"&B21160))","v":82},10,3.0876109610189118E-3,0.5]
["8461-83","8461","K2304","REVALORISATION DE PRODUITS INDUSTRIELS",8,8,{"$f":"IF(C21161=\"\",\"\",COUNTIF($B$2:B21161,\"=\"&B21161))","v":83},10,3.0876109610189118E-3,1]
["8461-84","8461","I1302","INSTALLATION ET MAINTENANCE D'AUTOMATISMES",8,6,{"$f":"IF(C21162=\"\",\"\",COUNTIF($B$2:B21162,\"=\"&B21162))","v":84},10,3.0876109610189118E-3,0.75]
["8461-85","8461","H2911","RÉALISATION DE STRUCTURES MÉTALLIQUES",8,7,{"$f":"IF(C21163=\"\",\"\",COUNTIF($B$2:B21163,\"=\"&B21163))","v":85},10,3.0876109610189118E-3,0.875]
["8461-86","8461","F1502","MONTAGE DE STRUCTURES MÉTALLIQUES",8,2,{"$f":"IF(C21164=\"\",\"\",COUNTIF($B$2:B21164,\"=\"&B21164))","v":86},10,3.0876109610189118E-3,0.25]
["8461-87","8461","F1202","DIRECTION DE CHANTIER DU BTP",8,6,{"$f":"IF(C21165=\"\",\"\",COUNTIF($B$2:B21165,\"=\"&B21165))","v":87},10,3.0876109610189118E-3,0.75]
["8461-88","8461","D1407","RELATION TECHNICO-COMMERCIALE",8,8,{"$f":"IF(C21166=\"\",\"\",COUNTIF($B$2:B21166,\"=\"&B21166))","v":88},10,3.0876109610189118E-3,1]
["8461-89","8461","D1402","RELATION COMMERCIALE GRANDS COMPTES ET ENTREPRISES",8,8,{"$f":"IF(C21167=\"\",\"\",COUNTIF($B$2:B21167,\"=\"&B21167))","v":89},10,3.0876109610189118E-3,1]
["8461-90","8461","A1412","FABRICATION ET AFFINAGE DE FROMAGES",8,4,{"$f":"IF(C21168=\"\",\"\",COUNTIF($B$2:B21168,\"=\"&B21168))","v":90},10,3.0876109610189118E-3,0.5]
["8461-91","8461","K1301","ACCOMPAGNEMENT MÉDICOSOCIAL",7,".",{"$f":"IF(C21169=\"\",\"\",COUNTIF($B$2:B21169,\"=\"&B21169))","v":91},10,2.7016595908915478E-3,0]
["8461-92","8461","H2905","CONDUITE D'ÉQUIPEMENT DE FORMAGE ET DÉCOUPAGE DES MATÉRIAUX",7,2,{"$f":"IF(C21170=\"\",\"\",COUNTIF($B$2:B21170,\"=\"&B21170))","v":92},10,2.7016595908915478E-3,0.2857142857142857]
["8461-93","8461","G1401","ASSISTANCE DE DIRECTION D'HÔTEL-RESTAURANT",7,4,{"$f":"IF(C21171=\"\",\"\",COUNTIF($B$2:B21171,\"=\"&B21171))","v":93},10,2.7016595908915478E-3,0.5714285714285714]
["8461-94","8461","G1201","ACCOMPAGNEMENT DE VOYAGES, D'ACTIVITÉS CULTURELLES OU SPORTIVES",7,1,{"$f":"IF(C21172=\"\",\"\",COUNTIF($B$2:B21172,\"=\"&B21172))","v":94},10,2.7016595908915478E-3,0.14285714285714285]
["8461-95","8461","F1201","CONDUITE DE TRAVAUX DU BTP ET DE TRAVAUX PAYSAGERS",7,5,{"$f":"IF(C21173=\"\",\"\",COUNTIF($B$2:B21173,\"=\"&B21173))","v":95},10,2.7016595908915478E-3,0.7142857142857143]
["8461-96","8461","M1805","ÉTUDES ET DÉVELOPPEMENT INFORMATIQUE",6,1,{"$f":"IF(C21174=\"\",\"\",COUNTIF($B$2:B21174,\"=\"&B21174))","v":96},10,2.3157082207641835E-3,0.16666666666666666]
["8461-97","8461","M1604","ASSISTANAT DE DIRECTION",6,4,{"$f":"IF(C21175=\"\",\"\",COUNTIF($B$2:B21175,\"=\"&B21175))","v":97},10,2.3157082207641835E-3,0.66666666666666663]
["8461-98","8461","K2303","NETTOYAGE DES ESPACES URBAINS",6,2,{"$f":"IF(C21176=\"\",\"\",COUNTIF($B$2:B21176,\"=\"&B21176))","v":98},10,2.3157082207641835E-3,0.33333333333333331]
["8461-99","8461","K2111","FORMATION PROFESSIONNELLE",6,2,{"$f":"IF(C21177=\"\",\"\",COUNTIF($B$2:B21177,\"=\"&B21177))","v":99},10,2.3157082207641835E-3,0.33333333333333331]
["8461-100","8461","J1305","CONDUITE DE VÉHICULES SANITAIRES",6,1,{"$f":"IF(C21178=\"\",\"\",COUNTIF($B$2:B21178,\"=\"&B21178))","v":100},10,2.3157082207641835E-3,0.16666666666666666]
["8461-101","8461","I1607","RÉPARATION DE CYCLES, MOTOCYCLES ET MOTOCULTEURS DE LOISIRS",6,5,{"$f":"IF(C21179=\"\",\"\",COUNTIF($B$2:B21179,\"=\"&B21179))","v":101},10,2.3157082207641835E-3,0.83333333333333337]
["8461-102","8461","H2914","RÉALISATION ET MONTAGE EN TUYAUTERIE",6,2,{"$f":"IF(C21180=\"\",\"\",COUNTIF($B$2:B21180,\"=\"&B21180))","v":102},10,2.3157082207641835E-3,0.33333333333333331]
["8461-103","8461","H2401","ASSEMBLAGE - MONTAGE D'ARTICLES EN CUIRS, PEAUX",6,6,{"$f":"IF(C21181=\"\",\"\",COUNTIF($B$2:B21181,\"=\"&B21181))","v":103},10,2.3157082207641835E-3,1]
["8461-104","8461","F1701","CONSTRUCTION EN BÉTON",6,3,{"$f":"IF(C21182=\"\",\"\",COUNTIF($B$2:B21182,\"=\"&B21182))","v":104},10,2.3157082207641835E-3,0.5]
["8461-105","8461","F1608","POSE DE REVÊTEMENTS RIGIDES",6,2,{"$f":"IF(C21183=\"\",\"\",COUNTIF($B$2:B21183,\"=\"&B21183))","v":105},10,2.3157082207641835E-3,0.33333333333333331]
["8461-106","8461","D1209","VENTE DE VÉGÉTAUX",6,1,{"$f":"IF(C21184=\"\",\"\",COUNTIF($B$2:B21184,\"=\"&B21184))","v":106},10,2.3157082207641835E-3,0.16666666666666666]
["8461-107","8461","M1609","SECRÉTARIAT ET ASSISTANAT MÉDICAL OU MÉDICO-SOCIAL",5,2,{"$f":"IF(C21185=\"\",\"\",COUNTIF($B$2:B21185,\"=\"&B21185))","v":107},{"$f":"ROUND(E21185,-1)","v":10},1.9297568506368198E-3,{"$f":"IF(OR(F21185=\"\",F21185=\".\"),0,F21185/E21185)","v":0.4}]
["8461-108","8461","M1502","DÉVELOPPEMENT DES RESSOURCES HUMAINES",5,5,{"$f":"IF(C21186=\"\",\"\",COUNTIF($B$2:B21186,\"=\"&B21186))","v":108},10,{"$f":"E21186/SUMIF(B:B,B21186,E:E)","v":1.9297568506368198E-3},1]
[{"$f":"B21187&\"-\"&G21187","v":"8461-109"},"8461","K2110","FORMATION EN CONDUITE DE VÉHICULES",5,2,{"$f":"IF(C21187=\"\",\"\",COUNTIF($B$2:B21187,\"=\"&B21187))","v":109},10,1.9297568506368198E-3,0.4]
["8461-110","8461","K1802","DÉVELOPPEMENT LOCAL",5,5,{"$f":"IF(C21188=\"\",\"\",COUNTIF($B$2:B21188,\"=\"&B21188))","v":110},10,1.9297568506368198E-3,1]
["8461-111","8461","I1603","MAINTENANCE D'ENGINS DE CHANTIER, LEVAGE, MANUTENTION ET DE MACHINES AGRICOLES",5,4,{"$f":"IF(C21189=\"\",\"\",COUNTIF($B$2:B21189,\"=\"&B21189))","v":111},10,1.9297568506368198E-3,0.8]
["8461-112","8461","I1301","INSTALLATION ET MAINTENANCE D'ASCENSEURS",5,5,{"$f":"IF(C21190=\"\",\"\",COUNTIF($B$2:B21190,\"=\"&B21190))","v":112},10,1.9297568506368198E-3,1]
["8461-113","8461","H2904","CONDUITE D'ÉQUIPEMENT DE DÉFORMATION DES MÉTAUX",5,3,{"$f":"IF(C21191=\"\",\"\",COUNTIF($B$2:B21191,\"=\"&B21191))","v":113},10,1.9297568506368198E-3,0.6]
["8461-114","8461","H1401","MANAGEMENT ET INGÉNIERIE GESTION INDUSTRIELLE ET LOGISTIQUE",5,".",{"$f":"IF(C21192=\"\",\"\",COUNTIF($B$2:B21192,\"=\"&B21192))","v":114},10,1.9297568506368198E-3,0]
["8461-115","8461","M1501","ASSISTANAT EN RESSOURCES HUMAINES",4,1,{"$f":"IF(C21193=\"\",\"\",COUNTIF($B$2:B21193,\"=\"&B21193))","v":115},0,1.5438054805094559E-3,0.25]
["8461-116","8461","M1401","CONDUITE D'ENQUÊTES",4,".",{"$f":"IF(C21194=\"\",\"\",COUNTIF($B$2:B21194,\"=\"&B21194))","v":116},0,1.5438054805094559E-3,0]
["8461-117","8461","K2109","ENSEIGNEMENT TECHNIQUE ET PROFESSIONNEL",4,1,{"$f":"IF(C21195=\"\",\"\",COUNTIF($B$2:B21195,\"=\"&B21195))","v":117},0,1.5438054805094559E-3,0.25]
["8461-118","8461","K2107","ENSEIGNEMENT GÉNÉRAL DU SECOND DEGRÉ",4,2,{"$f":"IF(C21196=\"\",\"\",COUNTIF($B$2:B21196,\"=\"&B21196))","v":118},0,1.5438054805094559E-3,0.5]
["8461-119","8461","K1202","ÉDUCATION DE JEUNES ENFANTS",4,2,{"$f":"IF(C21197=\"\",\"\",COUNTIF($B$2:B21197,\"=\"&B21197))","v":119},0,1.5438054805094559E-3,0.5]
["8461-120","8461","K1201","ACTION SOCIALE",4,3,{"$f":"IF(C21198=\"\",\"\",COUNTIF($B$2:B21198,\"=\"&B21198))","v":120},0,1.5438054805094559E-3,0.75]
["8461-121","8461","J1304","AIDE EN PUÉRICULTURE",4,1,{"$f":"IF(C21199=\"\",\"\",COUNTIF($B$2:B21199,\"=\"&B21199))","v":121},0,1.5438054805094559E-3,0.25]
["8461-122","8461","J1303","ASSISTANCE MÉDICO-TECHNIQUE",4,4,{"$f":"IF(C21200=\"\",\"\",COUNTIF($B$2:B21200,\"=\"&B21200))","v":122},0,1.5438054805094559E-3,1]
["8461-123","8461","H2502","MANAGEMENT ET INGÉNIERIE DE PRODUCTION",4,3,{"$f":"IF(C21201=\"\",\"\",COUNTIF($B$2:B21201,\"=\"&B21201))","v":123},0,1.5438054805094559E-3,0.75]
["8461-124","8461","H1203","CONCEPTION ET DESSIN PRODUITS MÉCANIQUES",4,3,{"$f":"IF(C21202=\"\",\"\",COUNTIF($B$2:B21202,\"=\"&B21202))","v":124},0,1.5438054805094559E-3,0.75]
["8461-125","8461","G1205","PERSONNEL D'ATTRACTIONS OU DE STRUCTURES DE LOISIRS",4,1,{"$f":"IF(C21203=\"\",\"\",COUNTIF($B$2:B21203,\"=\"&B21203))","v":125},0,1.5438054805094559E-3,0.25]
["8461-126","8461","F1702","CONSTRUCTION DE ROUTES ET VOIES",4,4,{"$f":"IF(C21204=\"\",\"\",COUNTIF($B$2:B21204,\"=\"&B21204))","v":126},0,1.5438054805094559E-3,1]
["8461-127","8461","F1611","RÉALISATION ET RESTAURATION DE FAÇADES",4,1,{"$f":"IF(C21205=\"\",\"\",COUNTIF($B$2:B21205,\"=\"&B21205))","v":127},0,1.5438054805094559E-3,0.25]
["8461-128","8461","D1301","MANAGEMENT DE MAGASIN DE DÉTAIL",4,3,{"$f":"IF(C21206=\"\",\"\",COUNTIF($B$2:B21206,\"=\"&B21206))","v":128},0,1.5438054805094559E-3,0.75]
["8461-129","8461","N4402","EXPLOITATION ET MANOEUVRE DES REMONTÉES MÉCANIQUES",3,".",{"$f":"IF(C21207=\"\",\"\",COUNTIF($B$2:B21207,\"=\"&B21207))","v":129},0,1.1578541103820917E-3,0]
["8461-130","8461","N4103","CONDUITE DE TRANSPORT EN COMMUN SUR ROUTE",3,3,{"$f":"IF(C21208=\"\",\"\",COUNTIF($B$2:B21208,\"=\"&B21208))","v":130},0,1.1578541103820917E-3,1]
["8461-131","8461","M1608","SECRÉTARIAT COMPTABLE",3,3,{"$f":"IF(C21209=\"\",\"\",COUNTIF($B$2:B21209,\"=\"&B21209))","v":131},0,1.1578541103820917E-3,1]
["8461-132","8461","M1503","MANAGEMENT DES RESSOURCES HUMAINES",3,3,{"$f":"IF(C21210=\"\",\"\",COUNTIF($B$2:B21210,\"=\"&B21210))","v":132},0,1.1578541103820917E-3,1]
["8461-133","8461","M1101","ACHATS",3,3,{"$f":"IF(C21211=\"\",\"\",COUNTIF($B$2:B21211,\"=\"&B21211))","v":133},0,1.1578541103820917E-3,1]
["8461-134","8461","K2102","COORDINATION PÉDAGOGIQUE",3,3,{"$f":"IF(C21212=\"\",\"\",COUNTIF($B$2:B21212,\"=\"&B21212))","v":134},0,1.1578541103820917E-3,1]
["8461-135","8461","K1205","INFORMATION SOCIALE",3,3,{"$f":"IF(C21213=\"\",\"\",COUNTIF($B$2:B21213,\"=\"&B21213))","v":135},0,1.1578541103820917E-3,1]
["8461-136","8461","K1203","ENCADREMENT TECHNIQUE EN INSERTION PROFESSIONNELLE",3,1,{"$f":"IF(C21214=\"\",\"\",COUNTIF($B$2:B21214,\"=\"&B21214))","v":136},0,1.1578541103820917E-3,0.33333333333333331]
["8461-137","8461","K1104","PSYCHOLOGIE",3,1,{"$f":"IF(C21215=\"\",\"\",COUNTIF($B$2:B21215,\"=\"&B21215))","v":137},0,1.1578541103820917E-3,0.33333333333333331]
["8461-138","8461","J1302","ANALYSES MÉDICALES",3,".",{"$f":"IF(C21216=\"\",\"\",COUNTIF($B$2:B21216,\"=\"&B21216))","v":138},0,1.1578541103820917E-3,0]
["8461-139","8461","I1402","RÉPARATION DE BIENS ÉLECTRODOMESTIQUES ET MULTIMÉDIA",3,1,{"$f":"IF(C21217=\"\",\"\",COUNTIF($B$2:B21217,\"=\"&B21217))","v":139},0,1.1578541103820917E-3,0.33333333333333331]
["8461-140","8461","I1401","MAINTENANCE INFORMATIQUE ET BUREAUTIQUE",3,1,{"$f":"IF(C21218=\"\",\"\",COUNTIF($B$2:B21218,\"=\"&B21218))","v":140},0,1.1578541103820917E-3,0.33333333333333331]
["8461-141","8461","I1309","MAINTENANCE ÉLECTRIQUE",3,1,{"$f":"IF(C21219=\"\",\"\",COUNTIF($B$2:B21219,\"=\"&B21219))","v":141},0,1.1578541103820917E-3,0.33333333333333331]
["8461-142","8461","I1101","DIRECTION ET INGÉNIERIE EN ENTRETIEN INFRASTRUCTURE ET BÂTI",3,3,{"$f":"IF(C21220=\"\",\"\",COUNTIF($B$2:B21220,\"=\"&B21220))","v":142},0,1.1578541103820917E-3,1]
["8461-143","8461","H2910","MOULAGE SABLE",3,3,{"$f":"IF(C21221=\"\",\"\",COUNTIF($B$2:B21221,\"=\"&B21221))","v":143},0,1.1578541103820917E-3,1]
["8461-144","8461","H2907","CONDUITE D'INSTALLATION DE PRODUCTION DES MÉTAUX",3,1,{"$f":"IF(C21222=\"\",\"\",COUNTIF($B$2:B21222,\"=\"&B21222))","v":144},0,1.1578541103820917E-3,0.33333333333333331]
["8461-145","8461","H2207","RÉALISATION DE MEUBLES EN BOIS",3,3,{"$f":"IF(C21223=\"\",\"\",COUNTIF($B$2:B21223,\"=\"&B21223))","v":145},0,1.1578541103820917E-3,1]
["8461-146","8461","H2201","ASSEMBLAGE D'OUVRAGES EN BOIS",3,".",{"$f":"IF(C21224=\"\",\"\",COUNTIF($B$2:B21224,\"=\"&B21224))","v":146},0,1.1578541103820917E-3,0]
["8461-147","8461","G1503","MANAGEMENT DU PERSONNEL D'ÉTAGE",3,2,{"$f":"IF(C21225=\"\",\"\",COUNTIF($B$2:B21225,\"=\"&B21225))","v":147},0,1.1578541103820917E-3,0.66666666666666663]
["8461-148","8461","G1101","ACCUEIL TOURISTIQUE",3,2,{"$f":"IF(C21226=\"\",\"\",COUNTIF($B$2:B21226,\"=\"&B21226))","v":148},0,1.1578541103820917E-3,0.66666666666666663]
["8461-149","8461","F1706","PRÉFABRICATION EN BÉTON INDUSTRIEL",3,".",{"$f":"IF(C21227=\"\",\"\",COUNTIF($B$2:B21227,\"=\"&B21227))","v":149},0,1.1578541103820917E-3,0]
["8461-150","8461","F1609","POSE DE REVÊTEMENTS SOUPLES",3,1,{"$f":"IF(C21228=\"\",\"\",COUNTIF($B$2:B21228,\"=\"&B21228))","v":150},0,1.1578541103820917E-3,0.33333333333333331]
["8461-151","8461","E1103","COMMUNICATION",3,3,{"$f":"IF(C21229=\"\",\"\",COUNTIF($B$2:B21229,\"=\"&B21229))","v":151},0,1.1578541103820917E-3,1]
["8461-152","8461","C1504","TRANSACTION IMMOBILIÈRE",3,3,{"$f":"IF(C21230=\"\",\"\",COUNTIF($B$2:B21230,\"=\"&B21230))","v":152},0,1.1578541103820917E-3,1]
["8461-153","8461","A1501","AIDE AUX SOINS ANIMAUX",3,2,{"$f":"IF(C21231=\"\",\"\",COUNTIF($B$2:B21231,\"=\"&B21231))","v":153},0,1.1578541103820917E-3,0.66666666666666663]
["8461-154","8461","A1403","AIDE D'ÉLEVAGE AGRICOLE ET AQUACOLE",3,3,{"$f":"IF(C21232=\"\",\"\",COUNTIF($B$2:B21232,\"=\"&B21232))","v":154},0,1.1578541103820917E-3,1]
["8461-155","8461","N1303","INTERVENTION TECHNIQUE D'EXPLOITATION LOGISTIQUE",2,2,{"$f":"IF(C21233=\"\",\"\",COUNTIF($B$2:B21233,\"=\"&B21233))","v":155},0,7.7190274025472794E-4,1]
["8461-156","8461","N1104","MANOEUVRE ET CONDUITE D'ENGINS LOURDS DE MANUTENTION",2,".",{"$f":"IF(C21234=\"\",\"\",COUNTIF($B$2:B21234,\"=\"&B21234))","v":156},0,7.7190274025472794E-4,0]
["8461-157","8461","M1603","DISTRIBUTION DE DOCUMENTS",2,".",{"$f":"IF(C21235=\"\",\"\",COUNTIF($B$2:B21235,\"=\"&B21235))","v":157},0,7.7190274025472794E-4,0]
["8461-158","8461","M1202","AUDIT ET CONTRÔLE COMPTABLES ET FINANCIERS",2,2,{"$f":"IF(C21236=\"\",\"\",COUNTIF($B$2:B21236,\"=\"&B21236))","v":158},0,7.7190274025472794E-4,1]
["8461-159","8461","K2501","GARDIENNAGE DE LOCAUX",2,2,{"$f":"IF(C21237=\"\",\"\",COUNTIF($B$2:B21237,\"=\"&B21237))","v":159},0,7.7190274025472794E-4,1]
["8461-160","8461","K2305","SALUBRITÉ ET TRAITEMENT DE NUISIBLES",2,".",{"$f":"IF(C21238=\"\",\"\",COUNTIF($B$2:B21238,\"=\"&B21238))","v":160},0,7.7190274025472794E-4,0]
["8461-161","8461","K1902","COLLABORATION JURIDIQUE",2,1,{"$f":"IF(C21239=\"\",\"\",COUNTIF($B$2:B21239,\"=\"&B21239))","v":161},0,7.7190274025472794E-4,0.5]
["8461-162","8461","K1403","MANAGEMENT DE STRUCTURE DE SANTÉ, SOCIALE OU PÉNITENTIAIRE",2,2,{"$f":"IF(C21240=\"\",\"\",COUNTIF($B$2:B21240,\"=\"&B21240))","v":162},0,7.7190274025472794E-4,1]
["8461-163","8461","J1507","SOINS INFIRMIERS SPÉCIALISÉS EN PUÉRICULTURE",2,".",{"$f":"IF(C21241=\"\",\"\",COUNTIF($B$2:B21241,\"=\"&B21241))","v":163},0,7.7190274025472794E-4,0]
["8461-164","8461","J1410","PROTHÈSES DENTAIRES",2,2,{"$f":"IF(C21242=\"\",\"\",COUNTIF($B$2:B21242,\"=\"&B21242))","v":164},0,7.7190274025472794E-4,1]
["8461-165","8461","J1307","PRÉPARATION EN PHARMACIE",2,2,{"$f":"IF(C21243=\"\",\"\",COUNTIF($B$2:B21243,\"=\"&B21243))","v":165},0,7.7190274025472794E-4,1]
["8461-166","8461","J1102","MÉDECINE GÉNÉRALISTE ET SPÉCIALISÉE",2,2,{"$f":"IF(C21244=\"\",\"\",COUNTIF($B$2:B21244,\"=\"&B21244))","v":166},0,7.7190274025472794E-4,1]
["8461-167","8461","I1310","MAINTENANCE MÉCANIQUE INDUSTRIELLE",2,".",{"$f":"IF(C21245=\"\",\"\",COUNTIF($B$2:B21245,\"=\"&B21245))","v":167},0,7.7190274025472794E-4,0]
["8461-168","8461","I1308","MAINTENANCE D'INSTALLATION DE CHAUFFAGE",2,2,{"$f":"IF(C21246=\"\",\"\",COUNTIF($B$2:B21246,\"=\"&B21246))","v":168},0,7.7190274025472794E-4,1]
["8461-169","8461","I1307","INSTALLATION ET MAINTENANCE TÉLÉCOMS ET COURANTS FAIBLES",2,1,{"$f":"IF(C21247=\"\",\"\",COUNTIF($B$2:B21247,\"=\"&B21247))","v":169},0,7.7190274025472794E-4,0.5]
["8461-170","8461","I1202","ENTRETIEN ET SURVEILLANCE DU TRACÉ ROUTIER",2,2,{"$f":"IF(C21248=\"\",\"\",COUNTIF($B$2:B21248,\"=\"&B21248))","v":170},0,7.7190274025472794E-4,1]
["8461-171","8461","H2603","CONDUITE D'INSTALLATION AUTOMATISÉE DE PRODUCTION ÉLECTRIQUE, ÉLECTRONIQUE ET MICROÉLECTRONIQUE",2,".",{"$f":"IF(C21249=\"\",\"\",COUNTIF($B$2:B21249,\"=\"&B21249))","v":171},{"$f":"ROUND(E21249,-1)","v":0},7.7190274025472794E-4,{"$f":"IF(OR(F21249=\"\",F21249=\".\"),0,F21249/E21249)","v":0}]
["8461-172","8461","H2503","PILOTAGE D'UNITÉ ÉLÉMENTAIRE DE PRODUCTION MÉCANIQUE OU DE TRAVAIL DES MÉTAUX",2,2,{"$f":"IF(C21250=\"\",\"\",COUNTIF($B$2:B21250,\"=\"&B21250))","v":172},0,{"$f":"E21250/SUMIF(B:B,B21250,E:E)","v":7.7190274025472794E-4},1]
[{"$f":"B21251&\"-\"&G21251","v":"8461-173"},"8461","H2204","ENCADREMENT DES INDUSTRIES DE L'AMEUBLEMENT ET DU BOIS",2,2,{"$f":"IF(C21251=\"\",\"\",COUNTIF($B$2:B21251,\"=\"&B21251))","v":173},0,7.7190274025472794E-4,1]
["8461-174","8461","H1403","INTERVENTION TECHNIQUE EN GESTION INDUSTRIELLE ET LOGISTIQUE",2,".",{"$f":"IF(C21252=\"\",\"\",COUNTIF($B$2:B21252,\"=\"&B21252))","v":174},0,7.7190274025472794E-4,0]
["8461-175","8461","G1804","SOMMELLERIE",2,".",{"$f":"IF(C21253=\"\",\"\",COUNTIF($B$2:B21253,\"=\"&B21253))","v":175},0,7.7190274025472794E-4,0]
["8461-176","8461","G1403","GESTION DE STRUCTURE DE LOISIRS OU D'HÉBERGEMENT TOURISTIQUE",2,".",{"$f":"IF(C21254=\"\",\"\",COUNTIF($B$2:B21254,\"=\"&B21254))","v":176},0,7.7190274025472794E-4,0]
["8461-177","8461","G1402","MANAGEMENT D'HÔTEL-RESTAURANT",2,2,{"$f":"IF(C21255=\"\",\"\",COUNTIF($B$2:B21255,\"=\"&B21255))","v":177},0,7.7190274025472794E-4,1]
["8461-178","8461","F1705","POSE DE CANALISATIONS",2,1,{"$f":"IF(C21256=\"\",\"\",COUNTIF($B$2:B21256,\"=\"&B21256))","v":178},0,7.7190274025472794E-4,0.5]
["8461-179","8461","F1503","RÉALISATION - INSTALLATION D'OSSATURES BOIS",2,2,{"$f":"IF(C21257=\"\",\"\",COUNTIF($B$2:B21257,\"=\"&B21257))","v":179},0,7.7190274025472794E-4,1]
["8461-180","8461","F1301","CONDUITE DE GRUE",2,".",{"$f":"IF(C21258=\"\",\"\",COUNTIF($B$2:B21258,\"=\"&B21258))","v":180},0,7.7190274025472794E-4,0]
["8461-181","8461","F1204","QUALITÉ SÉCURITÉ ENVIRONNEMENT ET PROTECTION SANTÉ DU BTP",2,2,{"$f":"IF(C21259=\"\",\"\",COUNTIF($B$2:B21259,\"=\"&B21259))","v":181},0,7.7190274025472794E-4,1]
["8461-182","8461","E1205","RÉALISATION DE CONTENUS MULTIMÉDIAS",2,2,{"$f":"IF(C21260=\"\",\"\",COUNTIF($B$2:B21260,\"=\"&B21260))","v":182},0,7.7190274025472794E-4,1]
["8461-183","8461","D1210","VENTE EN ANIMALERIE",2,1,{"$f":"IF(C21261=\"\",\"\",COUNTIF($B$2:B21261,\"=\"&B21261))","v":183},0,7.7190274025472794E-4,0.5]
["8461-184","8461","C1102","CONSEIL CLIENTÈLE EN ASSURANCES",2,2,{"$f":"IF(C21262=\"\",\"\",COUNTIF($B$2:B21262,\"=\"&B21262))","v":184},0,7.7190274025472794E-4,1]
["8461-185","8461","A1414","HORTICULTURE ET MARAÎCHAGE",2,".",{"$f":"IF(C21263=\"\",\"\",COUNTIF($B$2:B21263,\"=\"&B21263))","v":185},0,7.7190274025472794E-4,0]
["8461-186","8461","A1401","AIDE AGRICOLE DE PRODUCTION FRUITIÈRE OU VITICOLE",2,".",{"$f":"IF(C21264=\"\",\"\",COUNTIF($B$2:B21264,\"=\"&B21264))","v":186},0,7.7190274025472794E-4,0]
["8461-187","8461","A1202","ENTRETIEN DES ESPACES NATURELS",2,1,{"$f":"IF(C21265=\"\",\"\",COUNTIF($B$2:B21265,\"=\"&B21265))","v":187},0,7.7190274025472794E-4,0.5]
["8461-188","8461","N4301","CONDUITE SUR RAILS",1,".",{"$f":"IF(C21266=\"\",\"\",COUNTIF($B$2:B21266,\"=\"&B21266))","v":188},0,3.8595137012736397E-4,0]
["8461-189","8461","N4102","CONDUITE DE TRANSPORT DE PARTICULIERS",1,".",{"$f":"IF(C21267=\"\",\"\",COUNTIF($B$2:B21267,\"=\"&B21267))","v":189},0,3.8595137012736397E-4,0]
["8461-190","8461","N1102","DÉMÉNAGEMENT",1,".",{"$f":"IF(C21268=\"\",\"\",COUNTIF($B$2:B21268,\"=\"&B21268))","v":190},0,3.8595137012736397E-4,0]
["8461-191","8461","M1801","ADMINISTRATION DE SYSTÈMES D'INFORMATION",1,1,{"$f":"IF(C21269=\"\",\"\",COUNTIF($B$2:B21269,\"=\"&B21269))","v":191},0,3.8595137012736397E-4,1]
["8461-192","8461","M1707","STRATÉGIE COMMERCIALE",1,1,{"$f":"IF(C21270=\"\",\"\",COUNTIF($B$2:B21270,\"=\"&B21270))","v":192},0,3.8595137012736397E-4,1]
["8461-193","8461","M1402","CONSEIL EN ORGANISATION ET MANAGEMENT D'ENTREPRISE",1,1,{"$f":"IF(C21271=\"\",\"\",COUNTIF($B$2:B21271,\"=\"&B21271))","v":193},0,3.8595137012736397E-4,1]
["8461-194","8461","M1302","DIRECTION DE PETITE OU MOYENNE ENTREPRISE",1,1,{"$f":"IF(C21272=\"\",\"\",COUNTIF($B$2:B21272,\"=\"&B21272))","v":194},0,3.8595137012736397E-4,1]
["8461-195","8461","M1205","DIRECTION ADMINISTRATIVE ET FINANCIÈRE",1,1,{"$f":"IF(C21273=\"\",\"\",COUNTIF($B$2:B21273,\"=\"&B21273))","v":195},0,3.8595137012736397E-4,1]
["8461-196","8461","M1204","CONTRÔLE DE GESTION",1,1,{"$f":"IF(C21274=\"\",\"\",COUNTIF($B$2:B21274,\"=\"&B21274))","v":196},0,3.8595137012736397E-4,1]
["8461-197","8461","M1102","DIRECTION DES ACHATS",1,1,{"$f":"IF(C21275=\"\",\"\",COUNTIF($B$2:B21275,\"=\"&B21275))","v":197},0,3.8595137012736397E-4,1]
["8461-198","8461","L1508","PRISE DE SON ET SONORISATION",1,".",{"$f":"IF(C21276=\"\",\"\",COUNTIF($B$2:B21276,\"=\"&B21276))","v":198},0,3.8595137012736397E-4,0]
["8461-199","8461","K2601","CONDUITE D'OPÉRATIONS FUNÉRAIRES",1,".",{"$f":"IF(C21277=\"\",\"\",COUNTIF($B$2:B21277,\"=\"&B21277))","v":199},0,3.8595137012736397E-4,0]
["8461-200","8461","K2105","ENSEIGNEMENT ARTISTIQUE",1,1,{"$f":"IF(C21278=\"\",\"\",COUNTIF($B$2:B21278,\"=\"&B21278))","v":200},0,3.8595137012736397E-4,1]
["8461-201","8461","K1903","DÉFENSE ET CONSEIL JURIDIQUE",1,1,{"$f":"IF(C21279=\"\",\"\",COUNTIF($B$2:B21279,\"=\"&B21279))","v":201},0,3.8595137012736397E-4,1]
["8461-202","8461","K1801","CONSEIL EN EMPLOI ET INSERTION SOCIOPROFESSIONNELLE",1,1,{"$f":"IF(C21280=\"\",\"\",COUNTIF($B$2:B21280,\"=\"&B21280))","v":202},0,3.8595137012736397E-4,1]
["8461-203","8461","K1707","SURVEILLANCE MUNICIPALE",1,1,{"$f":"IF(C21281=\"\",\"\",COUNTIF($B$2:B21281,\"=\"&B21281))","v":203},0,3.8595137012736397E-4,1]
["8461-204","8461","K1601","GESTION DE L'INFORMATION ET DE LA DOCUMENTATION",1,1,{"$f":"IF(C21282=\"\",\"\",COUNTIF($B$2:B21282,\"=\"&B21282))","v":204},0,3.8595137012736397E-4,1]
["8461-205","8461","K1404","MISE EN OEUVRE ET PILOTAGE DE LA POLITIQUE DES POUVOIRS PUBLICS",1,".",{"$f":"IF(C21283=\"\",\"\",COUNTIF($B$2:B21283,\"=\"&B21283))","v":205},0,3.8595137012736397E-4,0]
["8461-206","8461","K1402","CONSEIL EN SANTÉ PUBLIQUE",1,1,{"$f":"IF(C21284=\"\",\"\",COUNTIF($B$2:B21284,\"=\"&B21284))","v":206},0,3.8595137012736397E-4,1]
["8461-207","8461","K1206","INTERVENTION SOCIOCULTURELLE",1,".",{"$f":"IF(C21285=\"\",\"\",COUNTIF($B$2:B21285,\"=\"&B21285))","v":207},0,3.8595137012736397E-4,0]
["8461-208","8461","K1204","MÉDIATION SOCIALE ET FACILITATION DE LA VIE EN SOCIÉTÉ",1,".",{"$f":"IF(C21286=\"\",\"\",COUNTIF($B$2:B21286,\"=\"&B21286))","v":208},0,3.8595137012736397E-4,0]
["8461-209","8461","I1306","INSTALLATION ET MAINTENANCE EN FROID, CONDITIONNEMENT D'AIR",1,".",{"$f":"IF(C21287=\"\",\"\",COUNTIF($B$2:B21287,\"=\"&B21287))","v":209},0,3.8595137012736397E-4,0]
["8461-210","8461","I1201","ENTRETIEN D'AFFICHAGE ET MOBILIER URBAIN",1,".",{"$f":"IF(C21288=\"\",\"\",COUNTIF($B$2:B21288,\"=\"&B21288))","v":210},0,3.8595137012736397E-4,0]
["8461-211","8461","H3203","FABRICATION DE PIÈCES EN MATÉRIAUX COMPOSITES",1,1,{"$f":"IF(C21289=\"\",\"\",COUNTIF($B$2:B21289,\"=\"&B21289))","v":211},0,3.8595137012736397E-4,1]
["8461-212","8461","H3201","CONDUITE D'ÉQUIPEMENT DE FORMAGE DES PLASTIQUES ET CAOUTCHOUCS",1,".",{"$f":"IF(C21290=\"\",\"\",COUNTIF($B$2:B21290,\"=\"&B21290))","v":212},0,3.8595137012736397E-4,0]
["8461-213","8461","H2908","MODELAGE DE MATÉRIAUX NON MÉTALLIQUES",1,".",{"$f":"IF(C21291=\"\",\"\",COUNTIF($B$2:B21291,\"=\"&B21291))","v":213},0,3.8595137012736397E-4,0]
["8461-214","8461","H2906","CONDUITE D'INSTALLATION AUTOMATISÉE OU ROBOTISÉE DE FABRICATION MÉCANIQUE",1,".",{"$f":"IF(C21292=\"\",\"\",COUNTIF($B$2:B21292,\"=\"&B21292))","v":214},0,3.8595137012736397E-4,0]
["8461-215","8461","H2605","MONTAGE ET CÂBLAGE ÉLECTRONIQUE",1,".",{"$f":"IF(C21293=\"\",\"\",COUNTIF($B$2:B21293,\"=\"&B21293))","v":215},0,3.8595137012736397E-4,0]
["8461-216","8461","H2501","ENCADREMENT DE PRODUCTION DE MATÉRIEL ÉLECTRIQUE ET ÉLECTRONIQUE",1,1,{"$f":"IF(C21294=\"\",\"\",COUNTIF($B$2:B21294,\"=\"&B21294))","v":216},0,3.8595137012736397E-4,1]
["8461-217","8461","H2403","CONDUITE DE MACHINE DE FABRICATION DE PRODUITS TEXTILES",1,1,{"$f":"IF(C21295=\"\",\"\",COUNTIF($B$2:B21295,\"=\"&B21295))","v":217},0,3.8595137012736397E-4,1]
["8461-218","8461","H2205","PREMIÈRE TRANSFORMATION DE BOIS D'OEUVRE",1,".",{"$f":"IF(C21296=\"\",\"\",COUNTIF($B$2:B21296,\"=\"&B21296))","v":218},0,3.8595137012736397E-4,0]
["8461-219","8461","H2202","CONDUITE D'ÉQUIPEMENT DE FABRICATION DE L'AMEUBLEMENT ET DU BOIS",1,1,{"$f":"IF(C21297=\"\",\"\",COUNTIF($B$2:B21297,\"=\"&B21297))","v":219},0,3.8595137012736397E-4,1]
["8461-220","8461","H1504","INTERVENTION TECHNIQUE EN CONTRÔLE ESSAI QUALITÉ EN ÉLECTRICITÉ ET ÉLECTRONIQUE",1,".",{"$f":"IF(C21298=\"\",\"\",COUNTIF($B$2:B21298,\"=\"&B21298))","v":220},0,3.8595137012736397E-4,0]
["8461-221","8461","H1208","INTERVENTION TECHNIQUE EN ÉTUDES ET CONCEPTION EN AUTOMATISME",1,1,{"$f":"IF(C21299=\"\",\"\",COUNTIF($B$2:B21299,\"=\"&B21299))","v":221},0,3.8595137012736397E-4,1]
["8461-222","8461","H1206","MANAGEMENT ET INGÉNIERIE ÉTUDES, RECHERCHE ET DÉVELOPPEMENT INDUSTRIEL",1,1,{"$f":"IF(C21300=\"\",\"\",COUNTIF($B$2:B21300,\"=\"&B21300))","v":222},0,3.8595137012736397E-4,1]
["8461-223","8461","H1202","CONCEPTION ET DESSIN DE PRODUITS ÉLECTRIQUES ET ÉLECTRONIQUES",1,1,{"$f":"IF(C21301=\"\",\"\",COUNTIF($B$2:B21301,\"=\"&B21301))","v":223},0,3.8595137012736397E-4,1]
["8461-224","8461","H1102","MANAGEMENT ET INGÉNIERIE D'AFFAIRES",1,1,{"$f":"IF(C21302=\"\",\"\",COUNTIF($B$2:B21302,\"=\"&B21302))","v":224},0,3.8595137012736397E-4,1]
["8461-225","8461","H1101","ASSISTANCE ET SUPPORT TECHNIQUE CLIENT",1,1,{"$f":"IF(C21303=\"\",\"\",COUNTIF($B$2:B21303,\"=\"&B21303))","v":225},0,3.8595137012736397E-4,1]
["8461-226","8461","G1404","MANAGEMENT D'ÉTABLISSEMENT DE RESTAURATION COLLECTIVE",1,1,{"$f":"IF(C21304=\"\",\"\",COUNTIF($B$2:B21304,\"=\"&B21304))","v":226},0,3.8595137012736397E-4,1]
["8461-227","8461","G1102","PROMOTION DU TOURISME LOCAL",1,".",{"$f":"IF(C21305=\"\",\"\",COUNTIF($B$2:B21305,\"=\"&B21305))","v":227},0,3.8595137012736397E-4,0]
["8461-228","8461","F1107","MESURES TOPOGRAPHIQUES",1,".",{"$f":"IF(C21306=\"\",\"\",COUNTIF($B$2:B21306,\"=\"&B21306))","v":228},0,3.8595137012736397E-4,0]
["8461-229","8461","F1106","INGÉNIERIE ET ÉTUDES DU BTP",1,1,{"$f":"IF(C21307=\"\",\"\",COUNTIF($B$2:B21307,\"=\"&B21307))","v":229},0,3.8595137012736397E-4,1]
["8461-230","8461","F1104","DESSIN BTP ET PAYSAGE",1,".",{"$f":"IF(C21308=\"\",\"\",COUNTIF($B$2:B21308,\"=\"&B21308))","v":230},0,3.8595137012736397E-4,0]
["8461-231","8461","E1304","FAÇONNAGE ET ROUTAGE",1,1,{"$f":"IF(C21309=\"\",\"\",COUNTIF($B$2:B21309,\"=\"&B21309))","v":231},0,3.8595137012736397E-4,1]
["8461-232","8461","D1502","MANAGEMENT/GESTION DE RAYON PRODUITS ALIMENTAIRES",1,1,{"$f":"IF(C21310=\"\",\"\",COUNTIF($B$2:B21310,\"=\"&B21310))","v":232},0,3.8595137012736397E-4,1]
["8461-233","8461","D1404","RELATION COMMERCIALE EN VENTE DE VÉHICULES",1,".",{"$f":"IF(C21311=\"\",\"\",COUNTIF($B$2:B21311,\"=\"&B21311))","v":233},0,3.8595137012736397E-4,0]
["8461-234","8461","D1213","VENTE EN GROS DE MATÉRIEL ET ÉQUIPEMENT",1,1,{"$f":"IF(C21312=\"\",\"\",COUNTIF($B$2:B21312,\"=\"&B21312))","v":234},0,3.8595137012736397E-4,1]
["8461-235","8461","D1205","NETTOYAGE D'ARTICLES TEXTILES OU CUIRS",1,".",{"$f":"IF(C21313=\"\",\"\",COUNTIF($B$2:B21313,\"=\"&B21313))","v":235},{"$f":"ROUND(E21313,-1)","v":0},3.8595137012736397E-4,{"$f":"IF(OR(F21313=\"\",F21313=\".\"),0,F21313/E21313)","v":0}]
["8461-236","8461","C1109","RÉDACTION ET GESTION EN ASSURANCES",1,1,{"$f":"IF(C21314=\"\",\"\",COUNTIF($B$2:B21314,\"=\"&B21314))","v":236},0,3.8595137012736397E-4,1]
[{"$f":"B21315&\"-\"&G21315","v":"8461-237"},"8461","A1413","FERMENTATION DE BOISSONS ALCOOLISÉES",1,1,{"$f":"IF(C21315=\"\",\"\",COUNTIF($B$2:B21315,\"=\"&B21315))","v":237},0,3.8595137012736397E-4,1]
["8461-238","8461","A1405","ARBORICULTURE ET VITICULTURE",1,".",{"$f":"IF(C21316=\"\",\"\",COUNTIF($B$2:B21316,\"=\"&B21316))","v":238},0,3.8595137012736397E-4,0]

{"sheet":"territoire","index":1,"n_rows":65,"n_cols":6,"rows_kept":65,"cut":false,"hidden":true,"merged":[]}
["Auvergne-Rhône-Alpes","84",null,null,"A","Agriculture et Pêche, Espaces naturels et Espaces verts, Soins aux animaux"]
["Ain","01",null,null,"B","Arts et Façonnage d'ouvrages d'art"]
["Allier","03",null,null,"C","Banque, Assurance, Immobilier"]
["Ardèche","07",null,null,"D","Commerce, Vente et Grande distribution"]
["Cantal","15",null,null,"E","Communication, Média et Multimédia"]
["Drôme","26",null,null,"F","Construction, Bâtiment et Travaux publics"]
["Isère","38",null,null,"G","Hôtellerie-Restauration, Tourisme, Loisirs et Animation"]
["Loire","42",null,null,"H","Industrie"]
["Haute-Loire","43",null,null,"I","Installation et Maintenance"]
["Puy-de-Dôme","63",null,null,"J","Santé"]
["Rhône","69",null,null,"K","Services à la personne et à la collectivité"]
["Savoie","73",null,null,"L","Spectacle"]
["Haute-Savoie","74",null,null,"M","Support à l'entreprise"]
["Bassin d'AMBERIEU",8403,null,null,"N","Transport et Logistique"]
["Bassin d'AMBERT",8459]
["Bassin d'ANNECY",8407]
["Bassin d'ANNONAY",8419]
["Bassin d'ARDECHE CENTRE",8436]
["Bassin d'AUBENAS",8420]
["Bassin d'AURILLAC",8450]
["Bassin de BELLEY",8404]
["Bassin de BOURG EN BRESSE",8401]
["Bassin de BRIOUDE",8460]
["Bassin de CHABLAIS",8405]
["Bassin de CHAMBERY",8411]
["Bassin de CLERMONT FERRAND",8457]
["Bassin de DROME ARDECHE CENTRE",8432]
["Bassin de DROME ARDECHE SUD",8421]
["Bassin de DROME-ARDECHE-NORD",8431]
["Bassin de GENEVOIS FRANCAIS",8406]
["Bassin de GIER",8427]
["Bassin de GIVORS",8445]
["Bassin de GRENOBLE",8412]
["Bassin d'ISERE NORD EST",8414]
["Bassin d'ISSOIRE",8461]
["Bassin de LE PUY",8453]
["Bassin de LOIRE CENTRE",8417]
["Bassin de LYON CENTRE",8428]
["Bassin de MAURIAC",8456]
["Bassin de MAURIENNE",8409]
["Bassin de MONISTROL YSSINGEAUX",8454]
["Bassin de MONTLUCON",8447]
["Bassin de MOULINS",8448]
["Bassin d'OULLINS",8439]
["Bassin d'OYONNAX",8402]
["Bassin de PAYS DE GEX",8438]
["Bassin de RHONE EST",8430]
["Bassin de RILLIEUX",8446]
["Bassin de RIOM ST ELOY",8458]
["Bassin de ROANNE",8416]
["Bassin de SAINT ETIENNE",8426]
["Bassin de SAINT FLOUR",8451]
["Bassin de TARARE",8442]
["Bassin de TARENTAISE",8410]
["Bassin de TASSIN",8443]
["Bassin de THIERS",8455]
["Bassin de TREVOUX",8437]
["Bassin de VALLEE DE L ARVE",8408]
["Bassin de VALLEE DE LA DROME",8435]
["Bassin de VAULX MEYZIEU",8440]
["Bassin de VICHY CUSSET",8449]
["Bassin de VIENNE ROUSSILLON",8415]
["Bassin de VILLEFRANCHE",8444]
["Bassin de VILLEURBANNE",8441]
["Bassin de VOIRON",8413]

{"sheet":"o","index":2,"n_rows":28,"n_cols":10,"rows_kept":28,"cut":false,"hidden":false,"merged":[[6,1,6,2],[0,2,1,9],[3,1,3,3],[7,1,9,2]]}
[null,null,"TOP 20 DES MÉTIERS\n recherchés par les établissements du territoire parmi les offres enregistrées à Pôle emploi en 2021"]
[]
[]
[null,"source: Pôle emploi, offres enregistrées (hors offres partenaires)"]
[]
[]
[null,"Choix du territoire",null,null,"Rang","Métier ROME","Domaine","Nb Offres","Poids / total","% offres durables*"]
[null,"Auvergne-Rhône-Alpes",null,null,1,{"$f":"VLOOKUP(VLOOKUP($B$8,territoire!$A:$B,2,FALSE)&\"-\"&$E8,data!$A:$J,4,FALSE)","v":"PERSONNEL DE CUISINE"},{"$f":"VLOOKUP(LEFT(VLOOKUP(VLOOKUP($B$8,territoire!$A:$B,2,FALSE)&\"-\"&$E8,data!$A:$G,3,FALSE),1),territoire!$E:$F,2,FALSE)","v":"Hôtellerie-Restauration, Tourisme, Loisirs et Animation"},{"$f":"VLOOKUP(VLOOKUP($B$8,territoire!$A:$B,2,FALSE)&\"-\"&$E8,data!$A:$J,8,FALSE)","v":13040},{"$f":"VLOOKUP(VLOOKUP($B$8,territoire!$A:$B,2,FALSE)&\"-\"&$E8,data!$A:$J,9,FALSE)","v":2.7663112879755293E-2},{"$f":"VLOOKUP(VLOOKUP($B$8,territoire!$A:$B,2,FALSE)&\"-\"&$E8,data!$A:$J,10,FALSE)","v":0.49965493443754311}]
[null,null,null,null,2,{"$f":"VLOOKUP(VLOOKUP($B$8,territoire!$A:$B,2,FALSE)&\"-\"&$E9,data!$A:$J,4,FALSE)","v":"ASSISTANCE AUPRÈS D'ADULTES"},{"$f":"VLOOKUP(LEFT(VLOOKUP(VLOOKUP($B$8,territoire!$A:$B,2,FALSE)&\"-\"&$E9,data!$A:$G,3,FALSE),1),territoire!$E:$F,2,FALSE)","v":"Services à la personne et à la collectivité"},{"$f":"VLOOKUP(VLOOKUP($B$8,territoire!$A:$B,2,FALSE)&\"-\"&$E9,data!$A:$J,8,FALSE)","v":12440},{"$f":"VLOOKUP(VLOOKUP($B$8,territoire!$A:$B,2,FALSE)&\"-\"&$E9,data!$A:$J,9,FALSE)","v":2.6388246624043852E-2},{"$f":"VLOOKUP(VLOOKUP($B$8,territoire!$A:$B,2,FALSE)&\"-\"&$E9,data!$A:$J,10,FALSE)","v":0.81969453376205792}]
[null,null,null,null,3,{"$f":"VLOOKUP(VLOOKUP($B$8,territoire!$A:$B,2,FALSE)&\"-\"&$E10,data!$A:$J,4,FALSE)","v":"MAGASINAGE ET PRÉPARATION DE COMMANDES"},{"$f":"VLOOKUP(LEFT(VLOOKUP(VLOOKUP($B$8,territoire!$A:$B,2,FALSE)&\"-\"&$E10,data!$A:$G,3,FALSE),1),territoire!$E:$F,2,FALSE)","v":"Transport et Logistique"},{"$f":"VLOOKUP(VLOOKUP($B$8,territoire!$A:$B,2,FALSE)&\"-\"&$E10,data!$A:$J,8,FALSE)","v":12180},{"$f":"VLOOKUP(VLOOKUP($B$8,territoire!$A:$B,2,FALSE)&\"-\"&$E10,data!$A:$J,9,FALSE)","v":2.5834602542944538E-2},{"$f":"VLOOKUP(VLOOKUP($B$8,territoire!$A:$B,2,FALSE)&\"-\"&$E10,data!$A:$J,10,FALSE)","v":0.51375318170621564}]
[null,null,null,null,4,{"$f":"VLOOKUP(VLOOKUP($B$8,territoire!$A:$B,2,FALSE)&\"-\"&$E11,data!$A:$J,4,FALSE)","v":"SERVICES DOMESTIQUES"},{"$f":"VLOOKUP(LEFT(VLOOKUP(VLOOKUP($B$8,territoire!$A:$B,2,FALSE)&\"-\"&$E11,data!$A:$G,3,FALSE),1),territoire!$E:$F,2,FALSE)","v":"Services à la personne et à la collectivité"},{"$f":"VLOOKUP(VLOOKUP($B$8,territoire!$A:$B,2,FALSE)&\"-\"&$E11,data!$A:$J,8,FALSE)","v":12040},{"$f":"VLOOKUP(VLOOKUP($B$8,territoire!$A:$B,2,FALSE)&\"-\"&$E11,data!$A:$J,9,FALSE)","v":2.5546113673099686E-2},{"$f":"VLOOKUP(VLOOKUP($B$8,territoire!$A:$B,2,FALSE)&\"-\"&$E11,data!$A:$J,10,FALSE)","v":0.74209084115253676}]
[null,null,null,null,5,{"$f":"VLOOKUP(VLOOKUP($B$8,territoire!$A:$B,2,FALSE)&\"-\"&$E12,data!$A:$J,4,FALSE)","v":"NETTOYAGE DE LOCAUX"},{"$f":"VLOOKUP(LEFT(VLOOKUP(VLOOKUP($B$8,territoire!$A:$B,2,FALSE)&\"-\"&$E12,data!$A:$G,3,FALSE),1),territoire!$E:$F,2,FALSE)","v":"Services à la personne et à la collectivité"},{"$f":"VLOOKUP(VLOOKUP($B$8,territoire!$A:$B,2,FALSE)&\"-\"&$E12,data!$A:$J,8,FALSE)","v":10860},{"$f":"VLOOKUP(VLOOKUP($B$8,territoire!$A:$B,2,FALSE)&\"-\"&$E12,data!$A:$J,9,FALSE)","v":2.3030321028717372E-2},{"$f":"VLOOKUP(VLOOKUP($B$8,territoire!$A:$B,2,FALSE)&\"-\"&$E12,data!$A:$J,10,FALSE)","v":0.47222989776181268}]
[null,null,null,null,6,{"$f":"VLOOKUP(VLOOKUP($B$8,territoire!$A:$B,2,FALSE)&\"-\"&$E13,data!$A:$J,4,FALSE)","v":"SERVICE EN RESTAURATION"},{"$f":"VLOOKUP(LEFT(VLOOKUP(VLOOKUP($B$8,territoire!$A:$B,2,FALSE)&\"-\"&$E13,data!$A:$G,3,FALSE),1),territoire!$E:$F,2,FALSE)","v":"Hôtellerie-Restauration, Tourisme, Loisirs et Animation"},{"$f":"VLOOKUP(VLOOKUP($B$8,territoire!$A:$B,2,FALSE)&\"-\"&$E13,data!$A:$J,8,FALSE)","v":9830},{"$f":"VLOOKUP(VLOOKUP($B$8,territoire!$A:$B,2,FALSE)&\"-\"&$E13,data!$A:$J,9,FALSE)","v":2.0856048296430799E-2},{"$f":"VLOOKUP(VLOOKUP($B$8,territoire!$A:$B,2,FALSE)&\"-\"&$E13,data!$A:$J,10,FALSE)","v":0.4725386493083808}]
[null,null,null,null,7,{"$f":"VLOOKUP(VLOOKUP($B$8,territoire!$A:$B,2,FALSE)&\"-\"&$E14,data!$A:$J,4,FALSE)","v":"COMPTABILITÉ"},{"$f":"VLOOKUP(LEFT(VLOOKUP(VLOOKUP($B$8,territoire!$A:$B,2,FALSE)&\"-\"&$E14,data!$A:$G,3,FALSE),1),territoire!$E:$F,2,FALSE)","v":"Support à l'entreprise"},{"$f":"VLOOKUP(VLOOKUP($B$8,territoire!$A:$B,2,FALSE)&\"-\"&$E14,data!$A:$J,8,FALSE)","v":8250},{"$f":"VLOOKUP(VLOOKUP($B$8,territoire!$A:$B,2,FALSE)&\"-\"&$E14,data!$A:$J,9,FALSE)","v":1.7504486426174425E-2},{"$f":"VLOOKUP(VLOOKUP($B$8,territoire!$A:$B,2,FALSE)&\"-\"&$E14,data!$A:$J,10,FALSE)","v":0.68504604944255942}]
[null,null,null,null,8,{"$f":"VLOOKUP(VLOOKUP($B$8,territoire!$A:$B,2,FALSE)&\"-\"&$E15,data!$A:$J,4,FALSE)","v":"CONDUITE DE TRANSPORT DE MARCHANDISES SUR LONGUE DISTANCE"},{"$f":"VLOOKUP(LEFT(VLOOKUP(VLOOKUP($B$8,territoire!$A:$B,2,FALSE)&\"-\"&$E15,data!$A:$G,3,FALSE),1),territoire!$E:$F,2,FALSE)","v":"Transport et Logistique"},{"$f":"VLOOKUP(VLOOKUP($B$8,territoire!$A:$B,2,FALSE)&\"-\"&$E15,data!$A:$J,8,FALSE)","v":8050},{"$f":"VLOOKUP(VLOOKUP($B$8,territoire!$A:$B,2,FALSE)&\"-\"&$E15,data!$A:$J,9,FALSE)","v":1.7075995604787217E-2},{"$f":"VLOOKUP(VLOOKUP($B$8,territoire!$A:$B,2,FALSE)&\"-\"&$E15,data!$A:$J,10,FALSE)","v":0.67689440993788819}]
[null,null,null,null,9,{"$f":"VLOOKUP(VLOOKUP($B$8,territoire!$A:$B,2,FALSE)&\"-\"&$E16,data!$A:$J,4,FALSE)","v":"PERSONNEL POLYVALENT EN RESTAURATION"},{"$f":"VLOOKUP(LEFT(VLOOKUP(VLOOKUP($B$8,territoire!$A:$B,2,FALSE)&\"-\"&$E16,data!$A:$G,3,FALSE),1),territoire!$E:$F,2,FALSE)","v":"Hôtellerie-Restauration, Tourisme, Loisirs et Animation"},{"$f":"VLOOKUP(VLOOKUP($B$8,territoire!$A:$B,2,FALSE)&\"-\"&$E16,data!$A:$J,8,FALSE)","v":7710},{"$f":"VLOOKUP(VLOOKUP($B$8,territoire!$A:$B,2,FALSE)&\"-\"&$E16,data!$A:$J,9,FALSE)","v":1.636325839693523E-2},{"$f":"VLOOKUP(VLOOKUP($B$8,territoire!$A:$B,2,FALSE)&\"-\"&$E16,data!$A:$J,10,FALSE)","v":0.70404459424423127}]
[null,null,null,null,10,{"$f":"VLOOKUP(VLOOKUP($B$8,territoire!$A:$B,2,FALSE)&\"-\"&$E17,data!$A:$J,4,FALSE)","v":"ASSISTANAT COMMERCIAL"},{"$f":"VLOOKUP(LEFT(VLOOKUP(VLOOKUP($B$8,territoire!$A:$B,2,FALSE)&\"-\"&$E17,data!$A:$G,3,FALSE),1),territoire!$E:$F,2,FALSE)","v":"Commerce, Vente et Grande distribution"},{"$f":"VLOOKUP(VLOOKUP($B$8,territoire!$A:$B,2,FALSE)&\"-\"&$E17,data!$A:$J,8,FALSE)","v":7600},{"$f":"VLOOKUP(VLOOKUP($B$8,territoire!$A:$B,2,FALSE)&\"-\"&$E17,data!$A:$J,9,FALSE)","v":1.6115073119201056E-2},{"$f":"VLOOKUP(VLOOKUP($B$8,territoire!$A:$B,2,FALSE)&\"-\"&$E17,data!$A:$J,10,FALSE)","v":0.71343951559826246}]
[null,null,null,null,11,{"$f":"VLOOKUP(VLOOKUP($B$8,territoire!$A:$B,2,FALSE)&\"-\"&$E18,data!$A:$J,4,FALSE)","v":"ASSISTANCE AUPRÈS D'ENFANTS"},{"$f":"VLOOKUP(LEFT(VLOOKUP(VLOOKUP($B$8,territoire!$A:$B,2,FALSE)&\"-\"&$E18,data!$A:$G,3,FALSE),1),territoire!$E:$F,2,FALSE)","v":"Services à la personne et à la collectivité"},{"$f":"VLOOKUP(VLOOKUP($B$8,territoire!$A:$B,2,FALSE)&\"-\"&$E18,data!$A:$J,8,FALSE)","v":7000},{"$f":"VLOOKUP(VLOOKUP($B$8,territoire!$A:$B,2,FALSE)&\"-\"&$E18,data!$A:$J,9,FALSE)","v":1.4844449346869683E-2},{"$f":"VLOOKUP(VLOOKUP($B$8,territoire!$A:$B,2,FALSE)&\"-\"&$E18,data!$A:$J,10,FALSE)","v":0.77107745070020006}]
[null,null,null,null,12,{"$f":"VLOOKUP(VLOOKUP($B$8,territoire!$A:$B,2,FALSE)&\"-\"&$E19,data!$A:$J,4,FALSE)","v":"MISE EN RAYON LIBRE-SERVICE"},{"$f":"VLOOKUP(LEFT(VLOOKUP(VLOOKUP($B$8,territoire!$A:$B,2,FALSE)&\"-\"&$E19,data!$A:$G,3,FALSE),1),territoire!$E:$F,2,FALSE)","v":"Commerce, Vente et Grande distribution"},{"$f":"VLOOKUP(VLOOKUP($B$8,territoire!$A:$B,2,FALSE)&\"-\"&$E19,data!$A:$J,8,FALSE)","v":6870},{"$f":"VLOOKUP(VLOOKUP($B$8,territoire!$A:$B,2,FALSE)&\"-\"&$E19,data!$A:$J,9,FALSE)","v":1.4581415377305259E-2},{"$f":"VLOOKUP(VLOOKUP($B$8,territoire!$A:$B,2,FALSE)&\"-\"&$E19,data!$A:$J,10,FALSE)","v":0.62147221414023857}]
[null,null,null,null,13,{"$f":"VLOOKUP(VLOOKUP($B$8,territoire!$A:$B,2,FALSE)&\"-\"&$E20,data!$A:$J,4,FALSE)","v":"SOINS D'HYGIÈNE, DE CONFORT DU PATIENT"},{"$f":"VLOOKUP(LEFT(VLOOKUP(VLOOKUP($B$8,territoire!$A:$B,2,FALSE)&\"-\"&$E20,data!$A:$G,3,FALSE),1),territoire!$E:$F,2,FALSE)","v":"Santé"},{"$f":"VLOOKUP(VLOOKUP($B$8,territoire!$A:$B,2,FALSE)&\"-\"&$E20,data!$A:$J,8,FALSE)","v":6560},{"$f":"VLOOKUP(VLOOKUP($B$8,territoire!$A:$B,2,FALSE)&\"-\"&$E20,data!$A:$J,9,FALSE)","v":1.391322424494402E-2},{"$f":"VLOOKUP(VLOOKUP($B$8,territoire!$A:$B,2,FALSE)&\"-\"&$E20,data!$A:$J,10,FALSE)","v":0.53056868425064796}]
[null,null,null,null,14,{"$f":"VLOOKUP(VLOOKUP($B$8,territoire!$A:$B,2,FALSE)&\"-\"&$E21,data!$A:$J,4,FALSE)","v":"VENTE EN ALIMENTATION"},{"$f":"VLOOKUP(LEFT(VLOOKUP(VLOOKUP($B$8,territoire!$A:$B,2,FALSE)&\"-\"&$E21,data!$A:$G,3,FALSE),1),territoire!$E:$F,2,FALSE)","v":"Commerce, Vente et Grande distribution"},{"$f":"VLOOKUP(VLOOKUP($B$8,territoire!$A:$B,2,FALSE)&\"-\"&$E21,data!$A:$J,8,FALSE)","v":6380},{"$f":"VLOOKUP(VLOOKUP($B$8,territoire!$A:$B,2,FALSE)&\"-\"&$E21,data!$A:$J,9,FALSE)","v":1.3535643224117669E-2},{"$f":"VLOOKUP(VLOOKUP($B$8,territoire!$A:$B,2,FALSE)&\"-\"&$E21,data!$A:$J,10,FALSE)","v":0.67904717128976655}]
[null,null,null,null,15,{"$f":"VLOOKUP(VLOOKUP($B$8,territoire!$A:$B,2,FALSE)&\"-\"&$E22,data!$A:$J,4,FALSE)","v":"SECRÉTARIAT"},{"$f":"VLOOKUP(LEFT(VLOOKUP(VLOOKUP($B$8,territoire!$A:$B,2,FALSE)&\"-\"&$E22,data!$A:$G,3,FALSE),1),territoire!$E:$F,2,FALSE)","v":"Support à l'entreprise"},{"$f":"VLOOKUP(VLOOKUP($B$8,territoire!$A:$B,2,FALSE)&\"-\"&$E22,data!$A:$J,8,FALSE)","v":6360},{"$f":"VLOOKUP(VLOOKUP($B$8,territoire!$A:$B,2,FALSE)&\"-\"&$E22,data!$A:$J,9,FALSE)","v":1.3497460873697027E-2},{"$f":"VLOOKUP(VLOOKUP($B$8,territoire!$A:$B,2,FALSE)&\"-\"&$E22,data!$A:$J,10,FALSE)","v":0.57630048719157634}]
[null,null,null,null,16,{"$f":"VLOOKUP(VLOOKUP($B$8,territoire!$A:$B,2,FALSE)&\"-\"&$E23,data!$A:$J,4,FALSE)","v":"SOINS INFIRMIERS GÉNÉRALISTES"},{"$f":"VLOOKUP(LEFT(VLOOKUP(VLOOKUP($B$8,territoire!$A:$B,2,FALSE)&\"-\"&$E23,data!$A:$G,3,FALSE),1),territoire!$E:$F,2,FALSE)","v":"Santé"},{"$f":"VLOOKUP(VLOOKUP($B$8,territoire!$A:$B,2,FALSE)&\"-\"&$E23,data!$A:$J,8,FALSE)","v":6040},{"$f":"VLOOKUP(VLOOKUP($B$8,territoire!$A:$B,2,FALSE)&\"-\"&$E23,data!$A:$J,9,FALSE)","v":1.281866353288561E-2},{"$f":"VLOOKUP(VLOOKUP($B$8,territoire!$A:$B,2,FALSE)&\"-\"&$E23,data!$A:$J,10,FALSE)","v":0.56131060731424787}]
[null,null,null,null,17,{"$f":"VLOOKUP(VLOOKUP($B$8,territoire!$A:$B,2,FALSE)&\"-\"&$E24,data!$A:$J,4,FALSE)","v":"INSTALLATION ET MAINTENANCE D'ÉQUIPEMENTS INDUSTRIELS ET D'EXPLOITATION"},{"$f":"VLOOKUP(LEFT(VLOOKUP(VLOOKUP($B$8,territoire!$A:$B,2,FALSE)&\"-\"&$E24,data!$A:$G,3,FALSE),1),territoire!$E:$F,2,FALSE)","v":"Installation et Maintenance"},{"$f":"VLOOKUP(VLOOKUP($B$8,territoire!$A:$B,2,FALSE)&\"-\"&$E24,data!$A:$J,8,FALSE)","v":5750},{"$f":"VLOOKUP(VLOOKUP($B$8,territoire!$A:$B,2,FALSE)&\"-\"&$E24,data!$A:$J,9,FALSE)","v":1.2190775992635048E-2},{"$f":"VLOOKUP(VLOOKUP($B$8,territoire!$A:$B,2,FALSE)&\"-\"&$E24,data!$A:$J,10,FALSE)","v":0.84548460066121456}]
[null,null,null,null,18,{"$f":"VLOOKUP(VLOOKUP($B$8,territoire!$A:$B,2,FALSE)&\"-\"&$E25,data!$A:$J,4,FALSE)","v":"SÉCURITÉ ET SURVEILLANCE PRIVÉES"},{"$f":"VLOOKUP(LEFT(VLOOKUP(VLOOKUP($B$8,territoire!$A:$B,2,FALSE)&\"-\"&$E25,data!$A:$G,3,FALSE),1),territoire!$E:$F,2,FALSE)","v":"Services à la personne et à la collectivité"},{"$f":"VLOOKUP(VLOOKUP($B$8,territoire!$A:$B,2,FALSE)&\"-\"&$E25,data!$A:$J,8,FALSE)","v":5560},{"$f":"VLOOKUP(VLOOKUP($B$8,territoire!$A:$B,2,FALSE)&\"-\"&$E25,data!$A:$J,9,FALSE)","v":1.1798346279978448E-2},{"$f":"VLOOKUP(VLOOKUP($B$8,territoire!$A:$B,2,FALSE)&\"-\"&$E25,data!$A:$J,10,FALSE)","v":0.65749730312837107}]
[null,null,null,null,19,{"$f":"VLOOKUP(VLOOKUP($B$8,territoire!$A:$B,2,FALSE)&\"-\"&$E26,data!$A:$J,4,FALSE)","v":"MÉCANIQUE AUTOMOBILE ET ENTRETIEN DE VÉHICULES"},{"$f":"VLOOKUP(LEFT(VLOOKUP(VLOOKUP($B$8,territoire!$A:$B,2,FALSE)&\"-\"&$E26,data!$A:$G,3,FALSE),1),territoire!$E:$F,2,FALSE)","v":"Installation et Maintenance"},{"$f":"VLOOKUP(VLOOKUP($B$8,territoire!$A:$B,2,FALSE)&\"-\"&$E26,data!$A:$J,8,FALSE)","v":5320},{"$f":"VLOOKUP(VLOOKUP($B$8,territoire!$A:$B,2,FALSE)&\"-\"&$E26,data!$A:$J,9,FALSE)","v":1.1278642065919707E-2},{"$f":"VLOOKUP(VLOOKUP($B$8,territoire!$A:$B,2,FALSE)&\"-\"&$E26,data!$A:$J,10,FALSE)","v":0.78164378408877189}]
[null,null,null,null,20,{"$f":"VLOOKUP(VLOOKUP($B$8,territoire!$A:$B,2,FALSE)&\"-\"&$E27,data!$A:$J,4,FALSE)","v":"ANIMATION DE LOISIRS AUPRÈS D'ENFANTS OU D'ADOLESCENTS"},{"$f":"VLOOKUP(LEFT(VLOOKUP(VLOOKUP($B$8,territoire!$A:$B,2,FALSE)&\"-\"&$E27,data!$A:$G,3,FALSE),1),territoire!$E:$F,2,FALSE)","v":"Hôtellerie-Restauration, Tourisme, Loisirs et Animation"},{"$f":"VLOOKUP(VLOOKUP($B$8,territoire!$A:$B,2,FALSE)&\"-\"&$E27,data!$A:$J,8,FALSE)","v":4840},{"$f":"VLOOKUP(VLOOKUP($B$8,territoire!$A:$B,2,FALSE)&\"-\"&$E27,data!$A:$J,9,FALSE)","v":1.0268931021462724E-2},{"$f":"VLOOKUP(VLOOKUP($B$8,territoire!$A:$B,2,FALSE)&\"-\"&$E27,data!$A:$J,10,FALSE)","v":0.47221648419747986}]
[null,null,null,null,null,null,null,"* CDI ou CDD de plus de 6 mois"]